{"text_format":"1","workbook":"xlsx","n_sheets":8,"sheets":["Documentation","DataByMiles","PRE_Calculations","POST_Calculations","GraphsModesDistances","GraphsEmissionsPerWeek","GraphsEmissionsPerMile","PREvsPOSTstats"],"not_rendered":{"charts":12,"images":0,"macros":1,"external_links":0,"defined_names":1,"comments":0,"pivot_tables":0},"unopened":[],"bounds":{"document_bytes":16777216,"sheet_cells":100000,"rows_first":2000,"rows_last":500,"rows_between":2000,"halvings":0,"cell_chars":16384,"cell_head_chars":4096},"cells_cut":0,"cells_raw":0,"read":"whole","date_system":"1900"}

{"sheet":"Documentation","index":0,"n_rows":55,"n_cols":15,"rows_kept":55,"cut":false,"hidden":false,"merged":[]}
["COMMENTS AND INSTRUCTIONS"]
["kr","There are two ways to accomplish data entry:"]
["kr",1,"Enter the number of trips in each mode and a single distance from home to school (the David Griswold way), using the DataByTrips sheet."]
["kr",2,"Enter the distances traveled in each mode, per week (the Doug Streblow way), using the DataByMiles sheets."]
["kr","If you use the first way, Excel will figure out the values for the DataByMiles sheets and populate them, then use them to do the GHG calcs."]
["kr","If you use the second way, you will be overwriting the formulas that convert DataByTrips inputs, so you won't be able to switch back to the first way unless you open a new file."]
["kr"]
["kr","The place-holder student names add some visual clutter but they help prevent the graphs from \"rethinking\" their size & shape when the real names are plugged in."]
["kr"]
["kr","Note bug in Pre vs Post statistics page - am working on getting consistent results for the two graphs."]
["kr"]
["kr","Basis for effort-related GHG's (largely from work by Pacific Institute, provided by Mark Spencer):"]
["kr","GHG from Food Production"]
["kr",null,"METS = factor that expresses metabolic rate: 1 = basal (staying alive & conscious); 3.3 = moderate walking 3MPH; 8 = bicycling, moderate effort."]
["kr"]
["kr",null,"For walking 3 mph (METS=3.3), using a male age 11, 100 lb, 5 ft tall, the work metabolic rate is 186 kcal/hr and the resting metabolic rate is ~1/3 of that, 57 kcal/hour."]
["kr",null,"Calories needed from food for that activity: 186 - 57 = 129 kcal/hr."]
["kr",null,"In typical US diet, GHG emissions are 1.9g CO2-eq per kcal of food energy."]
["kr",null,"So that =",{"$f":"1.9*129","v":245.1},"grams CO2/hour or",null,{"$f":"D19/3","v":81.7},"grams CO2/mile."]
["kr"]
["kr",null,"For bicycling 12 - 13.9 mph (say 13), using a male age 11, 100 lb, 5 ft tall, the work metabolic rate is 452 kcal/hr and the resting metabolic rate is ~1/8 of that, 57 kcal/hour."]
["kr",null,"Calories needed from food for that activity: 452 - 57 = 395 kcal/hr."]
["kr",null,"In typical US diet, GHG emissions are 1.9g CO2-eq per kcal of food energy."]
["kr",null,"So that =",{"$f":"1.9*395","v":750.5},"grams CO2/hour or",null,{"$f":"D24/13","v":57.730769230769234},"grams CO2/mile."]
["kr"]
["kr","GHG from Increased Respiration"]
["kr",null,"Respiratory emissions at rest: 15 breaths / minute, 4% CO2 (was <1% when inhaled), volume = 0.5 liters / normal breath"]
["kr",null,"At rest, producing ",null,{"$f":"15*0.5*0.04","v":0.3},"liters per minute of pure CO2.  That's",null,null,null,{"$f":"E28/24.5","v":1.2244897959183673E-2},"moles and at 44g per mole that’s",null,null,{"$f":"J28*44","v":0.53877551020408165},"grams / minute at rest"]
["kr",null,"Walking at METS=3.3, or delta-METS = 2.3, ",null,null,null,{"$f":"2.3*N28","v":1.2391836734693877},"grams / minute or",null,{"$f":"G29*(60/3)","v":24.783673469387754},"grams CO2 / mile, over and above emissions at rest."]
["kr",null,"Bicycling at MET = 8, or delta-MET = 7, ",null,null,null,{"$f":"7*N28","v":3.7714285714285714},"grams / minute or",null,{"$f":"G30*(60/13)","v":17.406593406593405},"grams CO2 / mile, over and above emissions at rest."]
["kr"]
["kr"]
["kr",null,"Incremental GHG emissions, pounds CO2/mile"]
["kr",null,null,"delta-MET","GHGfood","GHGresp","GHGtotal"]
["kr",null,"Resting",0,0,0,0]
["kr",null,"Walking",2.2999999999999998,{"$f":"G19/454.5","v":0.17975797579757977},{"$f":"J29/454.5","v":5.4529534586111671E-2},{"$f":"E36+F36","v":0.23428751038369144}]
["kr",null,"Bicycling",7,{"$f":"G24/454.5","v":0.12702039434712703},{"$f":"J30/454.5","v":3.8298335328038294E-2},{"$f":"E37+F37","v":0.16531872967516531}]
[]
[]
[null,"To Do as of 12 Mar 2013"]
[null,"done","on graphs, put units at top"]
[null,"done","put before & after bars side by side for each student"]
[null,null,"provide a method to clear the whole sheet easily"]
[null,"done","set up a \"kill switch\" for outliers"]
[null,"done","Versions:","Grade 5 class"]
[null,null,null,"HS class"]
[null,null,null,"HS 500"]
[null,null,null,"Advanced"]
[null,null,null,"Advanced 500"]
[null,"done","Debug statistics comparison"]
[null,"done","Debug graphs so they have same scale"]
[null,"done","Pie charts comparing miles by mode"]
[null,"not poss.","Show emissions / mile in side-by-side bar format"]
[null,"???","pre-calc comparison: side by side, and same page as data by trips &/or miles"]
[null,null,"Show differences in calories consumed?"]

{"sheet":"DataByMiles","index":1,"n_rows":504,"n_cols":52,"rows_kept":504,"cut":false,"hidden":false,"merged":[[0,1,1,6],[0,16,1,21],[3,1,3,3],[2,4,2,9],[2,19,2,24],[3,16,3,18]]}
[null,"Before Changing Transportation",null,null,null,null,null,null,null,null,null,null,null,null,null,null,"After Changing Transportation"]
[]
[null,null,null,null,"Distance / Week",null,null,null,null,null,null,null,null,null,null,null,null,null,null,"Distance / Week"]
[null,"Name:",null,null,"Walk","Bike/ Scooter","School Bus","Public Bus","BART","Car","Car MPG (22)","Car Passen-gers (1)","Fuel GHG/wk","Effort GHG/wk",null,null,"Your Name:",null,null,"Walk","Bike/ Scooter","School Bus","Public Bus","BART","Car","Car MPG (22)","Car Passen-gers (1)","Fuel GHG/wk","Effort GHG/wk",null,"Out-lier?"]
[null,null,"Junior",null,0,0,0,0,0,40,0,6,{"$f":"PRE_Calculations!AF7","v":5.9371212121212125},{"$f":"PRE_Calculations!AG7","v":0},null,null,null,{"$f":"C5","v":"Junior"},null,0,0,0,0,0,40,0,6,{"$f":"POST_Calculations!AF7","v":5.9371212121212125},{"$f":"POST_Calculations!AG7","v":0},null,"no",null,null,null,null,null,null,null,null,null,null,null,null,null,null,"no",1,null,null,"Walk",{"$f":"PRE_Calculations!C507","v":113},{"$f":"POST_Calculations!C507","v":122.3}]
[null,null,"jessica",null,0,0,0,0,0,20,0,2.5,{"$f":"PRE_Calculations!AF8","v":7.124545454545455},{"$f":"PRE_Calculations!AG8","v":0},null,null,null,{"$f":"C6","v":"jessica"},null,1,0,0,0,0,7,0,3,{"$f":"POST_Calculations!AF8","v":2.0779924242424244},{"$f":"POST_Calculations!AG8","v":0.23430000000000001},null,"no",null,null,null,null,null,null,null,null,null,null,null,null,null,null,"yes",0,null,null,"Bike/Scooter",{"$f":"PRE_Calculations!H507","v":0},{"$f":"POST_Calculations!H507","v":29}]
[null,null,"Veda",null,0,0,0,0,0,10,0,2,{"$f":"PRE_Calculations!AF9","v":4.4528409090909093},{"$f":"PRE_Calculations!AG9","v":0},null,null,null,"Veda",null,12,0,0,0,0,4,0,4,{"$f":"POST_Calculations!AF9","v":0.89056818181818187},{"$f":"POST_Calculations!AG9","v":2.8116000000000003},null,"no",null,null,null,null,null,null,null,null,null,null,null,null,null,null,null,null,null,null,"School Bus",{"$f":"PRE_Calculations!M507","v":0},{"$f":"POST_Calculations!M507","v":0}]
[null,null,"Tiffany",null,0,0,0,0,0,20,0,3,{"$f":"PRE_Calculations!AF10","v":5.9371212121212125},{"$f":"PRE_Calculations!AG10","v":0},null,null,null,"Tiffany",null,2,0,0,0,0,16,0,3,{"$f":"POST_Calculations!AF10","v":4.74969696969697},{"$f":"POST_Calculations!AG10","v":0.46860000000000002},null,"no",null,null,null,null,null,null,null,null,null,null,null,null,null,null,null,null,null,null,"Public Bus",{"$f":"PRE_Calculations!Q507","v":0},{"$f":"POST_Calculations!Q507","v":0}]
[null,null,"Athena",null,0,0,0,0,0,10,0,2,{"$f":"PRE_Calculations!AF11","v":4.4528409090909093},{"$f":"PRE_Calculations!AG11","v":0},null,null,null,"Athena",null,1,0,0,0,0,9,0,3,{"$f":"POST_Calculations!AF11","v":2.6717045454545456},{"$f":"POST_Calculations!AG11","v":0.23430000000000001},null,"no",null,null,null,null,null,null,null,null,null,null,null,null,null,null,null,null,null,null,"BART",{"$f":"PRE_Calculations!U507","v":0},{"$f":"POST_Calculations!U507","v":0}]
[null,null,"Denise",null,0,0,0,0,0,10,0,2,{"$f":"PRE_Calculations!AF12","v":4.4528409090909093},{"$f":"PRE_Calculations!AG12","v":0},null,null,null,"Denise",null,0,0,0,0,0,15,0,3,{"$f":"POST_Calculations!AF12","v":4.4528409090909085},{"$f":"POST_Calculations!AG12","v":0},null,"no",null,null,null,null,null,null,null,null,null,null,null,null,null,null,null,null,null,null,"Car",{"$f":"PRE_Calculations!Y507","v":419},{"$f":"POST_Calculations!Y507","v":573.20000000000005}]
[null,null,"Maha",null,0,0,0,0,0,10,0,3,{"$f":"PRE_Calculations!AF13","v":2.9685606060606062},{"$f":"PRE_Calculations!AG13","v":0},null,null,null,"Maha",null,0,0,0,0,0,10,0,7,{"$f":"POST_Calculations!AF13","v":1.2722402597402598},{"$f":"POST_Calculations!AG13","v":0},null,"no"]
[null,null,"Allyn",null,0,0,0,0,0,10,0,3,{"$f":"PRE_Calculations!AF14","v":2.9685606060606062},{"$f":"PRE_Calculations!AG14","v":0},null,null,null,"Allyn",null,5,0,0,0,0,5,0,3,{"$f":"POST_Calculations!AF14","v":1.4842803030303031},{"$f":"POST_Calculations!AG14","v":1.1715},null,"no"]
[null,null,"Elaha",null,0,0,0,0,0,20,0,3,{"$f":"PRE_Calculations!AF15","v":5.9371212121212125},{"$f":"PRE_Calculations!AG15","v":0},null,null,null,"Elaha",null,0,0,0,0,0,57,0,3,{"$f":"POST_Calculations!AF15","v":16.920795454545456},{"$f":"POST_Calculations!AG15","v":0},null,"no"]
[null,null,"Sharon",null,0,0,0,0,0,20,0,3,{"$f":"PRE_Calculations!AF16","v":5.9371212121212125},{"$f":"PRE_Calculations!AG16","v":0},null,null,null,"Sharon",null,0,0,0,0,0,9,0,1.6,{"$f":"POST_Calculations!AF16","v":5.009446022727273},{"$f":"POST_Calculations!AG16","v":0},null,"no"]
[null,null,"Bryce",null,2,0,0,0,0,8,0,3.3,{"$f":"PRE_Calculations!AF17","v":2.1589531680440772},{"$f":"PRE_Calculations!AG17","v":0.46860000000000002},null,null,null,"Bryce",null,4,1,0,0,0,5,0,2,{"$f":"POST_Calculations!AF17","v":2.2264204545454547},{"$f":"POST_Calculations!AG17","v":1.1025},null,"no"]
[null,null,"Marlene",null,0,0,0,0,0,20,0,3,{"$f":"PRE_Calculations!AF18","v":5.9371212121212125},{"$f":"PRE_Calculations!AG18","v":0},null,null,null,"Marlene",null,0,0,0,0,0,14,0,6,{"$f":"POST_Calculations!AF18","v":2.0779924242424244},{"$f":"POST_Calculations!AG18","v":0},null,"no"]
[null,null,"Christyn",null,0,0,0,0,0,30,0,2,{"$f":"PRE_Calculations!AF19","v":13.358522727272726},{"$f":"PRE_Calculations!AG19","v":0},null,null,null,"Christyn",null,0,0,0,0,0,150,0,5,{"$f":"POST_Calculations!AF19","v":26.717045454545456},{"$f":"POST_Calculations!AG19","v":0},null,"no"]
[null,null,"emmy",null,0,0,0,0,0,2,0,2,{"$f":"PRE_Calculations!AF20","v":0.89056818181818187},{"$f":"PRE_Calculations!AG20","v":0},null,null,null,"emmy",null,2,0,0,0,0,16,0,2.25,{"$f":"POST_Calculations!AF20","v":6.3329292929292933},{"$f":"POST_Calculations!AG20","v":0.46860000000000002},null,"no"]
[null,null,"Abby",null,0,0,0,0,0,10,0,3,{"$f":"PRE_Calculations!AF21","v":2.9685606060606062},{"$f":"PRE_Calculations!AG21","v":0},null,null,null,"Abby",null,2,0,0,0,0,10,0,3,{"$f":"POST_Calculations!AF21","v":2.9685606060606062},{"$f":"POST_Calculations!AG21","v":0.46860000000000002},null,"no"]
[null,null,"Dinika",null,0,0,0,0,0,4,0,2,{"$f":"PRE_Calculations!AF22","v":1.7811363636363637},{"$f":"PRE_Calculations!AG22","v":0},null,null,null,"Dinika",null,0,0,0,0,0,14,0,6,{"$f":"POST_Calculations!AF22","v":2.0779924242424244},{"$f":"POST_Calculations!AG22","v":0},null,"no"]
[null,null,"Ashley",null,0,0,0,0,0,4,0,4,{"$f":"PRE_Calculations!AF23","v":0.89056818181818187},{"$f":"PRE_Calculations!AG23","v":0},null,null,null,"Ashley",null,0,0,0,0,0,20,0,4,{"$f":"POST_Calculations!AF23","v":4.4528409090909093},{"$f":"POST_Calculations!AG23","v":0},null,"no"]
[null,null,"Adelene",null,0,0,0,0,0,20,0,3,{"$f":"PRE_Calculations!AF24","v":5.9371212121212125},{"$f":"PRE_Calculations!AG24","v":0},null,null,null,"Adelene",null,0,0,0,0,0,23.2,0,5.5,{"$f":"POST_Calculations!AF24","v":3.7565785123966937},{"$f":"POST_Calculations!AG24","v":0},null,"no"]
[null,null,"Rialyn",null,7.5,0,0,0,0,45,0,4,{"$f":"PRE_Calculations!AF25","v":10.018892045454546},{"$f":"PRE_Calculations!AG25","v":1.75725},null,null,null,"Rialyn",null,9.5,0,0,0,0,0,0,0,{"$f":"POST_Calculations!AF25","v":0},{"$f":"POST_Calculations!AG25","v":2.2258499999999999},null,"no"]
[null,null,"Michael",null,10,0,0,0,0,15,0,2,{"$f":"PRE_Calculations!AF26","v":6.6792613636363631},{"$f":"PRE_Calculations!AG26","v":2.343},null,null,null,"Michael",null,10,0,0,0,0,15,0,2,{"$f":"POST_Calculations!AF26","v":6.6792613636363631},{"$f":"POST_Calculations!AG26","v":2.343},null,"no"]
[null,null,"Kevin",null,0,0,0,0,0,20,0,2,{"$f":"PRE_Calculations!AF27","v":8.9056818181818187},{"$f":"PRE_Calculations!AG27","v":0},null,null,null,"Kevin",null,0,0,0,0,0,15,0,4,{"$f":"POST_Calculations!AF27","v":3.3396306818181816},{"$f":"POST_Calculations!AG27","v":0},null,"no"]
[null,null,"Khang",null,10,0,0,0,0,10,0,3,{"$f":"PRE_Calculations!AF28","v":2.9685606060606062},{"$f":"PRE_Calculations!AG28","v":2.343},null,null,null,"Khang",null,0,20,0,0,0,0,0,0,{"$f":"POST_Calculations!AF28","v":0},{"$f":"POST_Calculations!AG28","v":3.306},null,"no"]
[null,null,"Riley",null,5,0,0,0,0,5,0,3,{"$f":"PRE_Calculations!AF29","v":1.4842803030303031},{"$f":"PRE_Calculations!AG29","v":1.1715},null,null,null,"Riley",null,5,0,0,0,0,5,0,4,{"$f":"POST_Calculations!AF29","v":1.1132102272727273},{"$f":"POST_Calculations!AG29","v":1.1715},null,"no"]
[null,null,"Justin",null,10,0,0,0,0,0,0,0,{"$f":"PRE_Calculations!AF30","v":0},{"$f":"PRE_Calculations!AG30","v":2.343},null,null,null,"Justin",null,2,8,0,0,0,0,0,0,{"$f":"POST_Calculations!AF30","v":0},{"$f":"POST_Calculations!AG30","v":1.7909999999999999},null,"no"]
[null,null,"Shawn",null,10,0,0,0,0,0,0,0,{"$f":"PRE_Calculations!AF31","v":0},{"$f":"PRE_Calculations!AG31","v":2.343},null,null,null,"Shawn",null,10,0,0,0,0,0,0,0,{"$f":"POST_Calculations!AF31","v":0},{"$f":"POST_Calculations!AG31","v":2.343},null,"no"]
[null,null,"Angelique",null,3.5,0,0,0,0,0,0,0,{"$f":"PRE_Calculations!AF32","v":0},{"$f":"PRE_Calculations!AG32","v":0.82005000000000006},null,null,null,"Angelique",null,2.8,0,0,0,0,0,0,0,{"$f":"POST_Calculations!AF32","v":0},{"$f":"POST_Calculations!AG32","v":0.65603999999999996},null,"no"]
[null,null,"Reema",null,2,0,0,0,0,0,0,0,{"$f":"PRE_Calculations!AF33","v":0},{"$f":"PRE_Calculations!AG33","v":0.46860000000000002},null,null,null,"Reema",null,10,0,0,0,0,0,0,0,{"$f":"POST_Calculations!AF33","v":0},{"$f":"POST_Calculations!AG33","v":2.343},null,"no"]
[null,null,"Alexis",null,4,0,0,0,0,2,0,3,{"$f":"PRE_Calculations!AF34","v":0.59371212121212125},{"$f":"PRE_Calculations!AG34","v":0.93720000000000003},null,null,null,"Alexis",null,3,0,0,0,0,14,0,3,{"$f":"POST_Calculations!AF34","v":4.1559848484848487},{"$f":"POST_Calculations!AG34","v":0.70290000000000008},null,"no"]
[null,null,"Gursewak",null,10,0,0,0,0,0,0,0,{"$f":"PRE_Calculations!AF35","v":0},{"$f":"PRE_Calculations!AG35","v":2.343},null,null,null,"Gursewak",null,4,0,0,0,0,0,0,0,{"$f":"POST_Calculations!AF35","v":0},{"$f":"POST_Calculations!AG35","v":0.93720000000000003},null,"no"]
[null,null,"Zach",null,5,0,0,0,0,0,0,0,{"$f":"PRE_Calculations!AF36","v":0},{"$f":"PRE_Calculations!AG36","v":1.1715},null,null,null,"Zach",null,0,0,0,0,0,40,0,2,{"$f":"POST_Calculations!AF36","v":17.811363636363637},{"$f":"POST_Calculations!AG36","v":0},null,"no"]
[null,null,"Dakota",null,4,0,0,0,0,54,0,2,{"$f":"PRE_Calculations!AF37","v":24.04534090909091},{"$f":"PRE_Calculations!AG37","v":0.93720000000000003},null,null,null,"Dakota",null,7,0,0,0,0,60,0,2,{"$f":"POST_Calculations!AF37","v":26.717045454545453},{"$f":"POST_Calculations!AG37","v":1.6401000000000001},null,"no"]
[null,null,"Fernando",null,10,0,0,0,0,0,0,0,{"$f":"PRE_Calculations!AF38","v":0},{"$f":"PRE_Calculations!AG38","v":2.343},null,null,null,"Fernando",null,10,0,0,0,0,0,0,0,{"$f":"POST_Calculations!AF38","v":0},{"$f":"POST_Calculations!AG38","v":2.343},null,"no"]
[null,null,"Matt",null,20,0,0,0,0,0,0,0,{"$f":"PRE_Calculations!AF39","v":0},{"$f":"PRE_Calculations!AG39","v":4.6859999999999999},null,null,null,"Matt",null,20,0,0,0,0,0,0,0,{"$f":"POST_Calculations!AF39","v":0},{"$f":"POST_Calculations!AG39","v":4.6859999999999999},null,"no"]
[null,null,"----34",null,0,0,0,0,0,0,0,0,{"$f":"PRE_Calculations!AF40","v":0},{"$f":"PRE_Calculations!AG40","v":0},null,null,null,"----34",null,0,0,0,0,0,0,0,0,{"$f":"POST_Calculations!AF40","v":0},{"$f":"POST_Calculations!AG40","v":0},null,"no"]
[null,null,"----35",null,0,0,0,0,0,0,0,0,{"$f":"PRE_Calculations!AF41","v":0},{"$f":"PRE_Calculations!AG41","v":0},null,null,null,"----35",null,0,0,0,0,0,0,0,0,{"$f":"POST_Calculations!AF41","v":0},{"$f":"POST_Calculations!AG41","v":0},null,"no"]
[null,null,"----36",null,0,0,0,0,0,0,0,0,{"$f":"PRE_Calculations!AF42","v":0},{"$f":"PRE_Calculations!AG42","v":0},null,null,null,"----36",null,0,0,0,0,0,0,0,0,{"$f":"POST_Calculations!AF42","v":0},{"$f":"POST_Calculations!AG42","v":0},null,"no"]
[null,null,"----37",null,0,0,0,0,0,0,0,0,{"$f":"PRE_Calculations!AF43","v":0},{"$f":"PRE_Calculations!AG43","v":0},null,null,null,"----37",null,0,0,0,0,0,0,0,0,{"$f":"POST_Calculations!AF43","v":0},{"$f":"POST_Calculations!AG43","v":0},null,"no"]
[null,null,"----38",null,0,0,0,0,0,0,0,0,{"$f":"PRE_Calculations!AF44","v":0},{"$f":"PRE_Calculations!AG44","v":0},null,null,null,"----38",null,0,0,0,0,0,0,0,0,{"$f":"POST_Calculations!AF44","v":0},{"$f":"POST_Calculations!AG44","v":0},null,"no"]
[null,null,"----39",null,0,0,0,0,0,0,0,0,{"$f":"PRE_Calculations!AF45","v":0},{"$f":"PRE_Calculations!AG45","v":0},null,null,null,"----39",null,0,0,0,0,0,0,0,0,{"$f":"POST_Calculations!AF45","v":0},{"$f":"POST_Calculations!AG45","v":0},null,"no"]
[null,null,"----40",null,0,0,0,0,0,0,0,0,{"$f":"PRE_Calculations!AF46","v":0},{"$f":"PRE_Calculations!AG46","v":0},null,null,null,"----40",null,0,0,0,0,0,0,0,0,{"$f":"POST_Calculations!AF46","v":0},{"$f":"POST_Calculations!AG46","v":0},null,"no"]
[null,null,"----41",null,0,0,0,0,0,0,0,0,{"$f":"PRE_Calculations!AF47","v":0},{"$f":"PRE_Calculations!AG47","v":0},null,null,null,"----41",null,0,0,0,0,0,0,0,0,{"$f":"POST_Calculations!AF47","v":0},{"$f":"POST_Calculations!AG47","v":0},null,"no"]
[null,null,"----42",null,0,0,0,0,0,0,0,0,{"$f":"PRE_Calculations!AF48","v":0},{"$f":"PRE_Calculations!AG48","v":0},null,null,null,"----42",null,0,0,0,0,0,0,0,0,{"$f":"POST_Calculations!AF48","v":0},{"$f":"POST_Calculations!AG48","v":0},null,"no"]
[null,null,"----43",null,0,0,0,0,0,0,0,0,{"$f":"PRE_Calculations!AF49","v":0},{"$f":"PRE_Calculations!AG49","v":0},null,null,null,"----43",null,0,0,0,0,0,0,0,0,{"$f":"POST_Calculations!AF49","v":0},{"$f":"POST_Calculations!AG49","v":0},null,"no"]
[null,null,"----44",null,0,0,0,0,0,0,0,0,{"$f":"PRE_Calculations!AF50","v":0},{"$f":"PRE_Calculations!AG50","v":0},null,null,null,"----44",null,0,0,0,0,0,0,0,0,{"$f":"POST_Calculations!AF50","v":0},{"$f":"POST_Calculations!AG50","v":0},null,"no"]
[null,null,"----45",null,0,0,0,0,0,0,0,0,{"$f":"PRE_Calculations!AF51","v":0},{"$f":"PRE_Calculations!AG51","v":0},null,null,null,"----45",null,0,0,0,0,0,0,0,0,{"$f":"POST_Calculations!AF51","v":0},{"$f":"POST_Calculations!AG51","v":0},null,"no"]
[null,null,"----46",null,0,0,0,0,0,0,0,0,{"$f":"PRE_Calculations!AF52","v":0},{"$f":"PRE_Calculations!AG52","v":0},null,null,null,"----46",null,0,0,0,0,0,0,0,0,{"$f":"POST_Calculations!AF52","v":0},{"$f":"POST_Calculations!AG52","v":0},null,"no"]
[null,null,"----47",null,0,0,0,0,0,0,0,0,{"$f":"PRE_Calculations!AF53","v":0},{"$f":"PRE_Calculations!AG53","v":0},null,null,null,"----47",null,0,0,0,0,0,0,0,0,{"$f":"POST_Calculations!AF53","v":0},{"$f":"POST_Calculations!AG53","v":0},null,"no"]
[null,null,"----48",null,0,0,0,0,0,0,0,0,{"$f":"PRE_Calculations!AF54","v":0},{"$f":"PRE_Calculations!AG54","v":0},null,null,null,"----48",null,0,0,0,0,0,0,0,0,{"$f":"POST_Calculations!AF54","v":0},{"$f":"POST_Calculations!AG54","v":0},null,"no"]
[null,null,"----49",null,0,0,0,0,0,0,0,0,{"$f":"PRE_Calculations!AF55","v":0},{"$f":"PRE_Calculations!AG55","v":0},null,null,null,"----49",null,0,0,0,0,0,0,0,0,{"$f":"POST_Calculations!AF55","v":0},{"$f":"POST_Calculations!AG55","v":0},null,"no"]
[null,null,"----50",null,0,0,0,0,0,0,0,0,{"$f":"PRE_Calculations!AF56","v":0},{"$f":"PRE_Calculations!AG56","v":0},null,null,null,"----50",null,0,0,0,0,0,0,0,0,{"$f":"POST_Calculations!AF56","v":0},{"$f":"POST_Calculations!AG56","v":0},null,"no"]
[null,null,"----51",null,0,0,0,0,0,0,0,0,{"$f":"PRE_Calculations!AF57","v":0},{"$f":"PRE_Calculations!AG57","v":0},null,null,null,"----51",null,0,0,0,0,0,0,0,0,{"$f":"POST_Calculations!AF57","v":0},{"$f":"POST_Calculations!AG57","v":0},null,"no"]
[null,null,"----52",null,0,0,0,0,0,0,0,0,{"$f":"PRE_Calculations!AF58","v":0},{"$f":"PRE_Calculations!AG58","v":0},null,null,null,"----52",null,0,0,0,0,0,0,0,0,{"$f":"POST_Calculations!AF58","v":0},{"$f":"POST_Calculations!AG58","v":0},null,"no"]
[null,null,"----53",null,0,0,0,0,0,0,0,0,{"$f":"PRE_Calculations!AF59","v":0},{"$f":"PRE_Calculations!AG59","v":0},null,null,null,"----53",null,0,0,0,0,0,0,0,0,{"$f":"POST_Calculations!AF59","v":0},{"$f":"POST_Calculations!AG59","v":0},null,"no"]
[null,null,"----54",null,0,0,0,0,0,0,0,0,{"$f":"PRE_Calculations!AF60","v":0},{"$f":"PRE_Calculations!AG60","v":0},null,null,null,"----54",null,0,0,0,0,0,0,0,0,{"$f":"POST_Calculations!AF60","v":0},{"$f":"POST_Calculations!AG60","v":0},null,"no"]
[null,null,"----55",null,0,0,0,0,0,0,0,0,{"$f":"PRE_Calculations!AF61","v":0},{"$f":"PRE_Calculations!AG61","v":0},null,null,null,"----55",null,0,0,0,0,0,0,0,0,{"$f":"POST_Calculations!AF61","v":0},{"$f":"POST_Calculations!AG61","v":0},null,"no"]
[null,null,"----56",null,0,0,0,0,0,0,0,0,{"$f":"PRE_Calculations!AF62","v":0},{"$f":"PRE_Calculations!AG62","v":0},null,null,null,"----56",null,0,0,0,0,0,0,0,0,{"$f":"POST_Calculations!AF62","v":0},{"$f":"POST_Calculations!AG62","v":0},null,"no"]
[null,null,"----57",null,0,0,0,0,0,0,0,0,{"$f":"PRE_Calculations!AF63","v":0},{"$f":"PRE_Calculations!AG63","v":0},null,null,null,"----57",null,0,0,0,0,0,0,0,0,{"$f":"POST_Calculations!AF63","v":0},{"$f":"POST_Calculations!AG63","v":0},null,"no"]
[null,null,"----58",null,0,0,0,0,0,0,0,0,{"$f":"PRE_Calculations!AF64","v":0},{"$f":"PRE_Calculations!AG64","v":0},null,null,null,"----58",null,0,0,0,0,0,0,0,0,{"$f":"POST_Calculations!AF64","v":0},{"$f":"POST_Calculations!AG64","v":0},null,"no"]
[null,null,"----59",null,0,0,0,0,0,0,0,0,{"$f":"PRE_Calculations!AF65","v":0},{"$f":"PRE_Calculations!AG65","v":0},null,null,null,"----59",null,0,0,0,0,0,0,0,0,{"$f":"POST_Calculations!AF65","v":0},{"$f":"POST_Calculations!AG65","v":0},null,"no"]
[null,null,"----60",null,0,0,0,0,0,0,0,0,{"$f":"PRE_Calculations!AF66","v":0},{"$f":"PRE_Calculations!AG66","v":0},null,null,null,"----60",null,0,0,0,0,0,0,0,0,{"$f":"POST_Calculations!AF66","v":0},{"$f":"POST_Calculations!AG66","v":0},null,"no"]
[null,null,"----61",null,0,0,0,0,0,0,0,0,{"$f":"PRE_Calculations!AF67","v":0},{"$f":"PRE_Calculations!AG67","v":0},null,null,null,"----61",null,0,0,0,0,0,0,0,0,{"$f":"POST_Calculations!AF67","v":0},{"$f":"POST_Calculations!AG67","v":0},null,"no"]
[null,null,"----62",null,0,0,0,0,0,0,0,0,{"$f":"PRE_Calculations!AF68","v":0},{"$f":"PRE_Calculations!AG68","v":0},null,null,null,"----62",null,0,0,0,0,0,0,0,0,{"$f":"POST_Calculations!AF68","v":0},{"$f":"POST_Calculations!AG68","v":0},null,"no"]
[null,null,"----63",null,0,0,0,0,0,0,0,0,{"$f":"PRE_Calculations!AF69","v":0},{"$f":"PRE_Calculations!AG69","v":0},null,null,null,"----63",null,0,0,0,0,0,0,0,0,{"$f":"POST_Calculations!AF69","v":0},{"$f":"POST_Calculations!AG69","v":0},null,"no"]
[null,null,"----64",null,0,0,0,0,0,0,0,0,{"$f":"PRE_Calculations!AF70","v":0},{"$f":"PRE_Calculations!AG70","v":0},null,null,null,"----64",null,0,0,0,0,0,0,0,0,{"$f":"POST_Calculations!AF70","v":0},{"$f":"POST_Calculations!AG70","v":0},null,"no"]
[null,null,"----65",null,0,0,0,0,0,0,0,0,{"$f":"PRE_Calculations!AF71","v":0},{"$f":"PRE_Calculations!AG71","v":0},null,null,null,"----65",null,0,0,0,0,0,0,0,0,{"$f":"POST_Calculations!AF71","v":0},{"$f":"POST_Calculations!AG71","v":0},null,"no"]
[null,null,"----66",null,0,0,0,0,0,0,0,0,{"$f":"PRE_Calculations!AF72","v":0},{"$f":"PRE_Calculations!AG72","v":0},null,null,null,"----66",null,0,0,0,0,0,0,0,0,{"$f":"POST_Calculations!AF72","v":0},{"$f":"POST_Calculations!AG72","v":0},null,"no"]
[null,null,"----67",null,0,0,0,0,0,0,0,0,{"$f":"PRE_Calculations!AF73","v":0},{"$f":"PRE_Calculations!AG73","v":0},null,null,null,"----67",null,0,0,0,0,0,0,0,0,{"$f":"POST_Calculations!AF73","v":0},{"$f":"POST_Calculations!AG73","v":0},null,"no"]
[null,null,"----68",null,0,0,0,0,0,0,0,0,{"$f":"PRE_Calculations!AF74","v":0},{"$f":"PRE_Calculations!AG74","v":0},null,null,null,"----68",null,0,0,0,0,0,0,0,0,{"$f":"POST_Calculations!AF74","v":0},{"$f":"POST_Calculations!AG74","v":0},null,"no"]
[null,null,"----69",null,0,0,0,0,0,0,0,0,{"$f":"PRE_Calculations!AF75","v":0},{"$f":"PRE_Calculations!AG75","v":0},null,null,null,"----69",null,0,0,0,0,0,0,0,0,{"$f":"POST_Calculations!AF75","v":0},{"$f":"POST_Calculations!AG75","v":0},null,"no"]
[null,null,"----70",null,0,0,0,0,0,0,0,0,{"$f":"PRE_Calculations!AF76","v":0},{"$f":"PRE_Calculations!AG76","v":0},null,null,null,"----70",null,0,0,0,0,0,0,0,0,{"$f":"POST_Calculations!AF76","v":0},{"$f":"POST_Calculations!AG76","v":0},null,"no"]
[null,null,"----71",null,0,0,0,0,0,0,0,0,{"$f":"PRE_Calculations!AF77","v":0},{"$f":"PRE_Calculations!AG77","v":0},null,null,null,"----71",null,0,0,0,0,0,0,0,0,{"$f":"POST_Calculations!AF77","v":0},{"$f":"POST_Calculations!AG77","v":0},null,"no"]
[null,null,"----72",null,0,0,0,0,0,0,0,0,{"$f":"PRE_Calculations!AF78","v":0},{"$f":"PRE_Calculations!AG78","v":0},null,null,null,"----72",null,0,0,0,0,0,0,0,0,{"$f":"POST_Calculations!AF78","v":0},{"$f":"POST_Calculations!AG78","v":0},null,"no"]
[null,null,"----73",null,0,0,0,0,0,0,0,0,{"$f":"PRE_Calculations!AF79","v":0},{"$f":"PRE_Calculations!AG79","v":0},null,null,null,"----73",null,0,0,0,0,0,0,0,0,{"$f":"POST_Calculations!AF79","v":0},{"$f":"POST_Calculations!AG79","v":0},null,"no"]
[null,null,"----74",null,0,0,0,0,0,0,0,0,{"$f":"PRE_Calculations!AF80","v":0},{"$f":"PRE_Calculations!AG80","v":0},null,null,null,"----74",null,0,0,0,0,0,0,0,0,{"$f":"POST_Calculations!AF80","v":0},{"$f":"POST_Calculations!AG80","v":0},null,"no"]
[null,null,"----75",null,0,0,0,0,0,0,0,0,{"$f":"PRE_Calculations!AF81","v":0},{"$f":"PRE_Calculations!AG81","v":0},null,null,null,"----75",null,0,0,0,0,0,0,0,0,{"$f":"POST_Calculations!AF81","v":0},{"$f":"POST_Calculations!AG81","v":0},null,"no"]
[null,null,"----76",null,0,0,0,0,0,0,0,0,{"$f":"PRE_Calculations!AF82","v":0},{"$f":"PRE_Calculations!AG82","v":0},null,null,null,"----76",null,0,0,0,0,0,0,0,0,{"$f":"POST_Calculations!AF82","v":0},{"$f":"POST_Calculations!AG82","v":0},null,"no"]
[null,null,"----77",null,0,0,0,0,0,0,0,0,{"$f":"PRE_Calculations!AF83","v":0},{"$f":"PRE_Calculations!AG83","v":0},null,null,null,"----77",null,0,0,0,0,0,0,0,0,{"$f":"POST_Calculations!AF83","v":0},{"$f":"POST_Calculations!AG83","v":0},null,"no"]
[null,null,"----78",null,0,0,0,0,0,0,0,0,{"$f":"PRE_Calculations!AF84","v":0},{"$f":"PRE_Calculations!AG84","v":0},null,null,null,"----78",null,0,0,0,0,0,0,0,0,{"$f":"POST_Calculations!AF84","v":0},{"$f":"POST_Calculations!AG84","v":0},null,"no"]
[null,null,"----79",null,0,0,0,0,0,0,0,0,{"$f":"PRE_Calculations!AF85","v":0},{"$f":"PRE_Calculations!AG85","v":0},null,null,null,"----79",null,0,0,0,0,0,0,0,0,{"$f":"POST_Calculations!AF85","v":0},{"$f":"POST_Calculations!AG85","v":0},null,"no"]
[null,null,"----80",null,0,0,0,0,0,0,0,0,{"$f":"PRE_Calculations!AF86","v":0},{"$f":"PRE_Calculations!AG86","v":0},null,null,null,"----80",null,0,0,0,0,0,0,0,0,{"$f":"POST_Calculations!AF86","v":0},{"$f":"POST_Calculations!AG86","v":0},null,"no"]
[null,null,"----81",null,0,0,0,0,0,0,0,0,{"$f":"PRE_Calculations!AF87","v":0},{"$f":"PRE_Calculations!AG87","v":0},null,null,null,"----81",null,0,0,0,0,0,0,0,0,{"$f":"POST_Calculations!AF87","v":0},{"$f":"POST_Calculations!AG87","v":0},null,"no"]
[null,null,"----82",null,0,0,0,0,0,0,0,0,{"$f":"PRE_Calculations!AF88","v":0},{"$f":"PRE_Calculations!AG88","v":0},null,null,null,"----82",null,0,0,0,0,0,0,0,0,{"$f":"POST_Calculations!AF88","v":0},{"$f":"POST_Calculations!AG88","v":0},null,"no"]
[null,null,"----83",null,0,0,0,0,0,0,0,0,{"$f":"PRE_Calculations!AF89","v":0},{"$f":"PRE_Calculations!AG89","v":0},null,null,null,"----83",null,0,0,0,0,0,0,0,0,{"$f":"POST_Calculations!AF89","v":0},{"$f":"POST_Calculations!AG89","v":0},null,"no"]
[null,null,"----84",null,0,0,0,0,0,0,0,0,{"$f":"PRE_Calculations!AF90","v":0},{"$f":"PRE_Calculations!AG90","v":0},null,null,null,"----84",null,0,0,0,0,0,0,0,0,{"$f":"POST_Calculations!AF90","v":0},{"$f":"POST_Calculations!AG90","v":0},null,"no"]
[null,null,"----85",null,0,0,0,0,0,0,0,0,{"$f":"PRE_Calculations!AF91","v":0},{"$f":"PRE_Calculations!AG91","v":0},null,null,null,"----85",null,0,0,0,0,0,0,0,0,{"$f":"POST_Calculations!AF91","v":0},{"$f":"POST_Calculations!AG91","v":0},null,"no"]
[null,null,"----86",null,0,0,0,0,0,0,0,0,{"$f":"PRE_Calculations!AF92","v":0},{"$f":"PRE_Calculations!AG92","v":0},null,null,null,"----86",null,0,0,0,0,0,0,0,0,{"$f":"POST_Calculations!AF92","v":0},{"$f":"POST_Calculations!AG92","v":0},null,"no"]
[null,null,"----87",null,0,0,0,0,0,0,0,0,{"$f":"PRE_Calculations!AF93","v":0},{"$f":"PRE_Calculations!AG93","v":0},null,null,null,"----87",null,0,0,0,0,0,0,0,0,{"$f":"POST_Calculations!AF93","v":0},{"$f":"POST_Calculations!AG93","v":0},null,"no"]
[null,null,"----88",null,0,0,0,0,0,0,0,0,{"$f":"PRE_Calculations!AF94","v":0},{"$f":"PRE_Calculations!AG94","v":0},null,null,null,"----88",null,0,0,0,0,0,0,0,0,{"$f":"POST_Calculations!AF94","v":0},{"$f":"POST_Calculations!AG94","v":0},null,"no"]
[null,null,"----89",null,0,0,0,0,0,0,0,0,{"$f":"PRE_Calculations!AF95","v":0},{"$f":"PRE_Calculations!AG95","v":0},null,null,null,"----89",null,0,0,0,0,0,0,0,0,{"$f":"POST_Calculations!AF95","v":0},{"$f":"POST_Calculations!AG95","v":0},null,"no"]
[null,null,"----90",null,0,0,0,0,0,0,0,0,{"$f":"PRE_Calculations!AF96","v":0},{"$f":"PRE_Calculations!AG96","v":0},null,null,null,"----90",null,0,0,0,0,0,0,0,0,{"$f":"POST_Calculations!AF96","v":0},{"$f":"POST_Calculations!AG96","v":0},null,"no"]
[null,null,"----91",null,0,0,0,0,0,0,0,0,{"$f":"PRE_Calculations!AF97","v":0},{"$f":"PRE_Calculations!AG97","v":0},null,null,null,"----91",null,0,0,0,0,0,0,0,0,{"$f":"POST_Calculations!AF97","v":0},{"$f":"POST_Calculations!AG97","v":0},null,"no"]
[null,null,"----92",null,0,0,0,0,0,0,0,0,{"$f":"PRE_Calculations!AF98","v":0},{"$f":"PRE_Calculations!AG98","v":0},null,null,null,"----92",null,0,0,0,0,0,0,0,0,{"$f":"POST_Calculations!AF98","v":0},{"$f":"POST_Calculations!AG98","v":0},null,"no"]
[null,null,"----93",null,0,0,0,0,0,0,0,0,{"$f":"PRE_Calculations!AF99","v":0},{"$f":"PRE_Calculations!AG99","v":0},null,null,null,"----93",null,0,0,0,0,0,0,0,0,{"$f":"POST_Calculations!AF99","v":0},{"$f":"POST_Calculations!AG99","v":0},null,"no"]
[null,null,"----94",null,0,0,0,0,0,0,0,0,{"$f":"PRE_Calculations!AF100","v":0},{"$f":"PRE_Calculations!AG100","v":0},null,null,null,"----94",null,0,0,0,0,0,0,0,0,{"$f":"POST_Calculations!AF100","v":0},{"$f":"POST_Calculations!AG100","v":0},null,"no"]
[null,null,"----95",null,0,0,0,0,0,0,0,0,{"$f":"PRE_Calculations!AF101","v":0},{"$f":"PRE_Calculations!AG101","v":0},null,null,null,"----95",null,0,0,0,0,0,0,0,0,{"$f":"POST_Calculations!AF101","v":0},{"$f":"POST_Calculations!AG101","v":0},null,"no"]
[null,null,"----96",null,0,0,0,0,0,0,0,0,{"$f":"PRE_Calculations!AF102","v":0},{"$f":"PRE_Calculations!AG102","v":0},null,null,null,"----96",null,0,0,0,0,0,0,0,0,{"$f":"POST_Calculations!AF102","v":0},{"$f":"POST_Calculations!AG102","v":0},null,"no"]
[null,null,"----97",null,0,0,0,0,0,0,0,0,{"$f":"PRE_Calculations!AF103","v":0},{"$f":"PRE_Calculations!AG103","v":0},null,null,null,"----97",null,0,0,0,0,0,0,0,0,{"$f":"POST_Calculations!AF103","v":0},{"$f":"POST_Calculations!AG103","v":0},null,"no"]
[null,null,"----98",null,0,0,0,0,0,0,0,0,{"$f":"PRE_Calculations!AF104","v":0},{"$f":"PRE_Calculations!AG104","v":0},null,null,null,"----98",null,0,0,0,0,0,0,0,0,{"$f":"POST_Calculations!AF104","v":0},{"$f":"POST_Calculations!AG104","v":0},null,"no"]
[null,null,"----99",null,0,0,0,0,0,0,0,0,{"$f":"PRE_Calculations!AF105","v":0},{"$f":"PRE_Calculations!AG105","v":0},null,null,null,"----99",null,0,0,0,0,0,0,0,0,{"$f":"POST_Calculations!AF105","v":0},{"$f":"POST_Calculations!AG105","v":0},null,"no"]
[null,null,"----100",null,0,0,0,0,0,0,0,0,{"$f":"PRE_Calculations!AF106","v":0},{"$f":"PRE_Calculations!AG106","v":0},null,null,null,"----100",null,0,0,0,0,0,0,0,0,{"$f":"POST_Calculations!AF106","v":0},{"$f":"POST_Calculations!AG106","v":0},null,"no"]
[null,null,"----101",null,0,0,0,0,0,0,0,0,{"$f":"PRE_Calculations!AF107","v":0},{"$f":"PRE_Calculations!AG107","v":0},null,null,null,"----101",null,0,0,0,0,0,0,0,0,{"$f":"POST_Calculations!AF107","v":0},{"$f":"POST_Calculations!AG107","v":0},null,"no"]
[null,null,"----102",null,0,0,0,0,0,0,0,0,{"$f":"PRE_Calculations!AF108","v":0},{"$f":"PRE_Calculations!AG108","v":0},null,null,null,"----102",null,0,0,0,0,0,0,0,0,{"$f":"POST_Calculations!AF108","v":0},{"$f":"POST_Calculations!AG108","v":0},null,"no"]
[null,null,"----103",null,0,0,0,0,0,0,0,0,{"$f":"PRE_Calculations!AF109","v":0},{"$f":"PRE_Calculations!AG109","v":0},null,null,null,"----103",null,0,0,0,0,0,0,0,0,{"$f":"POST_Calculations!AF109","v":0},{"$f":"POST_Calculations!AG109","v":0},null,"no"]
[null,null,"----104",null,0,0,0,0,0,0,0,0,{"$f":"PRE_Calculations!AF110","v":0},{"$f":"PRE_Calculations!AG110","v":0},null,null,null,"----104",null,0,0,0,0,0,0,0,0,{"$f":"POST_Calculations!AF110","v":0},{"$f":"POST_Calculations!AG110","v":0},null,"no"]
[null,null,"----105",null,0,0,0,0,0,0,0,0,{"$f":"PRE_Calculations!AF111","v":0},{"$f":"PRE_Calculations!AG111","v":0},null,null,null,"----105",null,0,0,0,0,0,0,0,0,{"$f":"POST_Calculations!AF111","v":0},{"$f":"POST_Calculations!AG111","v":0},null,"no"]
[null,null,"----106",null,0,0,0,0,0,0,0,0,{"$f":"PRE_Calculations!AF112","v":0},{"$f":"PRE_Calculations!AG112","v":0},null,null,null,"----106",null,0,0,0,0,0,0,0,0,{"$f":"POST_Calculations!AF112","v":0},{"$f":"POST_Calculations!AG112","v":0},null,"no"]
[null,null,"----107",null,0,0,0,0,0,0,0,0,{"$f":"PRE_Calculations!AF113","v":0},{"$f":"PRE_Calculations!AG113","v":0},null,null,null,"----107",null,0,0,0,0,0,0,0,0,{"$f":"POST_Calculations!AF113","v":0},{"$f":"POST_Calculations!AG113","v":0},null,"no"]
[null,null,"----108",null,0,0,0,0,0,0,0,0,{"$f":"PRE_Calculations!AF114","v":0},{"$f":"PRE_Calculations!AG114","v":0},null,null,null,"----108",null,0,0,0,0,0,0,0,0,{"$f":"POST_Calculations!AF114","v":0},{"$f":"POST_Calculations!AG114","v":0},null,"no"]
[null,null,"----109",null,0,0,0,0,0,0,0,0,{"$f":"PRE_Calculations!AF115","v":0},{"$f":"PRE_Calculations!AG115","v":0},null,null,null,"----109",null,0,0,0,0,0,0,0,0,{"$f":"POST_Calculations!AF115","v":0},{"$f":"POST_Calculations!AG115","v":0},null,"no"]
[null,null,"----110",null,0,0,0,0,0,0,0,0,{"$f":"PRE_Calculations!AF116","v":0},{"$f":"PRE_Calculations!AG116","v":0},null,null,null,"----110",null,0,0,0,0,0,0,0,0,{"$f":"POST_Calculations!AF116","v":0},{"$f":"POST_Calculations!AG116","v":0},null,"no"]
[null,null,"----111",null,0,0,0,0,0,0,0,0,{"$f":"PRE_Calculations!AF117","v":0},{"$f":"PRE_Calculations!AG117","v":0},null,null,null,"----111",null,0,0,0,0,0,0,0,0,{"$f":"POST_Calculations!AF117","v":0},{"$f":"POST_Calculations!AG117","v":0},null,"no"]
[null,null,"----112",null,0,0,0,0,0,0,0,0,{"$f":"PRE_Calculations!AF118","v":0},{"$f":"PRE_Calculations!AG118","v":0},null,null,null,"----112",null,0,0,0,0,0,0,0,0,{"$f":"POST_Calculations!AF118","v":0},{"$f":"POST_Calculations!AG118","v":0},null,"no"]
[null,null,"----113",null,0,0,0,0,0,0,0,0,{"$f":"PRE_Calculations!AF119","v":0},{"$f":"PRE_Calculations!AG119","v":0},null,null,null,"----113",null,0,0,0,0,0,0,0,0,{"$f":"POST_Calculations!AF119","v":0},{"$f":"POST_Calculations!AG119","v":0},null,"no"]
[null,null,"----114",null,0,0,0,0,0,0,0,0,{"$f":"PRE_Calculations!AF120","v":0},{"$f":"PRE_Calculations!AG120","v":0},null,null,null,"----114",null,0,0,0,0,0,0,0,0,{"$f":"POST_Calculations!AF120","v":0},{"$f":"POST_Calculations!AG120","v":0},null,"no"]
[null,null,"----115",null,0,0,0,0,0,0,0,0,{"$f":"PRE_Calculations!AF121","v":0},{"$f":"PRE_Calculations!AG121","v":0},null,null,null,"----115",null,0,0,0,0,0,0,0,0,{"$f":"POST_Calculations!AF121","v":0},{"$f":"POST_Calculations!AG121","v":0},null,"no"]
[null,null,"----116",null,0,0,0,0,0,0,0,0,{"$f":"PRE_Calculations!AF122","v":0},{"$f":"PRE_Calculations!AG122","v":0},null,null,null,"----116",null,0,0,0,0,0,0,0,0,{"$f":"POST_Calculations!AF122","v":0},{"$f":"POST_Calculations!AG122","v":0},null,"no"]
[null,null,"----117",null,0,0,0,0,0,0,0,0,{"$f":"PRE_Calculations!AF123","v":0},{"$f":"PRE_Calculations!AG123","v":0},null,null,null,"----117",null,0,0,0,0,0,0,0,0,{"$f":"POST_Calculations!AF123","v":0},{"$f":"POST_Calculations!AG123","v":0},null,"no"]
[null,null,"----118",null,0,0,0,0,0,0,0,0,{"$f":"PRE_Calculations!AF124","v":0},{"$f":"PRE_Calculations!AG124","v":0},null,null,null,"----118",null,0,0,0,0,0,0,0,0,{"$f":"POST_Calculations!AF124","v":0},{"$f":"POST_Calculations!AG124","v":0},null,"no"]
[null,null,"----119",null,0,0,0,0,0,0,0,0,{"$f":"PRE_Calculations!AF125","v":0},{"$f":"PRE_Calculations!AG125","v":0},null,null,null,"----119",null,0,0,0,0,0,0,0,0,{"$f":"POST_Calculations!AF125","v":0},{"$f":"POST_Calculations!AG125","v":0},null,"no"]
[null,null,"----120",null,0,0,0,0,0,0,0,0,{"$f":"PRE_Calculations!AF126","v":0},{"$f":"PRE_Calculations!AG126","v":0},null,null,null,"----120",null,0,0,0,0,0,0,0,0,{"$f":"POST_Calculations!AF126","v":0},{"$f":"POST_Calculations!AG126","v":0},null,"no"]
[null,null,"----121",null,0,0,0,0,0,0,0,0,{"$f":"PRE_Calculations!AF127","v":0},{"$f":"PRE_Calculations!AG127","v":0},null,null,null,"----121",null,0,0,0,0,0,0,0,0,{"$f":"POST_Calculations!AF127","v":0},{"$f":"POST_Calculations!AG127","v":0},null,"no"]
[null,null,"----122",null,0,0,0,0,0,0,0,0,{"$f":"PRE_Calculations!AF128","v":0},{"$f":"PRE_Calculations!AG128","v":0},null,null,null,"----122",null,0,0,0,0,0,0,0,0,{"$f":"POST_Calculations!AF128","v":0},{"$f":"POST_Calculations!AG128","v":0},null,"no"]
[null,null,"----123",null,0,0,0,0,0,0,0,0,{"$f":"PRE_Calculations!AF129","v":0},{"$f":"PRE_Calculations!AG129","v":0},null,null,null,"----123",null,0,0,0,0,0,0,0,0,{"$f":"POST_Calculations!AF129","v":0},{"$f":"POST_Calculations!AG129","v":0},null,"no"]
[null,null,"----124",null,0,0,0,0,0,0,0,0,{"$f":"PRE_Calculations!AF130","v":0},{"$f":"PRE_Calculations!AG130","v":0},null,null,null,"----124",null,0,0,0,0,0,0,0,0,{"$f":"POST_Calculations!AF130","v":0},{"$f":"POST_Calculations!AG130","v":0},null,"no"]
[null,null,"----125",null,0,0,0,0,0,0,0,0,{"$f":"PRE_Calculations!AF131","v":0},{"$f":"PRE_Calculations!AG131","v":0},null,null,null,"----125",null,0,0,0,0,0,0,0,0,{"$f":"POST_Calculations!AF131","v":0},{"$f":"POST_Calculations!AG131","v":0},null,"no"]
[null,null,"----126",null,0,0,0,0,0,0,0,0,{"$f":"PRE_Calculations!AF132","v":0},{"$f":"PRE_Calculations!AG132","v":0},null,null,null,"----126",null,0,0,0,0,0,0,0,0,{"$f":"POST_Calculations!AF132","v":0},{"$f":"POST_Calculations!AG132","v":0},null,"no"]
[null,null,"----127",null,0,0,0,0,0,0,0,0,{"$f":"PRE_Calculations!AF133","v":0},{"$f":"PRE_Calculations!AG133","v":0},null,null,null,"----127",null,0,0,0,0,0,0,0,0,{"$f":"POST_Calculations!AF133","v":0},{"$f":"POST_Calculations!AG133","v":0},null,"no"]
[null,null,"----128",null,0,0,0,0,0,0,0,0,{"$f":"PRE_Calculations!AF134","v":0},{"$f":"PRE_Calculations!AG134","v":0},null,null,null,"----128",null,0,0,0,0,0,0,0,0,{"$f":"POST_Calculations!AF134","v":0},{"$f":"POST_Calculations!AG134","v":0},null,"no"]
[null,null,"----129",null,0,0,0,0,0,0,0,0,{"$f":"PRE_Calculations!AF135","v":0},{"$f":"PRE_Calculations!AG135","v":0},null,null,null,"----129",null,0,0,0,0,0,0,0,0,{"$f":"POST_Calculations!AF135","v":0},{"$f":"POST_Calculations!AG135","v":0},null,"no"]
[null,null,"----130",null,0,0,0,0,0,0,0,0,{"$f":"PRE_Calculations!AF136","v":0},{"$f":"PRE_Calculations!AG136","v":0},null,null,null,"----130",null,0,0,0,0,0,0,0,0,{"$f":"POST_Calculations!AF136","v":0},{"$f":"POST_Calculations!AG136","v":0},null,"no"]
[null,null,"----131",null,0,0,0,0,0,0,0,0,{"$f":"PRE_Calculations!AF137","v":0},{"$f":"PRE_Calculations!AG137","v":0},null,null,null,"----131",null,0,0,0,0,0,0,0,0,{"$f":"POST_Calculations!AF137","v":0},{"$f":"POST_Calculations!AG137","v":0},null,"no"]
[null,null,"----132",null,0,0,0,0,0,0,0,0,{"$f":"PRE_Calculations!AF138","v":0},{"$f":"PRE_Calculations!AG138","v":0},null,null,null,"----132",null,0,0,0,0,0,0,0,0,{"$f":"POST_Calculations!AF138","v":0},{"$f":"POST_Calculations!AG138","v":0},null,"no"]
[null,null,"----133",null,0,0,0,0,0,0,0,0,{"$f":"PRE_Calculations!AF139","v":0},{"$f":"PRE_Calculations!AG139","v":0},null,null,null,"----133",null,0,0,0,0,0,0,0,0,{"$f":"POST_Calculations!AF139","v":0},{"$f":"POST_Calculations!AG139","v":0},null,"no"]
[null,null,"----134",null,0,0,0,0,0,0,0,0,{"$f":"PRE_Calculations!AF140","v":0},{"$f":"PRE_Calculations!AG140","v":0},null,null,null,"----134",null,0,0,0,0,0,0,0,0,{"$f":"POST_Calculations!AF140","v":0},{"$f":"POST_Calculations!AG140","v":0},null,"no"]
[null,null,"----135",null,0,0,0,0,0,0,0,0,{"$f":"PRE_Calculations!AF141","v":0},{"$f":"PRE_Calculations!AG141","v":0},null,null,null,"----135",null,0,0,0,0,0,0,0,0,{"$f":"POST_Calculations!AF141","v":0},{"$f":"POST_Calculations!AG141","v":0},null,"no"]
[null,null,"----136",null,0,0,0,0,0,0,0,0,{"$f":"PRE_Calculations!AF142","v":0},{"$f":"PRE_Calculations!AG142","v":0},null,null,null,"----136",null,0,0,0,0,0,0,0,0,{"$f":"POST_Calculations!AF142","v":0},{"$f":"POST_Calculations!AG142","v":0},null,"no"]
[null,null,"----137",null,0,0,0,0,0,0,0,0,{"$f":"PRE_Calculations!AF143","v":0},{"$f":"PRE_Calculations!AG143","v":0},null,null,null,"----137",null,0,0,0,0,0,0,0,0,{"$f":"POST_Calculations!AF143","v":0},{"$f":"POST_Calculations!AG143","v":0},null,"no"]
[null,null,"----138",null,0,0,0,0,0,0,0,0,{"$f":"PRE_Calculations!AF144","v":0},{"$f":"PRE_Calculations!AG144","v":0},null,null,null,"----138",null,0,0,0,0,0,0,0,0,{"$f":"POST_Calculations!AF144","v":0},{"$f":"POST_Calculations!AG144","v":0},null,"no"]
[null,null,"----139",null,0,0,0,0,0,0,0,0,{"$f":"PRE_Calculations!AF145","v":0},{"$f":"PRE_Calculations!AG145","v":0},null,null,null,"----139",null,0,0,0,0,0,0,0,0,{"$f":"POST_Calculations!AF145","v":0},{"$f":"POST_Calculations!AG145","v":0},null,"no"]
[null,null,"----140",null,0,0,0,0,0,0,0,0,{"$f":"PRE_Calculations!AF146","v":0},{"$f":"PRE_Calculations!AG146","v":0},null,null,null,"----140",null,0,0,0,0,0,0,0,0,{"$f":"POST_Calculations!AF146","v":0},{"$f":"POST_Calculations!AG146","v":0},null,"no"]
[null,null,"----141",null,0,0,0,0,0,0,0,0,{"$f":"PRE_Calculations!AF147","v":0},{"$f":"PRE_Calculations!AG147","v":0},null,null,null,"----141",null,0,0,0,0,0,0,0,0,{"$f":"POST_Calculations!AF147","v":0},{"$f":"POST_Calculations!AG147","v":0},null,"no"]
[null,null,"----142",null,0,0,0,0,0,0,0,0,{"$f":"PRE_Calculations!AF148","v":0},{"$f":"PRE_Calculations!AG148","v":0},null,null,null,"----142",null,0,0,0,0,0,0,0,0,{"$f":"POST_Calculations!AF148","v":0},{"$f":"POST_Calculations!AG148","v":0},null,"no"]
[null,null,"----143",null,0,0,0,0,0,0,0,0,{"$f":"PRE_Calculations!AF149","v":0},{"$f":"PRE_Calculations!AG149","v":0},null,null,null,"----143",null,0,0,0,0,0,0,0,0,{"$f":"POST_Calculations!AF149","v":0},{"$f":"POST_Calculations!AG149","v":0},null,"no"]
[null,null,"----144",null,0,0,0,0,0,0,0,0,{"$f":"PRE_Calculations!AF150","v":0},{"$f":"PRE_Calculations!AG150","v":0},null,null,null,"----144",null,0,0,0,0,0,0,0,0,{"$f":"POST_Calculations!AF150","v":0},{"$f":"POST_Calculations!AG150","v":0},null,"no"]
[null,null,"----145",null,0,0,0,0,0,0,0,0,{"$f":"PRE_Calculations!AF151","v":0},{"$f":"PRE_Calculations!AG151","v":0},null,null,null,"----145",null,0,0,0,0,0,0,0,0,{"$f":"POST_Calculations!AF151","v":0},{"$f":"POST_Calculations!AG151","v":0},null,"no"]
[null,null,"----146",null,0,0,0,0,0,0,0,0,{"$f":"PRE_Calculations!AF152","v":0},{"$f":"PRE_Calculations!AG152","v":0},null,null,null,"----146",null,0,0,0,0,0,0,0,0,{"$f":"POST_Calculations!AF152","v":0},{"$f":"POST_Calculations!AG152","v":0},null,"no"]
[null,null,"----147",null,0,0,0,0,0,0,0,0,{"$f":"PRE_Calculations!AF153","v":0},{"$f":"PRE_Calculations!AG153","v":0},null,null,null,"----147",null,0,0,0,0,0,0,0,0,{"$f":"POST_Calculations!AF153","v":0},{"$f":"POST_Calculations!AG153","v":0},null,"no"]
[null,null,"----148",null,0,0,0,0,0,0,0,0,{"$f":"PRE_Calculations!AF154","v":0},{"$f":"PRE_Calculations!AG154","v":0},null,null,null,"----148",null,0,0,0,0,0,0,0,0,{"$f":"POST_Calculations!AF154","v":0},{"$f":"POST_Calculations!AG154","v":0},null,"no"]
[null,null,"----149",null,0,0,0,0,0,0,0,0,{"$f":"PRE_Calculations!AF155","v":0},{"$f":"PRE_Calculations!AG155","v":0},null,null,null,"----149",null,0,0,0,0,0,0,0,0,{"$f":"POST_Calculations!AF155","v":0},{"$f":"POST_Calculations!AG155","v":0},null,"no"]
[null,null,"----150",null,0,0,0,0,0,0,0,0,{"$f":"PRE_Calculations!AF156","v":0},{"$f":"PRE_Calculations!AG156","v":0},null,null,null,"----150",null,0,0,0,0,0,0,0,0,{"$f":"POST_Calculations!AF156","v":0},{"$f":"POST_Calculations!AG156","v":0},null,"no"]
[null,null,"----151",null,0,0,0,0,0,0,0,0,{"$f":"PRE_Calculations!AF157","v":0},{"$f":"PRE_Calculations!AG157","v":0},null,null,null,"----151",null,0,0,0,0,0,0,0,0,{"$f":"POST_Calculations!AF157","v":0},{"$f":"POST_Calculations!AG157","v":0},null,"no"]
[null,null,"----152",null,0,0,0,0,0,0,0,0,{"$f":"PRE_Calculations!AF158","v":0},{"$f":"PRE_Calculations!AG158","v":0},null,null,null,"----152",null,0,0,0,0,0,0,0,0,{"$f":"POST_Calculations!AF158","v":0},{"$f":"POST_Calculations!AG158","v":0},null,"no"]
[null,null,"----153",null,0,0,0,0,0,0,0,0,{"$f":"PRE_Calculations!AF159","v":0},{"$f":"PRE_Calculations!AG159","v":0},null,null,null,"----153",null,0,0,0,0,0,0,0,0,{"$f":"POST_Calculations!AF159","v":0},{"$f":"POST_Calculations!AG159","v":0},null,"no"]
[null,null,"----154",null,0,0,0,0,0,0,0,0,{"$f":"PRE_Calculations!AF160","v":0},{"$f":"PRE_Calculations!AG160","v":0},null,null,null,"----154",null,0,0,0,0,0,0,0,0,{"$f":"POST_Calculations!AF160","v":0},{"$f":"POST_Calculations!AG160","v":0},null,"no"]
[null,null,"----155",null,0,0,0,0,0,0,0,0,{"$f":"PRE_Calculations!AF161","v":0},{"$f":"PRE_Calculations!AG161","v":0},null,null,null,"----155",null,0,0,0,0,0,0,0,0,{"$f":"POST_Calculations!AF161","v":0},{"$f":"POST_Calculations!AG161","v":0},null,"no"]
[null,null,"----156",null,0,0,0,0,0,0,0,0,{"$f":"PRE_Calculations!AF162","v":0},{"$f":"PRE_Calculations!AG162","v":0},null,null,null,"----156",null,0,0,0,0,0,0,0,0,{"$f":"POST_Calculations!AF162","v":0},{"$f":"POST_Calculations!AG162","v":0},null,"no"]
[null,null,"----157",null,0,0,0,0,0,0,0,0,{"$f":"PRE_Calculations!AF163","v":0},{"$f":"PRE_Calculations!AG163","v":0},null,null,null,"----157",null,0,0,0,0,0,0,0,0,{"$f":"POST_Calculations!AF163","v":0},{"$f":"POST_Calculations!AG163","v":0},null,"no"]
[null,null,"----158",null,0,0,0,0,0,0,0,0,{"$f":"PRE_Calculations!AF164","v":0},{"$f":"PRE_Calculations!AG164","v":0},null,null,null,"----158",null,0,0,0,0,0,0,0,0,{"$f":"POST_Calculations!AF164","v":0},{"$f":"POST_Calculations!AG164","v":0},null,"no"]
[null,null,"----159",null,0,0,0,0,0,0,0,0,{"$f":"PRE_Calculations!AF165","v":0},{"$f":"PRE_Calculations!AG165","v":0},null,null,null,"----159",null,0,0,0,0,0,0,0,0,{"$f":"POST_Calculations!AF165","v":0},{"$f":"POST_Calculations!AG165","v":0},null,"no"]
[null,null,"----160",null,0,0,0,0,0,0,0,0,{"$f":"PRE_Calculations!AF166","v":0},{"$f":"PRE_Calculations!AG166","v":0},null,null,null,"----160",null,0,0,0,0,0,0,0,0,{"$f":"POST_Calculations!AF166","v":0},{"$f":"POST_Calculations!AG166","v":0},null,"no"]
[null,null,"----161",null,0,0,0,0,0,0,0,0,{"$f":"PRE_Calculations!AF167","v":0},{"$f":"PRE_Calculations!AG167","v":0},null,null,null,"----161",null,0,0,0,0,0,0,0,0,{"$f":"POST_Calculations!AF167","v":0},{"$f":"POST_Calculations!AG167","v":0},null,"no"]
[null,null,"----162",null,0,0,0,0,0,0,0,0,{"$f":"PRE_Calculations!AF168","v":0},{"$f":"PRE_Calculations!AG168","v":0},null,null,null,"----162",null,0,0,0,0,0,0,0,0,{"$f":"POST_Calculations!AF168","v":0},{"$f":"POST_Calculations!AG168","v":0},null,"no"]
[null,null,"----163",null,0,0,0,0,0,0,0,0,{"$f":"PRE_Calculations!AF169","v":0},{"$f":"PRE_Calculations!AG169","v":0},null,null,null,"----163",null,0,0,0,0,0,0,0,0,{"$f":"POST_Calculations!AF169","v":0},{"$f":"POST_Calculations!AG169","v":0},null,"no"]
[null,null,"----164",null,0,0,0,0,0,0,0,0,{"$f":"PRE_Calculations!AF170","v":0},{"$f":"PRE_Calculations!AG170","v":0},null,null,null,"----164",null,0,0,0,0,0,0,0,0,{"$f":"POST_Calculations!AF170","v":0},{"$f":"POST_Calculations!AG170","v":0},null,"no"]
[null,null,"----165",null,0,0,0,0,0,0,0,0,{"$f":"PRE_Calculations!AF171","v":0},{"$f":"PRE_Calculations!AG171","v":0},null,null,null,"----165",null,0,0,0,0,0,0,0,0,{"$f":"POST_Calculations!AF171","v":0},{"$f":"POST_Calculations!AG171","v":0},null,"no"]
[null,null,"----166",null,0,0,0,0,0,0,0,0,{"$f":"PRE_Calculations!AF172","v":0},{"$f":"PRE_Calculations!AG172","v":0},null,null,null,"----166",null,0,0,0,0,0,0,0,0,{"$f":"POST_Calculations!AF172","v":0},{"$f":"POST_Calculations!AG172","v":0},null,"no"]
[null,null,"----167",null,0,0,0,0,0,0,0,0,{"$f":"PRE_Calculations!AF173","v":0},{"$f":"PRE_Calculations!AG173","v":0},null,null,null,"----167",null,0,0,0,0,0,0,0,0,{"$f":"POST_Calculations!AF173","v":0},{"$f":"POST_Calculations!AG173","v":0},null,"no"]
[null,null,"----168",null,0,0,0,0,0,0,0,0,{"$f":"PRE_Calculations!AF174","v":0},{"$f":"PRE_Calculations!AG174","v":0},null,null,null,"----168",null,0,0,0,0,0,0,0,0,{"$f":"POST_Calculations!AF174","v":0},{"$f":"POST_Calculations!AG174","v":0},null,"no"]
[null,null,"----169",null,0,0,0,0,0,0,0,0,{"$f":"PRE_Calculations!AF175","v":0},{"$f":"PRE_Calculations!AG175","v":0},null,null,null,"----169",null,0,0,0,0,0,0,0,0,{"$f":"POST_Calculations!AF175","v":0},{"$f":"POST_Calculations!AG175","v":0},null,"no"]
[null,null,"----170",null,0,0,0,0,0,0,0,0,{"$f":"PRE_Calculations!AF176","v":0},{"$f":"PRE_Calculations!AG176","v":0},null,null,null,"----170",null,0,0,0,0,0,0,0,0,{"$f":"POST_Calculations!AF176","v":0},{"$f":"POST_Calculations!AG176","v":0},null,"no"]
[null,null,"----171",null,0,0,0,0,0,0,0,0,{"$f":"PRE_Calculations!AF177","v":0},{"$f":"PRE_Calculations!AG177","v":0},null,null,null,"----171",null,0,0,0,0,0,0,0,0,{"$f":"POST_Calculations!AF177","v":0},{"$f":"POST_Calculations!AG177","v":0},null,"no"]
[null,null,"----172",null,0,0,0,0,0,0,0,0,{"$f":"PRE_Calculations!AF178","v":0},{"$f":"PRE_Calculations!AG178","v":0},null,null,null,"----172",null,0,0,0,0,0,0,0,0,{"$f":"POST_Calculations!AF178","v":0},{"$f":"POST_Calculations!AG178","v":0},null,"no"]
[null,null,"----173",null,0,0,0,0,0,0,0,0,{"$f":"PRE_Calculations!AF179","v":0},{"$f":"PRE_Calculations!AG179","v":0},null,null,null,"----173",null,0,0,0,0,0,0,0,0,{"$f":"POST_Calculations!AF179","v":0},{"$f":"POST_Calculations!AG179","v":0},null,"no"]
[null,null,"----174",null,0,0,0,0,0,0,0,0,{"$f":"PRE_Calculations!AF180","v":0},{"$f":"PRE_Calculations!AG180","v":0},null,null,null,"----174",null,0,0,0,0,0,0,0,0,{"$f":"POST_Calculations!AF180","v":0},{"$f":"POST_Calculations!AG180","v":0},null,"no"]
[null,null,"----175",null,0,0,0,0,0,0,0,0,{"$f":"PRE_Calculations!AF181","v":0},{"$f":"PRE_Calculations!AG181","v":0},null,null,null,"----175",null,0,0,0,0,0,0,0,0,{"$f":"POST_Calculations!AF181","v":0},{"$f":"POST_Calculations!AG181","v":0},null,"no"]
[null,null,"----176",null,0,0,0,0,0,0,0,0,{"$f":"PRE_Calculations!AF182","v":0},{"$f":"PRE_Calculations!AG182","v":0},null,null,null,"----176",null,0,0,0,0,0,0,0,0,{"$f":"POST_Calculations!AF182","v":0},{"$f":"POST_Calculations!AG182","v":0},null,"no"]
[null,null,"----177",null,0,0,0,0,0,0,0,0,{"$f":"PRE_Calculations!AF183","v":0},{"$f":"PRE_Calculations!AG183","v":0},null,null,null,"----177",null,0,0,0,0,0,0,0,0,{"$f":"POST_Calculations!AF183","v":0},{"$f":"POST_Calculations!AG183","v":0},null,"no"]
[null,null,"----178",null,0,0,0,0,0,0,0,0,{"$f":"PRE_Calculations!AF184","v":0},{"$f":"PRE_Calculations!AG184","v":0},null,null,null,"----178",null,0,0,0,0,0,0,0,0,{"$f":"POST_Calculations!AF184","v":0},{"$f":"POST_Calculations!AG184","v":0},null,"no"]
[null,null,"----179",null,0,0,0,0,0,0,0,0,{"$f":"PRE_Calculations!AF185","v":0},{"$f":"PRE_Calculations!AG185","v":0},null,null,null,"----179",null,0,0,0,0,0,0,0,0,{"$f":"POST_Calculations!AF185","v":0},{"$f":"POST_Calculations!AG185","v":0},null,"no"]
[null,null,"----180",null,0,0,0,0,0,0,0,0,{"$f":"PRE_Calculations!AF186","v":0},{"$f":"PRE_Calculations!AG186","v":0},null,null,null,"----180",null,0,0,0,0,0,0,0,0,{"$f":"POST_Calculations!AF186","v":0},{"$f":"POST_Calculations!AG186","v":0},null,"no"]
[null,null,"----181",null,0,0,0,0,0,0,0,0,{"$f":"PRE_Calculations!AF187","v":0},{"$f":"PRE_Calculations!AG187","v":0},null,null,null,"----181",null,0,0,0,0,0,0,0,0,{"$f":"POST_Calculations!AF187","v":0},{"$f":"POST_Calculations!AG187","v":0},null,"no"]
[null,null,"----182",null,0,0,0,0,0,0,0,0,{"$f":"PRE_Calculations!AF188","v":0},{"$f":"PRE_Calculations!AG188","v":0},null,null,null,"----182",null,0,0,0,0,0,0,0,0,{"$f":"POST_Calculations!AF188","v":0},{"$f":"POST_Calculations!AG188","v":0},null,"no"]
[null,null,"----183",null,0,0,0,0,0,0,0,0,{"$f":"PRE_Calculations!AF189","v":0},{"$f":"PRE_Calculations!AG189","v":0},null,null,null,"----183",null,0,0,0,0,0,0,0,0,{"$f":"POST_Calculations!AF189","v":0},{"$f":"POST_Calculations!AG189","v":0},null,"no"]
[null,null,"----184",null,0,0,0,0,0,0,0,0,{"$f":"PRE_Calculations!AF190","v":0},{"$f":"PRE_Calculations!AG190","v":0},null,null,null,"----184",null,0,0,0,0,0,0,0,0,{"$f":"POST_Calculations!AF190","v":0},{"$f":"POST_Calculations!AG190","v":0},null,"no"]
[null,null,"----185",null,0,0,0,0,0,0,0,0,{"$f":"PRE_Calculations!AF191","v":0},{"$f":"PRE_Calculations!AG191","v":0},null,null,null,"----185",null,0,0,0,0,0,0,0,0,{"$f":"POST_Calculations!AF191","v":0},{"$f":"POST_Calculations!AG191","v":0},null,"no"]
[null,null,"----186",null,0,0,0,0,0,0,0,0,{"$f":"PRE_Calculations!AF192","v":0},{"$f":"PRE_Calculations!AG192","v":0},null,null,null,"----186",null,0,0,0,0,0,0,0,0,{"$f":"POST_Calculations!AF192","v":0},{"$f":"POST_Calculations!AG192","v":0},null,"no"]
[null,null,"----187",null,0,0,0,0,0,0,0,0,{"$f":"PRE_Calculations!AF193","v":0},{"$f":"PRE_Calculations!AG193","v":0},null,null,null,"----187",null,0,0,0,0,0,0,0,0,{"$f":"POST_Calculations!AF193","v":0},{"$f":"POST_Calculations!AG193","v":0},null,"no"]
[null,null,"----188",null,0,0,0,0,0,0,0,0,{"$f":"PRE_Calculations!AF194","v":0},{"$f":"PRE_Calculations!AG194","v":0},null,null,null,"----188",null,0,0,0,0,0,0,0,0,{"$f":"POST_Calculations!AF194","v":0},{"$f":"POST_Calculations!AG194","v":0},null,"no"]
[null,null,"----189",null,0,0,0,0,0,0,0,0,{"$f":"PRE_Calculations!AF195","v":0},{"$f":"PRE_Calculations!AG195","v":0},null,null,null,"----189",null,0,0,0,0,0,0,0,0,{"$f":"POST_Calculations!AF195","v":0},{"$f":"POST_Calculations!AG195","v":0},null,"no"]
[null,null,"----190",null,0,0,0,0,0,0,0,0,{"$f":"PRE_Calculations!AF196","v":0},{"$f":"PRE_Calculations!AG196","v":0},null,null,null,"----190",null,0,0,0,0,0,0,0,0,{"$f":"POST_Calculations!AF196","v":0},{"$f":"POST_Calculations!AG196","v":0},null,"no"]
[null,null,"----191",null,0,0,0,0,0,0,0,0,{"$f":"PRE_Calculations!AF197","v":0},{"$f":"PRE_Calculations!AG197","v":0},null,null,null,"----191",null,0,0,0,0,0,0,0,0,{"$f":"POST_Calculations!AF197","v":0},{"$f":"POST_Calculations!AG197","v":0},null,"no"]
[null,null,"----192",null,0,0,0,0,0,0,0,0,{"$f":"PRE_Calculations!AF198","v":0},{"$f":"PRE_Calculations!AG198","v":0},null,null,null,"----192",null,0,0,0,0,0,0,0,0,{"$f":"POST_Calculations!AF198","v":0},{"$f":"POST_Calculations!AG198","v":0},null,"no"]
[null,null,"----193",null,0,0,0,0,0,0,0,0,{"$f":"PRE_Calculations!AF199","v":0},{"$f":"PRE_Calculations!AG199","v":0},null,null,null,"----193",null,0,0,0,0,0,0,0,0,{"$f":"POST_Calculations!AF199","v":0},{"$f":"POST_Calculations!AG199","v":0},null,"no"]
[null,null,"----194",null,0,0,0,0,0,0,0,0,{"$f":"PRE_Calculations!AF200","v":0},{"$f":"PRE_Calculations!AG200","v":0},null,null,null,"----194",null,0,0,0,0,0,0,0,0,{"$f":"POST_Calculations!AF200","v":0},{"$f":"POST_Calculations!AG200","v":0},null,"no"]
[null,null,"----195",null,0,0,0,0,0,0,0,0,{"$f":"PRE_Calculations!AF201","v":0},{"$f":"PRE_Calculations!AG201","v":0},null,null,null,"----195",null,0,0,0,0,0,0,0,0,{"$f":"POST_Calculations!AF201","v":0},{"$f":"POST_Calculations!AG201","v":0},null,"no"]
[null,null,"----196",null,0,0,0,0,0,0,0,0,{"$f":"PRE_Calculations!AF202","v":0},{"$f":"PRE_Calculations!AG202","v":0},null,null,null,"----196",null,0,0,0,0,0,0,0,0,{"$f":"POST_Calculations!AF202","v":0},{"$f":"POST_Calculations!AG202","v":0},null,"no"]
[null,null,"----197",null,0,0,0,0,0,0,0,0,{"$f":"PRE_Calculations!AF203","v":0},{"$f":"PRE_Calculations!AG203","v":0},null,null,null,"----197",null,0,0,0,0,0,0,0,0,{"$f":"POST_Calculations!AF203","v":0},{"$f":"POST_Calculations!AG203","v":0},null,"no"]
[null,null,"----198",null,0,0,0,0,0,0,0,0,{"$f":"PRE_Calculations!AF204","v":0},{"$f":"PRE_Calculations!AG204","v":0},null,null,null,"----198",null,0,0,0,0,0,0,0,0,{"$f":"POST_Calculations!AF204","v":0},{"$f":"POST_Calculations!AG204","v":0},null,"no"]
[null,null,"----199",null,0,0,0,0,0,0,0,0,{"$f":"PRE_Calculations!AF205","v":0},{"$f":"PRE_Calculations!AG205","v":0},null,null,null,"----199",null,0,0,0,0,0,0,0,0,{"$f":"POST_Calculations!AF205","v":0},{"$f":"POST_Calculations!AG205","v":0},null,"no"]
[null,null,"----200",null,0,0,0,0,0,0,0,0,{"$f":"PRE_Calculations!AF206","v":0},{"$f":"PRE_Calculations!AG206","v":0},null,null,null,"----200",null,0,0,0,0,0,0,0,0,{"$f":"POST_Calculations!AF206","v":0},{"$f":"POST_Calculations!AG206","v":0},null,"no"]
[null,null,"----201",null,0,0,0,0,0,0,0,0,{"$f":"PRE_Calculations!AF207","v":0},{"$f":"PRE_Calculations!AG207","v":0},null,null,null,"----201",null,0,0,0,0,0,0,0,0,{"$f":"POST_Calculations!AF207","v":0},{"$f":"POST_Calculations!AG207","v":0},null,"no"]
[null,null,"----202",null,0,0,0,0,0,0,0,0,{"$f":"PRE_Calculations!AF208","v":0},{"$f":"PRE_Calculations!AG208","v":0},null,null,null,"----202",null,0,0,0,0,0,0,0,0,{"$f":"POST_Calculations!AF208","v":0},{"$f":"POST_Calculations!AG208","v":0},null,"no"]
[null,null,"----203",null,0,0,0,0,0,0,0,0,{"$f":"PRE_Calculations!AF209","v":0},{"$f":"PRE_Calculations!AG209","v":0},null,null,null,"----203",null,0,0,0,0,0,0,0,0,{"$f":"POST_Calculations!AF209","v":0},{"$f":"POST_Calculations!AG209","v":0},null,"no"]
[null,null,"----204",null,0,0,0,0,0,0,0,0,{"$f":"PRE_Calculations!AF210","v":0},{"$f":"PRE_Calculations!AG210","v":0},null,null,null,"----204",null,0,0,0,0,0,0,0,0,{"$f":"POST_Calculations!AF210","v":0},{"$f":"POST_Calculations!AG210","v":0},null,"no"]
[null,null,"----205",null,0,0,0,0,0,0,0,0,{"$f":"PRE_Calculations!AF211","v":0},{"$f":"PRE_Calculations!AG211","v":0},null,null,null,"----205",null,0,0,0,0,0,0,0,0,{"$f":"POST_Calculations!AF211","v":0},{"$f":"POST_Calculations!AG211","v":0},null,"no"]
[null,null,"----206",null,0,0,0,0,0,0,0,0,{"$f":"PRE_Calculations!AF212","v":0},{"$f":"PRE_Calculations!AG212","v":0},null,null,null,"----206",null,0,0,0,0,0,0,0,0,{"$f":"POST_Calculations!AF212","v":0},{"$f":"POST_Calculations!AG212","v":0},null,"no"]
[null,null,"----207",null,0,0,0,0,0,0,0,0,{"$f":"PRE_Calculations!AF213","v":0},{"$f":"PRE_Calculations!AG213","v":0},null,null,null,"----207",null,0,0,0,0,0,0,0,0,{"$f":"POST_Calculations!AF213","v":0},{"$f":"POST_Calculations!AG213","v":0},null,"no"]
[null,null,"----208",null,0,0,0,0,0,0,0,0,{"$f":"PRE_Calculations!AF214","v":0},{"$f":"PRE_Calculations!AG214","v":0},null,null,null,"----208",null,0,0,0,0,0,0,0,0,{"$f":"POST_Calculations!AF214","v":0},{"$f":"POST_Calculations!AG214","v":0},null,"no"]
[null,null,"----209",null,0,0,0,0,0,0,0,0,{"$f":"PRE_Calculations!AF215","v":0},{"$f":"PRE_Calculations!AG215","v":0},null,null,null,"----209",null,0,0,0,0,0,0,0,0,{"$f":"POST_Calculations!AF215","v":0},{"$f":"POST_Calculations!AG215","v":0},null,"no"]
[null,null,"----210",null,0,0,0,0,0,0,0,0,{"$f":"PRE_Calculations!AF216","v":0},{"$f":"PRE_Calculations!AG216","v":0},null,null,null,"----210",null,0,0,0,0,0,0,0,0,{"$f":"POST_Calculations!AF216","v":0},{"$f":"POST_Calculations!AG216","v":0},null,"no"]
[null,null,"----211",null,0,0,0,0,0,0,0,0,{"$f":"PRE_Calculations!AF217","v":0},{"$f":"PRE_Calculations!AG217","v":0},null,null,null,"----211",null,0,0,0,0,0,0,0,0,{"$f":"POST_Calculations!AF217","v":0},{"$f":"POST_Calculations!AG217","v":0},null,"no"]
[null,null,"----212",null,0,0,0,0,0,0,0,0,{"$f":"PRE_Calculations!AF218","v":0},{"$f":"PRE_Calculations!AG218","v":0},null,null,null,"----212",null,0,0,0,0,0,0,0,0,{"$f":"POST_Calculations!AF218","v":0},{"$f":"POST_Calculations!AG218","v":0},null,"no"]
[null,null,"----213",null,0,0,0,0,0,0,0,0,{"$f":"PRE_Calculations!AF219","v":0},{"$f":"PRE_Calculations!AG219","v":0},null,null,null,"----213",null,0,0,0,0,0,0,0,0,{"$f":"POST_Calculations!AF219","v":0},{"$f":"POST_Calculations!AG219","v":0},null,"no"]
[null,null,"----214",null,0,0,0,0,0,0,0,0,{"$f":"PRE_Calculations!AF220","v":0},{"$f":"PRE_Calculations!AG220","v":0},null,null,null,"----214",null,0,0,0,0,0,0,0,0,{"$f":"POST_Calculations!AF220","v":0},{"$f":"POST_Calculations!AG220","v":0},null,"no"]
[null,null,"----215",null,0,0,0,0,0,0,0,0,{"$f":"PRE_Calculations!AF221","v":0},{"$f":"PRE_Calculations!AG221","v":0},null,null,null,"----215",null,0,0,0,0,0,0,0,0,{"$f":"POST_Calculations!AF221","v":0},{"$f":"POST_Calculations!AG221","v":0},null,"no"]
[null,null,"----216",null,0,0,0,0,0,0,0,0,{"$f":"PRE_Calculations!AF222","v":0},{"$f":"PRE_Calculations!AG222","v":0},null,null,null,"----216",null,0,0,0,0,0,0,0,0,{"$f":"POST_Calculations!AF222","v":0},{"$f":"POST_Calculations!AG222","v":0},null,"no"]
[null,null,"----217",null,0,0,0,0,0,0,0,0,{"$f":"PRE_Calculations!AF223","v":0},{"$f":"PRE_Calculations!AG223","v":0},null,null,null,"----217",null,0,0,0,0,0,0,0,0,{"$f":"POST_Calculations!AF223","v":0},{"$f":"POST_Calculations!AG223","v":0},null,"no"]
[null,null,"----218",null,0,0,0,0,0,0,0,0,{"$f":"PRE_Calculations!AF224","v":0},{"$f":"PRE_Calculations!AG224","v":0},null,null,null,"----218",null,0,0,0,0,0,0,0,0,{"$f":"POST_Calculations!AF224","v":0},{"$f":"POST_Calculations!AG224","v":0},null,"no"]
[null,null,"----219",null,0,0,0,0,0,0,0,0,{"$f":"PRE_Calculations!AF225","v":0},{"$f":"PRE_Calculations!AG225","v":0},null,null,null,"----219",null,0,0,0,0,0,0,0,0,{"$f":"POST_Calculations!AF225","v":0},{"$f":"POST_Calculations!AG225","v":0},null,"no"]
[null,null,"----220",null,0,0,0,0,0,0,0,0,{"$f":"PRE_Calculations!AF226","v":0},{"$f":"PRE_Calculations!AG226","v":0},null,null,null,"----220",null,0,0,0,0,0,0,0,0,{"$f":"POST_Calculations!AF226","v":0},{"$f":"POST_Calculations!AG226","v":0},null,"no"]
[null,null,"----221",null,0,0,0,0,0,0,0,0,{"$f":"PRE_Calculations!AF227","v":0},{"$f":"PRE_Calculations!AG227","v":0},null,null,null,"----221",null,0,0,0,0,0,0,0,0,{"$f":"POST_Calculations!AF227","v":0},{"$f":"POST_Calculations!AG227","v":0},null,"no"]
[null,null,"----222",null,0,0,0,0,0,0,0,0,{"$f":"PRE_Calculations!AF228","v":0},{"$f":"PRE_Calculations!AG228","v":0},null,null,null,"----222",null,0,0,0,0,0,0,0,0,{"$f":"POST_Calculations!AF228","v":0},{"$f":"POST_Calculations!AG228","v":0},null,"no"]
[null,null,"----223",null,0,0,0,0,0,0,0,0,{"$f":"PRE_Calculations!AF229","v":0},{"$f":"PRE_Calculations!AG229","v":0},null,null,null,"----223",null,0,0,0,0,0,0,0,0,{"$f":"POST_Calculations!AF229","v":0},{"$f":"POST_Calculations!AG229","v":0},null,"no"]
[null,null,"----224",null,0,0,0,0,0,0,0,0,{"$f":"PRE_Calculations!AF230","v":0},{"$f":"PRE_Calculations!AG230","v":0},null,null,null,"----224",null,0,0,0,0,0,0,0,0,{"$f":"POST_Calculations!AF230","v":0},{"$f":"POST_Calculations!AG230","v":0},null,"no"]
[null,null,"----225",null,0,0,0,0,0,0,0,0,{"$f":"PRE_Calculations!AF231","v":0},{"$f":"PRE_Calculations!AG231","v":0},null,null,null,"----225",null,0,0,0,0,0,0,0,0,{"$f":"POST_Calculations!AF231","v":0},{"$f":"POST_Calculations!AG231","v":0},null,"no"]
[null,null,"----226",null,0,0,0,0,0,0,0,0,{"$f":"PRE_Calculations!AF232","v":0},{"$f":"PRE_Calculations!AG232","v":0},null,null,null,"----226",null,0,0,0,0,0,0,0,0,{"$f":"POST_Calculations!AF232","v":0},{"$f":"POST_Calculations!AG232","v":0},null,"no"]
[null,null,"----227",null,0,0,0,0,0,0,0,0,{"$f":"PRE_Calculations!AF233","v":0},{"$f":"PRE_Calculations!AG233","v":0},null,null,null,"----227",null,0,0,0,0,0,0,0,0,{"$f":"POST_Calculations!AF233","v":0},{"$f":"POST_Calculations!AG233","v":0},null,"no"]
[null,null,"----228",null,0,0,0,0,0,0,0,0,{"$f":"PRE_Calculations!AF234","v":0},{"$f":"PRE_Calculations!AG234","v":0},null,null,null,"----228",null,0,0,0,0,0,0,0,0,{"$f":"POST_Calculations!AF234","v":0},{"$f":"POST_Calculations!AG234","v":0},null,"no"]
[null,null,"----229",null,0,0,0,0,0,0,0,0,{"$f":"PRE_Calculations!AF235","v":0},{"$f":"PRE_Calculations!AG235","v":0},null,null,null,"----229",null,0,0,0,0,0,0,0,0,{"$f":"POST_Calculations!AF235","v":0},{"$f":"POST_Calculations!AG235","v":0},null,"no"]
[null,null,"----230",null,0,0,0,0,0,0,0,0,{"$f":"PRE_Calculations!AF236","v":0},{"$f":"PRE_Calculations!AG236","v":0},null,null,null,"----230",null,0,0,0,0,0,0,0,0,{"$f":"POST_Calculations!AF236","v":0},{"$f":"POST_Calculations!AG236","v":0},null,"no"]
[null,null,"----231",null,0,0,0,0,0,0,0,0,{"$f":"PRE_Calculations!AF237","v":0},{"$f":"PRE_Calculations!AG237","v":0},null,null,null,"----231",null,0,0,0,0,0,0,0,0,{"$f":"POST_Calculations!AF237","v":0},{"$f":"POST_Calculations!AG237","v":0},null,"no"]
[null,null,"----232",null,0,0,0,0,0,0,0,0,{"$f":"PRE_Calculations!AF238","v":0},{"$f":"PRE_Calculations!AG238","v":0},null,null,null,"----232",null,0,0,0,0,0,0,0,0,{"$f":"POST_Calculations!AF238","v":0},{"$f":"POST_Calculations!AG238","v":0},null,"no"]
[null,null,"----233",null,0,0,0,0,0,0,0,0,{"$f":"PRE_Calculations!AF239","v":0},{"$f":"PRE_Calculations!AG239","v":0},null,null,null,"----233",null,0,0,0,0,0,0,0,0,{"$f":"POST_Calculations!AF239","v":0},{"$f":"POST_Calculations!AG239","v":0},null,"no"]
[null,null,"----234",null,0,0,0,0,0,0,0,0,{"$f":"PRE_Calculations!AF240","v":0},{"$f":"PRE_Calculations!AG240","v":0},null,null,null,"----234",null,0,0,0,0,0,0,0,0,{"$f":"POST_Calculations!AF240","v":0},{"$f":"POST_Calculations!AG240","v":0},null,"no"]
[null,null,"----235",null,0,0,0,0,0,0,0,0,{"$f":"PRE_Calculations!AF241","v":0},{"$f":"PRE_Calculations!AG241","v":0},null,null,null,"----235",null,0,0,0,0,0,0,0,0,{"$f":"POST_Calculations!AF241","v":0},{"$f":"POST_Calculations!AG241","v":0},null,"no"]
[null,null,"----236",null,0,0,0,0,0,0,0,0,{"$f":"PRE_Calculations!AF242","v":0},{"$f":"PRE_Calculations!AG242","v":0},null,null,null,"----236",null,0,0,0,0,0,0,0,0,{"$f":"POST_Calculations!AF242","v":0},{"$f":"POST_Calculations!AG242","v":0},null,"no"]
[null,null,"----237",null,0,0,0,0,0,0,0,0,{"$f":"PRE_Calculations!AF243","v":0},{"$f":"PRE_Calculations!AG243","v":0},null,null,null,"----237",null,0,0,0,0,0,0,0,0,{"$f":"POST_Calculations!AF243","v":0},{"$f":"POST_Calculations!AG243","v":0},null,"no"]
[null,null,"----238",null,0,0,0,0,0,0,0,0,{"$f":"PRE_Calculations!AF244","v":0},{"$f":"PRE_Calculations!AG244","v":0},null,null,null,"----238",null,0,0,0,0,0,0,0,0,{"$f":"POST_Calculations!AF244","v":0},{"$f":"POST_Calculations!AG244","v":0},null,"no"]
[null,null,"----239",null,0,0,0,0,0,0,0,0,{"$f":"PRE_Calculations!AF245","v":0},{"$f":"PRE_Calculations!AG245","v":0},null,null,null,"----239",null,0,0,0,0,0,0,0,0,{"$f":"POST_Calculations!AF245","v":0},{"$f":"POST_Calculations!AG245","v":0},null,"no"]
[null,null,"----240",null,0,0,0,0,0,0,0,0,{"$f":"PRE_Calculations!AF246","v":0},{"$f":"PRE_Calculations!AG246","v":0},null,null,null,"----240",null,0,0,0,0,0,0,0,0,{"$f":"POST_Calculations!AF246","v":0},{"$f":"POST_Calculations!AG246","v":0},null,"no"]
[null,null,"----241",null,0,0,0,0,0,0,0,0,{"$f":"PRE_Calculations!AF247","v":0},{"$f":"PRE_Calculations!AG247","v":0},null,null,null,"----241",null,0,0,0,0,0,0,0,0,{"$f":"POST_Calculations!AF247","v":0},{"$f":"POST_Calculations!AG247","v":0},null,"no"]
[null,null,"----242",null,0,0,0,0,0,0,0,0,{"$f":"PRE_Calculations!AF248","v":0},{"$f":"PRE_Calculations!AG248","v":0},null,null,null,"----242",null,0,0,0,0,0,0,0,0,{"$f":"POST_Calculations!AF248","v":0},{"$f":"POST_Calculations!AG248","v":0},null,"no"]
[null,null,"----243",null,0,0,0,0,0,0,0,0,{"$f":"PRE_Calculations!AF249","v":0},{"$f":"PRE_Calculations!AG249","v":0},null,null,null,"----243",null,0,0,0,0,0,0,0,0,{"$f":"POST_Calculations!AF249","v":0},{"$f":"POST_Calculations!AG249","v":0},null,"no"]
[null,null,"----244",null,0,0,0,0,0,0,0,0,{"$f":"PRE_Calculations!AF250","v":0},{"$f":"PRE_Calculations!AG250","v":0},null,null,null,"----244",null,0,0,0,0,0,0,0,0,{"$f":"POST_Calculations!AF250","v":0},{"$f":"POST_Calculations!AG250","v":0},null,"no"]
[null,null,"----245",null,0,0,0,0,0,0,0,0,{"$f":"PRE_Calculations!AF251","v":0},{"$f":"PRE_Calculations!AG251","v":0},null,null,null,"----245",null,0,0,0,0,0,0,0,0,{"$f":"POST_Calculations!AF251","v":0},{"$f":"POST_Calculations!AG251","v":0},null,"no"]
[null,null,"----246",null,0,0,0,0,0,0,0,0,{"$f":"PRE_Calculations!AF252","v":0},{"$f":"PRE_Calculations!AG252","v":0},null,null,null,"----246",null,0,0,0,0,0,0,0,0,{"$f":"POST_Calculations!AF252","v":0},{"$f":"POST_Calculations!AG252","v":0},null,"no"]
[null,null,"----247",null,0,0,0,0,0,0,0,0,{"$f":"PRE_Calculations!AF253","v":0},{"$f":"PRE_Calculations!AG253","v":0},null,null,null,"----247",null,0,0,0,0,0,0,0,0,{"$f":"POST_Calculations!AF253","v":0},{"$f":"POST_Calculations!AG253","v":0},null,"no"]
[null,null,"----248",null,0,0,0,0,0,0,0,0,{"$f":"PRE_Calculations!AF254","v":0},{"$f":"PRE_Calculations!AG254","v":0},null,null,null,"----248",null,0,0,0,0,0,0,0,0,{"$f":"POST_Calculations!AF254","v":0},{"$f":"POST_Calculations!AG254","v":0},null,"no"]
[null,null,"----249",null,0,0,0,0,0,0,0,0,{"$f":"PRE_Calculations!AF255","v":0},{"$f":"PRE_Calculations!AG255","v":0},null,null,null,"----249",null,0,0,0,0,0,0,0,0,{"$f":"POST_Calculations!AF255","v":0},{"$f":"POST_Calculations!AG255","v":0},null,"no"]
[null,null,"----250",null,0,0,0,0,0,0,0,0,{"$f":"PRE_Calculations!AF256","v":0},{"$f":"PRE_Calculations!AG256","v":0},null,null,null,"----250",null,0,0,0,0,0,0,0,0,{"$f":"POST_Calculations!AF256","v":0},{"$f":"POST_Calculations!AG256","v":0},null,"no"]
[null,null,"----251",null,0,0,0,0,0,0,0,0,{"$f":"PRE_Calculations!AF257","v":0},{"$f":"PRE_Calculations!AG257","v":0},null,null,null,"----251",null,0,0,0,0,0,0,0,0,{"$f":"POST_Calculations!AF257","v":0},{"$f":"POST_Calculations!AG257","v":0},null,"no"]
[null,null,"----252",null,0,0,0,0,0,0,0,0,{"$f":"PRE_Calculations!AF258","v":0},{"$f":"PRE_Calculations!AG258","v":0},null,null,null,"----252",null,0,0,0,0,0,0,0,0,{"$f":"POST_Calculations!AF258","v":0},{"$f":"POST_Calculations!AG258","v":0},null,"no"]
[null,null,"----253",null,0,0,0,0,0,0,0,0,{"$f":"PRE_Calculations!AF259","v":0},{"$f":"PRE_Calculations!AG259","v":0},null,null,null,"----253",null,0,0,0,0,0,0,0,0,{"$f":"POST_Calculations!AF259","v":0},{"$f":"POST_Calculations!AG259","v":0},null,"no"]
[null,null,"----254",null,0,0,0,0,0,0,0,0,{"$f":"PRE_Calculations!AF260","v":0},{"$f":"PRE_Calculations!AG260","v":0},null,null,null,"----254",null,0,0,0,0,0,0,0,0,{"$f":"POST_Calculations!AF260","v":0},{"$f":"POST_Calculations!AG260","v":0},null,"no"]
[null,null,"----255",null,0,0,0,0,0,0,0,0,{"$f":"PRE_Calculations!AF261","v":0},{"$f":"PRE_Calculations!AG261","v":0},null,null,null,"----255",null,0,0,0,0,0,0,0,0,{"$f":"POST_Calculations!AF261","v":0},{"$f":"POST_Calculations!AG261","v":0},null,"no"]
[null,null,"----256",null,0,0,0,0,0,0,0,0,{"$f":"PRE_Calculations!AF262","v":0},{"$f":"PRE_Calculations!AG262","v":0},null,null,null,{"$f":"C260","v":"----256"},null,0,0,0,0,0,0,0,0,{"$f":"POST_Calculations!AF262","v":0},{"$f":"POST_Calculations!AG262","v":0},null,"no"]
[null,null,"----257",null,0,0,0,0,0,0,0,0,{"$f":"PRE_Calculations!AF263","v":0},{"$f":"PRE_Calculations!AG263","v":0},null,null,null,"----257",null,0,0,0,0,0,0,0,0,{"$f":"POST_Calculations!AF263","v":0},{"$f":"POST_Calculations!AG263","v":0},null,"no"]
[null,null,"----258",null,0,0,0,0,0,0,0,0,{"$f":"PRE_Calculations!AF264","v":0},{"$f":"PRE_Calculations!AG264","v":0},null,null,null,"----258",null,0,0,0,0,0,0,0,0,{"$f":"POST_Calculations!AF264","v":0},{"$f":"POST_Calculations!AG264","v":0},null,"no"]
[null,null,"----259",null,0,0,0,0,0,0,0,0,{"$f":"PRE_Calculations!AF265","v":0},{"$f":"PRE_Calculations!AG265","v":0},null,null,null,"----259",null,0,0,0,0,0,0,0,0,{"$f":"POST_Calculations!AF265","v":0},{"$f":"POST_Calculations!AG265","v":0},null,"no"]
[null,null,"----260",null,0,0,0,0,0,0,0,0,{"$f":"PRE_Calculations!AF266","v":0},{"$f":"PRE_Calculations!AG266","v":0},null,null,null,"----260",null,0,0,0,0,0,0,0,0,{"$f":"POST_Calculations!AF266","v":0},{"$f":"POST_Calculations!AG266","v":0},null,"no"]
[null,null,"----261",null,0,0,0,0,0,0,0,0,{"$f":"PRE_Calculations!AF267","v":0},{"$f":"PRE_Calculations!AG267","v":0},null,null,null,"----261",null,0,0,0,0,0,0,0,0,{"$f":"POST_Calculations!AF267","v":0},{"$f":"POST_Calculations!AG267","v":0},null,"no"]
[null,null,"----262",null,0,0,0,0,0,0,0,0,{"$f":"PRE_Calculations!AF268","v":0},{"$f":"PRE_Calculations!AG268","v":0},null,null,null,"----262",null,0,0,0,0,0,0,0,0,{"$f":"POST_Calculations!AF268","v":0},{"$f":"POST_Calculations!AG268","v":0},null,"no"]
[null,null,"----263",null,0,0,0,0,0,0,0,0,{"$f":"PRE_Calculations!AF269","v":0},{"$f":"PRE_Calculations!AG269","v":0},null,null,null,"----263",null,0,0,0,0,0,0,0,0,{"$f":"POST_Calculations!AF269","v":0},{"$f":"POST_Calculations!AG269","v":0},null,"no"]
[null,null,"----264",null,0,0,0,0,0,0,0,0,{"$f":"PRE_Calculations!AF270","v":0},{"$f":"PRE_Calculations!AG270","v":0},null,null,null,"----264",null,0,0,0,0,0,0,0,0,{"$f":"POST_Calculations!AF270","v":0},{"$f":"POST_Calculations!AG270","v":0},null,"no"]
[null,null,"----265",null,0,0,0,0,0,0,0,0,{"$f":"PRE_Calculations!AF271","v":0},{"$f":"PRE_Calculations!AG271","v":0},null,null,null,"----265",null,0,0,0,0,0,0,0,0,{"$f":"POST_Calculations!AF271","v":0},{"$f":"POST_Calculations!AG271","v":0},null,"no"]
[null,null,"----266",null,0,0,0,0,0,0,0,0,{"$f":"PRE_Calculations!AF272","v":0},{"$f":"PRE_Calculations!AG272","v":0},null,null,null,"----266",null,0,0,0,0,0,0,0,0,{"$f":"POST_Calculations!AF272","v":0},{"$f":"POST_Calculations!AG272","v":0},null,"no"]
[null,null,"----267",null,0,0,0,0,0,0,0,0,{"$f":"PRE_Calculations!AF273","v":0},{"$f":"PRE_Calculations!AG273","v":0},null,null,null,"----267",null,0,0,0,0,0,0,0,0,{"$f":"POST_Calculations!AF273","v":0},{"$f":"POST_Calculations!AG273","v":0},null,"no"]
[null,null,"----268",null,0,0,0,0,0,0,0,0,{"$f":"PRE_Calculations!AF274","v":0},{"$f":"PRE_Calculations!AG274","v":0},null,null,null,"----268",null,0,0,0,0,0,0,0,0,{"$f":"POST_Calculations!AF274","v":0},{"$f":"POST_Calculations!AG274","v":0},null,"no"]
[null,null,"----269",null,0,0,0,0,0,0,0,0,{"$f":"PRE_Calculations!AF275","v":0},{"$f":"PRE_Calculations!AG275","v":0},null,null,null,"----269",null,0,0,0,0,0,0,0,0,{"$f":"POST_Calculations!AF275","v":0},{"$f":"POST_Calculations!AG275","v":0},null,"no"]
[null,null,"----270",null,0,0,0,0,0,0,0,0,{"$f":"PRE_Calculations!AF276","v":0},{"$f":"PRE_Calculations!AG276","v":0},null,null,null,"----270",null,0,0,0,0,0,0,0,0,{"$f":"POST_Calculations!AF276","v":0},{"$f":"POST_Calculations!AG276","v":0},null,"no"]
[null,null,"----271",null,0,0,0,0,0,0,0,0,{"$f":"PRE_Calculations!AF277","v":0},{"$f":"PRE_Calculations!AG277","v":0},null,null,null,"----271",null,0,0,0,0,0,0,0,0,{"$f":"POST_Calculations!AF277","v":0},{"$f":"POST_Calculations!AG277","v":0},null,"no"]
[null,null,"----272",null,0,0,0,0,0,0,0,0,{"$f":"PRE_Calculations!AF278","v":0},{"$f":"PRE_Calculations!AG278","v":0},null,null,null,"----272",null,0,0,0,0,0,0,0,0,{"$f":"POST_Calculations!AF278","v":0},{"$f":"POST_Calculations!AG278","v":0},null,"no"]
[null,null,"----273",null,0,0,0,0,0,0,0,0,{"$f":"PRE_Calculations!AF279","v":0},{"$f":"PRE_Calculations!AG279","v":0},null,null,null,"----273",null,0,0,0,0,0,0,0,0,{"$f":"POST_Calculations!AF279","v":0},{"$f":"POST_Calculations!AG279","v":0},null,"no"]
[null,null,"----274",null,0,0,0,0,0,0,0,0,{"$f":"PRE_Calculations!AF280","v":0},{"$f":"PRE_Calculations!AG280","v":0},null,null,null,"----274",null,0,0,0,0,0,0,0,0,{"$f":"POST_Calculations!AF280","v":0},{"$f":"POST_Calculations!AG280","v":0},null,"no"]
[null,null,"----275",null,0,0,0,0,0,0,0,0,{"$f":"PRE_Calculations!AF281","v":0},{"$f":"PRE_Calculations!AG281","v":0},null,null,null,"----275",null,0,0,0,0,0,0,0,0,{"$f":"POST_Calculations!AF281","v":0},{"$f":"POST_Calculations!AG281","v":0},null,"no"]
[null,null,"----276",null,0,0,0,0,0,0,0,0,{"$f":"PRE_Calculations!AF282","v":0},{"$f":"PRE_Calculations!AG282","v":0},null,null,null,"----276",null,0,0,0,0,0,0,0,0,{"$f":"POST_Calculations!AF282","v":0},{"$f":"POST_Calculations!AG282","v":0},null,"no"]
[null,null,"----277",null,0,0,0,0,0,0,0,0,{"$f":"PRE_Calculations!AF283","v":0},{"$f":"PRE_Calculations!AG283","v":0},null,null,null,"----277",null,0,0,0,0,0,0,0,0,{"$f":"POST_Calculations!AF283","v":0},{"$f":"POST_Calculations!AG283","v":0},null,"no"]
[null,null,"----278",null,0,0,0,0,0,0,0,0,{"$f":"PRE_Calculations!AF284","v":0},{"$f":"PRE_Calculations!AG284","v":0},null,null,null,"----278",null,0,0,0,0,0,0,0,0,{"$f":"POST_Calculations!AF284","v":0},{"$f":"POST_Calculations!AG284","v":0},null,"no"]
[null,null,"----279",null,0,0,0,0,0,0,0,0,{"$f":"PRE_Calculations!AF285","v":0},{"$f":"PRE_Calculations!AG285","v":0},null,null,null,"----279",null,0,0,0,0,0,0,0,0,{"$f":"POST_Calculations!AF285","v":0},{"$f":"POST_Calculations!AG285","v":0},null,"no"]
[null,null,"----280",null,0,0,0,0,0,0,0,0,{"$f":"PRE_Calculations!AF286","v":0},{"$f":"PRE_Calculations!AG286","v":0},null,null,null,"----280",null,0,0,0,0,0,0,0,0,{"$f":"POST_Calculations!AF286","v":0},{"$f":"POST_Calculations!AG286","v":0},null,"no"]
[null,null,"----281",null,0,0,0,0,0,0,0,0,{"$f":"PRE_Calculations!AF287","v":0},{"$f":"PRE_Calculations!AG287","v":0},null,null,null,"----281",null,0,0,0,0,0,0,0,0,{"$f":"POST_Calculations!AF287","v":0},{"$f":"POST_Calculations!AG287","v":0},null,"no"]
[null,null,"----282",null,0,0,0,0,0,0,0,0,{"$f":"PRE_Calculations!AF288","v":0},{"$f":"PRE_Calculations!AG288","v":0},null,null,null,"----282",null,0,0,0,0,0,0,0,0,{"$f":"POST_Calculations!AF288","v":0},{"$f":"POST_Calculations!AG288","v":0},null,"no"]
[null,null,"----283",null,0,0,0,0,0,0,0,0,{"$f":"PRE_Calculations!AF289","v":0},{"$f":"PRE_Calculations!AG289","v":0},null,null,null,"----283",null,0,0,0,0,0,0,0,0,{"$f":"POST_Calculations!AF289","v":0},{"$f":"POST_Calculations!AG289","v":0},null,"no"]
[null,null,"----284",null,0,0,0,0,0,0,0,0,{"$f":"PRE_Calculations!AF290","v":0},{"$f":"PRE_Calculations!AG290","v":0},null,null,null,"----284",null,0,0,0,0,0,0,0,0,{"$f":"POST_Calculations!AF290","v":0},{"$f":"POST_Calculations!AG290","v":0},null,"no"]
[null,null,"----285",null,0,0,0,0,0,0,0,0,{"$f":"PRE_Calculations!AF291","v":0},{"$f":"PRE_Calculations!AG291","v":0},null,null,null,"----285",null,0,0,0,0,0,0,0,0,{"$f":"POST_Calculations!AF291","v":0},{"$f":"POST_Calculations!AG291","v":0},null,"no"]
[null,null,"----286",null,0,0,0,0,0,0,0,0,{"$f":"PRE_Calculations!AF292","v":0},{"$f":"PRE_Calculations!AG292","v":0},null,null,null,"----286",null,0,0,0,0,0,0,0,0,{"$f":"POST_Calculations!AF292","v":0},{"$f":"POST_Calculations!AG292","v":0},null,"no"]
[null,null,"----287",null,0,0,0,0,0,0,0,0,{"$f":"PRE_Calculations!AF293","v":0},{"$f":"PRE_Calculations!AG293","v":0},null,null,null,"----287",null,0,0,0,0,0,0,0,0,{"$f":"POST_Calculations!AF293","v":0},{"$f":"POST_Calculations!AG293","v":0},null,"no"]
[null,null,"----288",null,0,0,0,0,0,0,0,0,{"$f":"PRE_Calculations!AF294","v":0},{"$f":"PRE_Calculations!AG294","v":0},null,null,null,"----288",null,0,0,0,0,0,0,0,0,{"$f":"POST_Calculations!AF294","v":0},{"$f":"POST_Calculations!AG294","v":0},null,"no"]
[null,null,"----289",null,0,0,0,0,0,0,0,0,{"$f":"PRE_Calculations!AF295","v":0},{"$f":"PRE_Calculations!AG295","v":0},null,null,null,"----289",null,0,0,0,0,0,0,0,0,{"$f":"POST_Calculations!AF295","v":0},{"$f":"POST_Calculations!AG295","v":0},null,"no"]
[null,null,"----290",null,0,0,0,0,0,0,0,0,{"$f":"PRE_Calculations!AF296","v":0},{"$f":"PRE_Calculations!AG296","v":0},null,null,null,"----290",null,0,0,0,0,0,0,0,0,{"$f":"POST_Calculations!AF296","v":0},{"$f":"POST_Calculations!AG296","v":0},null,"no"]
[null,null,"----291",null,0,0,0,0,0,0,0,0,{"$f":"PRE_Calculations!AF297","v":0},{"$f":"PRE_Calculations!AG297","v":0},null,null,null,"----291",null,0,0,0,0,0,0,0,0,{"$f":"POST_Calculations!AF297","v":0},{"$f":"POST_Calculations!AG297","v":0},null,"no"]
[null,null,"----292",null,0,0,0,0,0,0,0,0,{"$f":"PRE_Calculations!AF298","v":0},{"$f":"PRE_Calculations!AG298","v":0},null,null,null,"----292",null,0,0,0,0,0,0,0,0,{"$f":"POST_Calculations!AF298","v":0},{"$f":"POST_Calculations!AG298","v":0},null,"no"]
[null,null,"----293",null,0,0,0,0,0,0,0,0,{"$f":"PRE_Calculations!AF299","v":0},{"$f":"PRE_Calculations!AG299","v":0},null,null,null,"----293",null,0,0,0,0,0,0,0,0,{"$f":"POST_Calculations!AF299","v":0},{"$f":"POST_Calculations!AG299","v":0},null,"no"]
[null,null,"----294",null,0,0,0,0,0,0,0,0,{"$f":"PRE_Calculations!AF300","v":0},{"$f":"PRE_Calculations!AG300","v":0},null,null,null,"----294",null,0,0,0,0,0,0,0,0,{"$f":"POST_Calculations!AF300","v":0},{"$f":"POST_Calculations!AG300","v":0},null,"no"]
[null,null,"----295",null,0,0,0,0,0,0,0,0,{"$f":"PRE_Calculations!AF301","v":0},{"$f":"PRE_Calculations!AG301","v":0},null,null,null,"----295",null,0,0,0,0,0,0,0,0,{"$f":"POST_Calculations!AF301","v":0},{"$f":"POST_Calculations!AG301","v":0},null,"no"]
[null,null,"----296",null,0,0,0,0,0,0,0,0,{"$f":"PRE_Calculations!AF302","v":0},{"$f":"PRE_Calculations!AG302","v":0},null,null,null,"----296",null,0,0,0,0,0,0,0,0,{"$f":"POST_Calculations!AF302","v":0},{"$f":"POST_Calculations!AG302","v":0},null,"no"]
[null,null,"----297",null,0,0,0,0,0,0,0,0,{"$f":"PRE_Calculations!AF303","v":0},{"$f":"PRE_Calculations!AG303","v":0},null,null,null,"----297",null,0,0,0,0,0,0,0,0,{"$f":"POST_Calculations!AF303","v":0},{"$f":"POST_Calculations!AG303","v":0},null,"no"]
[null,null,"----298",null,0,0,0,0,0,0,0,0,{"$f":"PRE_Calculations!AF304","v":0},{"$f":"PRE_Calculations!AG304","v":0},null,null,null,"----298",null,0,0,0,0,0,0,0,0,{"$f":"POST_Calculations!AF304","v":0},{"$f":"POST_Calculations!AG304","v":0},null,"no"]
[null,null,"----299",null,0,0,0,0,0,0,0,0,{"$f":"PRE_Calculations!AF305","v":0},{"$f":"PRE_Calculations!AG305","v":0},null,null,null,"----299",null,0,0,0,0,0,0,0,0,{"$f":"POST_Calculations!AF305","v":0},{"$f":"POST_Calculations!AG305","v":0},null,"no"]
[null,null,"----300",null,0,0,0,0,0,0,0,0,{"$f":"PRE_Calculations!AF306","v":0},{"$f":"PRE_Calculations!AG306","v":0},null,null,null,"----300",null,0,0,0,0,0,0,0,0,{"$f":"POST_Calculations!AF306","v":0},{"$f":"POST_Calculations!AG306","v":0},null,"no"]
[null,null,"----301",null,0,0,0,0,0,0,0,0,{"$f":"PRE_Calculations!AF307","v":0},{"$f":"PRE_Calculations!AG307","v":0},null,null,null,"----301",null,0,0,0,0,0,0,0,0,{"$f":"POST_Calculations!AF307","v":0},{"$f":"POST_Calculations!AG307","v":0},null,"no"]
[null,null,"----302",null,0,0,0,0,0,0,0,0,{"$f":"PRE_Calculations!AF308","v":0},{"$f":"PRE_Calculations!AG308","v":0},null,null,null,"----302",null,0,0,0,0,0,0,0,0,{"$f":"POST_Calculations!AF308","v":0},{"$f":"POST_Calculations!AG308","v":0},null,"no"]
[null,null,"----303",null,0,0,0,0,0,0,0,0,{"$f":"PRE_Calculations!AF309","v":0},{"$f":"PRE_Calculations!AG309","v":0},null,null,null,"----303",null,0,0,0,0,0,0,0,0,{"$f":"POST_Calculations!AF309","v":0},{"$f":"POST_Calculations!AG309","v":0},null,"no"]
[null,null,"----304",null,0,0,0,0,0,0,0,0,{"$f":"PRE_Calculations!AF310","v":0},{"$f":"PRE_Calculations!AG310","v":0},null,null,null,"----304",null,0,0,0,0,0,0,0,0,{"$f":"POST_Calculations!AF310","v":0},{"$f":"POST_Calculations!AG310","v":0},null,"no"]
[null,null,"----305",null,0,0,0,0,0,0,0,0,{"$f":"PRE_Calculations!AF311","v":0},{"$f":"PRE_Calculations!AG311","v":0},null,null,null,"----305",null,0,0,0,0,0,0,0,0,{"$f":"POST_Calculations!AF311","v":0},{"$f":"POST_Calculations!AG311","v":0},null,"no"]
[null,null,"----306",null,0,0,0,0,0,0,0,0,{"$f":"PRE_Calculations!AF312","v":0},{"$f":"PRE_Calculations!AG312","v":0},null,null,null,"----306",null,0,0,0,0,0,0,0,0,{"$f":"POST_Calculations!AF312","v":0},{"$f":"POST_Calculations!AG312","v":0},null,"no"]
[null,null,"----307",null,0,0,0,0,0,0,0,0,{"$f":"PRE_Calculations!AF313","v":0},{"$f":"PRE_Calculations!AG313","v":0},null,null,null,"----307",null,0,0,0,0,0,0,0,0,{"$f":"POST_Calculations!AF313","v":0},{"$f":"POST_Calculations!AG313","v":0},null,"no"]
[null,null,"----308",null,0,0,0,0,0,0,0,0,{"$f":"PRE_Calculations!AF314","v":0},{"$f":"PRE_Calculations!AG314","v":0},null,null,null,"----308",null,0,0,0,0,0,0,0,0,{"$f":"POST_Calculations!AF314","v":0},{"$f":"POST_Calculations!AG314","v":0},null,"no"]
[null,null,"----309",null,0,0,0,0,0,0,0,0,{"$f":"PRE_Calculations!AF315","v":0},{"$f":"PRE_Calculations!AG315","v":0},null,null,null,"----309",null,0,0,0,0,0,0,0,0,{"$f":"POST_Calculations!AF315","v":0},{"$f":"POST_Calculations!AG315","v":0},null,"no"]
[null,null,"----310",null,0,0,0,0,0,0,0,0,{"$f":"PRE_Calculations!AF316","v":0},{"$f":"PRE_Calculations!AG316","v":0},null,null,null,"----310",null,0,0,0,0,0,0,0,0,{"$f":"POST_Calculations!AF316","v":0},{"$f":"POST_Calculations!AG316","v":0},null,"no"]
[null,null,"----311",null,0,0,0,0,0,0,0,0,{"$f":"PRE_Calculations!AF317","v":0},{"$f":"PRE_Calculations!AG317","v":0},null,null,null,"----311",null,0,0,0,0,0,0,0,0,{"$f":"POST_Calculations!AF317","v":0},{"$f":"POST_Calculations!AG317","v":0},null,"no"]
[null,null,"----312",null,0,0,0,0,0,0,0,0,{"$f":"PRE_Calculations!AF318","v":0},{"$f":"PRE_Calculations!AG318","v":0},null,null,null,"----312",null,0,0,0,0,0,0,0,0,{"$f":"POST_Calculations!AF318","v":0},{"$f":"POST_Calculations!AG318","v":0},null,"no"]
[null,null,"----313",null,0,0,0,0,0,0,0,0,{"$f":"PRE_Calculations!AF319","v":0},{"$f":"PRE_Calculations!AG319","v":0},null,null,null,"----313",null,0,0,0,0,0,0,0,0,{"$f":"POST_Calculations!AF319","v":0},{"$f":"POST_Calculations!AG319","v":0},null,"no"]
[null,null,"----314",null,0,0,0,0,0,0,0,0,{"$f":"PRE_Calculations!AF320","v":0},{"$f":"PRE_Calculations!AG320","v":0},null,null,null,"----314",null,0,0,0,0,0,0,0,0,{"$f":"POST_Calculations!AF320","v":0},{"$f":"POST_Calculations!AG320","v":0},null,"no"]
[null,null,"----315",null,0,0,0,0,0,0,0,0,{"$f":"PRE_Calculations!AF321","v":0},{"$f":"PRE_Calculations!AG321","v":0},null,null,null,"----315",null,0,0,0,0,0,0,0,0,{"$f":"POST_Calculations!AF321","v":0},{"$f":"POST_Calculations!AG321","v":0},null,"no"]
[null,null,"----316",null,0,0,0,0,0,0,0,0,{"$f":"PRE_Calculations!AF322","v":0},{"$f":"PRE_Calculations!AG322","v":0},null,null,null,"----316",null,0,0,0,0,0,0,0,0,{"$f":"POST_Calculations!AF322","v":0},{"$f":"POST_Calculations!AG322","v":0},null,"no"]
[null,null,"----317",null,0,0,0,0,0,0,0,0,{"$f":"PRE_Calculations!AF323","v":0},{"$f":"PRE_Calculations!AG323","v":0},null,null,null,"----317",null,0,0,0,0,0,0,0,0,{"$f":"POST_Calculations!AF323","v":0},{"$f":"POST_Calculations!AG323","v":0},null,"no"]
[null,null,"----318",null,0,0,0,0,0,0,0,0,{"$f":"PRE_Calculations!AF324","v":0},{"$f":"PRE_Calculations!AG324","v":0},null,null,null,"----318",null,0,0,0,0,0,0,0,0,{"$f":"POST_Calculations!AF324","v":0},{"$f":"POST_Calculations!AG324","v":0},null,"no"]
[null,null,"----319",null,0,0,0,0,0,0,0,0,{"$f":"PRE_Calculations!AF325","v":0},{"$f":"PRE_Calculations!AG325","v":0},null,null,null,"----319",null,0,0,0,0,0,0,0,0,{"$f":"POST_Calculations!AF325","v":0},{"$f":"POST_Calculations!AG325","v":0},null,"no"]
[null,null,"----320",null,0,0,0,0,0,0,0,0,{"$f":"PRE_Calculations!AF326","v":0},{"$f":"PRE_Calculations!AG326","v":0},null,null,null,{"$f":"C324","v":"----320"},null,0,0,0,0,0,0,0,0,{"$f":"POST_Calculations!AF326","v":0},{"$f":"POST_Calculations!AG326","v":0},null,"no"]
[null,null,"----321",null,0,0,0,0,0,0,0,0,{"$f":"PRE_Calculations!AF327","v":0},{"$f":"PRE_Calculations!AG327","v":0},null,null,null,"----321",null,0,0,0,0,0,0,0,0,{"$f":"POST_Calculations!AF327","v":0},{"$f":"POST_Calculations!AG327","v":0},null,"no"]
[null,null,"----322",null,0,0,0,0,0,0,0,0,{"$f":"PRE_Calculations!AF328","v":0},{"$f":"PRE_Calculations!AG328","v":0},null,null,null,"----322",null,0,0,0,0,0,0,0,0,{"$f":"POST_Calculations!AF328","v":0},{"$f":"POST_Calculations!AG328","v":0},null,"no"]
[null,null,"----323",null,0,0,0,0,0,0,0,0,{"$f":"PRE_Calculations!AF329","v":0},{"$f":"PRE_Calculations!AG329","v":0},null,null,null,"----323",null,0,0,0,0,0,0,0,0,{"$f":"POST_Calculations!AF329","v":0},{"$f":"POST_Calculations!AG329","v":0},null,"no"]
[null,null,"----324",null,0,0,0,0,0,0,0,0,{"$f":"PRE_Calculations!AF330","v":0},{"$f":"PRE_Calculations!AG330","v":0},null,null,null,"----324",null,0,0,0,0,0,0,0,0,{"$f":"POST_Calculations!AF330","v":0},{"$f":"POST_Calculations!AG330","v":0},null,"no"]
[null,null,"----325",null,0,0,0,0,0,0,0,0,{"$f":"PRE_Calculations!AF331","v":0},{"$f":"PRE_Calculations!AG331","v":0},null,null,null,"----325",null,0,0,0,0,0,0,0,0,{"$f":"POST_Calculations!AF331","v":0},{"$f":"POST_Calculations!AG331","v":0},null,"no"]
[null,null,"----326",null,0,0,0,0,0,0,0,0,{"$f":"PRE_Calculations!AF332","v":0},{"$f":"PRE_Calculations!AG332","v":0},null,null,null,"----326",null,0,0,0,0,0,0,0,0,{"$f":"POST_Calculations!AF332","v":0},{"$f":"POST_Calculations!AG332","v":0},null,"no"]
[null,null,"----327",null,0,0,0,0,0,0,0,0,{"$f":"PRE_Calculations!AF333","v":0},{"$f":"PRE_Calculations!AG333","v":0},null,null,null,"----327",null,0,0,0,0,0,0,0,0,{"$f":"POST_Calculations!AF333","v":0},{"$f":"POST_Calculations!AG333","v":0},null,"no"]
[null,null,"----328",null,0,0,0,0,0,0,0,0,{"$f":"PRE_Calculations!AF334","v":0},{"$f":"PRE_Calculations!AG334","v":0},null,null,null,"----328",null,0,0,0,0,0,0,0,0,{"$f":"POST_Calculations!AF334","v":0},{"$f":"POST_Calculations!AG334","v":0},null,"no"]
[null,null,"----329",null,0,0,0,0,0,0,0,0,{"$f":"PRE_Calculations!AF335","v":0},{"$f":"PRE_Calculations!AG335","v":0},null,null,null,"----329",null,0,0,0,0,0,0,0,0,{"$f":"POST_Calculations!AF335","v":0},{"$f":"POST_Calculations!AG335","v":0},null,"no"]
[null,null,"----330",null,0,0,0,0,0,0,0,0,{"$f":"PRE_Calculations!AF336","v":0},{"$f":"PRE_Calculations!AG336","v":0},null,null,null,"----330",null,0,0,0,0,0,0,0,0,{"$f":"POST_Calculations!AF336","v":0},{"$f":"POST_Calculations!AG336","v":0},null,"no"]
[null,null,"----331",null,0,0,0,0,0,0,0,0,{"$f":"PRE_Calculations!AF337","v":0},{"$f":"PRE_Calculations!AG337","v":0},null,null,null,"----331",null,0,0,0,0,0,0,0,0,{"$f":"POST_Calculations!AF337","v":0},{"$f":"POST_Calculations!AG337","v":0},null,"no"]
[null,null,"----332",null,0,0,0,0,0,0,0,0,{"$f":"PRE_Calculations!AF338","v":0},{"$f":"PRE_Calculations!AG338","v":0},null,null,null,"----332",null,0,0,0,0,0,0,0,0,{"$f":"POST_Calculations!AF338","v":0},{"$f":"POST_Calculations!AG338","v":0},null,"no"]
[null,null,"----333",null,0,0,0,0,0,0,0,0,{"$f":"PRE_Calculations!AF339","v":0},{"$f":"PRE_Calculations!AG339","v":0},null,null,null,"----333",null,0,0,0,0,0,0,0,0,{"$f":"POST_Calculations!AF339","v":0},{"$f":"POST_Calculations!AG339","v":0},null,"no"]
[null,null,"----334",null,0,0,0,0,0,0,0,0,{"$f":"PRE_Calculations!AF340","v":0},{"$f":"PRE_Calculations!AG340","v":0},null,null,null,"----334",null,0,0,0,0,0,0,0,0,{"$f":"POST_Calculations!AF340","v":0},{"$f":"POST_Calculations!AG340","v":0},null,"no"]
[null,null,"----335",null,0,0,0,0,0,0,0,0,{"$f":"PRE_Calculations!AF341","v":0},{"$f":"PRE_Calculations!AG341","v":0},null,null,null,"----335",null,0,0,0,0,0,0,0,0,{"$f":"POST_Calculations!AF341","v":0},{"$f":"POST_Calculations!AG341","v":0},null,"no"]
[null,null,"----336",null,0,0,0,0,0,0,0,0,{"$f":"PRE_Calculations!AF342","v":0},{"$f":"PRE_Calculations!AG342","v":0},null,null,null,"----336",null,0,0,0,0,0,0,0,0,{"$f":"POST_Calculations!AF342","v":0},{"$f":"POST_Calculations!AG342","v":0},null,"no"]
[null,null,"----337",null,0,0,0,0,0,0,0,0,{"$f":"PRE_Calculations!AF343","v":0},{"$f":"PRE_Calculations!AG343","v":0},null,null,null,"----337",null,0,0,0,0,0,0,0,0,{"$f":"POST_Calculations!AF343","v":0},{"$f":"POST_Calculations!AG343","v":0},null,"no"]
[null,null,"----338",null,0,0,0,0,0,0,0,0,{"$f":"PRE_Calculations!AF344","v":0},{"$f":"PRE_Calculations!AG344","v":0},null,null,null,"----338",null,0,0,0,0,0,0,0,0,{"$f":"POST_Calculations!AF344","v":0},{"$f":"POST_Calculations!AG344","v":0},null,"no"]
[null,null,"----339",null,0,0,0,0,0,0,0,0,{"$f":"PRE_Calculations!AF345","v":0},{"$f":"PRE_Calculations!AG345","v":0},null,null,null,"----339",null,0,0,0,0,0,0,0,0,{"$f":"POST_Calculations!AF345","v":0},{"$f":"POST_Calculations!AG345","v":0},null,"no"]
[null,null,"----340",null,0,0,0,0,0,0,0,0,{"$f":"PRE_Calculations!AF346","v":0},{"$f":"PRE_Calculations!AG346","v":0},null,null,null,"----340",null,0,0,0,0,0,0,0,0,{"$f":"POST_Calculations!AF346","v":0},{"$f":"POST_Calculations!AG346","v":0},null,"no"]
[null,null,"----341",null,0,0,0,0,0,0,0,0,{"$f":"PRE_Calculations!AF347","v":0},{"$f":"PRE_Calculations!AG347","v":0},null,null,null,"----341",null,0,0,0,0,0,0,0,0,{"$f":"POST_Calculations!AF347","v":0},{"$f":"POST_Calculations!AG347","v":0},null,"no"]
[null,null,"----342",null,0,0,0,0,0,0,0,0,{"$f":"PRE_Calculations!AF348","v":0},{"$f":"PRE_Calculations!AG348","v":0},null,null,null,"----342",null,0,0,0,0,0,0,0,0,{"$f":"POST_Calculations!AF348","v":0},{"$f":"POST_Calculations!AG348","v":0},null,"no"]
[null,null,"----343",null,0,0,0,0,0,0,0,0,{"$f":"PRE_Calculations!AF349","v":0},{"$f":"PRE_Calculations!AG349","v":0},null,null,null,"----343",null,0,0,0,0,0,0,0,0,{"$f":"POST_Calculations!AF349","v":0},{"$f":"POST_Calculations!AG349","v":0},null,"no"]
[null,null,"----344",null,0,0,0,0,0,0,0,0,{"$f":"PRE_Calculations!AF350","v":0},{"$f":"PRE_Calculations!AG350","v":0},null,null,null,"----344",null,0,0,0,0,0,0,0,0,{"$f":"POST_Calculations!AF350","v":0},{"$f":"POST_Calculations!AG350","v":0},null,"no"]
[null,null,"----345",null,0,0,0,0,0,0,0,0,{"$f":"PRE_Calculations!AF351","v":0},{"$f":"PRE_Calculations!AG351","v":0},null,null,null,"----345",null,0,0,0,0,0,0,0,0,{"$f":"POST_Calculations!AF351","v":0},{"$f":"POST_Calculations!AG351","v":0},null,"no"]
[null,null,"----346",null,0,0,0,0,0,0,0,0,{"$f":"PRE_Calculations!AF352","v":0},{"$f":"PRE_Calculations!AG352","v":0},null,null,null,"----346",null,0,0,0,0,0,0,0,0,{"$f":"POST_Calculations!AF352","v":0},{"$f":"POST_Calculations!AG352","v":0},null,"no"]
[null,null,"----347",null,0,0,0,0,0,0,0,0,{"$f":"PRE_Calculations!AF353","v":0},{"$f":"PRE_Calculations!AG353","v":0},null,null,null,"----347",null,0,0,0,0,0,0,0,0,{"$f":"POST_Calculations!AF353","v":0},{"$f":"POST_Calculations!AG353","v":0},null,"no"]
[null,null,"----348",null,0,0,0,0,0,0,0,0,{"$f":"PRE_Calculations!AF354","v":0},{"$f":"PRE_Calculations!AG354","v":0},null,null,null,"----348",null,0,0,0,0,0,0,0,0,{"$f":"POST_Calculations!AF354","v":0},{"$f":"POST_Calculations!AG354","v":0},null,"no"]
[null,null,"----349",null,0,0,0,0,0,0,0,0,{"$f":"PRE_Calculations!AF355","v":0},{"$f":"PRE_Calculations!AG355","v":0},null,null,null,"----349",null,0,0,0,0,0,0,0,0,{"$f":"POST_Calculations!AF355","v":0},{"$f":"POST_Calculations!AG355","v":0},null,"no"]
[null,null,"----350",null,0,0,0,0,0,0,0,0,{"$f":"PRE_Calculations!AF356","v":0},{"$f":"PRE_Calculations!AG356","v":0},null,null,null,"----350",null,0,0,0,0,0,0,0,0,{"$f":"POST_Calculations!AF356","v":0},{"$f":"POST_Calculations!AG356","v":0},null,"no"]
[null,null,"----351",null,0,0,0,0,0,0,0,0,{"$f":"PRE_Calculations!AF357","v":0},{"$f":"PRE_Calculations!AG357","v":0},null,null,null,"----351",null,0,0,0,0,0,0,0,0,{"$f":"POST_Calculations!AF357","v":0},{"$f":"POST_Calculations!AG357","v":0},null,"no"]
[null,null,"----352",null,0,0,0,0,0,0,0,0,{"$f":"PRE_Calculations!AF358","v":0},{"$f":"PRE_Calculations!AG358","v":0},null,null,null,"----352",null,0,0,0,0,0,0,0,0,{"$f":"POST_Calculations!AF358","v":0},{"$f":"POST_Calculations!AG358","v":0},null,"no"]
[null,null,"----353",null,0,0,0,0,0,0,0,0,{"$f":"PRE_Calculations!AF359","v":0},{"$f":"PRE_Calculations!AG359","v":0},null,null,null,"----353",null,0,0,0,0,0,0,0,0,{"$f":"POST_Calculations!AF359","v":0},{"$f":"POST_Calculations!AG359","v":0},null,"no"]
[null,null,"----354",null,0,0,0,0,0,0,0,0,{"$f":"PRE_Calculations!AF360","v":0},{"$f":"PRE_Calculations!AG360","v":0},null,null,null,"----354",null,0,0,0,0,0,0,0,0,{"$f":"POST_Calculations!AF360","v":0},{"$f":"POST_Calculations!AG360","v":0},null,"no"]
[null,null,"----355",null,0,0,0,0,0,0,0,0,{"$f":"PRE_Calculations!AF361","v":0},{"$f":"PRE_Calculations!AG361","v":0},null,null,null,"----355",null,0,0,0,0,0,0,0,0,{"$f":"POST_Calculations!AF361","v":0},{"$f":"POST_Calculations!AG361","v":0},null,"no"]
[null,null,"----356",null,0,0,0,0,0,0,0,0,{"$f":"PRE_Calculations!AF362","v":0},{"$f":"PRE_Calculations!AG362","v":0},null,null,null,"----356",null,0,0,0,0,0,0,0,0,{"$f":"POST_Calculations!AF362","v":0},{"$f":"POST_Calculations!AG362","v":0},null,"no"]
[null,null,"----357",null,0,0,0,0,0,0,0,0,{"$f":"PRE_Calculations!AF363","v":0},{"$f":"PRE_Calculations!AG363","v":0},null,null,null,"----357",null,0,0,0,0,0,0,0,0,{"$f":"POST_Calculations!AF363","v":0},{"$f":"POST_Calculations!AG363","v":0},null,"no"]
[null,null,"----358",null,0,0,0,0,0,0,0,0,{"$f":"PRE_Calculations!AF364","v":0},{"$f":"PRE_Calculations!AG364","v":0},null,null,null,"----358",null,0,0,0,0,0,0,0,0,{"$f":"POST_Calculations!AF364","v":0},{"$f":"POST_Calculations!AG364","v":0},null,"no"]
[null,null,"----359",null,0,0,0,0,0,0,0,0,{"$f":"PRE_Calculations!AF365","v":0},{"$f":"PRE_Calculations!AG365","v":0},null,null,null,"----359",null,0,0,0,0,0,0,0,0,{"$f":"POST_Calculations!AF365","v":0},{"$f":"POST_Calculations!AG365","v":0},null,"no"]
[null,null,"----360",null,0,0,0,0,0,0,0,0,{"$f":"PRE_Calculations!AF366","v":0},{"$f":"PRE_Calculations!AG366","v":0},null,null,null,"----360",null,0,0,0,0,0,0,0,0,{"$f":"POST_Calculations!AF366","v":0},{"$f":"POST_Calculations!AG366","v":0},null,"no"]
[null,null,"----361",null,0,0,0,0,0,0,0,0,{"$f":"PRE_Calculations!AF367","v":0},{"$f":"PRE_Calculations!AG367","v":0},null,null,null,"----361",null,0,0,0,0,0,0,0,0,{"$f":"POST_Calculations!AF367","v":0},{"$f":"POST_Calculations!AG367","v":0},null,"no"]
[null,null,"----362",null,0,0,0,0,0,0,0,0,{"$f":"PRE_Calculations!AF368","v":0},{"$f":"PRE_Calculations!AG368","v":0},null,null,null,"----362",null,0,0,0,0,0,0,0,0,{"$f":"POST_Calculations!AF368","v":0},{"$f":"POST_Calculations!AG368","v":0},null,"no"]
[null,null,"----363",null,0,0,0,0,0,0,0,0,{"$f":"PRE_Calculations!AF369","v":0},{"$f":"PRE_Calculations!AG369","v":0},null,null,null,"----363",null,0,0,0,0,0,0,0,0,{"$f":"POST_Calculations!AF369","v":0},{"$f":"POST_Calculations!AG369","v":0},null,"no"]
[null,null,"----364",null,0,0,0,0,0,0,0,0,{"$f":"PRE_Calculations!AF370","v":0},{"$f":"PRE_Calculations!AG370","v":0},null,null,null,"----364",null,0,0,0,0,0,0,0,0,{"$f":"POST_Calculations!AF370","v":0},{"$f":"POST_Calculations!AG370","v":0},null,"no"]
[null,null,"----365",null,0,0,0,0,0,0,0,0,{"$f":"PRE_Calculations!AF371","v":0},{"$f":"PRE_Calculations!AG371","v":0},null,null,null,"----365",null,0,0,0,0,0,0,0,0,{"$f":"POST_Calculations!AF371","v":0},{"$f":"POST_Calculations!AG371","v":0},null,"no"]
[null,null,"----366",null,0,0,0,0,0,0,0,0,{"$f":"PRE_Calculations!AF372","v":0},{"$f":"PRE_Calculations!AG372","v":0},null,null,null,"----366",null,0,0,0,0,0,0,0,0,{"$f":"POST_Calculations!AF372","v":0},{"$f":"POST_Calculations!AG372","v":0},null,"no"]
[null,null,"----367",null,0,0,0,0,0,0,0,0,{"$f":"PRE_Calculations!AF373","v":0},{"$f":"PRE_Calculations!AG373","v":0},null,null,null,"----367",null,0,0,0,0,0,0,0,0,{"$f":"POST_Calculations!AF373","v":0},{"$f":"POST_Calculations!AG373","v":0},null,"no"]
[null,null,"----368",null,0,0,0,0,0,0,0,0,{"$f":"PRE_Calculations!AF374","v":0},{"$f":"PRE_Calculations!AG374","v":0},null,null,null,"----368",null,0,0,0,0,0,0,0,0,{"$f":"POST_Calculations!AF374","v":0},{"$f":"POST_Calculations!AG374","v":0},null,"no"]
[null,null,"----369",null,0,0,0,0,0,0,0,0,{"$f":"PRE_Calculations!AF375","v":0},{"$f":"PRE_Calculations!AG375","v":0},null,null,null,"----369",null,0,0,0,0,0,0,0,0,{"$f":"POST_Calculations!AF375","v":0},{"$f":"POST_Calculations!AG375","v":0},null,"no"]
[null,null,"----370",null,0,0,0,0,0,0,0,0,{"$f":"PRE_Calculations!AF376","v":0},{"$f":"PRE_Calculations!AG376","v":0},null,null,null,"----370",null,0,0,0,0,0,0,0,0,{"$f":"POST_Calculations!AF376","v":0},{"$f":"POST_Calculations!AG376","v":0},null,"no"]
[null,null,"----371",null,0,0,0,0,0,0,0,0,{"$f":"PRE_Calculations!AF377","v":0},{"$f":"PRE_Calculations!AG377","v":0},null,null,null,"----371",null,0,0,0,0,0,0,0,0,{"$f":"POST_Calculations!AF377","v":0},{"$f":"POST_Calculations!AG377","v":0},null,"no"]
[null,null,"----372",null,0,0,0,0,0,0,0,0,{"$f":"PRE_Calculations!AF378","v":0},{"$f":"PRE_Calculations!AG378","v":0},null,null,null,"----372",null,0,0,0,0,0,0,0,0,{"$f":"POST_Calculations!AF378","v":0},{"$f":"POST_Calculations!AG378","v":0},null,"no"]
[null,null,"----373",null,0,0,0,0,0,0,0,0,{"$f":"PRE_Calculations!AF379","v":0},{"$f":"PRE_Calculations!AG379","v":0},null,null,null,"----373",null,0,0,0,0,0,0,0,0,{"$f":"POST_Calculations!AF379","v":0},{"$f":"POST_Calculations!AG379","v":0},null,"no"]
[null,null,"----374",null,0,0,0,0,0,0,0,0,{"$f":"PRE_Calculations!AF380","v":0},{"$f":"PRE_Calculations!AG380","v":0},null,null,null,"----374",null,0,0,0,0,0,0,0,0,{"$f":"POST_Calculations!AF380","v":0},{"$f":"POST_Calculations!AG380","v":0},null,"no"]
[null,null,"----375",null,0,0,0,0,0,0,0,0,{"$f":"PRE_Calculations!AF381","v":0},{"$f":"PRE_Calculations!AG381","v":0},null,null,null,"----375",null,0,0,0,0,0,0,0,0,{"$f":"POST_Calculations!AF381","v":0},{"$f":"POST_Calculations!AG381","v":0},null,"no"]
[null,null,"----376",null,0,0,0,0,0,0,0,0,{"$f":"PRE_Calculations!AF382","v":0},{"$f":"PRE_Calculations!AG382","v":0},null,null,null,"----376",null,0,0,0,0,0,0,0,0,{"$f":"POST_Calculations!AF382","v":0},{"$f":"POST_Calculations!AG382","v":0},null,"no"]
[null,null,"----377",null,0,0,0,0,0,0,0,0,{"$f":"PRE_Calculations!AF383","v":0},{"$f":"PRE_Calculations!AG383","v":0},null,null,null,"----377",null,0,0,0,0,0,0,0,0,{"$f":"POST_Calculations!AF383","v":0},{"$f":"POST_Calculations!AG383","v":0},null,"no"]
[null,null,"----378",null,0,0,0,0,0,0,0,0,{"$f":"PRE_Calculations!AF384","v":0},{"$f":"PRE_Calculations!AG384","v":0},null,null,null,"----378",null,0,0,0,0,0,0,0,0,{"$f":"POST_Calculations!AF384","v":0},{"$f":"POST_Calculations!AG384","v":0},null,"no"]
[null,null,"----379",null,0,0,0,0,0,0,0,0,{"$f":"PRE_Calculations!AF385","v":0},{"$f":"PRE_Calculations!AG385","v":0},null,null,null,"----379",null,0,0,0,0,0,0,0,0,{"$f":"POST_Calculations!AF385","v":0},{"$f":"POST_Calculations!AG385","v":0},null,"no"]
[null,null,"----380",null,0,0,0,0,0,0,0,0,{"$f":"PRE_Calculations!AF386","v":0},{"$f":"PRE_Calculations!AG386","v":0},null,null,null,"----380",null,0,0,0,0,0,0,0,0,{"$f":"POST_Calculations!AF386","v":0},{"$f":"POST_Calculations!AG386","v":0},null,"no"]
[null,null,"----381",null,0,0,0,0,0,0,0,0,{"$f":"PRE_Calculations!AF387","v":0},{"$f":"PRE_Calculations!AG387","v":0},null,null,null,"----381",null,0,0,0,0,0,0,0,0,{"$f":"POST_Calculations!AF387","v":0},{"$f":"POST_Calculations!AG387","v":0},null,"no"]
[null,null,"----382",null,0,0,0,0,0,0,0,0,{"$f":"PRE_Calculations!AF388","v":0},{"$f":"PRE_Calculations!AG388","v":0},null,null,null,"----382",null,0,0,0,0,0,0,0,0,{"$f":"POST_Calculations!AF388","v":0},{"$f":"POST_Calculations!AG388","v":0},null,"no"]
[null,null,"----383",null,0,0,0,0,0,0,0,0,{"$f":"PRE_Calculations!AF389","v":0},{"$f":"PRE_Calculations!AG389","v":0},null,null,null,"----383",null,0,0,0,0,0,0,0,0,{"$f":"POST_Calculations!AF389","v":0},{"$f":"POST_Calculations!AG389","v":0},null,"no"]
[null,null,"----384",null,0,0,0,0,0,0,0,0,{"$f":"PRE_Calculations!AF390","v":0},{"$f":"PRE_Calculations!AG390","v":0},null,null,null,{"$f":"C388","v":"----384"},null,0,0,0,0,0,0,0,0,{"$f":"POST_Calculations!AF390","v":0},{"$f":"POST_Calculations!AG390","v":0},null,"no"]
[null,null,"----385",null,0,0,0,0,0,0,0,0,{"$f":"PRE_Calculations!AF391","v":0},{"$f":"PRE_Calculations!AG391","v":0},null,null,null,"----385",null,0,0,0,0,0,0,0,0,{"$f":"POST_Calculations!AF391","v":0},{"$f":"POST_Calculations!AG391","v":0},null,"no"]
[null,null,"----386",null,0,0,0,0,0,0,0,0,{"$f":"PRE_Calculations!AF392","v":0},{"$f":"PRE_Calculations!AG392","v":0},null,null,null,"----386",null,0,0,0,0,0,0,0,0,{"$f":"POST_Calculations!AF392","v":0},{"$f":"POST_Calculations!AG392","v":0},null,"no"]
[null,null,"----387",null,0,0,0,0,0,0,0,0,{"$f":"PRE_Calculations!AF393","v":0},{"$f":"PRE_Calculations!AG393","v":0},null,null,null,"----387",null,0,0,0,0,0,0,0,0,{"$f":"POST_Calculations!AF393","v":0},{"$f":"POST_Calculations!AG393","v":0},null,"no"]
[null,null,"----388",null,0,0,0,0,0,0,0,0,{"$f":"PRE_Calculations!AF394","v":0},{"$f":"PRE_Calculations!AG394","v":0},null,null,null,"----388",null,0,0,0,0,0,0,0,0,{"$f":"POST_Calculations!AF394","v":0},{"$f":"POST_Calculations!AG394","v":0},null,"no"]
[null,null,"----389",null,0,0,0,0,0,0,0,0,{"$f":"PRE_Calculations!AF395","v":0},{"$f":"PRE_Calculations!AG395","v":0},null,null,null,"----389",null,0,0,0,0,0,0,0,0,{"$f":"POST_Calculations!AF395","v":0},{"$f":"POST_Calculations!AG395","v":0},null,"no"]
[null,null,"----390",null,0,0,0,0,0,0,0,0,{"$f":"PRE_Calculations!AF396","v":0},{"$f":"PRE_Calculations!AG396","v":0},null,null,null,"----390",null,0,0,0,0,0,0,0,0,{"$f":"POST_Calculations!AF396","v":0},{"$f":"POST_Calculations!AG396","v":0},null,"no"]
[null,null,"----391",null,0,0,0,0,0,0,0,0,{"$f":"PRE_Calculations!AF397","v":0},{"$f":"PRE_Calculations!AG397","v":0},null,null,null,"----391",null,0,0,0,0,0,0,0,0,{"$f":"POST_Calculations!AF397","v":0},{"$f":"POST_Calculations!AG397","v":0},null,"no"]
[null,null,"----392",null,0,0,0,0,0,0,0,0,{"$f":"PRE_Calculations!AF398","v":0},{"$f":"PRE_Calculations!AG398","v":0},null,null,null,"----392",null,0,0,0,0,0,0,0,0,{"$f":"POST_Calculations!AF398","v":0},{"$f":"POST_Calculations!AG398","v":0},null,"no"]
[null,null,"----393",null,0,0,0,0,0,0,0,0,{"$f":"PRE_Calculations!AF399","v":0},{"$f":"PRE_Calculations!AG399","v":0},null,null,null,"----393",null,0,0,0,0,0,0,0,0,{"$f":"POST_Calculations!AF399","v":0},{"$f":"POST_Calculations!AG399","v":0},null,"no"]
[null,null,"----394",null,0,0,0,0,0,0,0,0,{"$f":"PRE_Calculations!AF400","v":0},{"$f":"PRE_Calculations!AG400","v":0},null,null,null,"----394",null,0,0,0,0,0,0,0,0,{"$f":"POST_Calculations!AF400","v":0},{"$f":"POST_Calculations!AG400","v":0},null,"no"]
[null,null,"----395",null,0,0,0,0,0,0,0,0,{"$f":"PRE_Calculations!AF401","v":0},{"$f":"PRE_Calculations!AG401","v":0},null,null,null,"----395",null,0,0,0,0,0,0,0,0,{"$f":"POST_Calculations!AF401","v":0},{"$f":"POST_Calculations!AG401","v":0},null,"no"]
[null,null,"----396",null,0,0,0,0,0,0,0,0,{"$f":"PRE_Calculations!AF402","v":0},{"$f":"PRE_Calculations!AG402","v":0},null,null,null,"----396",null,0,0,0,0,0,0,0,0,{"$f":"POST_Calculations!AF402","v":0},{"$f":"POST_Calculations!AG402","v":0},null,"no"]
[null,null,"----397",null,0,0,0,0,0,0,0,0,{"$f":"PRE_Calculations!AF403","v":0},{"$f":"PRE_Calculations!AG403","v":0},null,null,null,"----397",null,0,0,0,0,0,0,0,0,{"$f":"POST_Calculations!AF403","v":0},{"$f":"POST_Calculations!AG403","v":0},null,"no"]
[null,null,"----398",null,0,0,0,0,0,0,0,0,{"$f":"PRE_Calculations!AF404","v":0},{"$f":"PRE_Calculations!AG404","v":0},null,null,null,"----398",null,0,0,0,0,0,0,0,0,{"$f":"POST_Calculations!AF404","v":0},{"$f":"POST_Calculations!AG404","v":0},null,"no"]
[null,null,"----399",null,0,0,0,0,0,0,0,0,{"$f":"PRE_Calculations!AF405","v":0},{"$f":"PRE_Calculations!AG405","v":0},null,null,null,"----399",null,0,0,0,0,0,0,0,0,{"$f":"POST_Calculations!AF405","v":0},{"$f":"POST_Calculations!AG405","v":0},null,"no"]
[null,null,"----400",null,0,0,0,0,0,0,0,0,{"$f":"PRE_Calculations!AF406","v":0},{"$f":"PRE_Calculations!AG406","v":0},null,null,null,"----400",null,0,0,0,0,0,0,0,0,{"$f":"POST_Calculations!AF406","v":0},{"$f":"POST_Calculations!AG406","v":0},null,"no"]
[null,null,"----401",null,0,0,0,0,0,0,0,0,{"$f":"PRE_Calculations!AF407","v":0},{"$f":"PRE_Calculations!AG407","v":0},null,null,null,"----401",null,0,0,0,0,0,0,0,0,{"$f":"POST_Calculations!AF407","v":0},{"$f":"POST_Calculations!AG407","v":0},null,"no"]
[null,null,"----402",null,0,0,0,0,0,0,0,0,{"$f":"PRE_Calculations!AF408","v":0},{"$f":"PRE_Calculations!AG408","v":0},null,null,null,"----402",null,0,0,0,0,0,0,0,0,{"$f":"POST_Calculations!AF408","v":0},{"$f":"POST_Calculations!AG408","v":0},null,"no"]
[null,null,"----403",null,0,0,0,0,0,0,0,0,{"$f":"PRE_Calculations!AF409","v":0},{"$f":"PRE_Calculations!AG409","v":0},null,null,null,"----403",null,0,0,0,0,0,0,0,0,{"$f":"POST_Calculations!AF409","v":0},{"$f":"POST_Calculations!AG409","v":0},null,"no"]
[null,null,"----404",null,0,0,0,0,0,0,0,0,{"$f":"PRE_Calculations!AF410","v":0},{"$f":"PRE_Calculations!AG410","v":0},null,null,null,"----404",null,0,0,0,0,0,0,0,0,{"$f":"POST_Calculations!AF410","v":0},{"$f":"POST_Calculations!AG410","v":0},null,"no"]
[null,null,"----405",null,0,0,0,0,0,0,0,0,{"$f":"PRE_Calculations!AF411","v":0},{"$f":"PRE_Calculations!AG411","v":0},null,null,null,"----405",null,0,0,0,0,0,0,0,0,{"$f":"POST_Calculations!AF411","v":0},{"$f":"POST_Calculations!AG411","v":0},null,"no"]
[null,null,"----406",null,0,0,0,0,0,0,0,0,{"$f":"PRE_Calculations!AF412","v":0},{"$f":"PRE_Calculations!AG412","v":0},null,null,null,"----406",null,0,0,0,0,0,0,0,0,{"$f":"POST_Calculations!AF412","v":0},{"$f":"POST_Calculations!AG412","v":0},null,"no"]
[null,null,"----407",null,0,0,0,0,0,0,0,0,{"$f":"PRE_Calculations!AF413","v":0},{"$f":"PRE_Calculations!AG413","v":0},null,null,null,"----407",null,0,0,0,0,0,0,0,0,{"$f":"POST_Calculations!AF413","v":0},{"$f":"POST_Calculations!AG413","v":0},null,"no"]
[null,null,"----408",null,0,0,0,0,0,0,0,0,{"$f":"PRE_Calculations!AF414","v":0},{"$f":"PRE_Calculations!AG414","v":0},null,null,null,"----408",null,0,0,0,0,0,0,0,0,{"$f":"POST_Calculations!AF414","v":0},{"$f":"POST_Calculations!AG414","v":0},null,"no"]
[null,null,"----409",null,0,0,0,0,0,0,0,0,{"$f":"PRE_Calculations!AF415","v":0},{"$f":"PRE_Calculations!AG415","v":0},null,null,null,"----409",null,0,0,0,0,0,0,0,0,{"$f":"POST_Calculations!AF415","v":0},{"$f":"POST_Calculations!AG415","v":0},null,"no"]
[null,null,"----410",null,0,0,0,0,0,0,0,0,{"$f":"PRE_Calculations!AF416","v":0},{"$f":"PRE_Calculations!AG416","v":0},null,null,null,"----410",null,0,0,0,0,0,0,0,0,{"$f":"POST_Calculations!AF416","v":0},{"$f":"POST_Calculations!AG416","v":0},null,"no"]
[null,null,"----411",null,0,0,0,0,0,0,0,0,{"$f":"PRE_Calculations!AF417","v":0},{"$f":"PRE_Calculations!AG417","v":0},null,null,null,"----411",null,0,0,0,0,0,0,0,0,{"$f":"POST_Calculations!AF417","v":0},{"$f":"POST_Calculations!AG417","v":0},null,"no"]
[null,null,"----412",null,0,0,0,0,0,0,0,0,{"$f":"PRE_Calculations!AF418","v":0},{"$f":"PRE_Calculations!AG418","v":0},null,null,null,"----412",null,0,0,0,0,0,0,0,0,{"$f":"POST_Calculations!AF418","v":0},{"$f":"POST_Calculations!AG418","v":0},null,"no"]
[null,null,"----413",null,0,0,0,0,0,0,0,0,{"$f":"PRE_Calculations!AF419","v":0},{"$f":"PRE_Calculations!AG419","v":0},null,null,null,"----413",null,0,0,0,0,0,0,0,0,{"$f":"POST_Calculations!AF419","v":0},{"$f":"POST_Calculations!AG419","v":0},null,"no"]
[null,null,"----414",null,0,0,0,0,0,0,0,0,{"$f":"PRE_Calculations!AF420","v":0},{"$f":"PRE_Calculations!AG420","v":0},null,null,null,"----414",null,0,0,0,0,0,0,0,0,{"$f":"POST_Calculations!AF420","v":0},{"$f":"POST_Calculations!AG420","v":0},null,"no"]
[null,null,"----415",null,0,0,0,0,0,0,0,0,{"$f":"PRE_Calculations!AF421","v":0},{"$f":"PRE_Calculations!AG421","v":0},null,null,null,"----415",null,0,0,0,0,0,0,0,0,{"$f":"POST_Calculations!AF421","v":0},{"$f":"POST_Calculations!AG421","v":0},null,"no"]
[null,null,"----416",null,0,0,0,0,0,0,0,0,{"$f":"PRE_Calculations!AF422","v":0},{"$f":"PRE_Calculations!AG422","v":0},null,null,null,"----416",null,0,0,0,0,0,0,0,0,{"$f":"POST_Calculations!AF422","v":0},{"$f":"POST_Calculations!AG422","v":0},null,"no"]
[null,null,"----417",null,0,0,0,0,0,0,0,0,{"$f":"PRE_Calculations!AF423","v":0},{"$f":"PRE_Calculations!AG423","v":0},null,null,null,"----417",null,0,0,0,0,0,0,0,0,{"$f":"POST_Calculations!AF423","v":0},{"$f":"POST_Calculations!AG423","v":0},null,"no"]
[null,null,"----418",null,0,0,0,0,0,0,0,0,{"$f":"PRE_Calculations!AF424","v":0},{"$f":"PRE_Calculations!AG424","v":0},null,null,null,"----418",null,0,0,0,0,0,0,0,0,{"$f":"POST_Calculations!AF424","v":0},{"$f":"POST_Calculations!AG424","v":0},null,"no"]
[null,null,"----419",null,0,0,0,0,0,0,0,0,{"$f":"PRE_Calculations!AF425","v":0},{"$f":"PRE_Calculations!AG425","v":0},null,null,null,"----419",null,0,0,0,0,0,0,0,0,{"$f":"POST_Calculations!AF425","v":0},{"$f":"POST_Calculations!AG425","v":0},null,"no"]
[null,null,"----420",null,0,0,0,0,0,0,0,0,{"$f":"PRE_Calculations!AF426","v":0},{"$f":"PRE_Calculations!AG426","v":0},null,null,null,"----420",null,0,0,0,0,0,0,0,0,{"$f":"POST_Calculations!AF426","v":0},{"$f":"POST_Calculations!AG426","v":0},null,"no"]
[null,null,"----421",null,0,0,0,0,0,0,0,0,{"$f":"PRE_Calculations!AF427","v":0},{"$f":"PRE_Calculations!AG427","v":0},null,null,null,"----421",null,0,0,0,0,0,0,0,0,{"$f":"POST_Calculations!AF427","v":0},{"$f":"POST_Calculations!AG427","v":0},null,"no"]
[null,null,"----422",null,0,0,0,0,0,0,0,0,{"$f":"PRE_Calculations!AF428","v":0},{"$f":"PRE_Calculations!AG428","v":0},null,null,null,"----422",null,0,0,0,0,0,0,0,0,{"$f":"POST_Calculations!AF428","v":0},{"$f":"POST_Calculations!AG428","v":0},null,"no"]
[null,null,"----423",null,0,0,0,0,0,0,0,0,{"$f":"PRE_Calculations!AF429","v":0},{"$f":"PRE_Calculations!AG429","v":0},null,null,null,"----423",null,0,0,0,0,0,0,0,0,{"$f":"POST_Calculations!AF429","v":0},{"$f":"POST_Calculations!AG429","v":0},null,"no"]
[null,null,"----424",null,0,0,0,0,0,0,0,0,{"$f":"PRE_Calculations!AF430","v":0},{"$f":"PRE_Calculations!AG430","v":0},null,null,null,"----424",null,0,0,0,0,0,0,0,0,{"$f":"POST_Calculations!AF430","v":0},{"$f":"POST_Calculations!AG430","v":0},null,"no"]
[null,null,"----425",null,0,0,0,0,0,0,0,0,{"$f":"PRE_Calculations!AF431","v":0},{"$f":"PRE_Calculations!AG431","v":0},null,null,null,"----425",null,0,0,0,0,0,0,0,0,{"$f":"POST_Calculations!AF431","v":0},{"$f":"POST_Calculations!AG431","v":0},null,"no"]
[null,null,"----426",null,0,0,0,0,0,0,0,0,{"$f":"PRE_Calculations!AF432","v":0},{"$f":"PRE_Calculations!AG432","v":0},null,null,null,"----426",null,0,0,0,0,0,0,0,0,{"$f":"POST_Calculations!AF432","v":0},{"$f":"POST_Calculations!AG432","v":0},null,"no"]
[null,null,"----427",null,0,0,0,0,0,0,0,0,{"$f":"PRE_Calculations!AF433","v":0},{"$f":"PRE_Calculations!AG433","v":0},null,null,null,"----427",null,0,0,0,0,0,0,0,0,{"$f":"POST_Calculations!AF433","v":0},{"$f":"POST_Calculations!AG433","v":0},null,"no"]
[null,null,"----428",null,0,0,0,0,0,0,0,0,{"$f":"PRE_Calculations!AF434","v":0},{"$f":"PRE_Calculations!AG434","v":0},null,null,null,"----428",null,0,0,0,0,0,0,0,0,{"$f":"POST_Calculations!AF434","v":0},{"$f":"POST_Calculations!AG434","v":0},null,"no"]
[null,null,"----429",null,0,0,0,0,0,0,0,0,{"$f":"PRE_Calculations!AF435","v":0},{"$f":"PRE_Calculations!AG435","v":0},null,null,null,"----429",null,0,0,0,0,0,0,0,0,{"$f":"POST_Calculations!AF435","v":0},{"$f":"POST_Calculations!AG435","v":0},null,"no"]
[null,null,"----430",null,0,0,0,0,0,0,0,0,{"$f":"PRE_Calculations!AF436","v":0},{"$f":"PRE_Calculations!AG436","v":0},null,null,null,"----430",null,0,0,0,0,0,0,0,0,{"$f":"POST_Calculations!AF436","v":0},{"$f":"POST_Calculations!AG436","v":0},null,"no"]
[null,null,"----431",null,0,0,0,0,0,0,0,0,{"$f":"PRE_Calculations!AF437","v":0},{"$f":"PRE_Calculations!AG437","v":0},null,null,null,"----431",null,0,0,0,0,0,0,0,0,{"$f":"POST_Calculations!AF437","v":0},{"$f":"POST_Calculations!AG437","v":0},null,"no"]
[null,null,"----432",null,0,0,0,0,0,0,0,0,{"$f":"PRE_Calculations!AF438","v":0},{"$f":"PRE_Calculations!AG438","v":0},null,null,null,"----432",null,0,0,0,0,0,0,0,0,{"$f":"POST_Calculations!AF438","v":0},{"$f":"POST_Calculations!AG438","v":0},null,"no"]
[null,null,"----433",null,0,0,0,0,0,0,0,0,{"$f":"PRE_Calculations!AF439","v":0},{"$f":"PRE_Calculations!AG439","v":0},null,null,null,"----433",null,0,0,0,0,0,0,0,0,{"$f":"POST_Calculations!AF439","v":0},{"$f":"POST_Calculations!AG439","v":0},null,"no"]
[null,null,"----434",null,0,0,0,0,0,0,0,0,{"$f":"PRE_Calculations!AF440","v":0},{"$f":"PRE_Calculations!AG440","v":0},null,null,null,"----434",null,0,0,0,0,0,0,0,0,{"$f":"POST_Calculations!AF440","v":0},{"$f":"POST_Calculations!AG440","v":0},null,"no"]
[null,null,"----435",null,0,0,0,0,0,0,0,0,{"$f":"PRE_Calculations!AF441","v":0},{"$f":"PRE_Calculations!AG441","v":0},null,null,null,"----435",null,0,0,0,0,0,0,0,0,{"$f":"POST_Calculations!AF441","v":0},{"$f":"POST_Calculations!AG441","v":0},null,"no"]
[null,null,"----436",null,0,0,0,0,0,0,0,0,{"$f":"PRE_Calculations!AF442","v":0},{"$f":"PRE_Calculations!AG442","v":0},null,null,null,"----436",null,0,0,0,0,0,0,0,0,{"$f":"POST_Calculations!AF442","v":0},{"$f":"POST_Calculations!AG442","v":0},null,"no"]
[null,null,"----437",null,0,0,0,0,0,0,0,0,{"$f":"PRE_Calculations!AF443","v":0},{"$f":"PRE_Calculations!AG443","v":0},null,null,null,"----437",null,0,0,0,0,0,0,0,0,{"$f":"POST_Calculations!AF443","v":0},{"$f":"POST_Calculations!AG443","v":0},null,"no"]
[null,null,"----438",null,0,0,0,0,0,0,0,0,{"$f":"PRE_Calculations!AF444","v":0},{"$f":"PRE_Calculations!AG444","v":0},null,null,null,"----438",null,0,0,0,0,0,0,0,0,{"$f":"POST_Calculations!AF444","v":0},{"$f":"POST_Calculations!AG444","v":0},null,"no"]
[null,null,"----439",null,0,0,0,0,0,0,0,0,{"$f":"PRE_Calculations!AF445","v":0},{"$f":"PRE_Calculations!AG445","v":0},null,null,null,"----439",null,0,0,0,0,0,0,0,0,{"$f":"POST_Calculations!AF445","v":0},{"$f":"POST_Calculations!AG445","v":0},null,"no"]
[null,null,"----440",null,0,0,0,0,0,0,0,0,{"$f":"PRE_Calculations!AF446","v":0},{"$f":"PRE_Calculations!AG446","v":0},null,null,null,"----440",null,0,0,0,0,0,0,0,0,{"$f":"POST_Calculations!AF446","v":0},{"$f":"POST_Calculations!AG446","v":0},null,"no"]
[null,null,"----441",null,0,0,0,0,0,0,0,0,{"$f":"PRE_Calculations!AF447","v":0},{"$f":"PRE_Calculations!AG447","v":0},null,null,null,"----441",null,0,0,0,0,0,0,0,0,{"$f":"POST_Calculations!AF447","v":0},{"$f":"POST_Calculations!AG447","v":0},null,"no"]
[null,null,"----442",null,0,0,0,0,0,0,0,0,{"$f":"PRE_Calculations!AF448","v":0},{"$f":"PRE_Calculations!AG448","v":0},null,null,null,"----442",null,0,0,0,0,0,0,0,0,{"$f":"POST_Calculations!AF448","v":0},{"$f":"POST_Calculations!AG448","v":0},null,"no"]
[null,null,"----443",null,0,0,0,0,0,0,0,0,{"$f":"PRE_Calculations!AF449","v":0},{"$f":"PRE_Calculations!AG449","v":0},null,null,null,"----443",null,0,0,0,0,0,0,0,0,{"$f":"POST_Calculations!AF449","v":0},{"$f":"POST_Calculations!AG449","v":0},null,"no"]
[null,null,"----444",null,0,0,0,0,0,0,0,0,{"$f":"PRE_Calculations!AF450","v":0},{"$f":"PRE_Calculations!AG450","v":0},null,null,null,"----444",null,0,0,0,0,0,0,0,0,{"$f":"POST_Calculations!AF450","v":0},{"$f":"POST_Calculations!AG450","v":0},null,"no"]
[null,null,"----445",null,0,0,0,0,0,0,0,0,{"$f":"PRE_Calculations!AF451","v":0},{"$f":"PRE_Calculations!AG451","v":0},null,null,null,"----445",null,0,0,0,0,0,0,0,0,{"$f":"POST_Calculations!AF451","v":0},{"$f":"POST_Calculations!AG451","v":0},null,"no"]
[null,null,"----446",null,0,0,0,0,0,0,0,0,{"$f":"PRE_Calculations!AF452","v":0},{"$f":"PRE_Calculations!AG452","v":0},null,null,null,"----446",null,0,0,0,0,0,0,0,0,{"$f":"POST_Calculations!AF452","v":0},{"$f":"POST_Calculations!AG452","v":0},null,"no"]
[null,null,"----447",null,0,0,0,0,0,0,0,0,{"$f":"PRE_Calculations!AF453","v":0},{"$f":"PRE_Calculations!AG453","v":0},null,null,null,"----447",null,0,0,0,0,0,0,0,0,{"$f":"POST_Calculations!AF453","v":0},{"$f":"POST_Calculations!AG453","v":0},null,"no"]
[null,null,"----448",null,0,0,0,0,0,0,0,0,{"$f":"PRE_Calculations!AF454","v":0},{"$f":"PRE_Calculations!AG454","v":0},null,null,null,{"$f":"C452","v":"----448"},null,0,0,0,0,0,0,0,0,{"$f":"POST_Calculations!AF454","v":0},{"$f":"POST_Calculations!AG454","v":0},null,"no"]
[null,null,"----449",null,0,0,0,0,0,0,0,0,{"$f":"PRE_Calculations!AF455","v":0},{"$f":"PRE_Calculations!AG455","v":0},null,null,null,"----449",null,0,0,0,0,0,0,0,0,{"$f":"POST_Calculations!AF455","v":0},{"$f":"POST_Calculations!AG455","v":0},null,"no"]
[null,null,"----450",null,0,0,0,0,0,0,0,0,{"$f":"PRE_Calculations!AF456","v":0},{"$f":"PRE_Calculations!AG456","v":0},null,null,null,"----450",null,0,0,0,0,0,0,0,0,{"$f":"POST_Calculations!AF456","v":0},{"$f":"POST_Calculations!AG456","v":0},null,"no"]
[null,null,"----451",null,0,0,0,0,0,0,0,0,{"$f":"PRE_Calculations!AF457","v":0},{"$f":"PRE_Calculations!AG457","v":0},null,null,null,"----451",null,0,0,0,0,0,0,0,0,{"$f":"POST_Calculations!AF457","v":0},{"$f":"POST_Calculations!AG457","v":0},null,"no"]
[null,null,"----452",null,0,0,0,0,0,0,0,0,{"$f":"PRE_Calculations!AF458","v":0},{"$f":"PRE_Calculations!AG458","v":0},null,null,null,"----452",null,0,0,0,0,0,0,0,0,{"$f":"POST_Calculations!AF458","v":0},{"$f":"POST_Calculations!AG458","v":0},null,"no"]
[null,null,"----453",null,0,0,0,0,0,0,0,0,{"$f":"PRE_Calculations!AF459","v":0},{"$f":"PRE_Calculations!AG459","v":0},null,null,null,"----453",null,0,0,0,0,0,0,0,0,{"$f":"POST_Calculations!AF459","v":0},{"$f":"POST_Calculations!AG459","v":0},null,"no"]
[null,null,"----454",null,0,0,0,0,0,0,0,0,{"$f":"PRE_Calculations!AF460","v":0},{"$f":"PRE_Calculations!AG460","v":0},null,null,null,"----454",null,0,0,0,0,0,0,0,0,{"$f":"POST_Calculations!AF460","v":0},{"$f":"POST_Calculations!AG460","v":0},null,"no"]
[null,null,"----455",null,0,0,0,0,0,0,0,0,{"$f":"PRE_Calculations!AF461","v":0},{"$f":"PRE_Calculations!AG461","v":0},null,null,null,"----455",null,0,0,0,0,0,0,0,0,{"$f":"POST_Calculations!AF461","v":0},{"$f":"POST_Calculations!AG461","v":0},null,"no"]
[null,null,"----456",null,0,0,0,0,0,0,0,0,{"$f":"PRE_Calculations!AF462","v":0},{"$f":"PRE_Calculations!AG462","v":0},null,null,null,"----456",null,0,0,0,0,0,0,0,0,{"$f":"POST_Calculations!AF462","v":0},{"$f":"POST_Calculations!AG462","v":0},null,"no"]
[null,null,"----457",null,0,0,0,0,0,0,0,0,{"$f":"PRE_Calculations!AF463","v":0},{"$f":"PRE_Calculations!AG463","v":0},null,null,null,"----457",null,0,0,0,0,0,0,0,0,{"$f":"POST_Calculations!AF463","v":0},{"$f":"POST_Calculations!AG463","v":0},null,"no"]
[null,null,"----458",null,0,0,0,0,0,0,0,0,{"$f":"PRE_Calculations!AF464","v":0},{"$f":"PRE_Calculations!AG464","v":0},null,null,null,"----458",null,0,0,0,0,0,0,0,0,{"$f":"POST_Calculations!AF464","v":0},{"$f":"POST_Calculations!AG464","v":0},null,"no"]
[null,null,"----459",null,0,0,0,0,0,0,0,0,{"$f":"PRE_Calculations!AF465","v":0},{"$f":"PRE_Calculations!AG465","v":0},null,null,null,"----459",null,0,0,0,0,0,0,0,0,{"$f":"POST_Calculations!AF465","v":0},{"$f":"POST_Calculations!AG465","v":0},null,"no"]
[null,null,"----460",null,0,0,0,0,0,0,0,0,{"$f":"PRE_Calculations!AF466","v":0},{"$f":"PRE_Calculations!AG466","v":0},null,null,null,"----460",null,0,0,0,0,0,0,0,0,{"$f":"POST_Calculations!AF466","v":0},{"$f":"POST_Calculations!AG466","v":0},null,"no"]
[null,null,"----461",null,0,0,0,0,0,0,0,0,{"$f":"PRE_Calculations!AF467","v":0},{"$f":"PRE_Calculations!AG467","v":0},null,null,null,"----461",null,0,0,0,0,0,0,0,0,{"$f":"POST_Calculations!AF467","v":0},{"$f":"POST_Calculations!AG467","v":0},null,"no"]
[null,null,"----462",null,0,0,0,0,0,0,0,0,{"$f":"PRE_Calculations!AF468","v":0},{"$f":"PRE_Calculations!AG468","v":0},null,null,null,"----462",null,0,0,0,0,0,0,0,0,{"$f":"POST_Calculations!AF468","v":0},{"$f":"POST_Calculations!AG468","v":0},null,"no"]
[null,null,"----463",null,0,0,0,0,0,0,0,0,{"$f":"PRE_Calculations!AF469","v":0},{"$f":"PRE_Calculations!AG469","v":0},null,null,null,"----463",null,0,0,0,0,0,0,0,0,{"$f":"POST_Calculations!AF469","v":0},{"$f":"POST_Calculations!AG469","v":0},null,"no"]
[null,null,"----464",null,0,0,0,0,0,0,0,0,{"$f":"PRE_Calculations!AF470","v":0},{"$f":"PRE_Calculations!AG470","v":0},null,null,null,"----464",null,0,0,0,0,0,0,0,0,{"$f":"POST_Calculations!AF470","v":0},{"$f":"POST_Calculations!AG470","v":0},null,"no"]
[null,null,"----465",null,0,0,0,0,0,0,0,0,{"$f":"PRE_Calculations!AF471","v":0},{"$f":"PRE_Calculations!AG471","v":0},null,null,null,"----465",null,0,0,0,0,0,0,0,0,{"$f":"POST_Calculations!AF471","v":0},{"$f":"POST_Calculations!AG471","v":0},null,"no"]
[null,null,"----466",null,0,0,0,0,0,0,0,0,{"$f":"PRE_Calculations!AF472","v":0},{"$f":"PRE_Calculations!AG472","v":0},null,null,null,"----466",null,0,0,0,0,0,0,0,0,{"$f":"POST_Calculations!AF472","v":0},{"$f":"POST_Calculations!AG472","v":0},null,"no"]
[null,null,"----467",null,0,0,0,0,0,0,0,0,{"$f":"PRE_Calculations!AF473","v":0},{"$f":"PRE_Calculations!AG473","v":0},null,null,null,"----467",null,0,0,0,0,0,0,0,0,{"$f":"POST_Calculations!AF473","v":0},{"$f":"POST_Calculations!AG473","v":0},null,"no"]
[null,null,"----468",null,0,0,0,0,0,0,0,0,{"$f":"PRE_Calculations!AF474","v":0},{"$f":"PRE_Calculations!AG474","v":0},null,null,null,"----468",null,0,0,0,0,0,0,0,0,{"$f":"POST_Calculations!AF474","v":0},{"$f":"POST_Calculations!AG474","v":0},null,"no"]
[null,null,"----469",null,0,0,0,0,0,0,0,0,{"$f":"PRE_Calculations!AF475","v":0},{"$f":"PRE_Calculations!AG475","v":0},null,null,null,"----469",null,0,0,0,0,0,0,0,0,{"$f":"POST_Calculations!AF475","v":0},{"$f":"POST_Calculations!AG475","v":0},null,"no"]
[null,null,"----470",null,0,0,0,0,0,0,0,0,{"$f":"PRE_Calculations!AF476","v":0},{"$f":"PRE_Calculations!AG476","v":0},null,null,null,"----470",null,0,0,0,0,0,0,0,0,{"$f":"POST_Calculations!AF476","v":0},{"$f":"POST_Calculations!AG476","v":0},null,"no"]
[null,null,"----471",null,0,0,0,0,0,0,0,0,{"$f":"PRE_Calculations!AF477","v":0},{"$f":"PRE_Calculations!AG477","v":0},null,null,null,"----471",null,0,0,0,0,0,0,0,0,{"$f":"POST_Calculations!AF477","v":0},{"$f":"POST_Calculations!AG477","v":0},null,"no"]
[null,null,"----472",null,0,0,0,0,0,0,0,0,{"$f":"PRE_Calculations!AF478","v":0},{"$f":"PRE_Calculations!AG478","v":0},null,null,null,"----472",null,0,0,0,0,0,0,0,0,{"$f":"POST_Calculations!AF478","v":0},{"$f":"POST_Calculations!AG478","v":0},null,"no"]
[null,null,"----473",null,0,0,0,0,0,0,0,0,{"$f":"PRE_Calculations!AF479","v":0},{"$f":"PRE_Calculations!AG479","v":0},null,null,null,"----473",null,0,0,0,0,0,0,0,0,{"$f":"POST_Calculations!AF479","v":0},{"$f":"POST_Calculations!AG479","v":0},null,"no"]
[null,null,"----474",null,0,0,0,0,0,0,0,0,{"$f":"PRE_Calculations!AF480","v":0},{"$f":"PRE_Calculations!AG480","v":0},null,null,null,"----474",null,0,0,0,0,0,0,0,0,{"$f":"POST_Calculations!AF480","v":0},{"$f":"POST_Calculations!AG480","v":0},null,"no"]
[null,null,"----475",null,0,0,0,0,0,0,0,0,{"$f":"PRE_Calculations!AF481","v":0},{"$f":"PRE_Calculations!AG481","v":0},null,null,null,"----475",null,0,0,0,0,0,0,0,0,{"$f":"POST_Calculations!AF481","v":0},{"$f":"POST_Calculations!AG481","v":0},null,"no"]
[null,null,"----476",null,0,0,0,0,0,0,0,0,{"$f":"PRE_Calculations!AF482","v":0},{"$f":"PRE_Calculations!AG482","v":0},null,null,null,"----476",null,0,0,0,0,0,0,0,0,{"$f":"POST_Calculations!AF482","v":0},{"$f":"POST_Calculations!AG482","v":0},null,"no"]
[null,null,"----477",null,0,0,0,0,0,0,0,0,{"$f":"PRE_Calculations!AF483","v":0},{"$f":"PRE_Calculations!AG483","v":0},null,null,null,"----477",null,0,0,0,0,0,0,0,0,{"$f":"POST_Calculations!AF483","v":0},{"$f":"POST_Calculations!AG483","v":0},null,"no"]
[null,null,"----478",null,0,0,0,0,0,0,0,0,{"$f":"PRE_Calculations!AF484","v":0},{"$f":"PRE_Calculations!AG484","v":0},null,null,null,"----478",null,0,0,0,0,0,0,0,0,{"$f":"POST_Calculations!AF484","v":0},{"$f":"POST_Calculations!AG484","v":0},null,"no"]
[null,null,"----479",null,0,0,0,0,0,0,0,0,{"$f":"PRE_Calculations!AF485","v":0},{"$f":"PRE_Calculations!AG485","v":0},null,null,null,"----479",null,0,0,0,0,0,0,0,0,{"$f":"POST_Calculations!AF485","v":0},{"$f":"POST_Calculations!AG485","v":0},null,"no"]
[null,null,"----480",null,0,0,0,0,0,0,0,0,{"$f":"PRE_Calculations!AF486","v":0},{"$f":"PRE_Calculations!AG486","v":0},null,null,null,"----480",null,0,0,0,0,0,0,0,0,{"$f":"POST_Calculations!AF486","v":0},{"$f":"POST_Calculations!AG486","v":0},null,"no"]
[null,null,"----481",null,0,0,0,0,0,0,0,0,{"$f":"PRE_Calculations!AF487","v":0},{"$f":"PRE_Calculations!AG487","v":0},null,null,null,"----481",null,0,0,0,0,0,0,0,0,{"$f":"POST_Calculations!AF487","v":0},{"$f":"POST_Calculations!AG487","v":0},null,"no"]
[null,null,"----482",null,0,0,0,0,0,0,0,0,{"$f":"PRE_Calculations!AF488","v":0},{"$f":"PRE_Calculations!AG488","v":0},null,null,null,"----482",null,0,0,0,0,0,0,0,0,{"$f":"POST_Calculations!AF488","v":0},{"$f":"POST_Calculations!AG488","v":0},null,"no"]
[null,null,"----483",null,0,0,0,0,0,0,0,0,{"$f":"PRE_Calculations!AF489","v":0},{"$f":"PRE_Calculations!AG489","v":0},null,null,null,"----483",null,0,0,0,0,0,0,0,0,{"$f":"POST_Calculations!AF489","v":0},{"$f":"POST_Calculations!AG489","v":0},null,"no"]
[null,null,"----484",null,0,0,0,0,0,0,0,0,{"$f":"PRE_Calculations!AF490","v":0},{"$f":"PRE_Calculations!AG490","v":0},null,null,null,"----484",null,0,0,0,0,0,0,0,0,{"$f":"POST_Calculations!AF490","v":0},{"$f":"POST_Calculations!AG490","v":0},null,"no"]
[null,null,"----485",null,0,0,0,0,0,0,0,0,{"$f":"PRE_Calculations!AF491","v":0},{"$f":"PRE_Calculations!AG491","v":0},null,null,null,"----485",null,0,0,0,0,0,0,0,0,{"$f":"POST_Calculations!AF491","v":0},{"$f":"POST_Calculations!AG491","v":0},null,"no"]
[null,null,"----486",null,0,0,0,0,0,0,0,0,{"$f":"PRE_Calculations!AF492","v":0},{"$f":"PRE_Calculations!AG492","v":0},null,null,null,"----486",null,0,0,0,0,0,0,0,0,{"$f":"POST_Calculations!AF492","v":0},{"$f":"POST_Calculations!AG492","v":0},null,"no"]
[null,null,"----487",null,0,0,0,0,0,0,0,0,{"$f":"PRE_Calculations!AF493","v":0},{"$f":"PRE_Calculations!AG493","v":0},null,null,null,"----487",null,0,0,0,0,0,0,0,0,{"$f":"POST_Calculations!AF493","v":0},{"$f":"POST_Calculations!AG493","v":0},null,"no"]
[null,null,"----488",null,0,0,0,0,0,0,0,0,{"$f":"PRE_Calculations!AF494","v":0},{"$f":"PRE_Calculations!AG494","v":0},null,null,null,"----488",null,0,0,0,0,0,0,0,0,{"$f":"POST_Calculations!AF494","v":0},{"$f":"POST_Calculations!AG494","v":0},null,"no"]
[null,null,"----489",null,0,0,0,0,0,0,0,0,{"$f":"PRE_Calculations!AF495","v":0},{"$f":"PRE_Calculations!AG495","v":0},null,null,null,"----489",null,0,0,0,0,0,0,0,0,{"$f":"POST_Calculations!AF495","v":0},{"$f":"POST_Calculations!AG495","v":0},null,"no"]
[null,null,"----490",null,0,0,0,0,0,0,0,0,{"$f":"PRE_Calculations!AF496","v":0},{"$f":"PRE_Calculations!AG496","v":0},null,null,null,"----490",null,0,0,0,0,0,0,0,0,{"$f":"POST_Calculations!AF496","v":0},{"$f":"POST_Calculations!AG496","v":0},null,"no"]
[null,null,"----491",null,0,0,0,0,0,0,0,0,{"$f":"PRE_Calculations!AF497","v":0},{"$f":"PRE_Calculations!AG497","v":0},null,null,null,"----491",null,0,0,0,0,0,0,0,0,{"$f":"POST_Calculations!AF497","v":0},{"$f":"POST_Calculations!AG497","v":0},null,"no"]
[null,null,"----492",null,0,0,0,0,0,0,0,0,{"$f":"PRE_Calculations!AF498","v":0},{"$f":"PRE_Calculations!AG498","v":0},null,null,null,"----492",null,0,0,0,0,0,0,0,0,{"$f":"POST_Calculations!AF498","v":0},{"$f":"POST_Calculations!AG498","v":0},null,"no"]
[null,null,"----493",null,0,0,0,0,0,0,0,0,{"$f":"PRE_Calculations!AF499","v":0},{"$f":"PRE_Calculations!AG499","v":0},null,null,null,"----493",null,0,0,0,0,0,0,0,0,{"$f":"POST_Calculations!AF499","v":0},{"$f":"POST_Calculations!AG499","v":0},null,"no"]
[null,null,"----494",null,0,0,0,0,0,0,0,0,{"$f":"PRE_Calculations!AF500","v":0},{"$f":"PRE_Calculations!AG500","v":0},null,null,null,"----494",null,0,0,0,0,0,0,0,0,{"$f":"POST_Calculations!AF500","v":0},{"$f":"POST_Calculations!AG500","v":0},null,"no"]
[null,null,"----495",null,0,0,0,0,0,0,0,0,{"$f":"PRE_Calculations!AF501","v":0},{"$f":"PRE_Calculations!AG501","v":0},null,null,null,"----495",null,0,0,0,0,0,0,0,0,{"$f":"POST_Calculations!AF501","v":0},{"$f":"POST_Calculations!AG501","v":0},null,"no"]
[null,null,"----496",null,0,0,0,0,0,0,0,0,{"$f":"PRE_Calculations!AF502","v":0},{"$f":"PRE_Calculations!AG502","v":0},null,null,null,"----496",null,0,0,0,0,0,0,0,0,{"$f":"POST_Calculations!AF502","v":0},{"$f":"POST_Calculations!AG502","v":0},null,"no"]
[null,null,"----497",null,0,0,0,0,0,0,0,0,{"$f":"PRE_Calculations!AF503","v":0},{"$f":"PRE_Calculations!AG503","v":0},null,null,null,"----497",null,0,0,0,0,0,0,0,0,{"$f":"POST_Calculations!AF503","v":0},{"$f":"POST_Calculations!AG503","v":0},null,"no"]
[null,null,"----498",null,0,0,0,0,0,0,0,0,{"$f":"PRE_Calculations!AF504","v":0},{"$f":"PRE_Calculations!AG504","v":0},null,null,null,"----498",null,0,0,0,0,0,0,0,0,{"$f":"POST_Calculations!AF504","v":0},{"$f":"POST_Calculations!AG504","v":0},null,"no"]
[null,null,"----499",null,0,0,0,0,0,0,0,0,{"$f":"PRE_Calculations!AF505","v":0},{"$f":"PRE_Calculations!AG505","v":0},null,null,null,"----499",null,0,0,0,0,0,0,0,0,{"$f":"POST_Calculations!AF505","v":0},{"$f":"POST_Calculations!AG505","v":0},null,"no"]
[null,null,"----500",null,0,0,0,0,0,0,0,0,{"$f":"PRE_Calculations!AF506","v":0},{"$f":"PRE_Calculations!AG506","v":0},null,null,null,"----500",null,0,0,0,0,0,0,0,0,{"$f":"POST_Calculations!AF506","v":0},{"$f":"POST_Calculations!AG506","v":0},null,"no"]

{"sheet":"PRE_Calculations","index":2,"n_rows":521,"n_cols":37,"rows_kept":521,"cut":false,"hidden":true,"merged":[[4,30,4,34],[4,24,4,29],[3,12,3,23],[3,24,3,29],[3,2,3,11],[4,7,4,11],[4,2,4,6],[4,12,4,15],[4,16,4,19],[4,20,4,23]]}
[null,null,null,null,null,null,null,null,null,null,null,null,null,null,null,null,null,null,null,null,null,null,null,null,null,null,null,null,null,22,"mpg"]
[null,"Default Factors:",null,null,null,0,0.23430000000000001,null,null,null,0,0.1653,null,null,null,0.22564102599999999,null,null,null,0.65786578699999998,null,null,null,0.13,null,null,null,null,null,19.592500000000001,"lbco2e/gal"]
[]
[null,null,"Human-Powered",null,null,null,null,null,null,null,null,null,"Mass Transit",null,null,null,null,null,null,null,null,null,null,null,"Private Vehicle"]
[null,null,"Walking",null,null,null,null,"Bike/Scooter",null,null,null,null,"School Bus",null,null,null,"Public Bus",null,null,null,"BART",null,null,null,"Car",null,null,null,null,null,"Total"]
[null,"Student Name","Distance","Time","Cost","FuelGHG","EffortGHG","Distance","Time","Cost","FuelGHG","EffortGHG","Distance","Time","Cost","FuelGHG","Distance","Time","Cost","FuelGHG","Distance","Time","Cost","FuelGHG","Distance","MPG","Riders","Time","Cost","FuelGHG","Distance","FuelGHG","EffortGHG","AllGHG","GHG/mi"]
[null,{"$f":"DataByMiles!C5","v":"Junior"},{"$f":"DataByMiles!E5*VLOOKUP(DataByMiles!AE5,DataByMiles!$AT$5:$AU$6,2,FALSE)","v":0},null,null,{"$f":"C7*$F$2","v":0},{"$f":"C7*$G$2*VLOOKUP(DataByMiles!AE5,DataByMiles!$AT$5:$AU$6,2,FALSE)","v":0},{"$f":"DataByMiles!F5*VLOOKUP(DataByMiles!AE5,DataByMiles!$AT$5:$AU$6,2,FALSE)","v":0},null,null,{"$f":"H7*$K$2","v":0},{"$f":"H7*$L$2*VLOOKUP(DataByMiles!AE5,DataByMiles!$AT$5:$AU$6,2,FALSE)","v":0},{"$f":"DataByMiles!G5*VLOOKUP(DataByMiles!AE5,DataByMiles!$AT$5:$AU$6,2,FALSE)","v":0},null,null,{"$f":"M7*$P$2*VLOOKUP(DataByMiles!AE5,DataByMiles!$AT$5:$AU$6,2,FALSE)","v":0},{"$f":"DataByMiles!H5*VLOOKUP(DataByMiles!AE5,DataByMiles!$AT$5:$AU$6,2,FALSE)","v":0},null,null,{"$f":"Q7*$T$2*VLOOKUP(DataByMiles!AE5,DataByMiles!$AT$5:$AU$6,2,FALSE)","v":0},{"$f":"DataByMiles!I5*VLOOKUP(DataByMiles!AE5,DataByMiles!$AT$5:$AU$6,2,FALSE)","v":0},null,null,{"$f":"U7*$X$2*VLOOKUP(DataByMiles!AE5,DataByMiles!$AT$5:$AU$6,2,FALSE)","v":0},{"$f":"DataByMiles!J5*VLOOKUP(DataByMiles!AE5,DataByMiles!$AT$5:$AU$6,2,FALSE)","v":40},{"$f":"DataByMiles!K5","v":0},{"$f":"DataByMiles!L5","v":6},null,null,{"$f":"(Y7/IF(Z7=0,$AD$1,Z7)*$AD$2)/IF(AA7=0,1,AA7)*VLOOKUP(DataByMiles!AE5,DataByMiles!$AT$5:$AU$6,2,FALSE)","v":5.9371212121212125},{"$f":"IF(C7+H7+M7+Q7+U7+Y7>0,C7+H7+M7+Q7+U7+Y7,\"\")","v":40},{"$f":"F7+K7+P7+T7+X7+AD7","v":5.9371212121212125},{"$f":"G7+L7","v":0},{"$f":"(AF7+AG7)*VLOOKUP(DataByMiles!AE5,DataByMiles!$AT$5:$AU$6,2,FALSE)","v":5.9371212121212125},{"$f":"IFERROR(AH7/AE7,0)","v":0.14842803030303031},null,"E"]
[null,{"$f":"DataByMiles!C6","v":"jessica"},{"$f":"DataByMiles!E6*VLOOKUP(DataByMiles!AE6,DataByMiles!$AT$5:$AU$6,2,FALSE)","v":0},null,null,{"$f":"C8*$F$2","v":0},{"$f":"C8*$G$2*VLOOKUP(DataByMiles!AE6,DataByMiles!$AT$5:$AU$6,2,FALSE)","v":0},{"$f":"DataByMiles!F6*VLOOKUP(DataByMiles!AE6,DataByMiles!$AT$5:$AU$6,2,FALSE)","v":0},null,null,{"$f":"H8*$K$2","v":0},{"$f":"H8*$L$2*VLOOKUP(DataByMiles!AE6,DataByMiles!$AT$5:$AU$6,2,FALSE)","v":0},{"$f":"DataByMiles!G6*VLOOKUP(DataByMiles!AE6,DataByMiles!$AT$5:$AU$6,2,FALSE)","v":0},null,null,{"$f":"M8*$P$2*VLOOKUP(DataByMiles!AE6,DataByMiles!$AT$5:$AU$6,2,FALSE)","v":0},{"$f":"DataByMiles!H6*VLOOKUP(DataByMiles!AE6,DataByMiles!$AT$5:$AU$6,2,FALSE)","v":0},null,null,{"$f":"Q8*$T$2*VLOOKUP(DataByMiles!AE6,DataByMiles!$AT$5:$AU$6,2,FALSE)","v":0},{"$f":"DataByMiles!I6*VLOOKUP(DataByMiles!AE6,DataByMiles!$AT$5:$AU$6,2,FALSE)","v":0},null,null,{"$f":"U8*$X$2*VLOOKUP(DataByMiles!AE6,DataByMiles!$AT$5:$AU$6,2,FALSE)","v":0},{"$f":"DataByMiles!J6*VLOOKUP(DataByMiles!AE6,DataByMiles!$AT$5:$AU$6,2,FALSE)","v":20},{"$f":"DataByMiles!K6","v":0},{"$f":"DataByMiles!L6","v":2.5},null,null,{"$f":"(Y8/IF(Z8=0,$AD$1,Z8)*$AD$2)/IF(AA8=0,1,AA8)*VLOOKUP(DataByMiles!AE6,DataByMiles!$AT$5:$AU$6,2,FALSE)","v":7.124545454545455},{"$f":"IF(C8+H8+M8+Q8+U8+Y8>0,C8+H8+M8+Q8+U8+Y8,\"\")","v":20},{"$f":"F8+K8+P8+T8+X8+AD8","v":7.124545454545455},{"$f":"G8+L8","v":0},{"$f":"(AF8+AG8)*VLOOKUP(DataByMiles!AE6,DataByMiles!$AT$5:$AU$6,2,FALSE)","v":7.124545454545455},{"$f":"IFERROR(AH8/AE8,0)","v":0.35622727272727273},null,"F"]
[null,{"$f":"DataByMiles!C7","v":"Veda"},{"$f":"DataByMiles!E7*VLOOKUP(DataByMiles!AE7,DataByMiles!$AT$5:$AU$6,2,FALSE)","v":0},null,null,0,{"$f":"C9*$G$2*VLOOKUP(DataByMiles!AE7,DataByMiles!$AT$5:$AU$6,2,FALSE)","v":0},{"$f":"DataByMiles!F7*VLOOKUP(DataByMiles!AE7,DataByMiles!$AT$5:$AU$6,2,FALSE)","v":0},null,null,0,{"$f":"H9*$L$2*VLOOKUP(DataByMiles!AE7,DataByMiles!$AT$5:$AU$6,2,FALSE)","v":0},{"$f":"DataByMiles!G7*VLOOKUP(DataByMiles!AE7,DataByMiles!$AT$5:$AU$6,2,FALSE)","v":0},null,null,{"$f":"M9*$P$2*VLOOKUP(DataByMiles!AE7,DataByMiles!$AT$5:$AU$6,2,FALSE)","v":0},{"$f":"DataByMiles!H7*VLOOKUP(DataByMiles!AE7,DataByMiles!$AT$5:$AU$6,2,FALSE)","v":0},null,null,{"$f":"Q9*$T$2*VLOOKUP(DataByMiles!AE7,DataByMiles!$AT$5:$AU$6,2,FALSE)","v":0},{"$f":"DataByMiles!I7*VLOOKUP(DataByMiles!AE7,DataByMiles!$AT$5:$AU$6,2,FALSE)","v":0},null,null,{"$f":"U9*$X$2*VLOOKUP(DataByMiles!AE7,DataByMiles!$AT$5:$AU$6,2,FALSE)","v":0},{"$f":"DataByMiles!J7*VLOOKUP(DataByMiles!AE7,DataByMiles!$AT$5:$AU$6,2,FALSE)","v":10},{"$f":"DataByMiles!K7","v":0},{"$f":"DataByMiles!L7","v":2},null,null,{"$f":"(Y9/IF(Z9=0,$AD$1,Z9)*$AD$2)/IF(AA9=0,1,AA9)*VLOOKUP(DataByMiles!AE7,DataByMiles!$AT$5:$AU$6,2,FALSE)","v":4.4528409090909093},10,4.4528409090909093,0,{"$f":"(AF9+AG9)*VLOOKUP(DataByMiles!AE7,DataByMiles!$AT$5:$AU$6,2,FALSE)","v":4.4528409090909093},0.44528409090909093,null,"G"]
[null,{"$f":"DataByMiles!C8","v":"Tiffany"},{"$f":"DataByMiles!E8*VLOOKUP(DataByMiles!AE8,DataByMiles!$AT$5:$AU$6,2,FALSE)","v":0},null,null,0,{"$f":"C10*$G$2*VLOOKUP(DataByMiles!AE8,DataByMiles!$AT$5:$AU$6,2,FALSE)","v":0},{"$f":"DataByMiles!F8*VLOOKUP(DataByMiles!AE8,DataByMiles!$AT$5:$AU$6,2,FALSE)","v":0},null,null,0,{"$f":"H10*$L$2*VLOOKUP(DataByMiles!AE8,DataByMiles!$AT$5:$AU$6,2,FALSE)","v":0},{"$f":"DataByMiles!G8*VLOOKUP(DataByMiles!AE8,DataByMiles!$AT$5:$AU$6,2,FALSE)","v":0},null,null,{"$f":"M10*$P$2*VLOOKUP(DataByMiles!AE8,DataByMiles!$AT$5:$AU$6,2,FALSE)","v":0},{"$f":"DataByMiles!H8*VLOOKUP(DataByMiles!AE8,DataByMiles!$AT$5:$AU$6,2,FALSE)","v":0},null,null,{"$f":"Q10*$T$2*VLOOKUP(DataByMiles!AE8,DataByMiles!$AT$5:$AU$6,2,FALSE)","v":0},{"$f":"DataByMiles!I8*VLOOKUP(DataByMiles!AE8,DataByMiles!$AT$5:$AU$6,2,FALSE)","v":0},null,null,{"$f":"U10*$X$2*VLOOKUP(DataByMiles!AE8,DataByMiles!$AT$5:$AU$6,2,FALSE)","v":0},{"$f":"DataByMiles!J8*VLOOKUP(DataByMiles!AE8,DataByMiles!$AT$5:$AU$6,2,FALSE)","v":20},{"$f":"DataByMiles!K8","v":0},{"$f":"DataByMiles!L8","v":3},null,null,{"$f":"(Y10/IF(Z10=0,$AD$1,Z10)*$AD$2)/IF(AA10=0,1,AA10)*VLOOKUP(DataByMiles!AE8,DataByMiles!$AT$5:$AU$6,2,FALSE)","v":5.9371212121212125},20,5.9371212121212125,0,{"$f":"(AF10+AG10)*VLOOKUP(DataByMiles!AE8,DataByMiles!$AT$5:$AU$6,2,FALSE)","v":5.9371212121212125},0.29685606060606062,null,"H"]
[null,{"$f":"DataByMiles!C9","v":"Athena"},{"$f":"DataByMiles!E9*VLOOKUP(DataByMiles!AE9,DataByMiles!$AT$5:$AU$6,2,FALSE)","v":0},null,null,0,{"$f":"C11*$G$2*VLOOKUP(DataByMiles!AE9,DataByMiles!$AT$5:$AU$6,2,FALSE)","v":0},{"$f":"DataByMiles!F9*VLOOKUP(DataByMiles!AE9,DataByMiles!$AT$5:$AU$6,2,FALSE)","v":0},null,null,0,{"$f":"H11*$L$2*VLOOKUP(DataByMiles!AE9,DataByMiles!$AT$5:$AU$6,2,FALSE)","v":0},{"$f":"DataByMiles!G9*VLOOKUP(DataByMiles!AE9,DataByMiles!$AT$5:$AU$6,2,FALSE)","v":0},null,null,{"$f":"M11*$P$2*VLOOKUP(DataByMiles!AE9,DataByMiles!$AT$5:$AU$6,2,FALSE)","v":0},{"$f":"DataByMiles!H9*VLOOKUP(DataByMiles!AE9,DataByMiles!$AT$5:$AU$6,2,FALSE)","v":0},null,null,{"$f":"Q11*$T$2*VLOOKUP(DataByMiles!AE9,DataByMiles!$AT$5:$AU$6,2,FALSE)","v":0},{"$f":"DataByMiles!I9*VLOOKUP(DataByMiles!AE9,DataByMiles!$AT$5:$AU$6,2,FALSE)","v":0},null,null,{"$f":"U11*$X$2*VLOOKUP(DataByMiles!AE9,DataByMiles!$AT$5:$AU$6,2,FALSE)","v":0},{"$f":"DataByMiles!J9*VLOOKUP(DataByMiles!AE9,DataByMiles!$AT$5:$AU$6,2,FALSE)","v":10},{"$f":"DataByMiles!K9","v":0},{"$f":"DataByMiles!L9","v":2},null,null,{"$f":"(Y11/IF(Z11=0,$AD$1,Z11)*$AD$2)/IF(AA11=0,1,AA11)*VLOOKUP(DataByMiles!AE9,DataByMiles!$AT$5:$AU$6,2,FALSE)","v":4.4528409090909093},10,4.4528409090909093,0,{"$f":"(AF11+AG11)*VLOOKUP(DataByMiles!AE9,DataByMiles!$AT$5:$AU$6,2,FALSE)","v":4.4528409090909093},0.44528409090909093,null,"I"]
[null,{"$f":"DataByMiles!C10","v":"Denise"},{"$f":"DataByMiles!E10*VLOOKUP(DataByMiles!AE10,DataByMiles!$AT$5:$AU$6,2,FALSE)","v":0},null,null,0,{"$f":"C12*$G$2*VLOOKUP(DataByMiles!AE10,DataByMiles!$AT$5:$AU$6,2,FALSE)","v":0},{"$f":"DataByMiles!F10*VLOOKUP(DataByMiles!AE10,DataByMiles!$AT$5:$AU$6,2,FALSE)","v":0},null,null,0,{"$f":"H12*$L$2*VLOOKUP(DataByMiles!AE10,DataByMiles!$AT$5:$AU$6,2,FALSE)","v":0},{"$f":"DataByMiles!G10*VLOOKUP(DataByMiles!AE10,DataByMiles!$AT$5:$AU$6,2,FALSE)","v":0},null,null,{"$f":"M12*$P$2*VLOOKUP(DataByMiles!AE10,DataByMiles!$AT$5:$AU$6,2,FALSE)","v":0},{"$f":"DataByMiles!H10*VLOOKUP(DataByMiles!AE10,DataByMiles!$AT$5:$AU$6,2,FALSE)","v":0},null,null,{"$f":"Q12*$T$2*VLOOKUP(DataByMiles!AE10,DataByMiles!$AT$5:$AU$6,2,FALSE)","v":0},{"$f":"DataByMiles!I10*VLOOKUP(DataByMiles!AE10,DataByMiles!$AT$5:$AU$6,2,FALSE)","v":0},null,null,{"$f":"U12*$X$2*VLOOKUP(DataByMiles!AE10,DataByMiles!$AT$5:$AU$6,2,FALSE)","v":0},{"$f":"DataByMiles!J10*VLOOKUP(DataByMiles!AE10,DataByMiles!$AT$5:$AU$6,2,FALSE)","v":10},{"$f":"DataByMiles!K10","v":0},{"$f":"DataByMiles!L10","v":2},null,null,{"$f":"(Y12/IF(Z12=0,$AD$1,Z12)*$AD$2)/IF(AA12=0,1,AA12)*VLOOKUP(DataByMiles!AE10,DataByMiles!$AT$5:$AU$6,2,FALSE)","v":4.4528409090909093},10,4.4528409090909093,0,{"$f":"(AF12+AG12)*VLOOKUP(DataByMiles!AE10,DataByMiles!$AT$5:$AU$6,2,FALSE)","v":4.4528409090909093},0.44528409090909093,null,"J"]
[null,{"$f":"DataByMiles!C11","v":"Maha"},{"$f":"DataByMiles!E11*VLOOKUP(DataByMiles!AE11,DataByMiles!$AT$5:$AU$6,2,FALSE)","v":0},null,null,0,{"$f":"C13*$G$2*VLOOKUP(DataByMiles!AE11,DataByMiles!$AT$5:$AU$6,2,FALSE)","v":0},{"$f":"DataByMiles!F11*VLOOKUP(DataByMiles!AE11,DataByMiles!$AT$5:$AU$6,2,FALSE)","v":0},null,null,0,{"$f":"H13*$L$2*VLOOKUP(DataByMiles!AE11,DataByMiles!$AT$5:$AU$6,2,FALSE)","v":0},{"$f":"DataByMiles!G11*VLOOKUP(DataByMiles!AE11,DataByMiles!$AT$5:$AU$6,2,FALSE)","v":0},null,null,{"$f":"M13*$P$2*VLOOKUP(DataByMiles!AE11,DataByMiles!$AT$5:$AU$6,2,FALSE)","v":0},{"$f":"DataByMiles!H11*VLOOKUP(DataByMiles!AE11,DataByMiles!$AT$5:$AU$6,2,FALSE)","v":0},null,null,{"$f":"Q13*$T$2*VLOOKUP(DataByMiles!AE11,DataByMiles!$AT$5:$AU$6,2,FALSE)","v":0},{"$f":"DataByMiles!I11*VLOOKUP(DataByMiles!AE11,DataByMiles!$AT$5:$AU$6,2,FALSE)","v":0},null,null,{"$f":"U13*$X$2*VLOOKUP(DataByMiles!AE11,DataByMiles!$AT$5:$AU$6,2,FALSE)","v":0},{"$f":"DataByMiles!J11*VLOOKUP(DataByMiles!AE11,DataByMiles!$AT$5:$AU$6,2,FALSE)","v":10},{"$f":"DataByMiles!K11","v":0},{"$f":"DataByMiles!L11","v":3},null,null,{"$f":"(Y13/IF(Z13=0,$AD$1,Z13)*$AD$2)/IF(AA13=0,1,AA13)*VLOOKUP(DataByMiles!AE11,DataByMiles!$AT$5:$AU$6,2,FALSE)","v":2.9685606060606062},10,2.9685606060606062,0,{"$f":"(AF13+AG13)*VLOOKUP(DataByMiles!AE11,DataByMiles!$AT$5:$AU$6,2,FALSE)","v":2.9685606060606062},0.29685606060606062,null,"K"]
[null,{"$f":"DataByMiles!C12","v":"Allyn"},{"$f":"DataByMiles!E12*VLOOKUP(DataByMiles!AE12,DataByMiles!$AT$5:$AU$6,2,FALSE)","v":0},null,null,0,{"$f":"C14*$G$2*VLOOKUP(DataByMiles!AE12,DataByMiles!$AT$5:$AU$6,2,FALSE)","v":0},{"$f":"DataByMiles!F12*VLOOKUP(DataByMiles!AE12,DataByMiles!$AT$5:$AU$6,2,FALSE)","v":0},null,null,0,{"$f":"H14*$L$2*VLOOKUP(DataByMiles!AE12,DataByMiles!$AT$5:$AU$6,2,FALSE)","v":0},{"$f":"DataByMiles!G12*VLOOKUP(DataByMiles!AE12,DataByMiles!$AT$5:$AU$6,2,FALSE)","v":0},null,null,{"$f":"M14*$P$2*VLOOKUP(DataByMiles!AE12,DataByMiles!$AT$5:$AU$6,2,FALSE)","v":0},{"$f":"DataByMiles!H12*VLOOKUP(DataByMiles!AE12,DataByMiles!$AT$5:$AU$6,2,FALSE)","v":0},null,null,{"$f":"Q14*$T$2*VLOOKUP(DataByMiles!AE12,DataByMiles!$AT$5:$AU$6,2,FALSE)","v":0},{"$f":"DataByMiles!I12*VLOOKUP(DataByMiles!AE12,DataByMiles!$AT$5:$AU$6,2,FALSE)","v":0},null,null,{"$f":"U14*$X$2*VLOOKUP(DataByMiles!AE12,DataByMiles!$AT$5:$AU$6,2,FALSE)","v":0},{"$f":"DataByMiles!J12*VLOOKUP(DataByMiles!AE12,DataByMiles!$AT$5:$AU$6,2,FALSE)","v":10},{"$f":"DataByMiles!K12","v":0},{"$f":"DataByMiles!L12","v":3},null,null,{"$f":"(Y14/IF(Z14=0,$AD$1,Z14)*$AD$2)/IF(AA14=0,1,AA14)*VLOOKUP(DataByMiles!AE12,DataByMiles!$AT$5:$AU$6,2,FALSE)","v":2.9685606060606062},10,2.9685606060606062,0,{"$f":"(AF14+AG14)*VLOOKUP(DataByMiles!AE12,DataByMiles!$AT$5:$AU$6,2,FALSE)","v":2.9685606060606062},0.29685606060606062,null,"L"]
[null,{"$f":"DataByMiles!C13","v":"Elaha"},{"$f":"DataByMiles!E13*VLOOKUP(DataByMiles!AE13,DataByMiles!$AT$5:$AU$6,2,FALSE)","v":0},null,null,0,{"$f":"C15*$G$2*VLOOKUP(DataByMiles!AE13,DataByMiles!$AT$5:$AU$6,2,FALSE)","v":0},{"$f":"DataByMiles!F13*VLOOKUP(DataByMiles!AE13,DataByMiles!$AT$5:$AU$6,2,FALSE)","v":0},null,null,0,{"$f":"H15*$L$2*VLOOKUP(DataByMiles!AE13,DataByMiles!$AT$5:$AU$6,2,FALSE)","v":0},{"$f":"DataByMiles!G13*VLOOKUP(DataByMiles!AE13,DataByMiles!$AT$5:$AU$6,2,FALSE)","v":0},null,null,{"$f":"M15*$P$2*VLOOKUP(DataByMiles!AE13,DataByMiles!$AT$5:$AU$6,2,FALSE)","v":0},{"$f":"DataByMiles!H13*VLOOKUP(DataByMiles!AE13,DataByMiles!$AT$5:$AU$6,2,FALSE)","v":0},null,null,{"$f":"Q15*$T$2*VLOOKUP(DataByMiles!AE13,DataByMiles!$AT$5:$AU$6,2,FALSE)","v":0},{"$f":"DataByMiles!I13*VLOOKUP(DataByMiles!AE13,DataByMiles!$AT$5:$AU$6,2,FALSE)","v":0},null,null,{"$f":"U15*$X$2*VLOOKUP(DataByMiles!AE13,DataByMiles!$AT$5:$AU$6,2,FALSE)","v":0},{"$f":"DataByMiles!J13*VLOOKUP(DataByMiles!AE13,DataByMiles!$AT$5:$AU$6,2,FALSE)","v":20},{"$f":"DataByMiles!K13","v":0},{"$f":"DataByMiles!L13","v":3},null,null,{"$f":"(Y15/IF(Z15=0,$AD$1,Z15)*$AD$2)/IF(AA15=0,1,AA15)*VLOOKUP(DataByMiles!AE13,DataByMiles!$AT$5:$AU$6,2,FALSE)","v":5.9371212121212125},20,5.9371212121212125,0,{"$f":"(AF15+AG15)*VLOOKUP(DataByMiles!AE13,DataByMiles!$AT$5:$AU$6,2,FALSE)","v":5.9371212121212125},0.29685606060606062,null,"M"]
[null,{"$f":"DataByMiles!C14","v":"Sharon"},{"$f":"DataByMiles!E14*VLOOKUP(DataByMiles!AE14,DataByMiles!$AT$5:$AU$6,2,FALSE)","v":0},null,null,0,{"$f":"C16*$G$2*VLOOKUP(DataByMiles!AE14,DataByMiles!$AT$5:$AU$6,2,FALSE)","v":0},{"$f":"DataByMiles!F14*VLOOKUP(DataByMiles!AE14,DataByMiles!$AT$5:$AU$6,2,FALSE)","v":0},null,null,0,{"$f":"H16*$L$2*VLOOKUP(DataByMiles!AE14,DataByMiles!$AT$5:$AU$6,2,FALSE)","v":0},{"$f":"DataByMiles!G14*VLOOKUP(DataByMiles!AE14,DataByMiles!$AT$5:$AU$6,2,FALSE)","v":0},null,null,{"$f":"M16*$P$2*VLOOKUP(DataByMiles!AE14,DataByMiles!$AT$5:$AU$6,2,FALSE)","v":0},{"$f":"DataByMiles!H14*VLOOKUP(DataByMiles!AE14,DataByMiles!$AT$5:$AU$6,2,FALSE)","v":0},null,null,{"$f":"Q16*$T$2*VLOOKUP(DataByMiles!AE14,DataByMiles!$AT$5:$AU$6,2,FALSE)","v":0},{"$f":"DataByMiles!I14*VLOOKUP(DataByMiles!AE14,DataByMiles!$AT$5:$AU$6,2,FALSE)","v":0},null,null,{"$f":"U16*$X$2*VLOOKUP(DataByMiles!AE14,DataByMiles!$AT$5:$AU$6,2,FALSE)","v":0},{"$f":"DataByMiles!J14*VLOOKUP(DataByMiles!AE14,DataByMiles!$AT$5:$AU$6,2,FALSE)","v":20},{"$f":"DataByMiles!K14","v":0},{"$f":"DataByMiles!L14","v":3},null,null,{"$f":"(Y16/IF(Z16=0,$AD$1,Z16)*$AD$2)/IF(AA16=0,1,AA16)*VLOOKUP(DataByMiles!AE14,DataByMiles!$AT$5:$AU$6,2,FALSE)","v":5.9371212121212125},20,5.9371212121212125,0,{"$f":"(AF16+AG16)*VLOOKUP(DataByMiles!AE14,DataByMiles!$AT$5:$AU$6,2,FALSE)","v":5.9371212121212125},0.29685606060606062,null,"N"]
[null,{"$f":"DataByMiles!C15","v":"Bryce"},{"$f":"DataByMiles!E15*VLOOKUP(DataByMiles!AE15,DataByMiles!$AT$5:$AU$6,2,FALSE)","v":2},null,null,0,{"$f":"C17*$G$2*VLOOKUP(DataByMiles!AE15,DataByMiles!$AT$5:$AU$6,2,FALSE)","v":0.46860000000000002},{"$f":"DataByMiles!F15*VLOOKUP(DataByMiles!AE15,DataByMiles!$AT$5:$AU$6,2,FALSE)","v":0},null,null,0,{"$f":"H17*$L$2*VLOOKUP(DataByMiles!AE15,DataByMiles!$AT$5:$AU$6,2,FALSE)","v":0},{"$f":"DataByMiles!G15*VLOOKUP(DataByMiles!AE15,DataByMiles!$AT$5:$AU$6,2,FALSE)","v":0},null,null,{"$f":"M17*$P$2*VLOOKUP(DataByMiles!AE15,DataByMiles!$AT$5:$AU$6,2,FALSE)","v":0},{"$f":"DataByMiles!H15*VLOOKUP(DataByMiles!AE15,DataByMiles!$AT$5:$AU$6,2,FALSE)","v":0},null,null,{"$f":"Q17*$T$2*VLOOKUP(DataByMiles!AE15,DataByMiles!$AT$5:$AU$6,2,FALSE)","v":0},{"$f":"DataByMiles!I15*VLOOKUP(DataByMiles!AE15,DataByMiles!$AT$5:$AU$6,2,FALSE)","v":0},null,null,{"$f":"U17*$X$2*VLOOKUP(DataByMiles!AE15,DataByMiles!$AT$5:$AU$6,2,FALSE)","v":0},{"$f":"DataByMiles!J15*VLOOKUP(DataByMiles!AE15,DataByMiles!$AT$5:$AU$6,2,FALSE)","v":8},{"$f":"DataByMiles!K15","v":0},{"$f":"DataByMiles!L15","v":3.3},null,null,{"$f":"(Y17/IF(Z17=0,$AD$1,Z17)*$AD$2)/IF(AA17=0,1,AA17)*VLOOKUP(DataByMiles!AE15,DataByMiles!$AT$5:$AU$6,2,FALSE)","v":2.1589531680440772},10,2.1589531680440772,0.46860000000000002,{"$f":"(AF17+AG17)*VLOOKUP(DataByMiles!AE15,DataByMiles!$AT$5:$AU$6,2,FALSE)","v":2.6275531680440771},0.26275531680440772,null,"O"]
[null,{"$f":"DataByMiles!C16","v":"Marlene"},{"$f":"DataByMiles!E16*VLOOKUP(DataByMiles!AE16,DataByMiles!$AT$5:$AU$6,2,FALSE)","v":0},null,null,0,{"$f":"C18*$G$2*VLOOKUP(DataByMiles!AE16,DataByMiles!$AT$5:$AU$6,2,FALSE)","v":0},{"$f":"DataByMiles!F16*VLOOKUP(DataByMiles!AE16,DataByMiles!$AT$5:$AU$6,2,FALSE)","v":0},null,null,0,{"$f":"H18*$L$2*VLOOKUP(DataByMiles!AE16,DataByMiles!$AT$5:$AU$6,2,FALSE)","v":0},{"$f":"DataByMiles!G16*VLOOKUP(DataByMiles!AE16,DataByMiles!$AT$5:$AU$6,2,FALSE)","v":0},null,null,{"$f":"M18*$P$2*VLOOKUP(DataByMiles!AE16,DataByMiles!$AT$5:$AU$6,2,FALSE)","v":0},{"$f":"DataByMiles!H16*VLOOKUP(DataByMiles!AE16,DataByMiles!$AT$5:$AU$6,2,FALSE)","v":0},null,null,{"$f":"Q18*$T$2*VLOOKUP(DataByMiles!AE16,DataByMiles!$AT$5:$AU$6,2,FALSE)","v":0},{"$f":"DataByMiles!I16*VLOOKUP(DataByMiles!AE16,DataByMiles!$AT$5:$AU$6,2,FALSE)","v":0},null,null,{"$f":"U18*$X$2*VLOOKUP(DataByMiles!AE16,DataByMiles!$AT$5:$AU$6,2,FALSE)","v":0},{"$f":"DataByMiles!J16*VLOOKUP(DataByMiles!AE16,DataByMiles!$AT$5:$AU$6,2,FALSE)","v":20},{"$f":"DataByMiles!K16","v":0},{"$f":"DataByMiles!L16","v":3},null,null,{"$f":"(Y18/IF(Z18=0,$AD$1,Z18)*$AD$2)/IF(AA18=0,1,AA18)*VLOOKUP(DataByMiles!AE16,DataByMiles!$AT$5:$AU$6,2,FALSE)","v":5.9371212121212125},20,5.9371212121212125,0,{"$f":"(AF18+AG18)*VLOOKUP(DataByMiles!AE16,DataByMiles!$AT$5:$AU$6,2,FALSE)","v":5.9371212121212125},0.29685606060606062,null,"P"]
[null,{"$f":"DataByMiles!C17","v":"Christyn"},{"$f":"DataByMiles!E17*VLOOKUP(DataByMiles!AE17,DataByMiles!$AT$5:$AU$6,2,FALSE)","v":0},null,null,0,{"$f":"C19*$G$2*VLOOKUP(DataByMiles!AE17,DataByMiles!$AT$5:$AU$6,2,FALSE)","v":0},{"$f":"DataByMiles!F17*VLOOKUP(DataByMiles!AE17,DataByMiles!$AT$5:$AU$6,2,FALSE)","v":0},null,null,0,{"$f":"H19*$L$2*VLOOKUP(DataByMiles!AE17,DataByMiles!$AT$5:$AU$6,2,FALSE)","v":0},{"$f":"DataByMiles!G17*VLOOKUP(DataByMiles!AE17,DataByMiles!$AT$5:$AU$6,2,FALSE)","v":0},null,null,{"$f":"M19*$P$2*VLOOKUP(DataByMiles!AE17,DataByMiles!$AT$5:$AU$6,2,FALSE)","v":0},{"$f":"DataByMiles!H17*VLOOKUP(DataByMiles!AE17,DataByMiles!$AT$5:$AU$6,2,FALSE)","v":0},null,null,{"$f":"Q19*$T$2*VLOOKUP(DataByMiles!AE17,DataByMiles!$AT$5:$AU$6,2,FALSE)","v":0},{"$f":"DataByMiles!I17*VLOOKUP(DataByMiles!AE17,DataByMiles!$AT$5:$AU$6,2,FALSE)","v":0},null,null,{"$f":"U19*$X$2*VLOOKUP(DataByMiles!AE17,DataByMiles!$AT$5:$AU$6,2,FALSE)","v":0},{"$f":"DataByMiles!J17*VLOOKUP(DataByMiles!AE17,DataByMiles!$AT$5:$AU$6,2,FALSE)","v":30},{"$f":"DataByMiles!K17","v":0},{"$f":"DataByMiles!L17","v":2},null,null,{"$f":"(Y19/IF(Z19=0,$AD$1,Z19)*$AD$2)/IF(AA19=0,1,AA19)*VLOOKUP(DataByMiles!AE17,DataByMiles!$AT$5:$AU$6,2,FALSE)","v":13.358522727272726},30,13.358522727272726,0,{"$f":"(AF19+AG19)*VLOOKUP(DataByMiles!AE17,DataByMiles!$AT$5:$AU$6,2,FALSE)","v":13.358522727272726},0.44528409090909088,null,"Q"]
[null,{"$f":"DataByMiles!C18","v":"emmy"},{"$f":"DataByMiles!E18*VLOOKUP(DataByMiles!AE18,DataByMiles!$AT$5:$AU$6,2,FALSE)","v":0},null,null,0,{"$f":"C20*$G$2*VLOOKUP(DataByMiles!AE18,DataByMiles!$AT$5:$AU$6,2,FALSE)","v":0},{"$f":"DataByMiles!F18*VLOOKUP(DataByMiles!AE18,DataByMiles!$AT$5:$AU$6,2,FALSE)","v":0},null,null,0,{"$f":"H20*$L$2*VLOOKUP(DataByMiles!AE18,DataByMiles!$AT$5:$AU$6,2,FALSE)","v":0},{"$f":"DataByMiles!G18*VLOOKUP(DataByMiles!AE18,DataByMiles!$AT$5:$AU$6,2,FALSE)","v":0},null,null,{"$f":"M20*$P$2*VLOOKUP(DataByMiles!AE18,DataByMiles!$AT$5:$AU$6,2,FALSE)","v":0},{"$f":"DataByMiles!H18*VLOOKUP(DataByMiles!AE18,DataByMiles!$AT$5:$AU$6,2,FALSE)","v":0},null,null,{"$f":"Q20*$T$2*VLOOKUP(DataByMiles!AE18,DataByMiles!$AT$5:$AU$6,2,FALSE)","v":0},{"$f":"DataByMiles!I18*VLOOKUP(DataByMiles!AE18,DataByMiles!$AT$5:$AU$6,2,FALSE)","v":0},null,null,{"$f":"U20*$X$2*VLOOKUP(DataByMiles!AE18,DataByMiles!$AT$5:$AU$6,2,FALSE)","v":0},{"$f":"DataByMiles!J18*VLOOKUP(DataByMiles!AE18,DataByMiles!$AT$5:$AU$6,2,FALSE)","v":2},{"$f":"DataByMiles!K18","v":0},{"$f":"DataByMiles!L18","v":2},null,null,{"$f":"(Y20/IF(Z20=0,$AD$1,Z20)*$AD$2)/IF(AA20=0,1,AA20)*VLOOKUP(DataByMiles!AE18,DataByMiles!$AT$5:$AU$6,2,FALSE)","v":0.89056818181818187},2,0.89056818181818187,0,{"$f":"(AF20+AG20)*VLOOKUP(DataByMiles!AE18,DataByMiles!$AT$5:$AU$6,2,FALSE)","v":0.89056818181818187},0.44528409090909093,null,"R"]
[null,{"$f":"DataByMiles!C19","v":"Abby"},{"$f":"DataByMiles!E19*VLOOKUP(DataByMiles!AE19,DataByMiles!$AT$5:$AU$6,2,FALSE)","v":0},null,null,0,{"$f":"C21*$G$2*VLOOKUP(DataByMiles!AE19,DataByMiles!$AT$5:$AU$6,2,FALSE)","v":0},{"$f":"DataByMiles!F19*VLOOKUP(DataByMiles!AE19,DataByMiles!$AT$5:$AU$6,2,FALSE)","v":0},null,null,0,{"$f":"H21*$L$2*VLOOKUP(DataByMiles!AE19,DataByMiles!$AT$5:$AU$6,2,FALSE)","v":0},{"$f":"DataByMiles!G19*VLOOKUP(DataByMiles!AE19,DataByMiles!$AT$5:$AU$6,2,FALSE)","v":0},null,null,{"$f":"M21*$P$2*VLOOKUP(DataByMiles!AE19,DataByMiles!$AT$5:$AU$6,2,FALSE)","v":0},{"$f":"DataByMiles!H19*VLOOKUP(DataByMiles!AE19,DataByMiles!$AT$5:$AU$6,2,FALSE)","v":0},null,null,{"$f":"Q21*$T$2*VLOOKUP(DataByMiles!AE19,DataByMiles!$AT$5:$AU$6,2,FALSE)","v":0},{"$f":"DataByMiles!I19*VLOOKUP(DataByMiles!AE19,DataByMiles!$AT$5:$AU$6,2,FALSE)","v":0},null,null,{"$f":"U21*$X$2*VLOOKUP(DataByMiles!AE19,DataByMiles!$AT$5:$AU$6,2,FALSE)","v":0},{"$f":"DataByMiles!J19*VLOOKUP(DataByMiles!AE19,DataByMiles!$AT$5:$AU$6,2,FALSE)","v":10},{"$f":"DataByMiles!K19","v":0},{"$f":"DataByMiles!L19","v":3},null,null,{"$f":"(Y21/IF(Z21=0,$AD$1,Z21)*$AD$2)/IF(AA21=0,1,AA21)*VLOOKUP(DataByMiles!AE19,DataByMiles!$AT$5:$AU$6,2,FALSE)","v":2.9685606060606062},10,2.9685606060606062,0,{"$f":"(AF21+AG21)*VLOOKUP(DataByMiles!AE19,DataByMiles!$AT$5:$AU$6,2,FALSE)","v":2.9685606060606062},0.29685606060606062,null,"S"]
[null,{"$f":"DataByMiles!C20","v":"Dinika"},{"$f":"DataByMiles!E20*VLOOKUP(DataByMiles!AE20,DataByMiles!$AT$5:$AU$6,2,FALSE)","v":0},null,null,0,{"$f":"C22*$G$2*VLOOKUP(DataByMiles!AE20,DataByMiles!$AT$5:$AU$6,2,FALSE)","v":0},{"$f":"DataByMiles!F20*VLOOKUP(DataByMiles!AE20,DataByMiles!$AT$5:$AU$6,2,FALSE)","v":0},null,null,0,{"$f":"H22*$L$2*VLOOKUP(DataByMiles!AE20,DataByMiles!$AT$5:$AU$6,2,FALSE)","v":0},{"$f":"DataByMiles!G20*VLOOKUP(DataByMiles!AE20,DataByMiles!$AT$5:$AU$6,2,FALSE)","v":0},null,null,{"$f":"M22*$P$2*VLOOKUP(DataByMiles!AE20,DataByMiles!$AT$5:$AU$6,2,FALSE)","v":0},{"$f":"DataByMiles!H20*VLOOKUP(DataByMiles!AE20,DataByMiles!$AT$5:$AU$6,2,FALSE)","v":0},null,null,{"$f":"Q22*$T$2*VLOOKUP(DataByMiles!AE20,DataByMiles!$AT$5:$AU$6,2,FALSE)","v":0},{"$f":"DataByMiles!I20*VLOOKUP(DataByMiles!AE20,DataByMiles!$AT$5:$AU$6,2,FALSE)","v":0},null,null,{"$f":"U22*$X$2*VLOOKUP(DataByMiles!AE20,DataByMiles!$AT$5:$AU$6,2,FALSE)","v":0},{"$f":"DataByMiles!J20*VLOOKUP(DataByMiles!AE20,DataByMiles!$AT$5:$AU$6,2,FALSE)","v":4},{"$f":"DataByMiles!K20","v":0},{"$f":"DataByMiles!L20","v":2},null,null,{"$f":"(Y22/IF(Z22=0,$AD$1,Z22)*$AD$2)/IF(AA22=0,1,AA22)*VLOOKUP(DataByMiles!AE20,DataByMiles!$AT$5:$AU$6,2,FALSE)","v":1.7811363636363637},4,1.7811363636363637,0,{"$f":"(AF22+AG22)*VLOOKUP(DataByMiles!AE20,DataByMiles!$AT$5:$AU$6,2,FALSE)","v":1.7811363636363637},0.44528409090909093,null,"T"]
[null,{"$f":"DataByMiles!C21","v":"Ashley"},{"$f":"DataByMiles!E21*VLOOKUP(DataByMiles!AE21,DataByMiles!$AT$5:$AU$6,2,FALSE)","v":0},null,null,0,{"$f":"C23*$G$2*VLOOKUP(DataByMiles!AE21,DataByMiles!$AT$5:$AU$6,2,FALSE)","v":0},{"$f":"DataByMiles!F21*VLOOKUP(DataByMiles!AE21,DataByMiles!$AT$5:$AU$6,2,FALSE)","v":0},null,null,0,{"$f":"H23*$L$2*VLOOKUP(DataByMiles!AE21,DataByMiles!$AT$5:$AU$6,2,FALSE)","v":0},{"$f":"DataByMiles!G21*VLOOKUP(DataByMiles!AE21,DataByMiles!$AT$5:$AU$6,2,FALSE)","v":0},null,null,{"$f":"M23*$P$2*VLOOKUP(DataByMiles!AE21,DataByMiles!$AT$5:$AU$6,2,FALSE)","v":0},{"$f":"DataByMiles!H21*VLOOKUP(DataByMiles!AE21,DataByMiles!$AT$5:$AU$6,2,FALSE)","v":0},null,null,{"$f":"Q23*$T$2*VLOOKUP(DataByMiles!AE21,DataByMiles!$AT$5:$AU$6,2,FALSE)","v":0},{"$f":"DataByMiles!I21*VLOOKUP(DataByMiles!AE21,DataByMiles!$AT$5:$AU$6,2,FALSE)","v":0},null,null,{"$f":"U23*$X$2*VLOOKUP(DataByMiles!AE21,DataByMiles!$AT$5:$AU$6,2,FALSE)","v":0},{"$f":"DataByMiles!J21*VLOOKUP(DataByMiles!AE21,DataByMiles!$AT$5:$AU$6,2,FALSE)","v":4},{"$f":"DataByMiles!K21","v":0},{"$f":"DataByMiles!L21","v":4},null,null,{"$f":"(Y23/IF(Z23=0,$AD$1,Z23)*$AD$2)/IF(AA23=0,1,AA23)*VLOOKUP(DataByMiles!AE21,DataByMiles!$AT$5:$AU$6,2,FALSE)","v":0.89056818181818187},4,0.89056818181818187,0,{"$f":"(AF23+AG23)*VLOOKUP(DataByMiles!AE21,DataByMiles!$AT$5:$AU$6,2,FALSE)","v":0.89056818181818187},0.22264204545454547,null,"U"]
[null,{"$f":"DataByMiles!C22","v":"Adelene"},{"$f":"DataByMiles!E22*VLOOKUP(DataByMiles!AE22,DataByMiles!$AT$5:$AU$6,2,FALSE)","v":0},null,null,0,{"$f":"C24*$G$2*VLOOKUP(DataByMiles!AE22,DataByMiles!$AT$5:$AU$6,2,FALSE)","v":0},{"$f":"DataByMiles!F22*VLOOKUP(DataByMiles!AE22,DataByMiles!$AT$5:$AU$6,2,FALSE)","v":0},null,null,0,{"$f":"H24*$L$2*VLOOKUP(DataByMiles!AE22,DataByMiles!$AT$5:$AU$6,2,FALSE)","v":0},{"$f":"DataByMiles!G22*VLOOKUP(DataByMiles!AE22,DataByMiles!$AT$5:$AU$6,2,FALSE)","v":0},null,null,{"$f":"M24*$P$2*VLOOKUP(DataByMiles!AE22,DataByMiles!$AT$5:$AU$6,2,FALSE)","v":0},{"$f":"DataByMiles!H22*VLOOKUP(DataByMiles!AE22,DataByMiles!$AT$5:$AU$6,2,FALSE)","v":0},null,null,{"$f":"Q24*$T$2*VLOOKUP(DataByMiles!AE22,DataByMiles!$AT$5:$AU$6,2,FALSE)","v":0},{"$f":"DataByMiles!I22*VLOOKUP(DataByMiles!AE22,DataByMiles!$AT$5:$AU$6,2,FALSE)","v":0},null,null,{"$f":"U24*$X$2*VLOOKUP(DataByMiles!AE22,DataByMiles!$AT$5:$AU$6,2,FALSE)","v":0},{"$f":"DataByMiles!J22*VLOOKUP(DataByMiles!AE22,DataByMiles!$AT$5:$AU$6,2,FALSE)","v":20},{"$f":"DataByMiles!K22","v":0},{"$f":"DataByMiles!L22","v":3},null,null,{"$f":"(Y24/IF(Z24=0,$AD$1,Z24)*$AD$2)/IF(AA24=0,1,AA24)*VLOOKUP(DataByMiles!AE22,DataByMiles!$AT$5:$AU$6,2,FALSE)","v":5.9371212121212125},20,5.9371212121212125,0,{"$f":"(AF24+AG24)*VLOOKUP(DataByMiles!AE22,DataByMiles!$AT$5:$AU$6,2,FALSE)","v":5.9371212121212125},0.29685606060606062,null,"V"]
[null,{"$f":"DataByMiles!C23","v":"Rialyn"},{"$f":"DataByMiles!E23*VLOOKUP(DataByMiles!AE23,DataByMiles!$AT$5:$AU$6,2,FALSE)","v":7.5},null,null,0,{"$f":"C25*$G$2*VLOOKUP(DataByMiles!AE23,DataByMiles!$AT$5:$AU$6,2,FALSE)","v":1.75725},{"$f":"DataByMiles!F23*VLOOKUP(DataByMiles!AE23,DataByMiles!$AT$5:$AU$6,2,FALSE)","v":0},null,null,0,{"$f":"H25*$L$2*VLOOKUP(DataByMiles!AE23,DataByMiles!$AT$5:$AU$6,2,FALSE)","v":0},{"$f":"DataByMiles!G23*VLOOKUP(DataByMiles!AE23,DataByMiles!$AT$5:$AU$6,2,FALSE)","v":0},null,null,{"$f":"M25*$P$2*VLOOKUP(DataByMiles!AE23,DataByMiles!$AT$5:$AU$6,2,FALSE)","v":0},{"$f":"DataByMiles!H23*VLOOKUP(DataByMiles!AE23,DataByMiles!$AT$5:$AU$6,2,FALSE)","v":0},null,null,{"$f":"Q25*$T$2*VLOOKUP(DataByMiles!AE23,DataByMiles!$AT$5:$AU$6,2,FALSE)","v":0},{"$f":"DataByMiles!I23*VLOOKUP(DataByMiles!AE23,DataByMiles!$AT$5:$AU$6,2,FALSE)","v":0},null,null,{"$f":"U25*$X$2*VLOOKUP(DataByMiles!AE23,DataByMiles!$AT$5:$AU$6,2,FALSE)","v":0},{"$f":"DataByMiles!J23*VLOOKUP(DataByMiles!AE23,DataByMiles!$AT$5:$AU$6,2,FALSE)","v":45},{"$f":"DataByMiles!K23","v":0},{"$f":"DataByMiles!L23","v":4},null,null,{"$f":"(Y25/IF(Z25=0,$AD$1,Z25)*$AD$2)/IF(AA25=0,1,AA25)*VLOOKUP(DataByMiles!AE23,DataByMiles!$AT$5:$AU$6,2,FALSE)","v":10.018892045454546},52.5,10.018892045454546,1.75725,{"$f":"(AF25+AG25)*VLOOKUP(DataByMiles!AE23,DataByMiles!$AT$5:$AU$6,2,FALSE)","v":11.776142045454545},0.22430746753246752,null,"W"]
[null,{"$f":"DataByMiles!C24","v":"Michael"},{"$f":"DataByMiles!E24*VLOOKUP(DataByMiles!AE24,DataByMiles!$AT$5:$AU$6,2,FALSE)","v":10},null,null,0,{"$f":"C26*$G$2*VLOOKUP(DataByMiles!AE24,DataByMiles!$AT$5:$AU$6,2,FALSE)","v":2.343},{"$f":"DataByMiles!F24*VLOOKUP(DataByMiles!AE24,DataByMiles!$AT$5:$AU$6,2,FALSE)","v":0},null,null,0,{"$f":"H26*$L$2*VLOOKUP(DataByMiles!AE24,DataByMiles!$AT$5:$AU$6,2,FALSE)","v":0},{"$f":"DataByMiles!G24*VLOOKUP(DataByMiles!AE24,DataByMiles!$AT$5:$AU$6,2,FALSE)","v":0},null,null,{"$f":"M26*$P$2*VLOOKUP(DataByMiles!AE24,DataByMiles!$AT$5:$AU$6,2,FALSE)","v":0},{"$f":"DataByMiles!H24*VLOOKUP(DataByMiles!AE24,DataByMiles!$AT$5:$AU$6,2,FALSE)","v":0},null,null,{"$f":"Q26*$T$2*VLOOKUP(DataByMiles!AE24,DataByMiles!$AT$5:$AU$6,2,FALSE)","v":0},{"$f":"DataByMiles!I24*VLOOKUP(DataByMiles!AE24,DataByMiles!$AT$5:$AU$6,2,FALSE)","v":0},null,null,{"$f":"U26*$X$2*VLOOKUP(DataByMiles!AE24,DataByMiles!$AT$5:$AU$6,2,FALSE)","v":0},{"$f":"DataByMiles!J24*VLOOKUP(DataByMiles!AE24,DataByMiles!$AT$5:$AU$6,2,FALSE)","v":15},{"$f":"DataByMiles!K24","v":0},{"$f":"DataByMiles!L24","v":2},null,null,{"$f":"(Y26/IF(Z26=0,$AD$1,Z26)*$AD$2)/IF(AA26=0,1,AA26)*VLOOKUP(DataByMiles!AE24,DataByMiles!$AT$5:$AU$6,2,FALSE)","v":6.6792613636363631},25,6.6792613636363631,2.343,{"$f":"(AF26+AG26)*VLOOKUP(DataByMiles!AE24,DataByMiles!$AT$5:$AU$6,2,FALSE)","v":9.022261363636364},0.36089045454545454,null,"X"]
[null,{"$f":"DataByMiles!C25","v":"Kevin"},{"$f":"DataByMiles!E25*VLOOKUP(DataByMiles!AE25,DataByMiles!$AT$5:$AU$6,2,FALSE)","v":0},null,null,0,{"$f":"C27*$G$2*VLOOKUP(DataByMiles!AE25,DataByMiles!$AT$5:$AU$6,2,FALSE)","v":0},{"$f":"DataByMiles!F25*VLOOKUP(DataByMiles!AE25,DataByMiles!$AT$5:$AU$6,2,FALSE)","v":0},null,null,0,{"$f":"H27*$L$2*VLOOKUP(DataByMiles!AE25,DataByMiles!$AT$5:$AU$6,2,FALSE)","v":0},{"$f":"DataByMiles!G25*VLOOKUP(DataByMiles!AE25,DataByMiles!$AT$5:$AU$6,2,FALSE)","v":0},null,null,{"$f":"M27*$P$2*VLOOKUP(DataByMiles!AE25,DataByMiles!$AT$5:$AU$6,2,FALSE)","v":0},{"$f":"DataByMiles!H25*VLOOKUP(DataByMiles!AE25,DataByMiles!$AT$5:$AU$6,2,FALSE)","v":0},null,null,{"$f":"Q27*$T$2*VLOOKUP(DataByMiles!AE25,DataByMiles!$AT$5:$AU$6,2,FALSE)","v":0},{"$f":"DataByMiles!I25*VLOOKUP(DataByMiles!AE25,DataByMiles!$AT$5:$AU$6,2,FALSE)","v":0},null,null,{"$f":"U27*$X$2*VLOOKUP(DataByMiles!AE25,DataByMiles!$AT$5:$AU$6,2,FALSE)","v":0},{"$f":"DataByMiles!J25*VLOOKUP(DataByMiles!AE25,DataByMiles!$AT$5:$AU$6,2,FALSE)","v":20},{"$f":"DataByMiles!K25","v":0},{"$f":"DataByMiles!L25","v":2},null,null,{"$f":"(Y27/IF(Z27=0,$AD$1,Z27)*$AD$2)/IF(AA27=0,1,AA27)*VLOOKUP(DataByMiles!AE25,DataByMiles!$AT$5:$AU$6,2,FALSE)","v":8.9056818181818187},20,8.9056818181818187,0,{"$f":"(AF27+AG27)*VLOOKUP(DataByMiles!AE25,DataByMiles!$AT$5:$AU$6,2,FALSE)","v":8.9056818181818187},0.44528409090909093,null,"Y"]
[null,{"$f":"DataByMiles!C26","v":"Khang"},{"$f":"DataByMiles!E26*VLOOKUP(DataByMiles!AE26,DataByMiles!$AT$5:$AU$6,2,FALSE)","v":10},null,null,0,{"$f":"C28*$G$2*VLOOKUP(DataByMiles!AE26,DataByMiles!$AT$5:$AU$6,2,FALSE)","v":2.343},{"$f":"DataByMiles!F26*VLOOKUP(DataByMiles!AE26,DataByMiles!$AT$5:$AU$6,2,FALSE)","v":0},null,null,0,{"$f":"H28*$L$2*VLOOKUP(DataByMiles!AE26,DataByMiles!$AT$5:$AU$6,2,FALSE)","v":0},{"$f":"DataByMiles!G26*VLOOKUP(DataByMiles!AE26,DataByMiles!$AT$5:$AU$6,2,FALSE)","v":0},null,null,{"$f":"M28*$P$2*VLOOKUP(DataByMiles!AE26,DataByMiles!$AT$5:$AU$6,2,FALSE)","v":0},{"$f":"DataByMiles!H26*VLOOKUP(DataByMiles!AE26,DataByMiles!$AT$5:$AU$6,2,FALSE)","v":0},null,null,{"$f":"Q28*$T$2*VLOOKUP(DataByMiles!AE26,DataByMiles!$AT$5:$AU$6,2,FALSE)","v":0},{"$f":"DataByMiles!I26*VLOOKUP(DataByMiles!AE26,DataByMiles!$AT$5:$AU$6,2,FALSE)","v":0},null,null,{"$f":"U28*$X$2*VLOOKUP(DataByMiles!AE26,DataByMiles!$AT$5:$AU$6,2,FALSE)","v":0},{"$f":"DataByMiles!J26*VLOOKUP(DataByMiles!AE26,DataByMiles!$AT$5:$AU$6,2,FALSE)","v":10},{"$f":"DataByMiles!K26","v":0},{"$f":"DataByMiles!L26","v":3},null,null,{"$f":"(Y28/IF(Z28=0,$AD$1,Z28)*$AD$2)/IF(AA28=0,1,AA28)*VLOOKUP(DataByMiles!AE26,DataByMiles!$AT$5:$AU$6,2,FALSE)","v":2.9685606060606062},20,2.9685606060606062,2.343,{"$f":"(AF28+AG28)*VLOOKUP(DataByMiles!AE26,DataByMiles!$AT$5:$AU$6,2,FALSE)","v":5.3115606060606062},0.26557803030303029,null,"Z"]
[null,{"$f":"DataByMiles!C27","v":"Riley"},{"$f":"DataByMiles!E27*VLOOKUP(DataByMiles!AE27,DataByMiles!$AT$5:$AU$6,2,FALSE)","v":5},null,null,0,{"$f":"C29*$G$2*VLOOKUP(DataByMiles!AE27,DataByMiles!$AT$5:$AU$6,2,FALSE)","v":1.1715},{"$f":"DataByMiles!F27*VLOOKUP(DataByMiles!AE27,DataByMiles!$AT$5:$AU$6,2,FALSE)","v":0},null,null,0,{"$f":"H29*$L$2*VLOOKUP(DataByMiles!AE27,DataByMiles!$AT$5:$AU$6,2,FALSE)","v":0},{"$f":"DataByMiles!G27*VLOOKUP(DataByMiles!AE27,DataByMiles!$AT$5:$AU$6,2,FALSE)","v":0},null,null,{"$f":"M29*$P$2*VLOOKUP(DataByMiles!AE27,DataByMiles!$AT$5:$AU$6,2,FALSE)","v":0},{"$f":"DataByMiles!H27*VLOOKUP(DataByMiles!AE27,DataByMiles!$AT$5:$AU$6,2,FALSE)","v":0},null,null,{"$f":"Q29*$T$2*VLOOKUP(DataByMiles!AE27,DataByMiles!$AT$5:$AU$6,2,FALSE)","v":0},{"$f":"DataByMiles!I27*VLOOKUP(DataByMiles!AE27,DataByMiles!$AT$5:$AU$6,2,FALSE)","v":0},null,null,{"$f":"U29*$X$2*VLOOKUP(DataByMiles!AE27,DataByMiles!$AT$5:$AU$6,2,FALSE)","v":0},{"$f":"DataByMiles!J27*VLOOKUP(DataByMiles!AE27,DataByMiles!$AT$5:$AU$6,2,FALSE)","v":5},{"$f":"DataByMiles!K27","v":0},{"$f":"DataByMiles!L27","v":3},null,null,{"$f":"(Y29/IF(Z29=0,$AD$1,Z29)*$AD$2)/IF(AA29=0,1,AA29)*VLOOKUP(DataByMiles!AE27,DataByMiles!$AT$5:$AU$6,2,FALSE)","v":1.4842803030303031},10,1.4842803030303031,1.1715,{"$f":"(AF29+AG29)*VLOOKUP(DataByMiles!AE27,DataByMiles!$AT$5:$AU$6,2,FALSE)","v":2.6557803030303031},0.26557803030303029,null,"AA"]
[null,{"$f":"DataByMiles!C28","v":"Justin"},{"$f":"DataByMiles!E28*VLOOKUP(DataByMiles!AE28,DataByMiles!$AT$5:$AU$6,2,FALSE)","v":10},null,null,0,{"$f":"C30*$G$2*VLOOKUP(DataByMiles!AE28,DataByMiles!$AT$5:$AU$6,2,FALSE)","v":2.343},{"$f":"DataByMiles!F28*VLOOKUP(DataByMiles!AE28,DataByMiles!$AT$5:$AU$6,2,FALSE)","v":0},null,null,0,{"$f":"H30*$L$2*VLOOKUP(DataByMiles!AE28,DataByMiles!$AT$5:$AU$6,2,FALSE)","v":0},{"$f":"DataByMiles!G28*VLOOKUP(DataByMiles!AE28,DataByMiles!$AT$5:$AU$6,2,FALSE)","v":0},null,null,{"$f":"M30*$P$2*VLOOKUP(DataByMiles!AE28,DataByMiles!$AT$5:$AU$6,2,FALSE)","v":0},{"$f":"DataByMiles!H28*VLOOKUP(DataByMiles!AE28,DataByMiles!$AT$5:$AU$6,2,FALSE)","v":0},null,null,{"$f":"Q30*$T$2*VLOOKUP(DataByMiles!AE28,DataByMiles!$AT$5:$AU$6,2,FALSE)","v":0},{"$f":"DataByMiles!I28*VLOOKUP(DataByMiles!AE28,DataByMiles!$AT$5:$AU$6,2,FALSE)","v":0},null,null,{"$f":"U30*$X$2*VLOOKUP(DataByMiles!AE28,DataByMiles!$AT$5:$AU$6,2,FALSE)","v":0},{"$f":"DataByMiles!J28*VLOOKUP(DataByMiles!AE28,DataByMiles!$AT$5:$AU$6,2,FALSE)","v":0},{"$f":"DataByMiles!K28","v":0},{"$f":"DataByMiles!L28","v":0},null,null,{"$f":"(Y30/IF(Z30=0,$AD$1,Z30)*$AD$2)/IF(AA30=0,1,AA30)*VLOOKUP(DataByMiles!AE28,DataByMiles!$AT$5:$AU$6,2,FALSE)","v":0},10,0,2.343,{"$f":"(AF30+AG30)*VLOOKUP(DataByMiles!AE28,DataByMiles!$AT$5:$AU$6,2,FALSE)","v":2.343},0.23430000000000001,null,"AB"]
[null,{"$f":"DataByMiles!C29","v":"Shawn"},{"$f":"DataByMiles!E29*VLOOKUP(DataByMiles!AE29,DataByMiles!$AT$5:$AU$6,2,FALSE)","v":10},null,null,0,{"$f":"C31*$G$2*VLOOKUP(DataByMiles!AE29,DataByMiles!$AT$5:$AU$6,2,FALSE)","v":2.343},{"$f":"DataByMiles!F29*VLOOKUP(DataByMiles!AE29,DataByMiles!$AT$5:$AU$6,2,FALSE)","v":0},null,null,0,{"$f":"H31*$L$2*VLOOKUP(DataByMiles!AE29,DataByMiles!$AT$5:$AU$6,2,FALSE)","v":0},{"$f":"DataByMiles!G29*VLOOKUP(DataByMiles!AE29,DataByMiles!$AT$5:$AU$6,2,FALSE)","v":0},null,null,{"$f":"M31*$P$2*VLOOKUP(DataByMiles!AE29,DataByMiles!$AT$5:$AU$6,2,FALSE)","v":0},{"$f":"DataByMiles!H29*VLOOKUP(DataByMiles!AE29,DataByMiles!$AT$5:$AU$6,2,FALSE)","v":0},null,null,{"$f":"Q31*$T$2*VLOOKUP(DataByMiles!AE29,DataByMiles!$AT$5:$AU$6,2,FALSE)","v":0},{"$f":"DataByMiles!I29*VLOOKUP(DataByMiles!AE29,DataByMiles!$AT$5:$AU$6,2,FALSE)","v":0},null,null,{"$f":"U31*$X$2*VLOOKUP(DataByMiles!AE29,DataByMiles!$AT$5:$AU$6,2,FALSE)","v":0},{"$f":"DataByMiles!J29*VLOOKUP(DataByMiles!AE29,DataByMiles!$AT$5:$AU$6,2,FALSE)","v":0},{"$f":"DataByMiles!K29","v":0},{"$f":"DataByMiles!L29","v":0},null,null,{"$f":"(Y31/IF(Z31=0,$AD$1,Z31)*$AD$2)/IF(AA31=0,1,AA31)*VLOOKUP(DataByMiles!AE29,DataByMiles!$AT$5:$AU$6,2,FALSE)","v":0},10,0,2.343,{"$f":"(AF31+AG31)*VLOOKUP(DataByMiles!AE29,DataByMiles!$AT$5:$AU$6,2,FALSE)","v":2.343},0.23430000000000001,null,"AC"]
[null,{"$f":"DataByMiles!C30","v":"Angelique"},{"$f":"DataByMiles!E30*VLOOKUP(DataByMiles!AE30,DataByMiles!$AT$5:$AU$6,2,FALSE)","v":3.5},null,null,0,{"$f":"C32*$G$2*VLOOKUP(DataByMiles!AE30,DataByMiles!$AT$5:$AU$6,2,FALSE)","v":0.82005000000000006},{"$f":"DataByMiles!F30*VLOOKUP(DataByMiles!AE30,DataByMiles!$AT$5:$AU$6,2,FALSE)","v":0},null,null,0,{"$f":"H32*$L$2*VLOOKUP(DataByMiles!AE30,DataByMiles!$AT$5:$AU$6,2,FALSE)","v":0},{"$f":"DataByMiles!G30*VLOOKUP(DataByMiles!AE30,DataByMiles!$AT$5:$AU$6,2,FALSE)","v":0},null,null,{"$f":"M32*$P$2*VLOOKUP(DataByMiles!AE30,DataByMiles!$AT$5:$AU$6,2,FALSE)","v":0},{"$f":"DataByMiles!H30*VLOOKUP(DataByMiles!AE30,DataByMiles!$AT$5:$AU$6,2,FALSE)","v":0},null,null,{"$f":"Q32*$T$2*VLOOKUP(DataByMiles!AE30,DataByMiles!$AT$5:$AU$6,2,FALSE)","v":0},{"$f":"DataByMiles!I30*VLOOKUP(DataByMiles!AE30,DataByMiles!$AT$5:$AU$6,2,FALSE)","v":0},null,null,{"$f":"U32*$X$2*VLOOKUP(DataByMiles!AE30,DataByMiles!$AT$5:$AU$6,2,FALSE)","v":0},{"$f":"DataByMiles!J30*VLOOKUP(DataByMiles!AE30,DataByMiles!$AT$5:$AU$6,2,FALSE)","v":0},{"$f":"DataByMiles!K30","v":0},{"$f":"DataByMiles!L30","v":0},null,null,{"$f":"(Y32/IF(Z32=0,$AD$1,Z32)*$AD$2)/IF(AA32=0,1,AA32)*VLOOKUP(DataByMiles!AE30,DataByMiles!$AT$5:$AU$6,2,FALSE)","v":0},3.5,0,0.82005000000000006,{"$f":"(AF32+AG32)*VLOOKUP(DataByMiles!AE30,DataByMiles!$AT$5:$AU$6,2,FALSE)","v":0.82005000000000006},0.23430000000000001,null,"AD"]
[null,{"$f":"DataByMiles!C31","v":"Reema"},{"$f":"DataByMiles!E31*VLOOKUP(DataByMiles!AE31,DataByMiles!$AT$5:$AU$6,2,FALSE)","v":2},null,null,0,{"$f":"C33*$G$2*VLOOKUP(DataByMiles!AE31,DataByMiles!$AT$5:$AU$6,2,FALSE)","v":0.46860000000000002},{"$f":"DataByMiles!F31*VLOOKUP(DataByMiles!AE31,DataByMiles!$AT$5:$AU$6,2,FALSE)","v":0},null,null,0,{"$f":"H33*$L$2*VLOOKUP(DataByMiles!AE31,DataByMiles!$AT$5:$AU$6,2,FALSE)","v":0},{"$f":"DataByMiles!G31*VLOOKUP(DataByMiles!AE31,DataByMiles!$AT$5:$AU$6,2,FALSE)","v":0},null,null,{"$f":"M33*$P$2*VLOOKUP(DataByMiles!AE31,DataByMiles!$AT$5:$AU$6,2,FALSE)","v":0},{"$f":"DataByMiles!H31*VLOOKUP(DataByMiles!AE31,DataByMiles!$AT$5:$AU$6,2,FALSE)","v":0},null,null,{"$f":"Q33*$T$2*VLOOKUP(DataByMiles!AE31,DataByMiles!$AT$5:$AU$6,2,FALSE)","v":0},{"$f":"DataByMiles!I31*VLOOKUP(DataByMiles!AE31,DataByMiles!$AT$5:$AU$6,2,FALSE)","v":0},null,null,{"$f":"U33*$X$2*VLOOKUP(DataByMiles!AE31,DataByMiles!$AT$5:$AU$6,2,FALSE)","v":0},{"$f":"DataByMiles!J31*VLOOKUP(DataByMiles!AE31,DataByMiles!$AT$5:$AU$6,2,FALSE)","v":0},{"$f":"DataByMiles!K31","v":0},{"$f":"DataByMiles!L31","v":0},null,null,{"$f":"(Y33/IF(Z33=0,$AD$1,Z33)*$AD$2)/IF(AA33=0,1,AA33)*VLOOKUP(DataByMiles!AE31,DataByMiles!$AT$5:$AU$6,2,FALSE)","v":0},2,0,0.46860000000000002,{"$f":"(AF33+AG33)*VLOOKUP(DataByMiles!AE31,DataByMiles!$AT$5:$AU$6,2,FALSE)","v":0.46860000000000002},0.23430000000000001,null,"AE"]
[null,{"$f":"DataByMiles!C32","v":"Alexis"},{"$f":"DataByMiles!E32*VLOOKUP(DataByMiles!AE32,DataByMiles!$AT$5:$AU$6,2,FALSE)","v":4},null,null,0,{"$f":"C34*$G$2*VLOOKUP(DataByMiles!AE32,DataByMiles!$AT$5:$AU$6,2,FALSE)","v":0.93720000000000003},{"$f":"DataByMiles!F32*VLOOKUP(DataByMiles!AE32,DataByMiles!$AT$5:$AU$6,2,FALSE)","v":0},null,null,0,{"$f":"H34*$L$2*VLOOKUP(DataByMiles!AE32,DataByMiles!$AT$5:$AU$6,2,FALSE)","v":0},{"$f":"DataByMiles!G32*VLOOKUP(DataByMiles!AE32,DataByMiles!$AT$5:$AU$6,2,FALSE)","v":0},null,null,{"$f":"M34*$P$2*VLOOKUP(DataByMiles!AE32,DataByMiles!$AT$5:$AU$6,2,FALSE)","v":0},{"$f":"DataByMiles!H32*VLOOKUP(DataByMiles!AE32,DataByMiles!$AT$5:$AU$6,2,FALSE)","v":0},null,null,{"$f":"Q34*$T$2*VLOOKUP(DataByMiles!AE32,DataByMiles!$AT$5:$AU$6,2,FALSE)","v":0},{"$f":"DataByMiles!I32*VLOOKUP(DataByMiles!AE32,DataByMiles!$AT$5:$AU$6,2,FALSE)","v":0},null,null,{"$f":"U34*$X$2*VLOOKUP(DataByMiles!AE32,DataByMiles!$AT$5:$AU$6,2,FALSE)","v":0},{"$f":"DataByMiles!J32*VLOOKUP(DataByMiles!AE32,DataByMiles!$AT$5:$AU$6,2,FALSE)","v":2},{"$f":"DataByMiles!K32","v":0},{"$f":"DataByMiles!L32","v":3},null,null,{"$f":"(Y34/IF(Z34=0,$AD$1,Z34)*$AD$2)/IF(AA34=0,1,AA34)*VLOOKUP(DataByMiles!AE32,DataByMiles!$AT$5:$AU$6,2,FALSE)","v":0.59371212121212125},6,0.59371212121212125,0.93720000000000003,{"$f":"(AF34+AG34)*VLOOKUP(DataByMiles!AE32,DataByMiles!$AT$5:$AU$6,2,FALSE)","v":1.5309121212121213},0.25515202020202021,null,"AF"]
[null,{"$f":"DataByMiles!C33","v":"Gursewak"},{"$f":"DataByMiles!E33*VLOOKUP(DataByMiles!AE33,DataByMiles!$AT$5:$AU$6,2,FALSE)","v":10},null,null,0,{"$f":"C35*$G$2*VLOOKUP(DataByMiles!AE33,DataByMiles!$AT$5:$AU$6,2,FALSE)","v":2.343},{"$f":"DataByMiles!F33*VLOOKUP(DataByMiles!AE33,DataByMiles!$AT$5:$AU$6,2,FALSE)","v":0},null,null,0,{"$f":"H35*$L$2*VLOOKUP(DataByMiles!AE33,DataByMiles!$AT$5:$AU$6,2,FALSE)","v":0},{"$f":"DataByMiles!G33*VLOOKUP(DataByMiles!AE33,DataByMiles!$AT$5:$AU$6,2,FALSE)","v":0},null,null,{"$f":"M35*$P$2*VLOOKUP(DataByMiles!AE33,DataByMiles!$AT$5:$AU$6,2,FALSE)","v":0},{"$f":"DataByMiles!H33*VLOOKUP(DataByMiles!AE33,DataByMiles!$AT$5:$AU$6,2,FALSE)","v":0},null,null,{"$f":"Q35*$T$2*VLOOKUP(DataByMiles!AE33,DataByMiles!$AT$5:$AU$6,2,FALSE)","v":0},{"$f":"DataByMiles!I33*VLOOKUP(DataByMiles!AE33,DataByMiles!$AT$5:$AU$6,2,FALSE)","v":0},null,null,{"$f":"U35*$X$2*VLOOKUP(DataByMiles!AE33,DataByMiles!$AT$5:$AU$6,2,FALSE)","v":0},{"$f":"DataByMiles!J33*VLOOKUP(DataByMiles!AE33,DataByMiles!$AT$5:$AU$6,2,FALSE)","v":0},{"$f":"DataByMiles!K33","v":0},{"$f":"DataByMiles!L33","v":0},null,null,{"$f":"(Y35/IF(Z35=0,$AD$1,Z35)*$AD$2)/IF(AA35=0,1,AA35)*VLOOKUP(DataByMiles!AE33,DataByMiles!$AT$5:$AU$6,2,FALSE)","v":0},10,0,2.343,{"$f":"(AF35+AG35)*VLOOKUP(DataByMiles!AE33,DataByMiles!$AT$5:$AU$6,2,FALSE)","v":2.343},0.23430000000000001,null,"AG"]
[null,{"$f":"DataByMiles!C34","v":"Zach"},{"$f":"DataByMiles!E34*VLOOKUP(DataByMiles!AE34,DataByMiles!$AT$5:$AU$6,2,FALSE)","v":5},null,null,0,{"$f":"C36*$G$2*VLOOKUP(DataByMiles!AE34,DataByMiles!$AT$5:$AU$6,2,FALSE)","v":1.1715},{"$f":"DataByMiles!F34*VLOOKUP(DataByMiles!AE34,DataByMiles!$AT$5:$AU$6,2,FALSE)","v":0},null,null,0,{"$f":"H36*$L$2*VLOOKUP(DataByMiles!AE34,DataByMiles!$AT$5:$AU$6,2,FALSE)","v":0},{"$f":"DataByMiles!G34*VLOOKUP(DataByMiles!AE34,DataByMiles!$AT$5:$AU$6,2,FALSE)","v":0},null,null,{"$f":"M36*$P$2*VLOOKUP(DataByMiles!AE34,DataByMiles!$AT$5:$AU$6,2,FALSE)","v":0},{"$f":"DataByMiles!H34*VLOOKUP(DataByMiles!AE34,DataByMiles!$AT$5:$AU$6,2,FALSE)","v":0},null,null,{"$f":"Q36*$T$2*VLOOKUP(DataByMiles!AE34,DataByMiles!$AT$5:$AU$6,2,FALSE)","v":0},{"$f":"DataByMiles!I34*VLOOKUP(DataByMiles!AE34,DataByMiles!$AT$5:$AU$6,2,FALSE)","v":0},null,null,{"$f":"U36*$X$2*VLOOKUP(DataByMiles!AE34,DataByMiles!$AT$5:$AU$6,2,FALSE)","v":0},{"$f":"DataByMiles!J34*VLOOKUP(DataByMiles!AE34,DataByMiles!$AT$5:$AU$6,2,FALSE)","v":0},{"$f":"DataByMiles!K34","v":0},{"$f":"DataByMiles!L34","v":0},null,null,{"$f":"(Y36/IF(Z36=0,$AD$1,Z36)*$AD$2)/IF(AA36=0,1,AA36)*VLOOKUP(DataByMiles!AE34,DataByMiles!$AT$5:$AU$6,2,FALSE)","v":0},5,0,1.1715,{"$f":"(AF36+AG36)*VLOOKUP(DataByMiles!AE34,DataByMiles!$AT$5:$AU$6,2,FALSE)","v":1.1715},0.23430000000000001,null,"AH"]
[null,{"$f":"DataByMiles!C35","v":"Dakota"},{"$f":"DataByMiles!E35*VLOOKUP(DataByMiles!AE35,DataByMiles!$AT$5:$AU$6,2,FALSE)","v":4},null,null,0,{"$f":"C37*$G$2*VLOOKUP(DataByMiles!AE35,DataByMiles!$AT$5:$AU$6,2,FALSE)","v":0.93720000000000003},{"$f":"DataByMiles!F35*VLOOKUP(DataByMiles!AE35,DataByMiles!$AT$5:$AU$6,2,FALSE)","v":0},null,null,0,{"$f":"H37*$L$2*VLOOKUP(DataByMiles!AE35,DataByMiles!$AT$5:$AU$6,2,FALSE)","v":0},{"$f":"DataByMiles!G35*VLOOKUP(DataByMiles!AE35,DataByMiles!$AT$5:$AU$6,2,FALSE)","v":0},null,null,{"$f":"M37*$P$2*VLOOKUP(DataByMiles!AE35,DataByMiles!$AT$5:$AU$6,2,FALSE)","v":0},{"$f":"DataByMiles!H35*VLOOKUP(DataByMiles!AE35,DataByMiles!$AT$5:$AU$6,2,FALSE)","v":0},null,null,{"$f":"Q37*$T$2*VLOOKUP(DataByMiles!AE35,DataByMiles!$AT$5:$AU$6,2,FALSE)","v":0},{"$f":"DataByMiles!I35*VLOOKUP(DataByMiles!AE35,DataByMiles!$AT$5:$AU$6,2,FALSE)","v":0},null,null,{"$f":"U37*$X$2*VLOOKUP(DataByMiles!AE35,DataByMiles!$AT$5:$AU$6,2,FALSE)","v":0},{"$f":"DataByMiles!J35*VLOOKUP(DataByMiles!AE35,DataByMiles!$AT$5:$AU$6,2,FALSE)","v":54},{"$f":"DataByMiles!K35","v":0},{"$f":"DataByMiles!L35","v":2},null,null,{"$f":"(Y37/IF(Z37=0,$AD$1,Z37)*$AD$2)/IF(AA37=0,1,AA37)*VLOOKUP(DataByMiles!AE35,DataByMiles!$AT$5:$AU$6,2,FALSE)","v":24.04534090909091},58,24.04534090909091,0.93720000000000003,{"$f":"(AF37+AG37)*VLOOKUP(DataByMiles!AE35,DataByMiles!$AT$5:$AU$6,2,FALSE)","v":24.982540909090911},0.4307334639498433,null,"AI"]
[null,{"$f":"DataByMiles!C36","v":"Fernando"},{"$f":"DataByMiles!E36*VLOOKUP(DataByMiles!AE36,DataByMiles!$AT$5:$AU$6,2,FALSE)","v":10},null,null,0,{"$f":"C38*$G$2*VLOOKUP(DataByMiles!AE36,DataByMiles!$AT$5:$AU$6,2,FALSE)","v":2.343},{"$f":"DataByMiles!F36*VLOOKUP(DataByMiles!AE36,DataByMiles!$AT$5:$AU$6,2,FALSE)","v":0},null,null,0,{"$f":"H38*$L$2*VLOOKUP(DataByMiles!AE36,DataByMiles!$AT$5:$AU$6,2,FALSE)","v":0},{"$f":"DataByMiles!G36*VLOOKUP(DataByMiles!AE36,DataByMiles!$AT$5:$AU$6,2,FALSE)","v":0},null,null,{"$f":"M38*$P$2*VLOOKUP(DataByMiles!AE36,DataByMiles!$AT$5:$AU$6,2,FALSE)","v":0},{"$f":"DataByMiles!H36*VLOOKUP(DataByMiles!AE36,DataByMiles!$AT$5:$AU$6,2,FALSE)","v":0},null,null,{"$f":"Q38*$T$2*VLOOKUP(DataByMiles!AE36,DataByMiles!$AT$5:$AU$6,2,FALSE)","v":0},{"$f":"DataByMiles!I36*VLOOKUP(DataByMiles!AE36,DataByMiles!$AT$5:$AU$6,2,FALSE)","v":0},null,null,{"$f":"U38*$X$2*VLOOKUP(DataByMiles!AE36,DataByMiles!$AT$5:$AU$6,2,FALSE)","v":0},{"$f":"DataByMiles!J36*VLOOKUP(DataByMiles!AE36,DataByMiles!$AT$5:$AU$6,2,FALSE)","v":0},{"$f":"DataByMiles!K36","v":0},{"$f":"DataByMiles!L36","v":0},null,null,{"$f":"(Y38/IF(Z38=0,$AD$1,Z38)*$AD$2)/IF(AA38=0,1,AA38)*VLOOKUP(DataByMiles!AE36,DataByMiles!$AT$5:$AU$6,2,FALSE)","v":0},10,0,2.343,{"$f":"(AF38+AG38)*VLOOKUP(DataByMiles!AE36,DataByMiles!$AT$5:$AU$6,2,FALSE)","v":2.343},0.23430000000000001,null,"AJ"]
[null,{"$f":"DataByMiles!C37","v":"Matt"},{"$f":"DataByMiles!E37*VLOOKUP(DataByMiles!AE37,DataByMiles!$AT$5:$AU$6,2,FALSE)","v":20},null,null,0,{"$f":"C39*$G$2*VLOOKUP(DataByMiles!AE37,DataByMiles!$AT$5:$AU$6,2,FALSE)","v":4.6859999999999999},{"$f":"DataByMiles!F37*VLOOKUP(DataByMiles!AE37,DataByMiles!$AT$5:$AU$6,2,FALSE)","v":0},null,null,0,{"$f":"H39*$L$2*VLOOKUP(DataByMiles!AE37,DataByMiles!$AT$5:$AU$6,2,FALSE)","v":0},{"$f":"DataByMiles!G37*VLOOKUP(DataByMiles!AE37,DataByMiles!$AT$5:$AU$6,2,FALSE)","v":0},null,null,{"$f":"M39*$P$2*VLOOKUP(DataByMiles!AE37,DataByMiles!$AT$5:$AU$6,2,FALSE)","v":0},{"$f":"DataByMiles!H37*VLOOKUP(DataByMiles!AE37,DataByMiles!$AT$5:$AU$6,2,FALSE)","v":0},null,null,{"$f":"Q39*$T$2*VLOOKUP(DataByMiles!AE37,DataByMiles!$AT$5:$AU$6,2,FALSE)","v":0},{"$f":"DataByMiles!I37*VLOOKUP(DataByMiles!AE37,DataByMiles!$AT$5:$AU$6,2,FALSE)","v":0},null,null,{"$f":"U39*$X$2*VLOOKUP(DataByMiles!AE37,DataByMiles!$AT$5:$AU$6,2,FALSE)","v":0},{"$f":"DataByMiles!J37*VLOOKUP(DataByMiles!AE37,DataByMiles!$AT$5:$AU$6,2,FALSE)","v":0},{"$f":"DataByMiles!K37","v":0},{"$f":"DataByMiles!L37","v":0},null,null,{"$f":"(Y39/IF(Z39=0,$AD$1,Z39)*$AD$2)/IF(AA39=0,1,AA39)*VLOOKUP(DataByMiles!AE37,DataByMiles!$AT$5:$AU$6,2,FALSE)","v":0},20,0,4.6859999999999999,{"$f":"(AF39+AG39)*VLOOKUP(DataByMiles!AE37,DataByMiles!$AT$5:$AU$6,2,FALSE)","v":4.6859999999999999},0.23430000000000001,null,"AK"]
[null,{"$f":"DataByMiles!C38","v":"----34"},{"$f":"DataByMiles!E38*VLOOKUP(DataByMiles!AE38,DataByMiles!$AT$5:$AU$6,2,FALSE)","v":0},null,null,0,{"$f":"C40*$G$2*VLOOKUP(DataByMiles!AE38,DataByMiles!$AT$5:$AU$6,2,FALSE)","v":0},{"$f":"DataByMiles!F38*VLOOKUP(DataByMiles!AE38,DataByMiles!$AT$5:$AU$6,2,FALSE)","v":0},null,null,0,{"$f":"H40*$L$2*VLOOKUP(DataByMiles!AE38,DataByMiles!$AT$5:$AU$6,2,FALSE)","v":0},{"$f":"DataByMiles!G38*VLOOKUP(DataByMiles!AE38,DataByMiles!$AT$5:$AU$6,2,FALSE)","v":0},null,null,{"$f":"M40*$P$2*VLOOKUP(DataByMiles!AE38,DataByMiles!$AT$5:$AU$6,2,FALSE)","v":0},{"$f":"DataByMiles!H38*VLOOKUP(DataByMiles!AE38,DataByMiles!$AT$5:$AU$6,2,FALSE)","v":0},null,null,{"$f":"Q40*$T$2*VLOOKUP(DataByMiles!AE38,DataByMiles!$AT$5:$AU$6,2,FALSE)","v":0},{"$f":"DataByMiles!I38*VLOOKUP(DataByMiles!AE38,DataByMiles!$AT$5:$AU$6,2,FALSE)","v":0},null,null,{"$f":"U40*$X$2*VLOOKUP(DataByMiles!AE38,DataByMiles!$AT$5:$AU$6,2,FALSE)","v":0},{"$f":"DataByMiles!J38*VLOOKUP(DataByMiles!AE38,DataByMiles!$AT$5:$AU$6,2,FALSE)","v":0},{"$f":"DataByMiles!K38","v":0},{"$f":"DataByMiles!L38","v":0},null,null,{"$f":"(Y40/IF(Z40=0,$AD$1,Z40)*$AD$2)/IF(AA40=0,1,AA40)*VLOOKUP(DataByMiles!AE38,DataByMiles!$AT$5:$AU$6,2,FALSE)","v":0},"",0,0,{"$f":"(AF40+AG40)*VLOOKUP(DataByMiles!AE38,DataByMiles!$AT$5:$AU$6,2,FALSE)","v":0},0,null,"AL"]
[null,{"$f":"DataByMiles!C39","v":"----35"},{"$f":"DataByMiles!E39*VLOOKUP(DataByMiles!AE39,DataByMiles!$AT$5:$AU$6,2,FALSE)","v":0},null,null,0,{"$f":"C41*$G$2*VLOOKUP(DataByMiles!AE39,DataByMiles!$AT$5:$AU$6,2,FALSE)","v":0},{"$f":"DataByMiles!F39*VLOOKUP(DataByMiles!AE39,DataByMiles!$AT$5:$AU$6,2,FALSE)","v":0},null,null,0,{"$f":"H41*$L$2*VLOOKUP(DataByMiles!AE39,DataByMiles!$AT$5:$AU$6,2,FALSE)","v":0},{"$f":"DataByMiles!G39*VLOOKUP(DataByMiles!AE39,DataByMiles!$AT$5:$AU$6,2,FALSE)","v":0},null,null,{"$f":"M41*$P$2*VLOOKUP(DataByMiles!AE39,DataByMiles!$AT$5:$AU$6,2,FALSE)","v":0},{"$f":"DataByMiles!H39*VLOOKUP(DataByMiles!AE39,DataByMiles!$AT$5:$AU$6,2,FALSE)","v":0},null,null,{"$f":"Q41*$T$2*VLOOKUP(DataByMiles!AE39,DataByMiles!$AT$5:$AU$6,2,FALSE)","v":0},{"$f":"DataByMiles!I39*VLOOKUP(DataByMiles!AE39,DataByMiles!$AT$5:$AU$6,2,FALSE)","v":0},null,null,{"$f":"U41*$X$2*VLOOKUP(DataByMiles!AE39,DataByMiles!$AT$5:$AU$6,2,FALSE)","v":0},{"$f":"DataByMiles!J39*VLOOKUP(DataByMiles!AE39,DataByMiles!$AT$5:$AU$6,2,FALSE)","v":0},{"$f":"DataByMiles!K39","v":0},{"$f":"DataByMiles!L39","v":0},null,null,{"$f":"(Y41/IF(Z41=0,$AD$1,Z41)*$AD$2)/IF(AA41=0,1,AA41)*VLOOKUP(DataByMiles!AE39,DataByMiles!$AT$5:$AU$6,2,FALSE)","v":0},"",0,0,{"$f":"(AF41+AG41)*VLOOKUP(DataByMiles!AE39,DataByMiles!$AT$5:$AU$6,2,FALSE)","v":0},0,null,"AM"]
[null,{"$f":"DataByMiles!C40","v":"----36"},{"$f":"DataByMiles!E40*VLOOKUP(DataByMiles!AE40,DataByMiles!$AT$5:$AU$6,2,FALSE)","v":0},null,null,0,{"$f":"C42*$G$2*VLOOKUP(DataByMiles!AE40,DataByMiles!$AT$5:$AU$6,2,FALSE)","v":0},{"$f":"DataByMiles!F40*VLOOKUP(DataByMiles!AE40,DataByMiles!$AT$5:$AU$6,2,FALSE)","v":0},null,null,0,{"$f":"H42*$L$2*VLOOKUP(DataByMiles!AE40,DataByMiles!$AT$5:$AU$6,2,FALSE)","v":0},{"$f":"DataByMiles!G40*VLOOKUP(DataByMiles!AE40,DataByMiles!$AT$5:$AU$6,2,FALSE)","v":0},null,null,{"$f":"M42*$P$2*VLOOKUP(DataByMiles!AE40,DataByMiles!$AT$5:$AU$6,2,FALSE)","v":0},{"$f":"DataByMiles!H40*VLOOKUP(DataByMiles!AE40,DataByMiles!$AT$5:$AU$6,2,FALSE)","v":0},null,null,{"$f":"Q42*$T$2*VLOOKUP(DataByMiles!AE40,DataByMiles!$AT$5:$AU$6,2,FALSE)","v":0},{"$f":"DataByMiles!I40*VLOOKUP(DataByMiles!AE40,DataByMiles!$AT$5:$AU$6,2,FALSE)","v":0},null,null,{"$f":"U42*$X$2*VLOOKUP(DataByMiles!AE40,DataByMiles!$AT$5:$AU$6,2,FALSE)","v":0},{"$f":"DataByMiles!J40*VLOOKUP(DataByMiles!AE40,DataByMiles!$AT$5:$AU$6,2,FALSE)","v":0},{"$f":"DataByMiles!K40","v":0},{"$f":"DataByMiles!L40","v":0},null,null,{"$f":"(Y42/IF(Z42=0,$AD$1,Z42)*$AD$2)/IF(AA42=0,1,AA42)*VLOOKUP(DataByMiles!AE40,DataByMiles!$AT$5:$AU$6,2,FALSE)","v":0},"",0,0,{"$f":"(AF42+AG42)*VLOOKUP(DataByMiles!AE40,DataByMiles!$AT$5:$AU$6,2,FALSE)","v":0},0,null,"AN"]
[null,{"$f":"DataByMiles!C41","v":"----37"},{"$f":"DataByMiles!E41*VLOOKUP(DataByMiles!AE41,DataByMiles!$AT$5:$AU$6,2,FALSE)","v":0},null,null,0,{"$f":"C43*$G$2*VLOOKUP(DataByMiles!AE41,DataByMiles!$AT$5:$AU$6,2,FALSE)","v":0},{"$f":"DataByMiles!F41*VLOOKUP(DataByMiles!AE41,DataByMiles!$AT$5:$AU$6,2,FALSE)","v":0},null,null,0,{"$f":"H43*$L$2*VLOOKUP(DataByMiles!AE41,DataByMiles!$AT$5:$AU$6,2,FALSE)","v":0},{"$f":"DataByMiles!G41*VLOOKUP(DataByMiles!AE41,DataByMiles!$AT$5:$AU$6,2,FALSE)","v":0},null,null,{"$f":"M43*$P$2*VLOOKUP(DataByMiles!AE41,DataByMiles!$AT$5:$AU$6,2,FALSE)","v":0},{"$f":"DataByMiles!H41*VLOOKUP(DataByMiles!AE41,DataByMiles!$AT$5:$AU$6,2,FALSE)","v":0},null,null,{"$f":"Q43*$T$2*VLOOKUP(DataByMiles!AE41,DataByMiles!$AT$5:$AU$6,2,FALSE)","v":0},{"$f":"DataByMiles!I41*VLOOKUP(DataByMiles!AE41,DataByMiles!$AT$5:$AU$6,2,FALSE)","v":0},null,null,{"$f":"U43*$X$2*VLOOKUP(DataByMiles!AE41,DataByMiles!$AT$5:$AU$6,2,FALSE)","v":0},{"$f":"DataByMiles!J41*VLOOKUP(DataByMiles!AE41,DataByMiles!$AT$5:$AU$6,2,FALSE)","v":0},{"$f":"DataByMiles!K41","v":0},{"$f":"DataByMiles!L41","v":0},null,null,{"$f":"(Y43/IF(Z43=0,$AD$1,Z43)*$AD$2)/IF(AA43=0,1,AA43)*VLOOKUP(DataByMiles!AE41,DataByMiles!$AT$5:$AU$6,2,FALSE)","v":0},"",0,0,{"$f":"(AF43+AG43)*VLOOKUP(DataByMiles!AE41,DataByMiles!$AT$5:$AU$6,2,FALSE)","v":0},0,null,"AO"]
[null,{"$f":"DataByMiles!C42","v":"----38"},{"$f":"DataByMiles!E42*VLOOKUP(DataByMiles!AE42,DataByMiles!$AT$5:$AU$6,2,FALSE)","v":0},null,null,0,{"$f":"C44*$G$2*VLOOKUP(DataByMiles!AE42,DataByMiles!$AT$5:$AU$6,2,FALSE)","v":0},{"$f":"DataByMiles!F42*VLOOKUP(DataByMiles!AE42,DataByMiles!$AT$5:$AU$6,2,FALSE)","v":0},null,null,0,{"$f":"H44*$L$2*VLOOKUP(DataByMiles!AE42,DataByMiles!$AT$5:$AU$6,2,FALSE)","v":0},{"$f":"DataByMiles!G42*VLOOKUP(DataByMiles!AE42,DataByMiles!$AT$5:$AU$6,2,FALSE)","v":0},null,null,{"$f":"M44*$P$2*VLOOKUP(DataByMiles!AE42,DataByMiles!$AT$5:$AU$6,2,FALSE)","v":0},{"$f":"DataByMiles!H42*VLOOKUP(DataByMiles!AE42,DataByMiles!$AT$5:$AU$6,2,FALSE)","v":0},null,null,{"$f":"Q44*$T$2*VLOOKUP(DataByMiles!AE42,DataByMiles!$AT$5:$AU$6,2,FALSE)","v":0},{"$f":"DataByMiles!I42*VLOOKUP(DataByMiles!AE42,DataByMiles!$AT$5:$AU$6,2,FALSE)","v":0},null,null,{"$f":"U44*$X$2*VLOOKUP(DataByMiles!AE42,DataByMiles!$AT$5:$AU$6,2,FALSE)","v":0},{"$f":"DataByMiles!J42*VLOOKUP(DataByMiles!AE42,DataByMiles!$AT$5:$AU$6,2,FALSE)","v":0},{"$f":"DataByMiles!K42","v":0},{"$f":"DataByMiles!L42","v":0},null,null,{"$f":"(Y44/IF(Z44=0,$AD$1,Z44)*$AD$2)/IF(AA44=0,1,AA44)*VLOOKUP(DataByMiles!AE42,DataByMiles!$AT$5:$AU$6,2,FALSE)","v":0},"",0,0,{"$f":"(AF44+AG44)*VLOOKUP(DataByMiles!AE42,DataByMiles!$AT$5:$AU$6,2,FALSE)","v":0},0,null,"AP"]
[null,{"$f":"DataByMiles!C43","v":"----39"},{"$f":"DataByMiles!E43*VLOOKUP(DataByMiles!AE43,DataByMiles!$AT$5:$AU$6,2,FALSE)","v":0},null,null,0,{"$f":"C45*$G$2*VLOOKUP(DataByMiles!AE43,DataByMiles!$AT$5:$AU$6,2,FALSE)","v":0},{"$f":"DataByMiles!F43*VLOOKUP(DataByMiles!AE43,DataByMiles!$AT$5:$AU$6,2,FALSE)","v":0},null,null,0,{"$f":"H45*$L$2*VLOOKUP(DataByMiles!AE43,DataByMiles!$AT$5:$AU$6,2,FALSE)","v":0},{"$f":"DataByMiles!G43*VLOOKUP(DataByMiles!AE43,DataByMiles!$AT$5:$AU$6,2,FALSE)","v":0},null,null,{"$f":"M45*$P$2*VLOOKUP(DataByMiles!AE43,DataByMiles!$AT$5:$AU$6,2,FALSE)","v":0},{"$f":"DataByMiles!H43*VLOOKUP(DataByMiles!AE43,DataByMiles!$AT$5:$AU$6,2,FALSE)","v":0},null,null,{"$f":"Q45*$T$2*VLOOKUP(DataByMiles!AE43,DataByMiles!$AT$5:$AU$6,2,FALSE)","v":0},{"$f":"DataByMiles!I43*VLOOKUP(DataByMiles!AE43,DataByMiles!$AT$5:$AU$6,2,FALSE)","v":0},null,null,{"$f":"U45*$X$2*VLOOKUP(DataByMiles!AE43,DataByMiles!$AT$5:$AU$6,2,FALSE)","v":0},{"$f":"DataByMiles!J43*VLOOKUP(DataByMiles!AE43,DataByMiles!$AT$5:$AU$6,2,FALSE)","v":0},{"$f":"DataByMiles!K43","v":0},{"$f":"DataByMiles!L43","v":0},null,null,{"$f":"(Y45/IF(Z45=0,$AD$1,Z45)*$AD$2)/IF(AA45=0,1,AA45)*VLOOKUP(DataByMiles!AE43,DataByMiles!$AT$5:$AU$6,2,FALSE)","v":0},"",0,0,{"$f":"(AF45+AG45)*VLOOKUP(DataByMiles!AE43,DataByMiles!$AT$5:$AU$6,2,FALSE)","v":0},0,null,"AQ"]
[null,{"$f":"DataByMiles!C44","v":"----40"},{"$f":"DataByMiles!E44*VLOOKUP(DataByMiles!AE44,DataByMiles!$AT$5:$AU$6,2,FALSE)","v":0},null,null,{"$f":"C46*$F$2","v":0},{"$f":"C46*$G$2*VLOOKUP(DataByMiles!AE44,DataByMiles!$AT$5:$AU$6,2,FALSE)","v":0},{"$f":"DataByMiles!F44*VLOOKUP(DataByMiles!AE44,DataByMiles!$AT$5:$AU$6,2,FALSE)","v":0},null,null,{"$f":"H46*$K$2","v":0},{"$f":"H46*$L$2*VLOOKUP(DataByMiles!AE44,DataByMiles!$AT$5:$AU$6,2,FALSE)","v":0},{"$f":"DataByMiles!G44*VLOOKUP(DataByMiles!AE44,DataByMiles!$AT$5:$AU$6,2,FALSE)","v":0},null,null,{"$f":"M46*$P$2*VLOOKUP(DataByMiles!AE44,DataByMiles!$AT$5:$AU$6,2,FALSE)","v":0},{"$f":"DataByMiles!H44*VLOOKUP(DataByMiles!AE44,DataByMiles!$AT$5:$AU$6,2,FALSE)","v":0},null,null,{"$f":"Q46*$T$2*VLOOKUP(DataByMiles!AE44,DataByMiles!$AT$5:$AU$6,2,FALSE)","v":0},{"$f":"DataByMiles!I44*VLOOKUP(DataByMiles!AE44,DataByMiles!$AT$5:$AU$6,2,FALSE)","v":0},null,null,{"$f":"U46*$X$2*VLOOKUP(DataByMiles!AE44,DataByMiles!$AT$5:$AU$6,2,FALSE)","v":0},{"$f":"DataByMiles!J44*VLOOKUP(DataByMiles!AE44,DataByMiles!$AT$5:$AU$6,2,FALSE)","v":0},{"$f":"DataByMiles!K44","v":0},{"$f":"DataByMiles!L44","v":0},null,null,{"$f":"(Y46/IF(Z46=0,$AD$1,Z46)*$AD$2)/IF(AA46=0,1,AA46)*VLOOKUP(DataByMiles!AE44,DataByMiles!$AT$5:$AU$6,2,FALSE)","v":0},{"$f":"IF(C46+H46+M46+Q46+U46+Y46>0,C46+H46+M46+Q46+U46+Y46,\"\")","v":""},{"$f":"F46+K46+P46+T46+X46+AD46","v":0},{"$f":"G46+L46","v":0},{"$f":"(AF46+AG46)*VLOOKUP(DataByMiles!AE44,DataByMiles!$AT$5:$AU$6,2,FALSE)","v":0},{"$f":"IFERROR(AH46/AE46,0)","v":0}]
[null,{"$f":"DataByMiles!C45","v":"----41"},{"$f":"DataByMiles!E45*VLOOKUP(DataByMiles!AE45,DataByMiles!$AT$5:$AU$6,2,FALSE)","v":0},null,null,0,{"$f":"C47*$G$2*VLOOKUP(DataByMiles!AE45,DataByMiles!$AT$5:$AU$6,2,FALSE)","v":0},{"$f":"DataByMiles!F45*VLOOKUP(DataByMiles!AE45,DataByMiles!$AT$5:$AU$6,2,FALSE)","v":0},null,null,0,{"$f":"H47*$L$2*VLOOKUP(DataByMiles!AE45,DataByMiles!$AT$5:$AU$6,2,FALSE)","v":0},{"$f":"DataByMiles!G45*VLOOKUP(DataByMiles!AE45,DataByMiles!$AT$5:$AU$6,2,FALSE)","v":0},null,null,{"$f":"M47*$P$2*VLOOKUP(DataByMiles!AE45,DataByMiles!$AT$5:$AU$6,2,FALSE)","v":0},{"$f":"DataByMiles!H45*VLOOKUP(DataByMiles!AE45,DataByMiles!$AT$5:$AU$6,2,FALSE)","v":0},null,null,{"$f":"Q47*$T$2*VLOOKUP(DataByMiles!AE45,DataByMiles!$AT$5:$AU$6,2,FALSE)","v":0},{"$f":"DataByMiles!I45*VLOOKUP(DataByMiles!AE45,DataByMiles!$AT$5:$AU$6,2,FALSE)","v":0},null,null,{"$f":"U47*$X$2*VLOOKUP(DataByMiles!AE45,DataByMiles!$AT$5:$AU$6,2,FALSE)","v":0},{"$f":"DataByMiles!J45*VLOOKUP(DataByMiles!AE45,DataByMiles!$AT$5:$AU$6,2,FALSE)","v":0},{"$f":"DataByMiles!K45","v":0},{"$f":"DataByMiles!L45","v":0},null,null,{"$f":"(Y47/IF(Z47=0,$AD$1,Z47)*$AD$2)/IF(AA47=0,1,AA47)*VLOOKUP(DataByMiles!AE45,DataByMiles!$AT$5:$AU$6,2,FALSE)","v":0},"",0,0,{"$f":"(AF47+AG47)*VLOOKUP(DataByMiles!AE45,DataByMiles!$AT$5:$AU$6,2,FALSE)","v":0},0]
[null,{"$f":"DataByMiles!C46","v":"----42"},{"$f":"DataByMiles!E46*VLOOKUP(DataByMiles!AE46,DataByMiles!$AT$5:$AU$6,2,FALSE)","v":0},null,null,0,{"$f":"C48*$G$2*VLOOKUP(DataByMiles!AE46,DataByMiles!$AT$5:$AU$6,2,FALSE)","v":0},{"$f":"DataByMiles!F46*VLOOKUP(DataByMiles!AE46,DataByMiles!$AT$5:$AU$6,2,FALSE)","v":0},null,null,0,{"$f":"H48*$L$2*VLOOKUP(DataByMiles!AE46,DataByMiles!$AT$5:$AU$6,2,FALSE)","v":0},{"$f":"DataByMiles!G46*VLOOKUP(DataByMiles!AE46,DataByMiles!$AT$5:$AU$6,2,FALSE)","v":0},null,null,{"$f":"M48*$P$2*VLOOKUP(DataByMiles!AE46,DataByMiles!$AT$5:$AU$6,2,FALSE)","v":0},{"$f":"DataByMiles!H46*VLOOKUP(DataByMiles!AE46,DataByMiles!$AT$5:$AU$6,2,FALSE)","v":0},null,null,{"$f":"Q48*$T$2*VLOOKUP(DataByMiles!AE46,DataByMiles!$AT$5:$AU$6,2,FALSE)","v":0},{"$f":"DataByMiles!I46*VLOOKUP(DataByMiles!AE46,DataByMiles!$AT$5:$AU$6,2,FALSE)","v":0},null,null,{"$f":"U48*$X$2*VLOOKUP(DataByMiles!AE46,DataByMiles!$AT$5:$AU$6,2,FALSE)","v":0},{"$f":"DataByMiles!J46*VLOOKUP(DataByMiles!AE46,DataByMiles!$AT$5:$AU$6,2,FALSE)","v":0},{"$f":"DataByMiles!K46","v":0},{"$f":"DataByMiles!L46","v":0},null,null,{"$f":"(Y48/IF(Z48=0,$AD$1,Z48)*$AD$2)/IF(AA48=0,1,AA48)*VLOOKUP(DataByMiles!AE46,DataByMiles!$AT$5:$AU$6,2,FALSE)","v":0},"",0,0,{"$f":"(AF48+AG48)*VLOOKUP(DataByMiles!AE46,DataByMiles!$AT$5:$AU$6,2,FALSE)","v":0},0]
[null,{"$f":"DataByMiles!C47","v":"----43"},{"$f":"DataByMiles!E47*VLOOKUP(DataByMiles!AE47,DataByMiles!$AT$5:$AU$6,2,FALSE)","v":0},null,null,0,{"$f":"C49*$G$2*VLOOKUP(DataByMiles!AE47,DataByMiles!$AT$5:$AU$6,2,FALSE)","v":0},{"$f":"DataByMiles!F47*VLOOKUP(DataByMiles!AE47,DataByMiles!$AT$5:$AU$6,2,FALSE)","v":0},null,null,0,{"$f":"H49*$L$2*VLOOKUP(DataByMiles!AE47,DataByMiles!$AT$5:$AU$6,2,FALSE)","v":0},{"$f":"DataByMiles!G47*VLOOKUP(DataByMiles!AE47,DataByMiles!$AT$5:$AU$6,2,FALSE)","v":0},null,null,{"$f":"M49*$P$2*VLOOKUP(DataByMiles!AE47,DataByMiles!$AT$5:$AU$6,2,FALSE)","v":0},{"$f":"DataByMiles!H47*VLOOKUP(DataByMiles!AE47,DataByMiles!$AT$5:$AU$6,2,FALSE)","v":0},null,null,{"$f":"Q49*$T$2*VLOOKUP(DataByMiles!AE47,DataByMiles!$AT$5:$AU$6,2,FALSE)","v":0},{"$f":"DataByMiles!I47*VLOOKUP(DataByMiles!AE47,DataByMiles!$AT$5:$AU$6,2,FALSE)","v":0},null,null,{"$f":"U49*$X$2*VLOOKUP(DataByMiles!AE47,DataByMiles!$AT$5:$AU$6,2,FALSE)","v":0},{"$f":"DataByMiles!J47*VLOOKUP(DataByMiles!AE47,DataByMiles!$AT$5:$AU$6,2,FALSE)","v":0},{"$f":"DataByMiles!K47","v":0},{"$f":"DataByMiles!L47","v":0},null,null,{"$f":"(Y49/IF(Z49=0,$AD$1,Z49)*$AD$2)/IF(AA49=0,1,AA49)*VLOOKUP(DataByMiles!AE47,DataByMiles!$AT$5:$AU$6,2,FALSE)","v":0},"",0,0,{"$f":"(AF49+AG49)*VLOOKUP(DataByMiles!AE47,DataByMiles!$AT$5:$AU$6,2,FALSE)","v":0},0]
[null,{"$f":"DataByMiles!C48","v":"----44"},{"$f":"DataByMiles!E48*VLOOKUP(DataByMiles!AE48,DataByMiles!$AT$5:$AU$6,2,FALSE)","v":0},null,null,0,{"$f":"C50*$G$2*VLOOKUP(DataByMiles!AE48,DataByMiles!$AT$5:$AU$6,2,FALSE)","v":0},{"$f":"DataByMiles!F48*VLOOKUP(DataByMiles!AE48,DataByMiles!$AT$5:$AU$6,2,FALSE)","v":0},null,null,0,{"$f":"H50*$L$2*VLOOKUP(DataByMiles!AE48,DataByMiles!$AT$5:$AU$6,2,FALSE)","v":0},{"$f":"DataByMiles!G48*VLOOKUP(DataByMiles!AE48,DataByMiles!$AT$5:$AU$6,2,FALSE)","v":0},null,null,{"$f":"M50*$P$2*VLOOKUP(DataByMiles!AE48,DataByMiles!$AT$5:$AU$6,2,FALSE)","v":0},{"$f":"DataByMiles!H48*VLOOKUP(DataByMiles!AE48,DataByMiles!$AT$5:$AU$6,2,FALSE)","v":0},null,null,{"$f":"Q50*$T$2*VLOOKUP(DataByMiles!AE48,DataByMiles!$AT$5:$AU$6,2,FALSE)","v":0},{"$f":"DataByMiles!I48*VLOOKUP(DataByMiles!AE48,DataByMiles!$AT$5:$AU$6,2,FALSE)","v":0},null,null,{"$f":"U50*$X$2*VLOOKUP(DataByMiles!AE48,DataByMiles!$AT$5:$AU$6,2,FALSE)","v":0},{"$f":"DataByMiles!J48*VLOOKUP(DataByMiles!AE48,DataByMiles!$AT$5:$AU$6,2,FALSE)","v":0},{"$f":"DataByMiles!K48","v":0},{"$f":"DataByMiles!L48","v":0},null,null,{"$f":"(Y50/IF(Z50=0,$AD$1,Z50)*$AD$2)/IF(AA50=0,1,AA50)*VLOOKUP(DataByMiles!AE48,DataByMiles!$AT$5:$AU$6,2,FALSE)","v":0},"",0,0,{"$f":"(AF50+AG50)*VLOOKUP(DataByMiles!AE48,DataByMiles!$AT$5:$AU$6,2,FALSE)","v":0},0]
[null,{"$f":"DataByMiles!C49","v":"----45"},{"$f":"DataByMiles!E49*VLOOKUP(DataByMiles!AE49,DataByMiles!$AT$5:$AU$6,2,FALSE)","v":0},null,null,0,{"$f":"C51*$G$2*VLOOKUP(DataByMiles!AE49,DataByMiles!$AT$5:$AU$6,2,FALSE)","v":0},{"$f":"DataByMiles!F49*VLOOKUP(DataByMiles!AE49,DataByMiles!$AT$5:$AU$6,2,FALSE)","v":0},null,null,0,{"$f":"H51*$L$2*VLOOKUP(DataByMiles!AE49,DataByMiles!$AT$5:$AU$6,2,FALSE)","v":0},{"$f":"DataByMiles!G49*VLOOKUP(DataByMiles!AE49,DataByMiles!$AT$5:$AU$6,2,FALSE)","v":0},null,null,{"$f":"M51*$P$2*VLOOKUP(DataByMiles!AE49,DataByMiles!$AT$5:$AU$6,2,FALSE)","v":0},{"$f":"DataByMiles!H49*VLOOKUP(DataByMiles!AE49,DataByMiles!$AT$5:$AU$6,2,FALSE)","v":0},null,null,{"$f":"Q51*$T$2*VLOOKUP(DataByMiles!AE49,DataByMiles!$AT$5:$AU$6,2,FALSE)","v":0},{"$f":"DataByMiles!I49*VLOOKUP(DataByMiles!AE49,DataByMiles!$AT$5:$AU$6,2,FALSE)","v":0},null,null,{"$f":"U51*$X$2*VLOOKUP(DataByMiles!AE49,DataByMiles!$AT$5:$AU$6,2,FALSE)","v":0},{"$f":"DataByMiles!J49*VLOOKUP(DataByMiles!AE49,DataByMiles!$AT$5:$AU$6,2,FALSE)","v":0},{"$f":"DataByMiles!K49","v":0},{"$f":"DataByMiles!L49","v":0},null,null,{"$f":"(Y51/IF(Z51=0,$AD$1,Z51)*$AD$2)/IF(AA51=0,1,AA51)*VLOOKUP(DataByMiles!AE49,DataByMiles!$AT$5:$AU$6,2,FALSE)","v":0},"",0,0,{"$f":"(AF51+AG51)*VLOOKUP(DataByMiles!AE49,DataByMiles!$AT$5:$AU$6,2,FALSE)","v":0},0]
[null,{"$f":"DataByMiles!C50","v":"----46"},{"$f":"DataByMiles!E50*VLOOKUP(DataByMiles!AE50,DataByMiles!$AT$5:$AU$6,2,FALSE)","v":0},null,null,0,{"$f":"C52*$G$2*VLOOKUP(DataByMiles!AE50,DataByMiles!$AT$5:$AU$6,2,FALSE)","v":0},{"$f":"DataByMiles!F50*VLOOKUP(DataByMiles!AE50,DataByMiles!$AT$5:$AU$6,2,FALSE)","v":0},null,null,0,{"$f":"H52*$L$2*VLOOKUP(DataByMiles!AE50,DataByMiles!$AT$5:$AU$6,2,FALSE)","v":0},{"$f":"DataByMiles!G50*VLOOKUP(DataByMiles!AE50,DataByMiles!$AT$5:$AU$6,2,FALSE)","v":0},null,null,{"$f":"M52*$P$2*VLOOKUP(DataByMiles!AE50,DataByMiles!$AT$5:$AU$6,2,FALSE)","v":0},{"$f":"DataByMiles!H50*VLOOKUP(DataByMiles!AE50,DataByMiles!$AT$5:$AU$6,2,FALSE)","v":0},null,null,{"$f":"Q52*$T$2*VLOOKUP(DataByMiles!AE50,DataByMiles!$AT$5:$AU$6,2,FALSE)","v":0},{"$f":"DataByMiles!I50*VLOOKUP(DataByMiles!AE50,DataByMiles!$AT$5:$AU$6,2,FALSE)","v":0},null,null,{"$f":"U52*$X$2*VLOOKUP(DataByMiles!AE50,DataByMiles!$AT$5:$AU$6,2,FALSE)","v":0},{"$f":"DataByMiles!J50*VLOOKUP(DataByMiles!AE50,DataByMiles!$AT$5:$AU$6,2,FALSE)","v":0},{"$f":"DataByMiles!K50","v":0},{"$f":"DataByMiles!L50","v":0},null,null,{"$f":"(Y52/IF(Z52=0,$AD$1,Z52)*$AD$2)/IF(AA52=0,1,AA52)*VLOOKUP(DataByMiles!AE50,DataByMiles!$AT$5:$AU$6,2,FALSE)","v":0},"",0,0,{"$f":"(AF52+AG52)*VLOOKUP(DataByMiles!AE50,DataByMiles!$AT$5:$AU$6,2,FALSE)","v":0},0]
[null,{"$f":"DataByMiles!C51","v":"----47"},{"$f":"DataByMiles!E51*VLOOKUP(DataByMiles!AE51,DataByMiles!$AT$5:$AU$6,2,FALSE)","v":0},null,null,0,{"$f":"C53*$G$2*VLOOKUP(DataByMiles!AE51,DataByMiles!$AT$5:$AU$6,2,FALSE)","v":0},{"$f":"DataByMiles!F51*VLOOKUP(DataByMiles!AE51,DataByMiles!$AT$5:$AU$6,2,FALSE)","v":0},null,null,0,{"$f":"H53*$L$2*VLOOKUP(DataByMiles!AE51,DataByMiles!$AT$5:$AU$6,2,FALSE)","v":0},{"$f":"DataByMiles!G51*VLOOKUP(DataByMiles!AE51,DataByMiles!$AT$5:$AU$6,2,FALSE)","v":0},null,null,{"$f":"M53*$P$2*VLOOKUP(DataByMiles!AE51,DataByMiles!$AT$5:$AU$6,2,FALSE)","v":0},{"$f":"DataByMiles!H51*VLOOKUP(DataByMiles!AE51,DataByMiles!$AT$5:$AU$6,2,FALSE)","v":0},null,null,{"$f":"Q53*$T$2*VLOOKUP(DataByMiles!AE51,DataByMiles!$AT$5:$AU$6,2,FALSE)","v":0},{"$f":"DataByMiles!I51*VLOOKUP(DataByMiles!AE51,DataByMiles!$AT$5:$AU$6,2,FALSE)","v":0},null,null,{"$f":"U53*$X$2*VLOOKUP(DataByMiles!AE51,DataByMiles!$AT$5:$AU$6,2,FALSE)","v":0},{"$f":"DataByMiles!J51*VLOOKUP(DataByMiles!AE51,DataByMiles!$AT$5:$AU$6,2,FALSE)","v":0},{"$f":"DataByMiles!K51","v":0},{"$f":"DataByMiles!L51","v":0},null,null,{"$f":"(Y53/IF(Z53=0,$AD$1,Z53)*$AD$2)/IF(AA53=0,1,AA53)*VLOOKUP(DataByMiles!AE51,DataByMiles!$AT$5:$AU$6,2,FALSE)","v":0},"",0,0,{"$f":"(AF53+AG53)*VLOOKUP(DataByMiles!AE51,DataByMiles!$AT$5:$AU$6,2,FALSE)","v":0},0]
[null,{"$f":"DataByMiles!C52","v":"----48"},{"$f":"DataByMiles!E52*VLOOKUP(DataByMiles!AE52,DataByMiles!$AT$5:$AU$6,2,FALSE)","v":0},null,null,0,{"$f":"C54*$G$2*VLOOKUP(DataByMiles!AE52,DataByMiles!$AT$5:$AU$6,2,FALSE)","v":0},{"$f":"DataByMiles!F52*VLOOKUP(DataByMiles!AE52,DataByMiles!$AT$5:$AU$6,2,FALSE)","v":0},null,null,0,{"$f":"H54*$L$2*VLOOKUP(DataByMiles!AE52,DataByMiles!$AT$5:$AU$6,2,FALSE)","v":0},{"$f":"DataByMiles!G52*VLOOKUP(DataByMiles!AE52,DataByMiles!$AT$5:$AU$6,2,FALSE)","v":0},null,null,{"$f":"M54*$P$2*VLOOKUP(DataByMiles!AE52,DataByMiles!$AT$5:$AU$6,2,FALSE)","v":0},{"$f":"DataByMiles!H52*VLOOKUP(DataByMiles!AE52,DataByMiles!$AT$5:$AU$6,2,FALSE)","v":0},null,null,{"$f":"Q54*$T$2*VLOOKUP(DataByMiles!AE52,DataByMiles!$AT$5:$AU$6,2,FALSE)","v":0},{"$f":"DataByMiles!I52*VLOOKUP(DataByMiles!AE52,DataByMiles!$AT$5:$AU$6,2,FALSE)","v":0},null,null,{"$f":"U54*$X$2*VLOOKUP(DataByMiles!AE52,DataByMiles!$AT$5:$AU$6,2,FALSE)","v":0},{"$f":"DataByMiles!J52*VLOOKUP(DataByMiles!AE52,DataByMiles!$AT$5:$AU$6,2,FALSE)","v":0},{"$f":"DataByMiles!K52","v":0},{"$f":"DataByMiles!L52","v":0},null,null,{"$f":"(Y54/IF(Z54=0,$AD$1,Z54)*$AD$2)/IF(AA54=0,1,AA54)*VLOOKUP(DataByMiles!AE52,DataByMiles!$AT$5:$AU$6,2,FALSE)","v":0},"",0,0,{"$f":"(AF54+AG54)*VLOOKUP(DataByMiles!AE52,DataByMiles!$AT$5:$AU$6,2,FALSE)","v":0},0]
[null,{"$f":"DataByMiles!C53","v":"----49"},{"$f":"DataByMiles!E53*VLOOKUP(DataByMiles!AE53,DataByMiles!$AT$5:$AU$6,2,FALSE)","v":0},null,null,0,{"$f":"C55*$G$2*VLOOKUP(DataByMiles!AE53,DataByMiles!$AT$5:$AU$6,2,FALSE)","v":0},{"$f":"DataByMiles!F53*VLOOKUP(DataByMiles!AE53,DataByMiles!$AT$5:$AU$6,2,FALSE)","v":0},null,null,0,{"$f":"H55*$L$2*VLOOKUP(DataByMiles!AE53,DataByMiles!$AT$5:$AU$6,2,FALSE)","v":0},{"$f":"DataByMiles!G53*VLOOKUP(DataByMiles!AE53,DataByMiles!$AT$5:$AU$6,2,FALSE)","v":0},null,null,{"$f":"M55*$P$2*VLOOKUP(DataByMiles!AE53,DataByMiles!$AT$5:$AU$6,2,FALSE)","v":0},{"$f":"DataByMiles!H53*VLOOKUP(DataByMiles!AE53,DataByMiles!$AT$5:$AU$6,2,FALSE)","v":0},null,null,{"$f":"Q55*$T$2*VLOOKUP(DataByMiles!AE53,DataByMiles!$AT$5:$AU$6,2,FALSE)","v":0},{"$f":"DataByMiles!I53*VLOOKUP(DataByMiles!AE53,DataByMiles!$AT$5:$AU$6,2,FALSE)","v":0},null,null,{"$f":"U55*$X$2*VLOOKUP(DataByMiles!AE53,DataByMiles!$AT$5:$AU$6,2,FALSE)","v":0},{"$f":"DataByMiles!J53*VLOOKUP(DataByMiles!AE53,DataByMiles!$AT$5:$AU$6,2,FALSE)","v":0},{"$f":"DataByMiles!K53","v":0},{"$f":"DataByMiles!L53","v":0},null,null,{"$f":"(Y55/IF(Z55=0,$AD$1,Z55)*$AD$2)/IF(AA55=0,1,AA55)*VLOOKUP(DataByMiles!AE53,DataByMiles!$AT$5:$AU$6,2,FALSE)","v":0},"",0,0,{"$f":"(AF55+AG55)*VLOOKUP(DataByMiles!AE53,DataByMiles!$AT$5:$AU$6,2,FALSE)","v":0},0]
[null,{"$f":"DataByMiles!C54","v":"----50"},{"$f":"DataByMiles!E54*VLOOKUP(DataByMiles!AE54,DataByMiles!$AT$5:$AU$6,2,FALSE)","v":0},null,null,0,{"$f":"C56*$G$2*VLOOKUP(DataByMiles!AE54,DataByMiles!$AT$5:$AU$6,2,FALSE)","v":0},{"$f":"DataByMiles!F54*VLOOKUP(DataByMiles!AE54,DataByMiles!$AT$5:$AU$6,2,FALSE)","v":0},null,null,0,{"$f":"H56*$L$2*VLOOKUP(DataByMiles!AE54,DataByMiles!$AT$5:$AU$6,2,FALSE)","v":0},{"$f":"DataByMiles!G54*VLOOKUP(DataByMiles!AE54,DataByMiles!$AT$5:$AU$6,2,FALSE)","v":0},null,null,{"$f":"M56*$P$2*VLOOKUP(DataByMiles!AE54,DataByMiles!$AT$5:$AU$6,2,FALSE)","v":0},{"$f":"DataByMiles!H54*VLOOKUP(DataByMiles!AE54,DataByMiles!$AT$5:$AU$6,2,FALSE)","v":0},null,null,{"$f":"Q56*$T$2*VLOOKUP(DataByMiles!AE54,DataByMiles!$AT$5:$AU$6,2,FALSE)","v":0},{"$f":"DataByMiles!I54*VLOOKUP(DataByMiles!AE54,DataByMiles!$AT$5:$AU$6,2,FALSE)","v":0},null,null,{"$f":"U56*$X$2*VLOOKUP(DataByMiles!AE54,DataByMiles!$AT$5:$AU$6,2,FALSE)","v":0},{"$f":"DataByMiles!J54*VLOOKUP(DataByMiles!AE54,DataByMiles!$AT$5:$AU$6,2,FALSE)","v":0},{"$f":"DataByMiles!K54","v":0},{"$f":"DataByMiles!L54","v":0},null,null,{"$f":"(Y56/IF(Z56=0,$AD$1,Z56)*$AD$2)/IF(AA56=0,1,AA56)*VLOOKUP(DataByMiles!AE54,DataByMiles!$AT$5:$AU$6,2,FALSE)","v":0},"",0,0,{"$f":"(AF56+AG56)*VLOOKUP(DataByMiles!AE54,DataByMiles!$AT$5:$AU$6,2,FALSE)","v":0},0]
[null,{"$f":"DataByMiles!C55","v":"----51"},{"$f":"DataByMiles!E55*VLOOKUP(DataByMiles!AE55,DataByMiles!$AT$5:$AU$6,2,FALSE)","v":0},null,null,0,{"$f":"C57*$G$2*VLOOKUP(DataByMiles!AE55,DataByMiles!$AT$5:$AU$6,2,FALSE)","v":0},{"$f":"DataByMiles!F55*VLOOKUP(DataByMiles!AE55,DataByMiles!$AT$5:$AU$6,2,FALSE)","v":0},null,null,0,{"$f":"H57*$L$2*VLOOKUP(DataByMiles!AE55,DataByMiles!$AT$5:$AU$6,2,FALSE)","v":0},{"$f":"DataByMiles!G55*VLOOKUP(DataByMiles!AE55,DataByMiles!$AT$5:$AU$6,2,FALSE)","v":0},null,null,{"$f":"M57*$P$2*VLOOKUP(DataByMiles!AE55,DataByMiles!$AT$5:$AU$6,2,FALSE)","v":0},{"$f":"DataByMiles!H55*VLOOKUP(DataByMiles!AE55,DataByMiles!$AT$5:$AU$6,2,FALSE)","v":0},null,null,{"$f":"Q57*$T$2*VLOOKUP(DataByMiles!AE55,DataByMiles!$AT$5:$AU$6,2,FALSE)","v":0},{"$f":"DataByMiles!I55*VLOOKUP(DataByMiles!AE55,DataByMiles!$AT$5:$AU$6,2,FALSE)","v":0},null,null,{"$f":"U57*$X$2*VLOOKUP(DataByMiles!AE55,DataByMiles!$AT$5:$AU$6,2,FALSE)","v":0},{"$f":"DataByMiles!J55*VLOOKUP(DataByMiles!AE55,DataByMiles!$AT$5:$AU$6,2,FALSE)","v":0},{"$f":"DataByMiles!K55","v":0},{"$f":"DataByMiles!L55","v":0},null,null,{"$f":"(Y57/IF(Z57=0,$AD$1,Z57)*$AD$2)/IF(AA57=0,1,AA57)*VLOOKUP(DataByMiles!AE55,DataByMiles!$AT$5:$AU$6,2,FALSE)","v":0},"",0,0,{"$f":"(AF57+AG57)*VLOOKUP(DataByMiles!AE55,DataByMiles!$AT$5:$AU$6,2,FALSE)","v":0},0]
[null,{"$f":"DataByMiles!C56","v":"----52"},{"$f":"DataByMiles!E56*VLOOKUP(DataByMiles!AE56,DataByMiles!$AT$5:$AU$6,2,FALSE)","v":0},null,null,0,{"$f":"C58*$G$2*VLOOKUP(DataByMiles!AE56,DataByMiles!$AT$5:$AU$6,2,FALSE)","v":0},{"$f":"DataByMiles!F56*VLOOKUP(DataByMiles!AE56,DataByMiles!$AT$5:$AU$6,2,FALSE)","v":0},null,null,0,{"$f":"H58*$L$2*VLOOKUP(DataByMiles!AE56,DataByMiles!$AT$5:$AU$6,2,FALSE)","v":0},{"$f":"DataByMiles!G56*VLOOKUP(DataByMiles!AE56,DataByMiles!$AT$5:$AU$6,2,FALSE)","v":0},null,null,{"$f":"M58*$P$2*VLOOKUP(DataByMiles!AE56,DataByMiles!$AT$5:$AU$6,2,FALSE)","v":0},{"$f":"DataByMiles!H56*VLOOKUP(DataByMiles!AE56,DataByMiles!$AT$5:$AU$6,2,FALSE)","v":0},null,null,{"$f":"Q58*$T$2*VLOOKUP(DataByMiles!AE56,DataByMiles!$AT$5:$AU$6,2,FALSE)","v":0},{"$f":"DataByMiles!I56*VLOOKUP(DataByMiles!AE56,DataByMiles!$AT$5:$AU$6,2,FALSE)","v":0},null,null,{"$f":"U58*$X$2*VLOOKUP(DataByMiles!AE56,DataByMiles!$AT$5:$AU$6,2,FALSE)","v":0},{"$f":"DataByMiles!J56*VLOOKUP(DataByMiles!AE56,DataByMiles!$AT$5:$AU$6,2,FALSE)","v":0},{"$f":"DataByMiles!K56","v":0},{"$f":"DataByMiles!L56","v":0},null,null,{"$f":"(Y58/IF(Z58=0,$AD$1,Z58)*$AD$2)/IF(AA58=0,1,AA58)*VLOOKUP(DataByMiles!AE56,DataByMiles!$AT$5:$AU$6,2,FALSE)","v":0},"",0,0,{"$f":"(AF58+AG58)*VLOOKUP(DataByMiles!AE56,DataByMiles!$AT$5:$AU$6,2,FALSE)","v":0},0]
[null,{"$f":"DataByMiles!C57","v":"----53"},{"$f":"DataByMiles!E57*VLOOKUP(DataByMiles!AE57,DataByMiles!$AT$5:$AU$6,2,FALSE)","v":0},null,null,0,{"$f":"C59*$G$2*VLOOKUP(DataByMiles!AE57,DataByMiles!$AT$5:$AU$6,2,FALSE)","v":0},{"$f":"DataByMiles!F57*VLOOKUP(DataByMiles!AE57,DataByMiles!$AT$5:$AU$6,2,FALSE)","v":0},null,null,0,{"$f":"H59*$L$2*VLOOKUP(DataByMiles!AE57,DataByMiles!$AT$5:$AU$6,2,FALSE)","v":0},{"$f":"DataByMiles!G57*VLOOKUP(DataByMiles!AE57,DataByMiles!$AT$5:$AU$6,2,FALSE)","v":0},null,null,{"$f":"M59*$P$2*VLOOKUP(DataByMiles!AE57,DataByMiles!$AT$5:$AU$6,2,FALSE)","v":0},{"$f":"DataByMiles!H57*VLOOKUP(DataByMiles!AE57,DataByMiles!$AT$5:$AU$6,2,FALSE)","v":0},null,null,{"$f":"Q59*$T$2*VLOOKUP(DataByMiles!AE57,DataByMiles!$AT$5:$AU$6,2,FALSE)","v":0},{"$f":"DataByMiles!I57*VLOOKUP(DataByMiles!AE57,DataByMiles!$AT$5:$AU$6,2,FALSE)","v":0},null,null,{"$f":"U59*$X$2*VLOOKUP(DataByMiles!AE57,DataByMiles!$AT$5:$AU$6,2,FALSE)","v":0},{"$f":"DataByMiles!J57*VLOOKUP(DataByMiles!AE57,DataByMiles!$AT$5:$AU$6,2,FALSE)","v":0},{"$f":"DataByMiles!K57","v":0},{"$f":"DataByMiles!L57","v":0},null,null,{"$f":"(Y59/IF(Z59=0,$AD$1,Z59)*$AD$2)/IF(AA59=0,1,AA59)*VLOOKUP(DataByMiles!AE57,DataByMiles!$AT$5:$AU$6,2,FALSE)","v":0},"",0,0,{"$f":"(AF59+AG59)*VLOOKUP(DataByMiles!AE57,DataByMiles!$AT$5:$AU$6,2,FALSE)","v":0},0]
[null,{"$f":"DataByMiles!C58","v":"----54"},{"$f":"DataByMiles!E58*VLOOKUP(DataByMiles!AE58,DataByMiles!$AT$5:$AU$6,2,FALSE)","v":0},null,null,0,{"$f":"C60*$G$2*VLOOKUP(DataByMiles!AE58,DataByMiles!$AT$5:$AU$6,2,FALSE)","v":0},{"$f":"DataByMiles!F58*VLOOKUP(DataByMiles!AE58,DataByMiles!$AT$5:$AU$6,2,FALSE)","v":0},null,null,0,{"$f":"H60*$L$2*VLOOKUP(DataByMiles!AE58,DataByMiles!$AT$5:$AU$6,2,FALSE)","v":0},{"$f":"DataByMiles!G58*VLOOKUP(DataByMiles!AE58,DataByMiles!$AT$5:$AU$6,2,FALSE)","v":0},null,null,{"$f":"M60*$P$2*VLOOKUP(DataByMiles!AE58,DataByMiles!$AT$5:$AU$6,2,FALSE)","v":0},{"$f":"DataByMiles!H58*VLOOKUP(DataByMiles!AE58,DataByMiles!$AT$5:$AU$6,2,FALSE)","v":0},null,null,{"$f":"Q60*$T$2*VLOOKUP(DataByMiles!AE58,DataByMiles!$AT$5:$AU$6,2,FALSE)","v":0},{"$f":"DataByMiles!I58*VLOOKUP(DataByMiles!AE58,DataByMiles!$AT$5:$AU$6,2,FALSE)","v":0},null,null,{"$f":"U60*$X$2*VLOOKUP(DataByMiles!AE58,DataByMiles!$AT$5:$AU$6,2,FALSE)","v":0},{"$f":"DataByMiles!J58*VLOOKUP(DataByMiles!AE58,DataByMiles!$AT$5:$AU$6,2,FALSE)","v":0},{"$f":"DataByMiles!K58","v":0},{"$f":"DataByMiles!L58","v":0},null,null,{"$f":"(Y60/IF(Z60=0,$AD$1,Z60)*$AD$2)/IF(AA60=0,1,AA60)*VLOOKUP(DataByMiles!AE58,DataByMiles!$AT$5:$AU$6,2,FALSE)","v":0},"",0,0,{"$f":"(AF60+AG60)*VLOOKUP(DataByMiles!AE58,DataByMiles!$AT$5:$AU$6,2,FALSE)","v":0},0]
[null,{"$f":"DataByMiles!C59","v":"----55"},{"$f":"DataByMiles!E59*VLOOKUP(DataByMiles!AE59,DataByMiles!$AT$5:$AU$6,2,FALSE)","v":0},null,null,0,{"$f":"C61*$G$2*VLOOKUP(DataByMiles!AE59,DataByMiles!$AT$5:$AU$6,2,FALSE)","v":0},{"$f":"DataByMiles!F59*VLOOKUP(DataByMiles!AE59,DataByMiles!$AT$5:$AU$6,2,FALSE)","v":0},null,null,0,{"$f":"H61*$L$2*VLOOKUP(DataByMiles!AE59,DataByMiles!$AT$5:$AU$6,2,FALSE)","v":0},{"$f":"DataByMiles!G59*VLOOKUP(DataByMiles!AE59,DataByMiles!$AT$5:$AU$6,2,FALSE)","v":0},null,null,{"$f":"M61*$P$2*VLOOKUP(DataByMiles!AE59,DataByMiles!$AT$5:$AU$6,2,FALSE)","v":0},{"$f":"DataByMiles!H59*VLOOKUP(DataByMiles!AE59,DataByMiles!$AT$5:$AU$6,2,FALSE)","v":0},null,null,{"$f":"Q61*$T$2*VLOOKUP(DataByMiles!AE59,DataByMiles!$AT$5:$AU$6,2,FALSE)","v":0},{"$f":"DataByMiles!I59*VLOOKUP(DataByMiles!AE59,DataByMiles!$AT$5:$AU$6,2,FALSE)","v":0},null,null,{"$f":"U61*$X$2*VLOOKUP(DataByMiles!AE59,DataByMiles!$AT$5:$AU$6,2,FALSE)","v":0},{"$f":"DataByMiles!J59*VLOOKUP(DataByMiles!AE59,DataByMiles!$AT$5:$AU$6,2,FALSE)","v":0},{"$f":"DataByMiles!K59","v":0},{"$f":"DataByMiles!L59","v":0},null,null,{"$f":"(Y61/IF(Z61=0,$AD$1,Z61)*$AD$2)/IF(AA61=0,1,AA61)*VLOOKUP(DataByMiles!AE59,DataByMiles!$AT$5:$AU$6,2,FALSE)","v":0},"",0,0,{"$f":"(AF61+AG61)*VLOOKUP(DataByMiles!AE59,DataByMiles!$AT$5:$AU$6,2,FALSE)","v":0},0]
[null,{"$f":"DataByMiles!C60","v":"----56"},{"$f":"DataByMiles!E60*VLOOKUP(DataByMiles!AE60,DataByMiles!$AT$5:$AU$6,2,FALSE)","v":0},null,null,0,{"$f":"C62*$G$2*VLOOKUP(DataByMiles!AE60,DataByMiles!$AT$5:$AU$6,2,FALSE)","v":0},{"$f":"DataByMiles!F60*VLOOKUP(DataByMiles!AE60,DataByMiles!$AT$5:$AU$6,2,FALSE)","v":0},null,null,0,{"$f":"H62*$L$2*VLOOKUP(DataByMiles!AE60,DataByMiles!$AT$5:$AU$6,2,FALSE)","v":0},{"$f":"DataByMiles!G60*VLOOKUP(DataByMiles!AE60,DataByMiles!$AT$5:$AU$6,2,FALSE)","v":0},null,null,{"$f":"M62*$P$2*VLOOKUP(DataByMiles!AE60,DataByMiles!$AT$5:$AU$6,2,FALSE)","v":0},{"$f":"DataByMiles!H60*VLOOKUP(DataByMiles!AE60,DataByMiles!$AT$5:$AU$6,2,FALSE)","v":0},null,null,{"$f":"Q62*$T$2*VLOOKUP(DataByMiles!AE60,DataByMiles!$AT$5:$AU$6,2,FALSE)","v":0},{"$f":"DataByMiles!I60*VLOOKUP(DataByMiles!AE60,DataByMiles!$AT$5:$AU$6,2,FALSE)","v":0},null,null,{"$f":"U62*$X$2*VLOOKUP(DataByMiles!AE60,DataByMiles!$AT$5:$AU$6,2,FALSE)","v":0},{"$f":"DataByMiles!J60*VLOOKUP(DataByMiles!AE60,DataByMiles!$AT$5:$AU$6,2,FALSE)","v":0},{"$f":"DataByMiles!K60","v":0},{"$f":"DataByMiles!L60","v":0},null,null,{"$f":"(Y62/IF(Z62=0,$AD$1,Z62)*$AD$2)/IF(AA62=0,1,AA62)*VLOOKUP(DataByMiles!AE60,DataByMiles!$AT$5:$AU$6,2,FALSE)","v":0},"",0,0,{"$f":"(AF62+AG62)*VLOOKUP(DataByMiles!AE60,DataByMiles!$AT$5:$AU$6,2,FALSE)","v":0},0]
[null,{"$f":"DataByMiles!C61","v":"----57"},{"$f":"DataByMiles!E61*VLOOKUP(DataByMiles!AE61,DataByMiles!$AT$5:$AU$6,2,FALSE)","v":0},null,null,0,{"$f":"C63*$G$2*VLOOKUP(DataByMiles!AE61,DataByMiles!$AT$5:$AU$6,2,FALSE)","v":0},{"$f":"DataByMiles!F61*VLOOKUP(DataByMiles!AE61,DataByMiles!$AT$5:$AU$6,2,FALSE)","v":0},null,null,0,{"$f":"H63*$L$2*VLOOKUP(DataByMiles!AE61,DataByMiles!$AT$5:$AU$6,2,FALSE)","v":0},{"$f":"DataByMiles!G61*VLOOKUP(DataByMiles!AE61,DataByMiles!$AT$5:$AU$6,2,FALSE)","v":0},null,null,{"$f":"M63*$P$2*VLOOKUP(DataByMiles!AE61,DataByMiles!$AT$5:$AU$6,2,FALSE)","v":0},{"$f":"DataByMiles!H61*VLOOKUP(DataByMiles!AE61,DataByMiles!$AT$5:$AU$6,2,FALSE)","v":0},null,null,{"$f":"Q63*$T$2*VLOOKUP(DataByMiles!AE61,DataByMiles!$AT$5:$AU$6,2,FALSE)","v":0},{"$f":"DataByMiles!I61*VLOOKUP(DataByMiles!AE61,DataByMiles!$AT$5:$AU$6,2,FALSE)","v":0},null,null,{"$f":"U63*$X$2*VLOOKUP(DataByMiles!AE61,DataByMiles!$AT$5:$AU$6,2,FALSE)","v":0},{"$f":"DataByMiles!J61*VLOOKUP(DataByMiles!AE61,DataByMiles!$AT$5:$AU$6,2,FALSE)","v":0},{"$f":"DataByMiles!K61","v":0},{"$f":"DataByMiles!L61","v":0},null,null,{"$f":"(Y63/IF(Z63=0,$AD$1,Z63)*$AD$2)/IF(AA63=0,1,AA63)*VLOOKUP(DataByMiles!AE61,DataByMiles!$AT$5:$AU$6,2,FALSE)","v":0},"",0,0,{"$f":"(AF63+AG63)*VLOOKUP(DataByMiles!AE61,DataByMiles!$AT$5:$AU$6,2,FALSE)","v":0},0]
[null,{"$f":"DataByMiles!C62","v":"----58"},{"$f":"DataByMiles!E62*VLOOKUP(DataByMiles!AE62,DataByMiles!$AT$5:$AU$6,2,FALSE)","v":0},null,null,0,{"$f":"C64*$G$2*VLOOKUP(DataByMiles!AE62,DataByMiles!$AT$5:$AU$6,2,FALSE)","v":0},{"$f":"DataByMiles!F62*VLOOKUP(DataByMiles!AE62,DataByMiles!$AT$5:$AU$6,2,FALSE)","v":0},null,null,0,{"$f":"H64*$L$2*VLOOKUP(DataByMiles!AE62,DataByMiles!$AT$5:$AU$6,2,FALSE)","v":0},{"$f":"DataByMiles!G62*VLOOKUP(DataByMiles!AE62,DataByMiles!$AT$5:$AU$6,2,FALSE)","v":0},null,null,{"$f":"M64*$P$2*VLOOKUP(DataByMiles!AE62,DataByMiles!$AT$5:$AU$6,2,FALSE)","v":0},{"$f":"DataByMiles!H62*VLOOKUP(DataByMiles!AE62,DataByMiles!$AT$5:$AU$6,2,FALSE)","v":0},null,null,{"$f":"Q64*$T$2*VLOOKUP(DataByMiles!AE62,DataByMiles!$AT$5:$AU$6,2,FALSE)","v":0},{"$f":"DataByMiles!I62*VLOOKUP(DataByMiles!AE62,DataByMiles!$AT$5:$AU$6,2,FALSE)","v":0},null,null,{"$f":"U64*$X$2*VLOOKUP(DataByMiles!AE62,DataByMiles!$AT$5:$AU$6,2,FALSE)","v":0},{"$f":"DataByMiles!J62*VLOOKUP(DataByMiles!AE62,DataByMiles!$AT$5:$AU$6,2,FALSE)","v":0},{"$f":"DataByMiles!K62","v":0},{"$f":"DataByMiles!L62","v":0},null,null,{"$f":"(Y64/IF(Z64=0,$AD$1,Z64)*$AD$2)/IF(AA64=0,1,AA64)*VLOOKUP(DataByMiles!AE62,DataByMiles!$AT$5:$AU$6,2,FALSE)","v":0},"",0,0,{"$f":"(AF64+AG64)*VLOOKUP(DataByMiles!AE62,DataByMiles!$AT$5:$AU$6,2,FALSE)","v":0},0]
[null,{"$f":"DataByMiles!C63","v":"----59"},{"$f":"DataByMiles!E63*VLOOKUP(DataByMiles!AE63,DataByMiles!$AT$5:$AU$6,2,FALSE)","v":0},null,null,0,{"$f":"C65*$G$2*VLOOKUP(DataByMiles!AE63,DataByMiles!$AT$5:$AU$6,2,FALSE)","v":0},{"$f":"DataByMiles!F63*VLOOKUP(DataByMiles!AE63,DataByMiles!$AT$5:$AU$6,2,FALSE)","v":0},null,null,0,{"$f":"H65*$L$2*VLOOKUP(DataByMiles!AE63,DataByMiles!$AT$5:$AU$6,2,FALSE)","v":0},{"$f":"DataByMiles!G63*VLOOKUP(DataByMiles!AE63,DataByMiles!$AT$5:$AU$6,2,FALSE)","v":0},null,null,{"$f":"M65*$P$2*VLOOKUP(DataByMiles!AE63,DataByMiles!$AT$5:$AU$6,2,FALSE)","v":0},{"$f":"DataByMiles!H63*VLOOKUP(DataByMiles!AE63,DataByMiles!$AT$5:$AU$6,2,FALSE)","v":0},null,null,{"$f":"Q65*$T$2*VLOOKUP(DataByMiles!AE63,DataByMiles!$AT$5:$AU$6,2,FALSE)","v":0},{"$f":"DataByMiles!I63*VLOOKUP(DataByMiles!AE63,DataByMiles!$AT$5:$AU$6,2,FALSE)","v":0},null,null,{"$f":"U65*$X$2*VLOOKUP(DataByMiles!AE63,DataByMiles!$AT$5:$AU$6,2,FALSE)","v":0},{"$f":"DataByMiles!J63*VLOOKUP(DataByMiles!AE63,DataByMiles!$AT$5:$AU$6,2,FALSE)","v":0},{"$f":"DataByMiles!K63","v":0},{"$f":"DataByMiles!L63","v":0},null,null,{"$f":"(Y65/IF(Z65=0,$AD$1,Z65)*$AD$2)/IF(AA65=0,1,AA65)*VLOOKUP(DataByMiles!AE63,DataByMiles!$AT$5:$AU$6,2,FALSE)","v":0},"",0,0,{"$f":"(AF65+AG65)*VLOOKUP(DataByMiles!AE63,DataByMiles!$AT$5:$AU$6,2,FALSE)","v":0},0]
[null,{"$f":"DataByMiles!C64","v":"----60"},{"$f":"DataByMiles!E64*VLOOKUP(DataByMiles!AE64,DataByMiles!$AT$5:$AU$6,2,FALSE)","v":0},null,null,0,{"$f":"C66*$G$2*VLOOKUP(DataByMiles!AE64,DataByMiles!$AT$5:$AU$6,2,FALSE)","v":0},{"$f":"DataByMiles!F64*VLOOKUP(DataByMiles!AE64,DataByMiles!$AT$5:$AU$6,2,FALSE)","v":0},null,null,0,{"$f":"H66*$L$2*VLOOKUP(DataByMiles!AE64,DataByMiles!$AT$5:$AU$6,2,FALSE)","v":0},{"$f":"DataByMiles!G64*VLOOKUP(DataByMiles!AE64,DataByMiles!$AT$5:$AU$6,2,FALSE)","v":0},null,null,{"$f":"M66*$P$2*VLOOKUP(DataByMiles!AE64,DataByMiles!$AT$5:$AU$6,2,FALSE)","v":0},{"$f":"DataByMiles!H64*VLOOKUP(DataByMiles!AE64,DataByMiles!$AT$5:$AU$6,2,FALSE)","v":0},null,null,{"$f":"Q66*$T$2*VLOOKUP(DataByMiles!AE64,DataByMiles!$AT$5:$AU$6,2,FALSE)","v":0},{"$f":"DataByMiles!I64*VLOOKUP(DataByMiles!AE64,DataByMiles!$AT$5:$AU$6,2,FALSE)","v":0},null,null,{"$f":"U66*$X$2*VLOOKUP(DataByMiles!AE64,DataByMiles!$AT$5:$AU$6,2,FALSE)","v":0},{"$f":"DataByMiles!J64*VLOOKUP(DataByMiles!AE64,DataByMiles!$AT$5:$AU$6,2,FALSE)","v":0},{"$f":"DataByMiles!K64","v":0},{"$f":"DataByMiles!L64","v":0},null,null,{"$f":"(Y66/IF(Z66=0,$AD$1,Z66)*$AD$2)/IF(AA66=0,1,AA66)*VLOOKUP(DataByMiles!AE64,DataByMiles!$AT$5:$AU$6,2,FALSE)","v":0},"",0,0,{"$f":"(AF66+AG66)*VLOOKUP(DataByMiles!AE64,DataByMiles!$AT$5:$AU$6,2,FALSE)","v":0},0]
[null,{"$f":"DataByMiles!C65","v":"----61"},{"$f":"DataByMiles!E65*VLOOKUP(DataByMiles!AE65,DataByMiles!$AT$5:$AU$6,2,FALSE)","v":0},null,null,0,{"$f":"C67*$G$2*VLOOKUP(DataByMiles!AE65,DataByMiles!$AT$5:$AU$6,2,FALSE)","v":0},{"$f":"DataByMiles!F65*VLOOKUP(DataByMiles!AE65,DataByMiles!$AT$5:$AU$6,2,FALSE)","v":0},null,null,0,{"$f":"H67*$L$2*VLOOKUP(DataByMiles!AE65,DataByMiles!$AT$5:$AU$6,2,FALSE)","v":0},{"$f":"DataByMiles!G65*VLOOKUP(DataByMiles!AE65,DataByMiles!$AT$5:$AU$6,2,FALSE)","v":0},null,null,{"$f":"M67*$P$2*VLOOKUP(DataByMiles!AE65,DataByMiles!$AT$5:$AU$6,2,FALSE)","v":0},{"$f":"DataByMiles!H65*VLOOKUP(DataByMiles!AE65,DataByMiles!$AT$5:$AU$6,2,FALSE)","v":0},null,null,{"$f":"Q67*$T$2*VLOOKUP(DataByMiles!AE65,DataByMiles!$AT$5:$AU$6,2,FALSE)","v":0},{"$f":"DataByMiles!I65*VLOOKUP(DataByMiles!AE65,DataByMiles!$AT$5:$AU$6,2,FALSE)","v":0},null,null,{"$f":"U67*$X$2*VLOOKUP(DataByMiles!AE65,DataByMiles!$AT$5:$AU$6,2,FALSE)","v":0},{"$f":"DataByMiles!J65*VLOOKUP(DataByMiles!AE65,DataByMiles!$AT$5:$AU$6,2,FALSE)","v":0},{"$f":"DataByMiles!K65","v":0},{"$f":"DataByMiles!L65","v":0},null,null,{"$f":"(Y67/IF(Z67=0,$AD$1,Z67)*$AD$2)/IF(AA67=0,1,AA67)*VLOOKUP(DataByMiles!AE65,DataByMiles!$AT$5:$AU$6,2,FALSE)","v":0},"",0,0,{"$f":"(AF67+AG67)*VLOOKUP(DataByMiles!AE65,DataByMiles!$AT$5:$AU$6,2,FALSE)","v":0},0]
[null,{"$f":"DataByMiles!C66","v":"----62"},{"$f":"DataByMiles!E66*VLOOKUP(DataByMiles!AE66,DataByMiles!$AT$5:$AU$6,2,FALSE)","v":0},null,null,0,{"$f":"C68*$G$2*VLOOKUP(DataByMiles!AE66,DataByMiles!$AT$5:$AU$6,2,FALSE)","v":0},{"$f":"DataByMiles!F66*VLOOKUP(DataByMiles!AE66,DataByMiles!$AT$5:$AU$6,2,FALSE)","v":0},null,null,0,{"$f":"H68*$L$2*VLOOKUP(DataByMiles!AE66,DataByMiles!$AT$5:$AU$6,2,FALSE)","v":0},{"$f":"DataByMiles!G66*VLOOKUP(DataByMiles!AE66,DataByMiles!$AT$5:$AU$6,2,FALSE)","v":0},null,null,{"$f":"M68*$P$2*VLOOKUP(DataByMiles!AE66,DataByMiles!$AT$5:$AU$6,2,FALSE)","v":0},{"$f":"DataByMiles!H66*VLOOKUP(DataByMiles!AE66,DataByMiles!$AT$5:$AU$6,2,FALSE)","v":0},null,null,{"$f":"Q68*$T$2*VLOOKUP(DataByMiles!AE66,DataByMiles!$AT$5:$AU$6,2,FALSE)","v":0},{"$f":"DataByMiles!I66*VLOOKUP(DataByMiles!AE66,DataByMiles!$AT$5:$AU$6,2,FALSE)","v":0},null,null,{"$f":"U68*$X$2*VLOOKUP(DataByMiles!AE66,DataByMiles!$AT$5:$AU$6,2,FALSE)","v":0},{"$f":"DataByMiles!J66*VLOOKUP(DataByMiles!AE66,DataByMiles!$AT$5:$AU$6,2,FALSE)","v":0},{"$f":"DataByMiles!K66","v":0},{"$f":"DataByMiles!L66","v":0},null,null,{"$f":"(Y68/IF(Z68=0,$AD$1,Z68)*$AD$2)/IF(AA68=0,1,AA68)*VLOOKUP(DataByMiles!AE66,DataByMiles!$AT$5:$AU$6,2,FALSE)","v":0},"",0,0,{"$f":"(AF68+AG68)*VLOOKUP(DataByMiles!AE66,DataByMiles!$AT$5:$AU$6,2,FALSE)","v":0},0]
[null,{"$f":"DataByMiles!C67","v":"----63"},{"$f":"DataByMiles!E67*VLOOKUP(DataByMiles!AE67,DataByMiles!$AT$5:$AU$6,2,FALSE)","v":0},null,null,0,{"$f":"C69*$G$2*VLOOKUP(DataByMiles!AE67,DataByMiles!$AT$5:$AU$6,2,FALSE)","v":0},{"$f":"DataByMiles!F67*VLOOKUP(DataByMiles!AE67,DataByMiles!$AT$5:$AU$6,2,FALSE)","v":0},null,null,0,{"$f":"H69*$L$2*VLOOKUP(DataByMiles!AE67,DataByMiles!$AT$5:$AU$6,2,FALSE)","v":0},{"$f":"DataByMiles!G67*VLOOKUP(DataByMiles!AE67,DataByMiles!$AT$5:$AU$6,2,FALSE)","v":0},null,null,{"$f":"M69*$P$2*VLOOKUP(DataByMiles!AE67,DataByMiles!$AT$5:$AU$6,2,FALSE)","v":0},{"$f":"DataByMiles!H67*VLOOKUP(DataByMiles!AE67,DataByMiles!$AT$5:$AU$6,2,FALSE)","v":0},null,null,{"$f":"Q69*$T$2*VLOOKUP(DataByMiles!AE67,DataByMiles!$AT$5:$AU$6,2,FALSE)","v":0},{"$f":"DataByMiles!I67*VLOOKUP(DataByMiles!AE67,DataByMiles!$AT$5:$AU$6,2,FALSE)","v":0},null,null,{"$f":"U69*$X$2*VLOOKUP(DataByMiles!AE67,DataByMiles!$AT$5:$AU$6,2,FALSE)","v":0},{"$f":"DataByMiles!J67*VLOOKUP(DataByMiles!AE67,DataByMiles!$AT$5:$AU$6,2,FALSE)","v":0},{"$f":"DataByMiles!K67","v":0},{"$f":"DataByMiles!L67","v":0},null,null,{"$f":"(Y69/IF(Z69=0,$AD$1,Z69)*$AD$2)/IF(AA69=0,1,AA69)*VLOOKUP(DataByMiles!AE67,DataByMiles!$AT$5:$AU$6,2,FALSE)","v":0},"",0,0,{"$f":"(AF69+AG69)*VLOOKUP(DataByMiles!AE67,DataByMiles!$AT$5:$AU$6,2,FALSE)","v":0},0]
[null,{"$f":"DataByMiles!C68","v":"----64"},{"$f":"DataByMiles!E68*VLOOKUP(DataByMiles!AE68,DataByMiles!$AT$5:$AU$6,2,FALSE)","v":0},null,null,0,{"$f":"C70*$G$2*VLOOKUP(DataByMiles!AE68,DataByMiles!$AT$5:$AU$6,2,FALSE)","v":0},{"$f":"DataByMiles!F68*VLOOKUP(DataByMiles!AE68,DataByMiles!$AT$5:$AU$6,2,FALSE)","v":0},null,null,0,{"$f":"H70*$L$2*VLOOKUP(DataByMiles!AE68,DataByMiles!$AT$5:$AU$6,2,FALSE)","v":0},{"$f":"DataByMiles!G68*VLOOKUP(DataByMiles!AE68,DataByMiles!$AT$5:$AU$6,2,FALSE)","v":0},null,null,{"$f":"M70*$P$2*VLOOKUP(DataByMiles!AE68,DataByMiles!$AT$5:$AU$6,2,FALSE)","v":0},{"$f":"DataByMiles!H68*VLOOKUP(DataByMiles!AE68,DataByMiles!$AT$5:$AU$6,2,FALSE)","v":0},null,null,{"$f":"Q70*$T$2*VLOOKUP(DataByMiles!AE68,DataByMiles!$AT$5:$AU$6,2,FALSE)","v":0},{"$f":"DataByMiles!I68*VLOOKUP(DataByMiles!AE68,DataByMiles!$AT$5:$AU$6,2,FALSE)","v":0},null,null,{"$f":"U70*$X$2*VLOOKUP(DataByMiles!AE68,DataByMiles!$AT$5:$AU$6,2,FALSE)","v":0},{"$f":"DataByMiles!J68*VLOOKUP(DataByMiles!AE68,DataByMiles!$AT$5:$AU$6,2,FALSE)","v":0},{"$f":"DataByMiles!K68","v":0},{"$f":"DataByMiles!L68","v":0},null,null,{"$f":"(Y70/IF(Z70=0,$AD$1,Z70)*$AD$2)/IF(AA70=0,1,AA70)*VLOOKUP(DataByMiles!AE68,DataByMiles!$AT$5:$AU$6,2,FALSE)","v":0},"",0,0,{"$f":"(AF70+AG70)*VLOOKUP(DataByMiles!AE68,DataByMiles!$AT$5:$AU$6,2,FALSE)","v":0},0]
[null,{"$f":"DataByMiles!C69","v":"----65"},{"$f":"DataByMiles!E69*VLOOKUP(DataByMiles!AE69,DataByMiles!$AT$5:$AU$6,2,FALSE)","v":0},null,null,0,{"$f":"C71*$G$2*VLOOKUP(DataByMiles!AE69,DataByMiles!$AT$5:$AU$6,2,FALSE)","v":0},{"$f":"DataByMiles!F69*VLOOKUP(DataByMiles!AE69,DataByMiles!$AT$5:$AU$6,2,FALSE)","v":0},null,null,0,{"$f":"H71*$L$2*VLOOKUP(DataByMiles!AE69,DataByMiles!$AT$5:$AU$6,2,FALSE)","v":0},{"$f":"DataByMiles!G69*VLOOKUP(DataByMiles!AE69,DataByMiles!$AT$5:$AU$6,2,FALSE)","v":0},null,null,{"$f":"M71*$P$2*VLOOKUP(DataByMiles!AE69,DataByMiles!$AT$5:$AU$6,2,FALSE)","v":0},{"$f":"DataByMiles!H69*VLOOKUP(DataByMiles!AE69,DataByMiles!$AT$5:$AU$6,2,FALSE)","v":0},null,null,{"$f":"Q71*$T$2*VLOOKUP(DataByMiles!AE69,DataByMiles!$AT$5:$AU$6,2,FALSE)","v":0},{"$f":"DataByMiles!I69*VLOOKUP(DataByMiles!AE69,DataByMiles!$AT$5:$AU$6,2,FALSE)","v":0},null,null,{"$f":"U71*$X$2*VLOOKUP(DataByMiles!AE69,DataByMiles!$AT$5:$AU$6,2,FALSE)","v":0},{"$f":"DataByMiles!J69*VLOOKUP(DataByMiles!AE69,DataByMiles!$AT$5:$AU$6,2,FALSE)","v":0},{"$f":"DataByMiles!K69","v":0},{"$f":"DataByMiles!L69","v":0},null,null,{"$f":"(Y71/IF(Z71=0,$AD$1,Z71)*$AD$2)/IF(AA71=0,1,AA71)*VLOOKUP(DataByMiles!AE69,DataByMiles!$AT$5:$AU$6,2,FALSE)","v":0},"",0,0,{"$f":"(AF71+AG71)*VLOOKUP(DataByMiles!AE69,DataByMiles!$AT$5:$AU$6,2,FALSE)","v":0},0]
[null,{"$f":"DataByMiles!C70","v":"----66"},{"$f":"DataByMiles!E70*VLOOKUP(DataByMiles!AE70,DataByMiles!$AT$5:$AU$6,2,FALSE)","v":0},null,null,0,{"$f":"C72*$G$2*VLOOKUP(DataByMiles!AE70,DataByMiles!$AT$5:$AU$6,2,FALSE)","v":0},{"$f":"DataByMiles!F70*VLOOKUP(DataByMiles!AE70,DataByMiles!$AT$5:$AU$6,2,FALSE)","v":0},null,null,0,{"$f":"H72*$L$2*VLOOKUP(DataByMiles!AE70,DataByMiles!$AT$5:$AU$6,2,FALSE)","v":0},{"$f":"DataByMiles!G70*VLOOKUP(DataByMiles!AE70,DataByMiles!$AT$5:$AU$6,2,FALSE)","v":0},null,null,{"$f":"M72*$P$2*VLOOKUP(DataByMiles!AE70,DataByMiles!$AT$5:$AU$6,2,FALSE)","v":0},{"$f":"DataByMiles!H70*VLOOKUP(DataByMiles!AE70,DataByMiles!$AT$5:$AU$6,2,FALSE)","v":0},null,null,{"$f":"Q72*$T$2*VLOOKUP(DataByMiles!AE70,DataByMiles!$AT$5:$AU$6,2,FALSE)","v":0},{"$f":"DataByMiles!I70*VLOOKUP(DataByMiles!AE70,DataByMiles!$AT$5:$AU$6,2,FALSE)","v":0},null,null,{"$f":"U72*$X$2*VLOOKUP(DataByMiles!AE70,DataByMiles!$AT$5:$AU$6,2,FALSE)","v":0},{"$f":"DataByMiles!J70*VLOOKUP(DataByMiles!AE70,DataByMiles!$AT$5:$AU$6,2,FALSE)","v":0},{"$f":"DataByMiles!K70","v":0},{"$f":"DataByMiles!L70","v":0},null,null,{"$f":"(Y72/IF(Z72=0,$AD$1,Z72)*$AD$2)/IF(AA72=0,1,AA72)*VLOOKUP(DataByMiles!AE70,DataByMiles!$AT$5:$AU$6,2,FALSE)","v":0},"",0,0,{"$f":"(AF72+AG72)*VLOOKUP(DataByMiles!AE70,DataByMiles!$AT$5:$AU$6,2,FALSE)","v":0},0]
[null,{"$f":"DataByMiles!C71","v":"----67"},{"$f":"DataByMiles!E71*VLOOKUP(DataByMiles!AE71,DataByMiles!$AT$5:$AU$6,2,FALSE)","v":0},null,null,0,{"$f":"C73*$G$2*VLOOKUP(DataByMiles!AE71,DataByMiles!$AT$5:$AU$6,2,FALSE)","v":0},{"$f":"DataByMiles!F71*VLOOKUP(DataByMiles!AE71,DataByMiles!$AT$5:$AU$6,2,FALSE)","v":0},null,null,0,{"$f":"H73*$L$2*VLOOKUP(DataByMiles!AE71,DataByMiles!$AT$5:$AU$6,2,FALSE)","v":0},{"$f":"DataByMiles!G71*VLOOKUP(DataByMiles!AE71,DataByMiles!$AT$5:$AU$6,2,FALSE)","v":0},null,null,{"$f":"M73*$P$2*VLOOKUP(DataByMiles!AE71,DataByMiles!$AT$5:$AU$6,2,FALSE)","v":0},{"$f":"DataByMiles!H71*VLOOKUP(DataByMiles!AE71,DataByMiles!$AT$5:$AU$6,2,FALSE)","v":0},null,null,{"$f":"Q73*$T$2*VLOOKUP(DataByMiles!AE71,DataByMiles!$AT$5:$AU$6,2,FALSE)","v":0},{"$f":"DataByMiles!I71*VLOOKUP(DataByMiles!AE71,DataByMiles!$AT$5:$AU$6,2,FALSE)","v":0},null,null,{"$f":"U73*$X$2*VLOOKUP(DataByMiles!AE71,DataByMiles!$AT$5:$AU$6,2,FALSE)","v":0},{"$f":"DataByMiles!J71*VLOOKUP(DataByMiles!AE71,DataByMiles!$AT$5:$AU$6,2,FALSE)","v":0},{"$f":"DataByMiles!K71","v":0},{"$f":"DataByMiles!L71","v":0},null,null,{"$f":"(Y73/IF(Z73=0,$AD$1,Z73)*$AD$2)/IF(AA73=0,1,AA73)*VLOOKUP(DataByMiles!AE71,DataByMiles!$AT$5:$AU$6,2,FALSE)","v":0},"",0,0,{"$f":"(AF73+AG73)*VLOOKUP(DataByMiles!AE71,DataByMiles!$AT$5:$AU$6,2,FALSE)","v":0},0]
[null,{"$f":"DataByMiles!C72","v":"----68"},{"$f":"DataByMiles!E72*VLOOKUP(DataByMiles!AE72,DataByMiles!$AT$5:$AU$6,2,FALSE)","v":0},null,null,0,{"$f":"C74*$G$2*VLOOKUP(DataByMiles!AE72,DataByMiles!$AT$5:$AU$6,2,FALSE)","v":0},{"$f":"DataByMiles!F72*VLOOKUP(DataByMiles!AE72,DataByMiles!$AT$5:$AU$6,2,FALSE)","v":0},null,null,0,{"$f":"H74*$L$2*VLOOKUP(DataByMiles!AE72,DataByMiles!$AT$5:$AU$6,2,FALSE)","v":0},{"$f":"DataByMiles!G72*VLOOKUP(DataByMiles!AE72,DataByMiles!$AT$5:$AU$6,2,FALSE)","v":0},null,null,{"$f":"M74*$P$2*VLOOKUP(DataByMiles!AE72,DataByMiles!$AT$5:$AU$6,2,FALSE)","v":0},{"$f":"DataByMiles!H72*VLOOKUP(DataByMiles!AE72,DataByMiles!$AT$5:$AU$6,2,FALSE)","v":0},null,null,{"$f":"Q74*$T$2*VLOOKUP(DataByMiles!AE72,DataByMiles!$AT$5:$AU$6,2,FALSE)","v":0},{"$f":"DataByMiles!I72*VLOOKUP(DataByMiles!AE72,DataByMiles!$AT$5:$AU$6,2,FALSE)","v":0},null,null,{"$f":"U74*$X$2*VLOOKUP(DataByMiles!AE72,DataByMiles!$AT$5:$AU$6,2,FALSE)","v":0},{"$f":"DataByMiles!J72*VLOOKUP(DataByMiles!AE72,DataByMiles!$AT$5:$AU$6,2,FALSE)","v":0},{"$f":"DataByMiles!K72","v":0},{"$f":"DataByMiles!L72","v":0},null,null,{"$f":"(Y74/IF(Z74=0,$AD$1,Z74)*$AD$2)/IF(AA74=0,1,AA74)*VLOOKUP(DataByMiles!AE72,DataByMiles!$AT$5:$AU$6,2,FALSE)","v":0},"",0,0,{"$f":"(AF74+AG74)*VLOOKUP(DataByMiles!AE72,DataByMiles!$AT$5:$AU$6,2,FALSE)","v":0},0]
[null,{"$f":"DataByMiles!C73","v":"----69"},{"$f":"DataByMiles!E73*VLOOKUP(DataByMiles!AE73,DataByMiles!$AT$5:$AU$6,2,FALSE)","v":0},null,null,0,{"$f":"C75*$G$2*VLOOKUP(DataByMiles!AE73,DataByMiles!$AT$5:$AU$6,2,FALSE)","v":0},{"$f":"DataByMiles!F73*VLOOKUP(DataByMiles!AE73,DataByMiles!$AT$5:$AU$6,2,FALSE)","v":0},null,null,0,{"$f":"H75*$L$2*VLOOKUP(DataByMiles!AE73,DataByMiles!$AT$5:$AU$6,2,FALSE)","v":0},{"$f":"DataByMiles!G73*VLOOKUP(DataByMiles!AE73,DataByMiles!$AT$5:$AU$6,2,FALSE)","v":0},null,null,{"$f":"M75*$P$2*VLOOKUP(DataByMiles!AE73,DataByMiles!$AT$5:$AU$6,2,FALSE)","v":0},{"$f":"DataByMiles!H73*VLOOKUP(DataByMiles!AE73,DataByMiles!$AT$5:$AU$6,2,FALSE)","v":0},null,null,{"$f":"Q75*$T$2*VLOOKUP(DataByMiles!AE73,DataByMiles!$AT$5:$AU$6,2,FALSE)","v":0},{"$f":"DataByMiles!I73*VLOOKUP(DataByMiles!AE73,DataByMiles!$AT$5:$AU$6,2,FALSE)","v":0},null,null,{"$f":"U75*$X$2*VLOOKUP(DataByMiles!AE73,DataByMiles!$AT$5:$AU$6,2,FALSE)","v":0},{"$f":"DataByMiles!J73*VLOOKUP(DataByMiles!AE73,DataByMiles!$AT$5:$AU$6,2,FALSE)","v":0},{"$f":"DataByMiles!K73","v":0},{"$f":"DataByMiles!L73","v":0},null,null,{"$f":"(Y75/IF(Z75=0,$AD$1,Z75)*$AD$2)/IF(AA75=0,1,AA75)*VLOOKUP(DataByMiles!AE73,DataByMiles!$AT$5:$AU$6,2,FALSE)","v":0},"",0,0,{"$f":"(AF75+AG75)*VLOOKUP(DataByMiles!AE73,DataByMiles!$AT$5:$AU$6,2,FALSE)","v":0},0]
[null,{"$f":"DataByMiles!C74","v":"----70"},{"$f":"DataByMiles!E74*VLOOKUP(DataByMiles!AE74,DataByMiles!$AT$5:$AU$6,2,FALSE)","v":0},null,null,0,{"$f":"C76*$G$2*VLOOKUP(DataByMiles!AE74,DataByMiles!$AT$5:$AU$6,2,FALSE)","v":0},{"$f":"DataByMiles!F74*VLOOKUP(DataByMiles!AE74,DataByMiles!$AT$5:$AU$6,2,FALSE)","v":0},null,null,0,{"$f":"H76*$L$2*VLOOKUP(DataByMiles!AE74,DataByMiles!$AT$5:$AU$6,2,FALSE)","v":0},{"$f":"DataByMiles!G74*VLOOKUP(DataByMiles!AE74,DataByMiles!$AT$5:$AU$6,2,FALSE)","v":0},null,null,{"$f":"M76*$P$2*VLOOKUP(DataByMiles!AE74,DataByMiles!$AT$5:$AU$6,2,FALSE)","v":0},{"$f":"DataByMiles!H74*VLOOKUP(DataByMiles!AE74,DataByMiles!$AT$5:$AU$6,2,FALSE)","v":0},null,null,{"$f":"Q76*$T$2*VLOOKUP(DataByMiles!AE74,DataByMiles!$AT$5:$AU$6,2,FALSE)","v":0},{"$f":"DataByMiles!I74*VLOOKUP(DataByMiles!AE74,DataByMiles!$AT$5:$AU$6,2,FALSE)","v":0},null,null,{"$f":"U76*$X$2*VLOOKUP(DataByMiles!AE74,DataByMiles!$AT$5:$AU$6,2,FALSE)","v":0},{"$f":"DataByMiles!J74*VLOOKUP(DataByMiles!AE74,DataByMiles!$AT$5:$AU$6,2,FALSE)","v":0},{"$f":"DataByMiles!K74","v":0},{"$f":"DataByMiles!L74","v":0},null,null,{"$f":"(Y76/IF(Z76=0,$AD$1,Z76)*$AD$2)/IF(AA76=0,1,AA76)*VLOOKUP(DataByMiles!AE74,DataByMiles!$AT$5:$AU$6,2,FALSE)","v":0},"",0,0,{"$f":"(AF76+AG76)*VLOOKUP(DataByMiles!AE74,DataByMiles!$AT$5:$AU$6,2,FALSE)","v":0},0]
[null,{"$f":"DataByMiles!C75","v":"----71"},{"$f":"DataByMiles!E75*VLOOKUP(DataByMiles!AE75,DataByMiles!$AT$5:$AU$6,2,FALSE)","v":0},null,null,0,{"$f":"C77*$G$2*VLOOKUP(DataByMiles!AE75,DataByMiles!$AT$5:$AU$6,2,FALSE)","v":0},{"$f":"DataByMiles!F75*VLOOKUP(DataByMiles!AE75,DataByMiles!$AT$5:$AU$6,2,FALSE)","v":0},null,null,0,{"$f":"H77*$L$2*VLOOKUP(DataByMiles!AE75,DataByMiles!$AT$5:$AU$6,2,FALSE)","v":0},{"$f":"DataByMiles!G75*VLOOKUP(DataByMiles!AE75,DataByMiles!$AT$5:$AU$6,2,FALSE)","v":0},null,null,{"$f":"M77*$P$2*VLOOKUP(DataByMiles!AE75,DataByMiles!$AT$5:$AU$6,2,FALSE)","v":0},{"$f":"DataByMiles!H75*VLOOKUP(DataByMiles!AE75,DataByMiles!$AT$5:$AU$6,2,FALSE)","v":0},null,null,{"$f":"Q77*$T$2*VLOOKUP(DataByMiles!AE75,DataByMiles!$AT$5:$AU$6,2,FALSE)","v":0},{"$f":"DataByMiles!I75*VLOOKUP(DataByMiles!AE75,DataByMiles!$AT$5:$AU$6,2,FALSE)","v":0},null,null,{"$f":"U77*$X$2*VLOOKUP(DataByMiles!AE75,DataByMiles!$AT$5:$AU$6,2,FALSE)","v":0},{"$f":"DataByMiles!J75*VLOOKUP(DataByMiles!AE75,DataByMiles!$AT$5:$AU$6,2,FALSE)","v":0},{"$f":"DataByMiles!K75","v":0},{"$f":"DataByMiles!L75","v":0},null,null,{"$f":"(Y77/IF(Z77=0,$AD$1,Z77)*$AD$2)/IF(AA77=0,1,AA77)*VLOOKUP(DataByMiles!AE75,DataByMiles!$AT$5:$AU$6,2,FALSE)","v":0},"",0,0,{"$f":"(AF77+AG77)*VLOOKUP(DataByMiles!AE75,DataByMiles!$AT$5:$AU$6,2,FALSE)","v":0},0]
[null,{"$f":"DataByMiles!C76","v":"----72"},{"$f":"DataByMiles!E76*VLOOKUP(DataByMiles!AE76,DataByMiles!$AT$5:$AU$6,2,FALSE)","v":0},null,null,0,{"$f":"C78*$G$2*VLOOKUP(DataByMiles!AE76,DataByMiles!$AT$5:$AU$6,2,FALSE)","v":0},{"$f":"DataByMiles!F76*VLOOKUP(DataByMiles!AE76,DataByMiles!$AT$5:$AU$6,2,FALSE)","v":0},null,null,0,{"$f":"H78*$L$2*VLOOKUP(DataByMiles!AE76,DataByMiles!$AT$5:$AU$6,2,FALSE)","v":0},{"$f":"DataByMiles!G76*VLOOKUP(DataByMiles!AE76,DataByMiles!$AT$5:$AU$6,2,FALSE)","v":0},null,null,{"$f":"M78*$P$2*VLOOKUP(DataByMiles!AE76,DataByMiles!$AT$5:$AU$6,2,FALSE)","v":0},{"$f":"DataByMiles!H76*VLOOKUP(DataByMiles!AE76,DataByMiles!$AT$5:$AU$6,2,FALSE)","v":0},null,null,{"$f":"Q78*$T$2*VLOOKUP(DataByMiles!AE76,DataByMiles!$AT$5:$AU$6,2,FALSE)","v":0},{"$f":"DataByMiles!I76*VLOOKUP(DataByMiles!AE76,DataByMiles!$AT$5:$AU$6,2,FALSE)","v":0},null,null,{"$f":"U78*$X$2*VLOOKUP(DataByMiles!AE76,DataByMiles!$AT$5:$AU$6,2,FALSE)","v":0},{"$f":"DataByMiles!J76*VLOOKUP(DataByMiles!AE76,DataByMiles!$AT$5:$AU$6,2,FALSE)","v":0},{"$f":"DataByMiles!K76","v":0},{"$f":"DataByMiles!L76","v":0},null,null,{"$f":"(Y78/IF(Z78=0,$AD$1,Z78)*$AD$2)/IF(AA78=0,1,AA78)*VLOOKUP(DataByMiles!AE76,DataByMiles!$AT$5:$AU$6,2,FALSE)","v":0},"",0,0,{"$f":"(AF78+AG78)*VLOOKUP(DataByMiles!AE76,DataByMiles!$AT$5:$AU$6,2,FALSE)","v":0},0]
[null,{"$f":"DataByMiles!C77","v":"----73"},{"$f":"DataByMiles!E77*VLOOKUP(DataByMiles!AE77,DataByMiles!$AT$5:$AU$6,2,FALSE)","v":0},null,null,0,{"$f":"C79*$G$2*VLOOKUP(DataByMiles!AE77,DataByMiles!$AT$5:$AU$6,2,FALSE)","v":0},{"$f":"DataByMiles!F77*VLOOKUP(DataByMiles!AE77,DataByMiles!$AT$5:$AU$6,2,FALSE)","v":0},null,null,0,{"$f":"H79*$L$2*VLOOKUP(DataByMiles!AE77,DataByMiles!$AT$5:$AU$6,2,FALSE)","v":0},{"$f":"DataByMiles!G77*VLOOKUP(DataByMiles!AE77,DataByMiles!$AT$5:$AU$6,2,FALSE)","v":0},null,null,{"$f":"M79*$P$2*VLOOKUP(DataByMiles!AE77,DataByMiles!$AT$5:$AU$6,2,FALSE)","v":0},{"$f":"DataByMiles!H77*VLOOKUP(DataByMiles!AE77,DataByMiles!$AT$5:$AU$6,2,FALSE)","v":0},null,null,{"$f":"Q79*$T$2*VLOOKUP(DataByMiles!AE77,DataByMiles!$AT$5:$AU$6,2,FALSE)","v":0},{"$f":"DataByMiles!I77*VLOOKUP(DataByMiles!AE77,DataByMiles!$AT$5:$AU$6,2,FALSE)","v":0},null,null,{"$f":"U79*$X$2*VLOOKUP(DataByMiles!AE77,DataByMiles!$AT$5:$AU$6,2,FALSE)","v":0},{"$f":"DataByMiles!J77*VLOOKUP(DataByMiles!AE77,DataByMiles!$AT$5:$AU$6,2,FALSE)","v":0},{"$f":"DataByMiles!K77","v":0},{"$f":"DataByMiles!L77","v":0},null,null,{"$f":"(Y79/IF(Z79=0,$AD$1,Z79)*$AD$2)/IF(AA79=0,1,AA79)*VLOOKUP(DataByMiles!AE77,DataByMiles!$AT$5:$AU$6,2,FALSE)","v":0},"",0,0,{"$f":"(AF79+AG79)*VLOOKUP(DataByMiles!AE77,DataByMiles!$AT$5:$AU$6,2,FALSE)","v":0},0]
[null,{"$f":"DataByMiles!C78","v":"----74"},{"$f":"DataByMiles!E78*VLOOKUP(DataByMiles!AE78,DataByMiles!$AT$5:$AU$6,2,FALSE)","v":0},null,null,0,{"$f":"C80*$G$2*VLOOKUP(DataByMiles!AE78,DataByMiles!$AT$5:$AU$6,2,FALSE)","v":0},{"$f":"DataByMiles!F78*VLOOKUP(DataByMiles!AE78,DataByMiles!$AT$5:$AU$6,2,FALSE)","v":0},null,null,0,{"$f":"H80*$L$2*VLOOKUP(DataByMiles!AE78,DataByMiles!$AT$5:$AU$6,2,FALSE)","v":0},{"$f":"DataByMiles!G78*VLOOKUP(DataByMiles!AE78,DataByMiles!$AT$5:$AU$6,2,FALSE)","v":0},null,null,{"$f":"M80*$P$2*VLOOKUP(DataByMiles!AE78,DataByMiles!$AT$5:$AU$6,2,FALSE)","v":0},{"$f":"DataByMiles!H78*VLOOKUP(DataByMiles!AE78,DataByMiles!$AT$5:$AU$6,2,FALSE)","v":0},null,null,{"$f":"Q80*$T$2*VLOOKUP(DataByMiles!AE78,DataByMiles!$AT$5:$AU$6,2,FALSE)","v":0},{"$f":"DataByMiles!I78*VLOOKUP(DataByMiles!AE78,DataByMiles!$AT$5:$AU$6,2,FALSE)","v":0},null,null,{"$f":"U80*$X$2*VLOOKUP(DataByMiles!AE78,DataByMiles!$AT$5:$AU$6,2,FALSE)","v":0},{"$f":"DataByMiles!J78*VLOOKUP(DataByMiles!AE78,DataByMiles!$AT$5:$AU$6,2,FALSE)","v":0},{"$f":"DataByMiles!K78","v":0},{"$f":"DataByMiles!L78","v":0},null,null,{"$f":"(Y80/IF(Z80=0,$AD$1,Z80)*$AD$2)/IF(AA80=0,1,AA80)*VLOOKUP(DataByMiles!AE78,DataByMiles!$AT$5:$AU$6,2,FALSE)","v":0},"",0,0,{"$f":"(AF80+AG80)*VLOOKUP(DataByMiles!AE78,DataByMiles!$AT$5:$AU$6,2,FALSE)","v":0},0]
[null,{"$f":"DataByMiles!C79","v":"----75"},{"$f":"DataByMiles!E79*VLOOKUP(DataByMiles!AE79,DataByMiles!$AT$5:$AU$6,2,FALSE)","v":0},null,null,0,{"$f":"C81*$G$2*VLOOKUP(DataByMiles!AE79,DataByMiles!$AT$5:$AU$6,2,FALSE)","v":0},{"$f":"DataByMiles!F79*VLOOKUP(DataByMiles!AE79,DataByMiles!$AT$5:$AU$6,2,FALSE)","v":0},null,null,0,{"$f":"H81*$L$2*VLOOKUP(DataByMiles!AE79,DataByMiles!$AT$5:$AU$6,2,FALSE)","v":0},{"$f":"DataByMiles!G79*VLOOKUP(DataByMiles!AE79,DataByMiles!$AT$5:$AU$6,2,FALSE)","v":0},null,null,{"$f":"M81*$P$2*VLOOKUP(DataByMiles!AE79,DataByMiles!$AT$5:$AU$6,2,FALSE)","v":0},{"$f":"DataByMiles!H79*VLOOKUP(DataByMiles!AE79,DataByMiles!$AT$5:$AU$6,2,FALSE)","v":0},null,null,{"$f":"Q81*$T$2*VLOOKUP(DataByMiles!AE79,DataByMiles!$AT$5:$AU$6,2,FALSE)","v":0},{"$f":"DataByMiles!I79*VLOOKUP(DataByMiles!AE79,DataByMiles!$AT$5:$AU$6,2,FALSE)","v":0},null,null,{"$f":"U81*$X$2*VLOOKUP(DataByMiles!AE79,DataByMiles!$AT$5:$AU$6,2,FALSE)","v":0},{"$f":"DataByMiles!J79*VLOOKUP(DataByMiles!AE79,DataByMiles!$AT$5:$AU$6,2,FALSE)","v":0},{"$f":"DataByMiles!K79","v":0},{"$f":"DataByMiles!L79","v":0},null,null,{"$f":"(Y81/IF(Z81=0,$AD$1,Z81)*$AD$2)/IF(AA81=0,1,AA81)*VLOOKUP(DataByMiles!AE79,DataByMiles!$AT$5:$AU$6,2,FALSE)","v":0},"",0,0,{"$f":"(AF81+AG81)*VLOOKUP(DataByMiles!AE79,DataByMiles!$AT$5:$AU$6,2,FALSE)","v":0},0]
[null,{"$f":"DataByMiles!C80","v":"----76"},{"$f":"DataByMiles!E80*VLOOKUP(DataByMiles!AE80,DataByMiles!$AT$5:$AU$6,2,FALSE)","v":0},null,null,0,{"$f":"C82*$G$2*VLOOKUP(DataByMiles!AE80,DataByMiles!$AT$5:$AU$6,2,FALSE)","v":0},{"$f":"DataByMiles!F80*VLOOKUP(DataByMiles!AE80,DataByMiles!$AT$5:$AU$6,2,FALSE)","v":0},null,null,0,{"$f":"H82*$L$2*VLOOKUP(DataByMiles!AE80,DataByMiles!$AT$5:$AU$6,2,FALSE)","v":0},{"$f":"DataByMiles!G80*VLOOKUP(DataByMiles!AE80,DataByMiles!$AT$5:$AU$6,2,FALSE)","v":0},null,null,{"$f":"M82*$P$2*VLOOKUP(DataByMiles!AE80,DataByMiles!$AT$5:$AU$6,2,FALSE)","v":0},{"$f":"DataByMiles!H80*VLOOKUP(DataByMiles!AE80,DataByMiles!$AT$5:$AU$6,2,FALSE)","v":0},null,null,{"$f":"Q82*$T$2*VLOOKUP(DataByMiles!AE80,DataByMiles!$AT$5:$AU$6,2,FALSE)","v":0},{"$f":"DataByMiles!I80*VLOOKUP(DataByMiles!AE80,DataByMiles!$AT$5:$AU$6,2,FALSE)","v":0},null,null,{"$f":"U82*$X$2*VLOOKUP(DataByMiles!AE80,DataByMiles!$AT$5:$AU$6,2,FALSE)","v":0},{"$f":"DataByMiles!J80*VLOOKUP(DataByMiles!AE80,DataByMiles!$AT$5:$AU$6,2,FALSE)","v":0},{"$f":"DataByMiles!K80","v":0},{"$f":"DataByMiles!L80","v":0},null,null,{"$f":"(Y82/IF(Z82=0,$AD$1,Z82)*$AD$2)/IF(AA82=0,1,AA82)*VLOOKUP(DataByMiles!AE80,DataByMiles!$AT$5:$AU$6,2,FALSE)","v":0},"",0,0,{"$f":"(AF82+AG82)*VLOOKUP(DataByMiles!AE80,DataByMiles!$AT$5:$AU$6,2,FALSE)","v":0},0]
[null,{"$f":"DataByMiles!C81","v":"----77"},{"$f":"DataByMiles!E81*VLOOKUP(DataByMiles!AE81,DataByMiles!$AT$5:$AU$6,2,FALSE)","v":0},null,null,0,{"$f":"C83*$G$2*VLOOKUP(DataByMiles!AE81,DataByMiles!$AT$5:$AU$6,2,FALSE)","v":0},{"$f":"DataByMiles!F81*VLOOKUP(DataByMiles!AE81,DataByMiles!$AT$5:$AU$6,2,FALSE)","v":0},null,null,0,{"$f":"H83*$L$2*VLOOKUP(DataByMiles!AE81,DataByMiles!$AT$5:$AU$6,2,FALSE)","v":0},{"$f":"DataByMiles!G81*VLOOKUP(DataByMiles!AE81,DataByMiles!$AT$5:$AU$6,2,FALSE)","v":0},null,null,{"$f":"M83*$P$2*VLOOKUP(DataByMiles!AE81,DataByMiles!$AT$5:$AU$6,2,FALSE)","v":0},{"$f":"DataByMiles!H81*VLOOKUP(DataByMiles!AE81,DataByMiles!$AT$5:$AU$6,2,FALSE)","v":0},null,null,{"$f":"Q83*$T$2*VLOOKUP(DataByMiles!AE81,DataByMiles!$AT$5:$AU$6,2,FALSE)","v":0},{"$f":"DataByMiles!I81*VLOOKUP(DataByMiles!AE81,DataByMiles!$AT$5:$AU$6,2,FALSE)","v":0},null,null,{"$f":"U83*$X$2*VLOOKUP(DataByMiles!AE81,DataByMiles!$AT$5:$AU$6,2,FALSE)","v":0},{"$f":"DataByMiles!J81*VLOOKUP(DataByMiles!AE81,DataByMiles!$AT$5:$AU$6,2,FALSE)","v":0},{"$f":"DataByMiles!K81","v":0},{"$f":"DataByMiles!L81","v":0},null,null,{"$f":"(Y83/IF(Z83=0,$AD$1,Z83)*$AD$2)/IF(AA83=0,1,AA83)*VLOOKUP(DataByMiles!AE81,DataByMiles!$AT$5:$AU$6,2,FALSE)","v":0},"",0,0,{"$f":"(AF83+AG83)*VLOOKUP(DataByMiles!AE81,DataByMiles!$AT$5:$AU$6,2,FALSE)","v":0},0]
[null,{"$f":"DataByMiles!C82","v":"----78"},{"$f":"DataByMiles!E82*VLOOKUP(DataByMiles!AE82,DataByMiles!$AT$5:$AU$6,2,FALSE)","v":0},null,null,0,{"$f":"C84*$G$2*VLOOKUP(DataByMiles!AE82,DataByMiles!$AT$5:$AU$6,2,FALSE)","v":0},{"$f":"DataByMiles!F82*VLOOKUP(DataByMiles!AE82,DataByMiles!$AT$5:$AU$6,2,FALSE)","v":0},null,null,0,{"$f":"H84*$L$2*VLOOKUP(DataByMiles!AE82,DataByMiles!$AT$5:$AU$6,2,FALSE)","v":0},{"$f":"DataByMiles!G82*VLOOKUP(DataByMiles!AE82,DataByMiles!$AT$5:$AU$6,2,FALSE)","v":0},null,null,{"$f":"M84*$P$2*VLOOKUP(DataByMiles!AE82,DataByMiles!$AT$5:$AU$6,2,FALSE)","v":0},{"$f":"DataByMiles!H82*VLOOKUP(DataByMiles!AE82,DataByMiles!$AT$5:$AU$6,2,FALSE)","v":0},null,null,{"$f":"Q84*$T$2*VLOOKUP(DataByMiles!AE82,DataByMiles!$AT$5:$AU$6,2,FALSE)","v":0},{"$f":"DataByMiles!I82*VLOOKUP(DataByMiles!AE82,DataByMiles!$AT$5:$AU$6,2,FALSE)","v":0},null,null,{"$f":"U84*$X$2*VLOOKUP(DataByMiles!AE82,DataByMiles!$AT$5:$AU$6,2,FALSE)","v":0},{"$f":"DataByMiles!J82*VLOOKUP(DataByMiles!AE82,DataByMiles!$AT$5:$AU$6,2,FALSE)","v":0},{"$f":"DataByMiles!K82","v":0},{"$f":"DataByMiles!L82","v":0},null,null,{"$f":"(Y84/IF(Z84=0,$AD$1,Z84)*$AD$2)/IF(AA84=0,1,AA84)*VLOOKUP(DataByMiles!AE82,DataByMiles!$AT$5:$AU$6,2,FALSE)","v":0},"",0,0,{"$f":"(AF84+AG84)*VLOOKUP(DataByMiles!AE82,DataByMiles!$AT$5:$AU$6,2,FALSE)","v":0},0]
[null,{"$f":"DataByMiles!C83","v":"----79"},{"$f":"DataByMiles!E83*VLOOKUP(DataByMiles!AE83,DataByMiles!$AT$5:$AU$6,2,FALSE)","v":0},null,null,0,{"$f":"C85*$G$2*VLOOKUP(DataByMiles!AE83,DataByMiles!$AT$5:$AU$6,2,FALSE)","v":0},{"$f":"DataByMiles!F83*VLOOKUP(DataByMiles!AE83,DataByMiles!$AT$5:$AU$6,2,FALSE)","v":0},null,null,0,{"$f":"H85*$L$2*VLOOKUP(DataByMiles!AE83,DataByMiles!$AT$5:$AU$6,2,FALSE)","v":0},{"$f":"DataByMiles!G83*VLOOKUP(DataByMiles!AE83,DataByMiles!$AT$5:$AU$6,2,FALSE)","v":0},null,null,{"$f":"M85*$P$2*VLOOKUP(DataByMiles!AE83,DataByMiles!$AT$5:$AU$6,2,FALSE)","v":0},{"$f":"DataByMiles!H83*VLOOKUP(DataByMiles!AE83,DataByMiles!$AT$5:$AU$6,2,FALSE)","v":0},null,null,{"$f":"Q85*$T$2*VLOOKUP(DataByMiles!AE83,DataByMiles!$AT$5:$AU$6,2,FALSE)","v":0},{"$f":"DataByMiles!I83*VLOOKUP(DataByMiles!AE83,DataByMiles!$AT$5:$AU$6,2,FALSE)","v":0},null,null,{"$f":"U85*$X$2*VLOOKUP(DataByMiles!AE83,DataByMiles!$AT$5:$AU$6,2,FALSE)","v":0},{"$f":"DataByMiles!J83*VLOOKUP(DataByMiles!AE83,DataByMiles!$AT$5:$AU$6,2,FALSE)","v":0},{"$f":"DataByMiles!K83","v":0},{"$f":"DataByMiles!L83","v":0},null,null,{"$f":"(Y85/IF(Z85=0,$AD$1,Z85)*$AD$2)/IF(AA85=0,1,AA85)*VLOOKUP(DataByMiles!AE83,DataByMiles!$AT$5:$AU$6,2,FALSE)","v":0},"",0,0,{"$f":"(AF85+AG85)*VLOOKUP(DataByMiles!AE83,DataByMiles!$AT$5:$AU$6,2,FALSE)","v":0},0]
[null,{"$f":"DataByMiles!C84","v":"----80"},{"$f":"DataByMiles!E84*VLOOKUP(DataByMiles!AE84,DataByMiles!$AT$5:$AU$6,2,FALSE)","v":0},null,null,0,{"$f":"C86*$G$2*VLOOKUP(DataByMiles!AE84,DataByMiles!$AT$5:$AU$6,2,FALSE)","v":0},{"$f":"DataByMiles!F84*VLOOKUP(DataByMiles!AE84,DataByMiles!$AT$5:$AU$6,2,FALSE)","v":0},null,null,0,{"$f":"H86*$L$2*VLOOKUP(DataByMiles!AE84,DataByMiles!$AT$5:$AU$6,2,FALSE)","v":0},{"$f":"DataByMiles!G84*VLOOKUP(DataByMiles!AE84,DataByMiles!$AT$5:$AU$6,2,FALSE)","v":0},null,null,{"$f":"M86*$P$2*VLOOKUP(DataByMiles!AE84,DataByMiles!$AT$5:$AU$6,2,FALSE)","v":0},{"$f":"DataByMiles!H84*VLOOKUP(DataByMiles!AE84,DataByMiles!$AT$5:$AU$6,2,FALSE)","v":0},null,null,{"$f":"Q86*$T$2*VLOOKUP(DataByMiles!AE84,DataByMiles!$AT$5:$AU$6,2,FALSE)","v":0},{"$f":"DataByMiles!I84*VLOOKUP(DataByMiles!AE84,DataByMiles!$AT$5:$AU$6,2,FALSE)","v":0},null,null,{"$f":"U86*$X$2*VLOOKUP(DataByMiles!AE84,DataByMiles!$AT$5:$AU$6,2,FALSE)","v":0},{"$f":"DataByMiles!J84*VLOOKUP(DataByMiles!AE84,DataByMiles!$AT$5:$AU$6,2,FALSE)","v":0},{"$f":"DataByMiles!K84","v":0},{"$f":"DataByMiles!L84","v":0},null,null,{"$f":"(Y86/IF(Z86=0,$AD$1,Z86)*$AD$2)/IF(AA86=0,1,AA86)*VLOOKUP(DataByMiles!AE84,DataByMiles!$AT$5:$AU$6,2,FALSE)","v":0},"",0,0,{"$f":"(AF86+AG86)*VLOOKUP(DataByMiles!AE84,DataByMiles!$AT$5:$AU$6,2,FALSE)","v":0},0]
[null,{"$f":"DataByMiles!C85","v":"----81"},{"$f":"DataByMiles!E85*VLOOKUP(DataByMiles!AE85,DataByMiles!$AT$5:$AU$6,2,FALSE)","v":0},null,null,0,{"$f":"C87*$G$2*VLOOKUP(DataByMiles!AE85,DataByMiles!$AT$5:$AU$6,2,FALSE)","v":0},{"$f":"DataByMiles!F85*VLOOKUP(DataByMiles!AE85,DataByMiles!$AT$5:$AU$6,2,FALSE)","v":0},null,null,0,{"$f":"H87*$L$2*VLOOKUP(DataByMiles!AE85,DataByMiles!$AT$5:$AU$6,2,FALSE)","v":0},{"$f":"DataByMiles!G85*VLOOKUP(DataByMiles!AE85,DataByMiles!$AT$5:$AU$6,2,FALSE)","v":0},null,null,{"$f":"M87*$P$2*VLOOKUP(DataByMiles!AE85,DataByMiles!$AT$5:$AU$6,2,FALSE)","v":0},{"$f":"DataByMiles!H85*VLOOKUP(DataByMiles!AE85,DataByMiles!$AT$5:$AU$6,2,FALSE)","v":0},null,null,{"$f":"Q87*$T$2*VLOOKUP(DataByMiles!AE85,DataByMiles!$AT$5:$AU$6,2,FALSE)","v":0},{"$f":"DataByMiles!I85*VLOOKUP(DataByMiles!AE85,DataByMiles!$AT$5:$AU$6,2,FALSE)","v":0},null,null,{"$f":"U87*$X$2*VLOOKUP(DataByMiles!AE85,DataByMiles!$AT$5:$AU$6,2,FALSE)","v":0},{"$f":"DataByMiles!J85*VLOOKUP(DataByMiles!AE85,DataByMiles!$AT$5:$AU$6,2,FALSE)","v":0},{"$f":"DataByMiles!K85","v":0},{"$f":"DataByMiles!L85","v":0},null,null,{"$f":"(Y87/IF(Z87=0,$AD$1,Z87)*$AD$2)/IF(AA87=0,1,AA87)*VLOOKUP(DataByMiles!AE85,DataByMiles!$AT$5:$AU$6,2,FALSE)","v":0},"",0,0,{"$f":"(AF87+AG87)*VLOOKUP(DataByMiles!AE85,DataByMiles!$AT$5:$AU$6,2,FALSE)","v":0},0]
[null,{"$f":"DataByMiles!C86","v":"----82"},{"$f":"DataByMiles!E86*VLOOKUP(DataByMiles!AE86,DataByMiles!$AT$5:$AU$6,2,FALSE)","v":0},null,null,0,{"$f":"C88*$G$2*VLOOKUP(DataByMiles!AE86,DataByMiles!$AT$5:$AU$6,2,FALSE)","v":0},{"$f":"DataByMiles!F86*VLOOKUP(DataByMiles!AE86,DataByMiles!$AT$5:$AU$6,2,FALSE)","v":0},null,null,0,{"$f":"H88*$L$2*VLOOKUP(DataByMiles!AE86,DataByMiles!$AT$5:$AU$6,2,FALSE)","v":0},{"$f":"DataByMiles!G86*VLOOKUP(DataByMiles!AE86,DataByMiles!$AT$5:$AU$6,2,FALSE)","v":0},null,null,{"$f":"M88*$P$2*VLOOKUP(DataByMiles!AE86,DataByMiles!$AT$5:$AU$6,2,FALSE)","v":0},{"$f":"DataByMiles!H86*VLOOKUP(DataByMiles!AE86,DataByMiles!$AT$5:$AU$6,2,FALSE)","v":0},null,null,{"$f":"Q88*$T$2*VLOOKUP(DataByMiles!AE86,DataByMiles!$AT$5:$AU$6,2,FALSE)","v":0},{"$f":"DataByMiles!I86*VLOOKUP(DataByMiles!AE86,DataByMiles!$AT$5:$AU$6,2,FALSE)","v":0},null,null,{"$f":"U88*$X$2*VLOOKUP(DataByMiles!AE86,DataByMiles!$AT$5:$AU$6,2,FALSE)","v":0},{"$f":"DataByMiles!J86*VLOOKUP(DataByMiles!AE86,DataByMiles!$AT$5:$AU$6,2,FALSE)","v":0},{"$f":"DataByMiles!K86","v":0},{"$f":"DataByMiles!L86","v":0},null,null,{"$f":"(Y88/IF(Z88=0,$AD$1,Z88)*$AD$2)/IF(AA88=0,1,AA88)*VLOOKUP(DataByMiles!AE86,DataByMiles!$AT$5:$AU$6,2,FALSE)","v":0},"",0,0,{"$f":"(AF88+AG88)*VLOOKUP(DataByMiles!AE86,DataByMiles!$AT$5:$AU$6,2,FALSE)","v":0},0]
[null,{"$f":"DataByMiles!C87","v":"----83"},{"$f":"DataByMiles!E87*VLOOKUP(DataByMiles!AE87,DataByMiles!$AT$5:$AU$6,2,FALSE)","v":0},null,null,0,{"$f":"C89*$G$2*VLOOKUP(DataByMiles!AE87,DataByMiles!$AT$5:$AU$6,2,FALSE)","v":0},{"$f":"DataByMiles!F87*VLOOKUP(DataByMiles!AE87,DataByMiles!$AT$5:$AU$6,2,FALSE)","v":0},null,null,0,{"$f":"H89*$L$2*VLOOKUP(DataByMiles!AE87,DataByMiles!$AT$5:$AU$6,2,FALSE)","v":0},{"$f":"DataByMiles!G87*VLOOKUP(DataByMiles!AE87,DataByMiles!$AT$5:$AU$6,2,FALSE)","v":0},null,null,{"$f":"M89*$P$2*VLOOKUP(DataByMiles!AE87,DataByMiles!$AT$5:$AU$6,2,FALSE)","v":0},{"$f":"DataByMiles!H87*VLOOKUP(DataByMiles!AE87,DataByMiles!$AT$5:$AU$6,2,FALSE)","v":0},null,null,{"$f":"Q89*$T$2*VLOOKUP(DataByMiles!AE87,DataByMiles!$AT$5:$AU$6,2,FALSE)","v":0},{"$f":"DataByMiles!I87*VLOOKUP(DataByMiles!AE87,DataByMiles!$AT$5:$AU$6,2,FALSE)","v":0},null,null,{"$f":"U89*$X$2*VLOOKUP(DataByMiles!AE87,DataByMiles!$AT$5:$AU$6,2,FALSE)","v":0},{"$f":"DataByMiles!J87*VLOOKUP(DataByMiles!AE87,DataByMiles!$AT$5:$AU$6,2,FALSE)","v":0},{"$f":"DataByMiles!K87","v":0},{"$f":"DataByMiles!L87","v":0},null,null,{"$f":"(Y89/IF(Z89=0,$AD$1,Z89)*$AD$2)/IF(AA89=0,1,AA89)*VLOOKUP(DataByMiles!AE87,DataByMiles!$AT$5:$AU$6,2,FALSE)","v":0},"",0,0,{"$f":"(AF89+AG89)*VLOOKUP(DataByMiles!AE87,DataByMiles!$AT$5:$AU$6,2,FALSE)","v":0},0]
[null,{"$f":"DataByMiles!C88","v":"----84"},{"$f":"DataByMiles!E88*VLOOKUP(DataByMiles!AE88,DataByMiles!$AT$5:$AU$6,2,FALSE)","v":0},null,null,0,{"$f":"C90*$G$2*VLOOKUP(DataByMiles!AE88,DataByMiles!$AT$5:$AU$6,2,FALSE)","v":0},{"$f":"DataByMiles!F88*VLOOKUP(DataByMiles!AE88,DataByMiles!$AT$5:$AU$6,2,FALSE)","v":0},null,null,0,{"$f":"H90*$L$2*VLOOKUP(DataByMiles!AE88,DataByMiles!$AT$5:$AU$6,2,FALSE)","v":0},{"$f":"DataByMiles!G88*VLOOKUP(DataByMiles!AE88,DataByMiles!$AT$5:$AU$6,2,FALSE)","v":0},null,null,{"$f":"M90*$P$2*VLOOKUP(DataByMiles!AE88,DataByMiles!$AT$5:$AU$6,2,FALSE)","v":0},{"$f":"DataByMiles!H88*VLOOKUP(DataByMiles!AE88,DataByMiles!$AT$5:$AU$6,2,FALSE)","v":0},null,null,{"$f":"Q90*$T$2*VLOOKUP(DataByMiles!AE88,DataByMiles!$AT$5:$AU$6,2,FALSE)","v":0},{"$f":"DataByMiles!I88*VLOOKUP(DataByMiles!AE88,DataByMiles!$AT$5:$AU$6,2,FALSE)","v":0},null,null,{"$f":"U90*$X$2*VLOOKUP(DataByMiles!AE88,DataByMiles!$AT$5:$AU$6,2,FALSE)","v":0},{"$f":"DataByMiles!J88*VLOOKUP(DataByMiles!AE88,DataByMiles!$AT$5:$AU$6,2,FALSE)","v":0},{"$f":"DataByMiles!K88","v":0},{"$f":"DataByMiles!L88","v":0},null,null,{"$f":"(Y90/IF(Z90=0,$AD$1,Z90)*$AD$2)/IF(AA90=0,1,AA90)*VLOOKUP(DataByMiles!AE88,DataByMiles!$AT$5:$AU$6,2,FALSE)","v":0},"",0,0,{"$f":"(AF90+AG90)*VLOOKUP(DataByMiles!AE88,DataByMiles!$AT$5:$AU$6,2,FALSE)","v":0},0]
[null,{"$f":"DataByMiles!C89","v":"----85"},{"$f":"DataByMiles!E89*VLOOKUP(DataByMiles!AE89,DataByMiles!$AT$5:$AU$6,2,FALSE)","v":0},null,null,0,{"$f":"C91*$G$2*VLOOKUP(DataByMiles!AE89,DataByMiles!$AT$5:$AU$6,2,FALSE)","v":0},{"$f":"DataByMiles!F89*VLOOKUP(DataByMiles!AE89,DataByMiles!$AT$5:$AU$6,2,FALSE)","v":0},null,null,0,{"$f":"H91*$L$2*VLOOKUP(DataByMiles!AE89,DataByMiles!$AT$5:$AU$6,2,FALSE)","v":0},{"$f":"DataByMiles!G89*VLOOKUP(DataByMiles!AE89,DataByMiles!$AT$5:$AU$6,2,FALSE)","v":0},null,null,{"$f":"M91*$P$2*VLOOKUP(DataByMiles!AE89,DataByMiles!$AT$5:$AU$6,2,FALSE)","v":0},{"$f":"DataByMiles!H89*VLOOKUP(DataByMiles!AE89,DataByMiles!$AT$5:$AU$6,2,FALSE)","v":0},null,null,{"$f":"Q91*$T$2*VLOOKUP(DataByMiles!AE89,DataByMiles!$AT$5:$AU$6,2,FALSE)","v":0},{"$f":"DataByMiles!I89*VLOOKUP(DataByMiles!AE89,DataByMiles!$AT$5:$AU$6,2,FALSE)","v":0},null,null,{"$f":"U91*$X$2*VLOOKUP(DataByMiles!AE89,DataByMiles!$AT$5:$AU$6,2,FALSE)","v":0},{"$f":"DataByMiles!J89*VLOOKUP(DataByMiles!AE89,DataByMiles!$AT$5:$AU$6,2,FALSE)","v":0},{"$f":"DataByMiles!K89","v":0},{"$f":"DataByMiles!L89","v":0},null,null,{"$f":"(Y91/IF(Z91=0,$AD$1,Z91)*$AD$2)/IF(AA91=0,1,AA91)*VLOOKUP(DataByMiles!AE89,DataByMiles!$AT$5:$AU$6,2,FALSE)","v":0},"",0,0,{"$f":"(AF91+AG91)*VLOOKUP(DataByMiles!AE89,DataByMiles!$AT$5:$AU$6,2,FALSE)","v":0},0]
[null,{"$f":"DataByMiles!C90","v":"----86"},{"$f":"DataByMiles!E90*VLOOKUP(DataByMiles!AE90,DataByMiles!$AT$5:$AU$6,2,FALSE)","v":0},null,null,0,{"$f":"C92*$G$2*VLOOKUP(DataByMiles!AE90,DataByMiles!$AT$5:$AU$6,2,FALSE)","v":0},{"$f":"DataByMiles!F90*VLOOKUP(DataByMiles!AE90,DataByMiles!$AT$5:$AU$6,2,FALSE)","v":0},null,null,0,{"$f":"H92*$L$2*VLOOKUP(DataByMiles!AE90,DataByMiles!$AT$5:$AU$6,2,FALSE)","v":0},{"$f":"DataByMiles!G90*VLOOKUP(DataByMiles!AE90,DataByMiles!$AT$5:$AU$6,2,FALSE)","v":0},null,null,{"$f":"M92*$P$2*VLOOKUP(DataByMiles!AE90,DataByMiles!$AT$5:$AU$6,2,FALSE)","v":0},{"$f":"DataByMiles!H90*VLOOKUP(DataByMiles!AE90,DataByMiles!$AT$5:$AU$6,2,FALSE)","v":0},null,null,{"$f":"Q92*$T$2*VLOOKUP(DataByMiles!AE90,DataByMiles!$AT$5:$AU$6,2,FALSE)","v":0},{"$f":"DataByMiles!I90*VLOOKUP(DataByMiles!AE90,DataByMiles!$AT$5:$AU$6,2,FALSE)","v":0},null,null,{"$f":"U92*$X$2*VLOOKUP(DataByMiles!AE90,DataByMiles!$AT$5:$AU$6,2,FALSE)","v":0},{"$f":"DataByMiles!J90*VLOOKUP(DataByMiles!AE90,DataByMiles!$AT$5:$AU$6,2,FALSE)","v":0},{"$f":"DataByMiles!K90","v":0},{"$f":"DataByMiles!L90","v":0},null,null,{"$f":"(Y92/IF(Z92=0,$AD$1,Z92)*$AD$2)/IF(AA92=0,1,AA92)*VLOOKUP(DataByMiles!AE90,DataByMiles!$AT$5:$AU$6,2,FALSE)","v":0},"",0,0,{"$f":"(AF92+AG92)*VLOOKUP(DataByMiles!AE90,DataByMiles!$AT$5:$AU$6,2,FALSE)","v":0},0]
[null,{"$f":"DataByMiles!C91","v":"----87"},{"$f":"DataByMiles!E91*VLOOKUP(DataByMiles!AE91,DataByMiles!$AT$5:$AU$6,2,FALSE)","v":0},null,null,0,{"$f":"C93*$G$2*VLOOKUP(DataByMiles!AE91,DataByMiles!$AT$5:$AU$6,2,FALSE)","v":0},{"$f":"DataByMiles!F91*VLOOKUP(DataByMiles!AE91,DataByMiles!$AT$5:$AU$6,2,FALSE)","v":0},null,null,0,{"$f":"H93*$L$2*VLOOKUP(DataByMiles!AE91,DataByMiles!$AT$5:$AU$6,2,FALSE)","v":0},{"$f":"DataByMiles!G91*VLOOKUP(DataByMiles!AE91,DataByMiles!$AT$5:$AU$6,2,FALSE)","v":0},null,null,{"$f":"M93*$P$2*VLOOKUP(DataByMiles!AE91,DataByMiles!$AT$5:$AU$6,2,FALSE)","v":0},{"$f":"DataByMiles!H91*VLOOKUP(DataByMiles!AE91,DataByMiles!$AT$5:$AU$6,2,FALSE)","v":0},null,null,{"$f":"Q93*$T$2*VLOOKUP(DataByMiles!AE91,DataByMiles!$AT$5:$AU$6,2,FALSE)","v":0},{"$f":"DataByMiles!I91*VLOOKUP(DataByMiles!AE91,DataByMiles!$AT$5:$AU$6,2,FALSE)","v":0},null,null,{"$f":"U93*$X$2*VLOOKUP(DataByMiles!AE91,DataByMiles!$AT$5:$AU$6,2,FALSE)","v":0},{"$f":"DataByMiles!J91*VLOOKUP(DataByMiles!AE91,DataByMiles!$AT$5:$AU$6,2,FALSE)","v":0},{"$f":"DataByMiles!K91","v":0},{"$f":"DataByMiles!L91","v":0},null,null,{"$f":"(Y93/IF(Z93=0,$AD$1,Z93)*$AD$2)/IF(AA93=0,1,AA93)*VLOOKUP(DataByMiles!AE91,DataByMiles!$AT$5:$AU$6,2,FALSE)","v":0},"",0,0,{"$f":"(AF93+AG93)*VLOOKUP(DataByMiles!AE91,DataByMiles!$AT$5:$AU$6,2,FALSE)","v":0},0]
[null,{"$f":"DataByMiles!C92","v":"----88"},{"$f":"DataByMiles!E92*VLOOKUP(DataByMiles!AE92,DataByMiles!$AT$5:$AU$6,2,FALSE)","v":0},null,null,0,{"$f":"C94*$G$2*VLOOKUP(DataByMiles!AE92,DataByMiles!$AT$5:$AU$6,2,FALSE)","v":0},{"$f":"DataByMiles!F92*VLOOKUP(DataByMiles!AE92,DataByMiles!$AT$5:$AU$6,2,FALSE)","v":0},null,null,0,{"$f":"H94*$L$2*VLOOKUP(DataByMiles!AE92,DataByMiles!$AT$5:$AU$6,2,FALSE)","v":0},{"$f":"DataByMiles!G92*VLOOKUP(DataByMiles!AE92,DataByMiles!$AT$5:$AU$6,2,FALSE)","v":0},null,null,{"$f":"M94*$P$2*VLOOKUP(DataByMiles!AE92,DataByMiles!$AT$5:$AU$6,2,FALSE)","v":0},{"$f":"DataByMiles!H92*VLOOKUP(DataByMiles!AE92,DataByMiles!$AT$5:$AU$6,2,FALSE)","v":0},null,null,{"$f":"Q94*$T$2*VLOOKUP(DataByMiles!AE92,DataByMiles!$AT$5:$AU$6,2,FALSE)","v":0},{"$f":"DataByMiles!I92*VLOOKUP(DataByMiles!AE92,DataByMiles!$AT$5:$AU$6,2,FALSE)","v":0},null,null,{"$f":"U94*$X$2*VLOOKUP(DataByMiles!AE92,DataByMiles!$AT$5:$AU$6,2,FALSE)","v":0},{"$f":"DataByMiles!J92*VLOOKUP(DataByMiles!AE92,DataByMiles!$AT$5:$AU$6,2,FALSE)","v":0},{"$f":"DataByMiles!K92","v":0},{"$f":"DataByMiles!L92","v":0},null,null,{"$f":"(Y94/IF(Z94=0,$AD$1,Z94)*$AD$2)/IF(AA94=0,1,AA94)*VLOOKUP(DataByMiles!AE92,DataByMiles!$AT$5:$AU$6,2,FALSE)","v":0},"",0,0,{"$f":"(AF94+AG94)*VLOOKUP(DataByMiles!AE92,DataByMiles!$AT$5:$AU$6,2,FALSE)","v":0},0]
[null,{"$f":"DataByMiles!C93","v":"----89"},{"$f":"DataByMiles!E93*VLOOKUP(DataByMiles!AE93,DataByMiles!$AT$5:$AU$6,2,FALSE)","v":0},null,null,0,{"$f":"C95*$G$2*VLOOKUP(DataByMiles!AE93,DataByMiles!$AT$5:$AU$6,2,FALSE)","v":0},{"$f":"DataByMiles!F93*VLOOKUP(DataByMiles!AE93,DataByMiles!$AT$5:$AU$6,2,FALSE)","v":0},null,null,0,{"$f":"H95*$L$2*VLOOKUP(DataByMiles!AE93,DataByMiles!$AT$5:$AU$6,2,FALSE)","v":0},{"$f":"DataByMiles!G93*VLOOKUP(DataByMiles!AE93,DataByMiles!$AT$5:$AU$6,2,FALSE)","v":0},null,null,{"$f":"M95*$P$2*VLOOKUP(DataByMiles!AE93,DataByMiles!$AT$5:$AU$6,2,FALSE)","v":0},{"$f":"DataByMiles!H93*VLOOKUP(DataByMiles!AE93,DataByMiles!$AT$5:$AU$6,2,FALSE)","v":0},null,null,{"$f":"Q95*$T$2*VLOOKUP(DataByMiles!AE93,DataByMiles!$AT$5:$AU$6,2,FALSE)","v":0},{"$f":"DataByMiles!I93*VLOOKUP(DataByMiles!AE93,DataByMiles!$AT$5:$AU$6,2,FALSE)","v":0},null,null,{"$f":"U95*$X$2*VLOOKUP(DataByMiles!AE93,DataByMiles!$AT$5:$AU$6,2,FALSE)","v":0},{"$f":"DataByMiles!J93*VLOOKUP(DataByMiles!AE93,DataByMiles!$AT$5:$AU$6,2,FALSE)","v":0},{"$f":"DataByMiles!K93","v":0},{"$f":"DataByMiles!L93","v":0},null,null,{"$f":"(Y95/IF(Z95=0,$AD$1,Z95)*$AD$2)/IF(AA95=0,1,AA95)*VLOOKUP(DataByMiles!AE93,DataByMiles!$AT$5:$AU$6,2,FALSE)","v":0},"",0,0,{"$f":"(AF95+AG95)*VLOOKUP(DataByMiles!AE93,DataByMiles!$AT$5:$AU$6,2,FALSE)","v":0},0]
[null,{"$f":"DataByMiles!C94","v":"----90"},{"$f":"DataByMiles!E94*VLOOKUP(DataByMiles!AE94,DataByMiles!$AT$5:$AU$6,2,FALSE)","v":0},null,null,0,{"$f":"C96*$G$2*VLOOKUP(DataByMiles!AE94,DataByMiles!$AT$5:$AU$6,2,FALSE)","v":0},{"$f":"DataByMiles!F94*VLOOKUP(DataByMiles!AE94,DataByMiles!$AT$5:$AU$6,2,FALSE)","v":0},null,null,0,{"$f":"H96*$L$2*VLOOKUP(DataByMiles!AE94,DataByMiles!$AT$5:$AU$6,2,FALSE)","v":0},{"$f":"DataByMiles!G94*VLOOKUP(DataByMiles!AE94,DataByMiles!$AT$5:$AU$6,2,FALSE)","v":0},null,null,{"$f":"M96*$P$2*VLOOKUP(DataByMiles!AE94,DataByMiles!$AT$5:$AU$6,2,FALSE)","v":0},{"$f":"DataByMiles!H94*VLOOKUP(DataByMiles!AE94,DataByMiles!$AT$5:$AU$6,2,FALSE)","v":0},null,null,{"$f":"Q96*$T$2*VLOOKUP(DataByMiles!AE94,DataByMiles!$AT$5:$AU$6,2,FALSE)","v":0},{"$f":"DataByMiles!I94*VLOOKUP(DataByMiles!AE94,DataByMiles!$AT$5:$AU$6,2,FALSE)","v":0},null,null,{"$f":"U96*$X$2*VLOOKUP(DataByMiles!AE94,DataByMiles!$AT$5:$AU$6,2,FALSE)","v":0},{"$f":"DataByMiles!J94*VLOOKUP(DataByMiles!AE94,DataByMiles!$AT$5:$AU$6,2,FALSE)","v":0},{"$f":"DataByMiles!K94","v":0},{"$f":"DataByMiles!L94","v":0},null,null,{"$f":"(Y96/IF(Z96=0,$AD$1,Z96)*$AD$2)/IF(AA96=0,1,AA96)*VLOOKUP(DataByMiles!AE94,DataByMiles!$AT$5:$AU$6,2,FALSE)","v":0},"",0,0,{"$f":"(AF96+AG96)*VLOOKUP(DataByMiles!AE94,DataByMiles!$AT$5:$AU$6,2,FALSE)","v":0},0]
[null,{"$f":"DataByMiles!C95","v":"----91"},{"$f":"DataByMiles!E95*VLOOKUP(DataByMiles!AE95,DataByMiles!$AT$5:$AU$6,2,FALSE)","v":0},null,null,0,{"$f":"C97*$G$2*VLOOKUP(DataByMiles!AE95,DataByMiles!$AT$5:$AU$6,2,FALSE)","v":0},{"$f":"DataByMiles!F95*VLOOKUP(DataByMiles!AE95,DataByMiles!$AT$5:$AU$6,2,FALSE)","v":0},null,null,0,{"$f":"H97*$L$2*VLOOKUP(DataByMiles!AE95,DataByMiles!$AT$5:$AU$6,2,FALSE)","v":0},{"$f":"DataByMiles!G95*VLOOKUP(DataByMiles!AE95,DataByMiles!$AT$5:$AU$6,2,FALSE)","v":0},null,null,{"$f":"M97*$P$2*VLOOKUP(DataByMiles!AE95,DataByMiles!$AT$5:$AU$6,2,FALSE)","v":0},{"$f":"DataByMiles!H95*VLOOKUP(DataByMiles!AE95,DataByMiles!$AT$5:$AU$6,2,FALSE)","v":0},null,null,{"$f":"Q97*$T$2*VLOOKUP(DataByMiles!AE95,DataByMiles!$AT$5:$AU$6,2,FALSE)","v":0},{"$f":"DataByMiles!I95*VLOOKUP(DataByMiles!AE95,DataByMiles!$AT$5:$AU$6,2,FALSE)","v":0},null,null,{"$f":"U97*$X$2*VLOOKUP(DataByMiles!AE95,DataByMiles!$AT$5:$AU$6,2,FALSE)","v":0},{"$f":"DataByMiles!J95*VLOOKUP(DataByMiles!AE95,DataByMiles!$AT$5:$AU$6,2,FALSE)","v":0},{"$f":"DataByMiles!K95","v":0},{"$f":"DataByMiles!L95","v":0},null,null,{"$f":"(Y97/IF(Z97=0,$AD$1,Z97)*$AD$2)/IF(AA97=0,1,AA97)*VLOOKUP(DataByMiles!AE95,DataByMiles!$AT$5:$AU$6,2,FALSE)","v":0},"",0,0,{"$f":"(AF97+AG97)*VLOOKUP(DataByMiles!AE95,DataByMiles!$AT$5:$AU$6,2,FALSE)","v":0},0]
[null,{"$f":"DataByMiles!C96","v":"----92"},{"$f":"DataByMiles!E96*VLOOKUP(DataByMiles!AE96,DataByMiles!$AT$5:$AU$6,2,FALSE)","v":0},null,null,0,{"$f":"C98*$G$2*VLOOKUP(DataByMiles!AE96,DataByMiles!$AT$5:$AU$6,2,FALSE)","v":0},{"$f":"DataByMiles!F96*VLOOKUP(DataByMiles!AE96,DataByMiles!$AT$5:$AU$6,2,FALSE)","v":0},null,null,0,{"$f":"H98*$L$2*VLOOKUP(DataByMiles!AE96,DataByMiles!$AT$5:$AU$6,2,FALSE)","v":0},{"$f":"DataByMiles!G96*VLOOKUP(DataByMiles!AE96,DataByMiles!$AT$5:$AU$6,2,FALSE)","v":0},null,null,{"$f":"M98*$P$2*VLOOKUP(DataByMiles!AE96,DataByMiles!$AT$5:$AU$6,2,FALSE)","v":0},{"$f":"DataByMiles!H96*VLOOKUP(DataByMiles!AE96,DataByMiles!$AT$5:$AU$6,2,FALSE)","v":0},null,null,{"$f":"Q98*$T$2*VLOOKUP(DataByMiles!AE96,DataByMiles!$AT$5:$AU$6,2,FALSE)","v":0},{"$f":"DataByMiles!I96*VLOOKUP(DataByMiles!AE96,DataByMiles!$AT$5:$AU$6,2,FALSE)","v":0},null,null,{"$f":"U98*$X$2*VLOOKUP(DataByMiles!AE96,DataByMiles!$AT$5:$AU$6,2,FALSE)","v":0},{"$f":"DataByMiles!J96*VLOOKUP(DataByMiles!AE96,DataByMiles!$AT$5:$AU$6,2,FALSE)","v":0},{"$f":"DataByMiles!K96","v":0},{"$f":"DataByMiles!L96","v":0},null,null,{"$f":"(Y98/IF(Z98=0,$AD$1,Z98)*$AD$2)/IF(AA98=0,1,AA98)*VLOOKUP(DataByMiles!AE96,DataByMiles!$AT$5:$AU$6,2,FALSE)","v":0},"",0,0,{"$f":"(AF98+AG98)*VLOOKUP(DataByMiles!AE96,DataByMiles!$AT$5:$AU$6,2,FALSE)","v":0},0]
[null,{"$f":"DataByMiles!C97","v":"----93"},{"$f":"DataByMiles!E97*VLOOKUP(DataByMiles!AE97,DataByMiles!$AT$5:$AU$6,2,FALSE)","v":0},null,null,0,{"$f":"C99*$G$2*VLOOKUP(DataByMiles!AE97,DataByMiles!$AT$5:$AU$6,2,FALSE)","v":0},{"$f":"DataByMiles!F97*VLOOKUP(DataByMiles!AE97,DataByMiles!$AT$5:$AU$6,2,FALSE)","v":0},null,null,0,{"$f":"H99*$L$2*VLOOKUP(DataByMiles!AE97,DataByMiles!$AT$5:$AU$6,2,FALSE)","v":0},{"$f":"DataByMiles!G97*VLOOKUP(DataByMiles!AE97,DataByMiles!$AT$5:$AU$6,2,FALSE)","v":0},null,null,{"$f":"M99*$P$2*VLOOKUP(DataByMiles!AE97,DataByMiles!$AT$5:$AU$6,2,FALSE)","v":0},{"$f":"DataByMiles!H97*VLOOKUP(DataByMiles!AE97,DataByMiles!$AT$5:$AU$6,2,FALSE)","v":0},null,null,{"$f":"Q99*$T$2*VLOOKUP(DataByMiles!AE97,DataByMiles!$AT$5:$AU$6,2,FALSE)","v":0},{"$f":"DataByMiles!I97*VLOOKUP(DataByMiles!AE97,DataByMiles!$AT$5:$AU$6,2,FALSE)","v":0},null,null,{"$f":"U99*$X$2*VLOOKUP(DataByMiles!AE97,DataByMiles!$AT$5:$AU$6,2,FALSE)","v":0},{"$f":"DataByMiles!J97*VLOOKUP(DataByMiles!AE97,DataByMiles!$AT$5:$AU$6,2,FALSE)","v":0},{"$f":"DataByMiles!K97","v":0},{"$f":"DataByMiles!L97","v":0},null,null,{"$f":"(Y99/IF(Z99=0,$AD$1,Z99)*$AD$2)/IF(AA99=0,1,AA99)*VLOOKUP(DataByMiles!AE97,DataByMiles!$AT$5:$AU$6,2,FALSE)","v":0},"",0,0,{"$f":"(AF99+AG99)*VLOOKUP(DataByMiles!AE97,DataByMiles!$AT$5:$AU$6,2,FALSE)","v":0},0]
[null,{"$f":"DataByMiles!C98","v":"----94"},{"$f":"DataByMiles!E98*VLOOKUP(DataByMiles!AE98,DataByMiles!$AT$5:$AU$6,2,FALSE)","v":0},null,null,0,{"$f":"C100*$G$2*VLOOKUP(DataByMiles!AE98,DataByMiles!$AT$5:$AU$6,2,FALSE)","v":0},{"$f":"DataByMiles!F98*VLOOKUP(DataByMiles!AE98,DataByMiles!$AT$5:$AU$6,2,FALSE)","v":0},null,null,0,{"$f":"H100*$L$2*VLOOKUP(DataByMiles!AE98,DataByMiles!$AT$5:$AU$6,2,FALSE)","v":0},{"$f":"DataByMiles!G98*VLOOKUP(DataByMiles!AE98,DataByMiles!$AT$5:$AU$6,2,FALSE)","v":0},null,null,{"$f":"M100*$P$2*VLOOKUP(DataByMiles!AE98,DataByMiles!$AT$5:$AU$6,2,FALSE)","v":0},{"$f":"DataByMiles!H98*VLOOKUP(DataByMiles!AE98,DataByMiles!$AT$5:$AU$6,2,FALSE)","v":0},null,null,{"$f":"Q100*$T$2*VLOOKUP(DataByMiles!AE98,DataByMiles!$AT$5:$AU$6,2,FALSE)","v":0},{"$f":"DataByMiles!I98*VLOOKUP(DataByMiles!AE98,DataByMiles!$AT$5:$AU$6,2,FALSE)","v":0},null,null,{"$f":"U100*$X$2*VLOOKUP(DataByMiles!AE98,DataByMiles!$AT$5:$AU$6,2,FALSE)","v":0},{"$f":"DataByMiles!J98*VLOOKUP(DataByMiles!AE98,DataByMiles!$AT$5:$AU$6,2,FALSE)","v":0},{"$f":"DataByMiles!K98","v":0},{"$f":"DataByMiles!L98","v":0},null,null,{"$f":"(Y100/IF(Z100=0,$AD$1,Z100)*$AD$2)/IF(AA100=0,1,AA100)*VLOOKUP(DataByMiles!AE98,DataByMiles!$AT$5:$AU$6,2,FALSE)","v":0},"",0,0,{"$f":"(AF100+AG100)*VLOOKUP(DataByMiles!AE98,DataByMiles!$AT$5:$AU$6,2,FALSE)","v":0},0]
[null,{"$f":"DataByMiles!C99","v":"----95"},{"$f":"DataByMiles!E99*VLOOKUP(DataByMiles!AE99,DataByMiles!$AT$5:$AU$6,2,FALSE)","v":0},null,null,0,{"$f":"C101*$G$2*VLOOKUP(DataByMiles!AE99,DataByMiles!$AT$5:$AU$6,2,FALSE)","v":0},{"$f":"DataByMiles!F99*VLOOKUP(DataByMiles!AE99,DataByMiles!$AT$5:$AU$6,2,FALSE)","v":0},null,null,0,{"$f":"H101*$L$2*VLOOKUP(DataByMiles!AE99,DataByMiles!$AT$5:$AU$6,2,FALSE)","v":0},{"$f":"DataByMiles!G99*VLOOKUP(DataByMiles!AE99,DataByMiles!$AT$5:$AU$6,2,FALSE)","v":0},null,null,{"$f":"M101*$P$2*VLOOKUP(DataByMiles!AE99,DataByMiles!$AT$5:$AU$6,2,FALSE)","v":0},{"$f":"DataByMiles!H99*VLOOKUP(DataByMiles!AE99,DataByMiles!$AT$5:$AU$6,2,FALSE)","v":0},null,null,{"$f":"Q101*$T$2*VLOOKUP(DataByMiles!AE99,DataByMiles!$AT$5:$AU$6,2,FALSE)","v":0},{"$f":"DataByMiles!I99*VLOOKUP(DataByMiles!AE99,DataByMiles!$AT$5:$AU$6,2,FALSE)","v":0},null,null,{"$f":"U101*$X$2*VLOOKUP(DataByMiles!AE99,DataByMiles!$AT$5:$AU$6,2,FALSE)","v":0},{"$f":"DataByMiles!J99*VLOOKUP(DataByMiles!AE99,DataByMiles!$AT$5:$AU$6,2,FALSE)","v":0},{"$f":"DataByMiles!K99","v":0},{"$f":"DataByMiles!L99","v":0},null,null,{"$f":"(Y101/IF(Z101=0,$AD$1,Z101)*$AD$2)/IF(AA101=0,1,AA101)*VLOOKUP(DataByMiles!AE99,DataByMiles!$AT$5:$AU$6,2,FALSE)","v":0},"",0,0,{"$f":"(AF101+AG101)*VLOOKUP(DataByMiles!AE99,DataByMiles!$AT$5:$AU$6,2,FALSE)","v":0},0]
[null,{"$f":"DataByMiles!C100","v":"----96"},{"$f":"DataByMiles!E100*VLOOKUP(DataByMiles!AE100,DataByMiles!$AT$5:$AU$6,2,FALSE)","v":0},null,null,0,{"$f":"C102*$G$2*VLOOKUP(DataByMiles!AE100,DataByMiles!$AT$5:$AU$6,2,FALSE)","v":0},{"$f":"DataByMiles!F100*VLOOKUP(DataByMiles!AE100,DataByMiles!$AT$5:$AU$6,2,FALSE)","v":0},null,null,0,{"$f":"H102*$L$2*VLOOKUP(DataByMiles!AE100,DataByMiles!$AT$5:$AU$6,2,FALSE)","v":0},{"$f":"DataByMiles!G100*VLOOKUP(DataByMiles!AE100,DataByMiles!$AT$5:$AU$6,2,FALSE)","v":0},null,null,{"$f":"M102*$P$2*VLOOKUP(DataByMiles!AE100,DataByMiles!$AT$5:$AU$6,2,FALSE)","v":0},{"$f":"DataByMiles!H100*VLOOKUP(DataByMiles!AE100,DataByMiles!$AT$5:$AU$6,2,FALSE)","v":0},null,null,{"$f":"Q102*$T$2*VLOOKUP(DataByMiles!AE100,DataByMiles!$AT$5:$AU$6,2,FALSE)","v":0},{"$f":"DataByMiles!I100*VLOOKUP(DataByMiles!AE100,DataByMiles!$AT$5:$AU$6,2,FALSE)","v":0},null,null,{"$f":"U102*$X$2*VLOOKUP(DataByMiles!AE100,DataByMiles!$AT$5:$AU$6,2,FALSE)","v":0},{"$f":"DataByMiles!J100*VLOOKUP(DataByMiles!AE100,DataByMiles!$AT$5:$AU$6,2,FALSE)","v":0},{"$f":"DataByMiles!K100","v":0},{"$f":"DataByMiles!L100","v":0},null,null,{"$f":"(Y102/IF(Z102=0,$AD$1,Z102)*$AD$2)/IF(AA102=0,1,AA102)*VLOOKUP(DataByMiles!AE100,DataByMiles!$AT$5:$AU$6,2,FALSE)","v":0},"",0,0,{"$f":"(AF102+AG102)*VLOOKUP(DataByMiles!AE100,DataByMiles!$AT$5:$AU$6,2,FALSE)","v":0},0]
[null,{"$f":"DataByMiles!C101","v":"----97"},{"$f":"DataByMiles!E101*VLOOKUP(DataByMiles!AE101,DataByMiles!$AT$5:$AU$6,2,FALSE)","v":0},null,null,0,{"$f":"C103*$G$2*VLOOKUP(DataByMiles!AE101,DataByMiles!$AT$5:$AU$6,2,FALSE)","v":0},{"$f":"DataByMiles!F101*VLOOKUP(DataByMiles!AE101,DataByMiles!$AT$5:$AU$6,2,FALSE)","v":0},null,null,0,{"$f":"H103*$L$2*VLOOKUP(DataByMiles!AE101,DataByMiles!$AT$5:$AU$6,2,FALSE)","v":0},{"$f":"DataByMiles!G101*VLOOKUP(DataByMiles!AE101,DataByMiles!$AT$5:$AU$6,2,FALSE)","v":0},null,null,{"$f":"M103*$P$2*VLOOKUP(DataByMiles!AE101,DataByMiles!$AT$5:$AU$6,2,FALSE)","v":0},{"$f":"DataByMiles!H101*VLOOKUP(DataByMiles!AE101,DataByMiles!$AT$5:$AU$6,2,FALSE)","v":0},null,null,{"$f":"Q103*$T$2*VLOOKUP(DataByMiles!AE101,DataByMiles!$AT$5:$AU$6,2,FALSE)","v":0},{"$f":"DataByMiles!I101*VLOOKUP(DataByMiles!AE101,DataByMiles!$AT$5:$AU$6,2,FALSE)","v":0},null,null,{"$f":"U103*$X$2*VLOOKUP(DataByMiles!AE101,DataByMiles!$AT$5:$AU$6,2,FALSE)","v":0},{"$f":"DataByMiles!J101*VLOOKUP(DataByMiles!AE101,DataByMiles!$AT$5:$AU$6,2,FALSE)","v":0},{"$f":"DataByMiles!K101","v":0},{"$f":"DataByMiles!L101","v":0},null,null,{"$f":"(Y103/IF(Z103=0,$AD$1,Z103)*$AD$2)/IF(AA103=0,1,AA103)*VLOOKUP(DataByMiles!AE101,DataByMiles!$AT$5:$AU$6,2,FALSE)","v":0},"",0,0,{"$f":"(AF103+AG103)*VLOOKUP(DataByMiles!AE101,DataByMiles!$AT$5:$AU$6,2,FALSE)","v":0},0]
[null,{"$f":"DataByMiles!C102","v":"----98"},{"$f":"DataByMiles!E102*VLOOKUP(DataByMiles!AE102,DataByMiles!$AT$5:$AU$6,2,FALSE)","v":0},null,null,0,{"$f":"C104*$G$2*VLOOKUP(DataByMiles!AE102,DataByMiles!$AT$5:$AU$6,2,FALSE)","v":0},{"$f":"DataByMiles!F102*VLOOKUP(DataByMiles!AE102,DataByMiles!$AT$5:$AU$6,2,FALSE)","v":0},null,null,0,{"$f":"H104*$L$2*VLOOKUP(DataByMiles!AE102,DataByMiles!$AT$5:$AU$6,2,FALSE)","v":0},{"$f":"DataByMiles!G102*VLOOKUP(DataByMiles!AE102,DataByMiles!$AT$5:$AU$6,2,FALSE)","v":0},null,null,{"$f":"M104*$P$2*VLOOKUP(DataByMiles!AE102,DataByMiles!$AT$5:$AU$6,2,FALSE)","v":0},{"$f":"DataByMiles!H102*VLOOKUP(DataByMiles!AE102,DataByMiles!$AT$5:$AU$6,2,FALSE)","v":0},null,null,{"$f":"Q104*$T$2*VLOOKUP(DataByMiles!AE102,DataByMiles!$AT$5:$AU$6,2,FALSE)","v":0},{"$f":"DataByMiles!I102*VLOOKUP(DataByMiles!AE102,DataByMiles!$AT$5:$AU$6,2,FALSE)","v":0},null,null,{"$f":"U104*$X$2*VLOOKUP(DataByMiles!AE102,DataByMiles!$AT$5:$AU$6,2,FALSE)","v":0},{"$f":"DataByMiles!J102*VLOOKUP(DataByMiles!AE102,DataByMiles!$AT$5:$AU$6,2,FALSE)","v":0},{"$f":"DataByMiles!K102","v":0},{"$f":"DataByMiles!L102","v":0},null,null,{"$f":"(Y104/IF(Z104=0,$AD$1,Z104)*$AD$2)/IF(AA104=0,1,AA104)*VLOOKUP(DataByMiles!AE102,DataByMiles!$AT$5:$AU$6,2,FALSE)","v":0},"",0,0,{"$f":"(AF104+AG104)*VLOOKUP(DataByMiles!AE102,DataByMiles!$AT$5:$AU$6,2,FALSE)","v":0},0]
[null,{"$f":"DataByMiles!C103","v":"----99"},{"$f":"DataByMiles!E103*VLOOKUP(DataByMiles!AE103,DataByMiles!$AT$5:$AU$6,2,FALSE)","v":0},null,null,0,{"$f":"C105*$G$2*VLOOKUP(DataByMiles!AE103,DataByMiles!$AT$5:$AU$6,2,FALSE)","v":0},{"$f":"DataByMiles!F103*VLOOKUP(DataByMiles!AE103,DataByMiles!$AT$5:$AU$6,2,FALSE)","v":0},null,null,0,{"$f":"H105*$L$2*VLOOKUP(DataByMiles!AE103,DataByMiles!$AT$5:$AU$6,2,FALSE)","v":0},{"$f":"DataByMiles!G103*VLOOKUP(DataByMiles!AE103,DataByMiles!$AT$5:$AU$6,2,FALSE)","v":0},null,null,{"$f":"M105*$P$2*VLOOKUP(DataByMiles!AE103,DataByMiles!$AT$5:$AU$6,2,FALSE)","v":0},{"$f":"DataByMiles!H103*VLOOKUP(DataByMiles!AE103,DataByMiles!$AT$5:$AU$6,2,FALSE)","v":0},null,null,{"$f":"Q105*$T$2*VLOOKUP(DataByMiles!AE103,DataByMiles!$AT$5:$AU$6,2,FALSE)","v":0},{"$f":"DataByMiles!I103*VLOOKUP(DataByMiles!AE103,DataByMiles!$AT$5:$AU$6,2,FALSE)","v":0},null,null,{"$f":"U105*$X$2*VLOOKUP(DataByMiles!AE103,DataByMiles!$AT$5:$AU$6,2,FALSE)","v":0},{"$f":"DataByMiles!J103*VLOOKUP(DataByMiles!AE103,DataByMiles!$AT$5:$AU$6,2,FALSE)","v":0},{"$f":"DataByMiles!K103","v":0},{"$f":"DataByMiles!L103","v":0},null,null,{"$f":"(Y105/IF(Z105=0,$AD$1,Z105)*$AD$2)/IF(AA105=0,1,AA105)*VLOOKUP(DataByMiles!AE103,DataByMiles!$AT$5:$AU$6,2,FALSE)","v":0},"",0,0,{"$f":"(AF105+AG105)*VLOOKUP(DataByMiles!AE103,DataByMiles!$AT$5:$AU$6,2,FALSE)","v":0},0]
[null,{"$f":"DataByMiles!C104","v":"----100"},{"$f":"DataByMiles!E104*VLOOKUP(DataByMiles!AE104,DataByMiles!$AT$5:$AU$6,2,FALSE)","v":0},null,null,0,{"$f":"C106*$G$2*VLOOKUP(DataByMiles!AE104,DataByMiles!$AT$5:$AU$6,2,FALSE)","v":0},{"$f":"DataByMiles!F104*VLOOKUP(DataByMiles!AE104,DataByMiles!$AT$5:$AU$6,2,FALSE)","v":0},null,null,0,{"$f":"H106*$L$2*VLOOKUP(DataByMiles!AE104,DataByMiles!$AT$5:$AU$6,2,FALSE)","v":0},{"$f":"DataByMiles!G104*VLOOKUP(DataByMiles!AE104,DataByMiles!$AT$5:$AU$6,2,FALSE)","v":0},null,null,{"$f":"M106*$P$2*VLOOKUP(DataByMiles!AE104,DataByMiles!$AT$5:$AU$6,2,FALSE)","v":0},{"$f":"DataByMiles!H104*VLOOKUP(DataByMiles!AE104,DataByMiles!$AT$5:$AU$6,2,FALSE)","v":0},null,null,{"$f":"Q106*$T$2*VLOOKUP(DataByMiles!AE104,DataByMiles!$AT$5:$AU$6,2,FALSE)","v":0},{"$f":"DataByMiles!I104*VLOOKUP(DataByMiles!AE104,DataByMiles!$AT$5:$AU$6,2,FALSE)","v":0},null,null,{"$f":"U106*$X$2*VLOOKUP(DataByMiles!AE104,DataByMiles!$AT$5:$AU$6,2,FALSE)","v":0},{"$f":"DataByMiles!J104*VLOOKUP(DataByMiles!AE104,DataByMiles!$AT$5:$AU$6,2,FALSE)","v":0},{"$f":"DataByMiles!K104","v":0},{"$f":"DataByMiles!L104","v":0},null,null,{"$f":"(Y106/IF(Z106=0,$AD$1,Z106)*$AD$2)/IF(AA106=0,1,AA106)*VLOOKUP(DataByMiles!AE104,DataByMiles!$AT$5:$AU$6,2,FALSE)","v":0},"",0,0,{"$f":"(AF106+AG106)*VLOOKUP(DataByMiles!AE104,DataByMiles!$AT$5:$AU$6,2,FALSE)","v":0},0]
[null,{"$f":"DataByMiles!C105","v":"----101"},{"$f":"DataByMiles!E105*VLOOKUP(DataByMiles!AE105,DataByMiles!$AT$5:$AU$6,2,FALSE)","v":0},null,null,0,{"$f":"C107*$G$2*VLOOKUP(DataByMiles!AE105,DataByMiles!$AT$5:$AU$6,2,FALSE)","v":0},{"$f":"DataByMiles!F105*VLOOKUP(DataByMiles!AE105,DataByMiles!$AT$5:$AU$6,2,FALSE)","v":0},null,null,0,{"$f":"H107*$L$2*VLOOKUP(DataByMiles!AE105,DataByMiles!$AT$5:$AU$6,2,FALSE)","v":0},{"$f":"DataByMiles!G105*VLOOKUP(DataByMiles!AE105,DataByMiles!$AT$5:$AU$6,2,FALSE)","v":0},null,null,{"$f":"M107*$P$2*VLOOKUP(DataByMiles!AE105,DataByMiles!$AT$5:$AU$6,2,FALSE)","v":0},{"$f":"DataByMiles!H105*VLOOKUP(DataByMiles!AE105,DataByMiles!$AT$5:$AU$6,2,FALSE)","v":0},null,null,{"$f":"Q107*$T$2*VLOOKUP(DataByMiles!AE105,DataByMiles!$AT$5:$AU$6,2,FALSE)","v":0},{"$f":"DataByMiles!I105*VLOOKUP(DataByMiles!AE105,DataByMiles!$AT$5:$AU$6,2,FALSE)","v":0},null,null,{"$f":"U107*$X$2*VLOOKUP(DataByMiles!AE105,DataByMiles!$AT$5:$AU$6,2,FALSE)","v":0},{"$f":"DataByMiles!J105*VLOOKUP(DataByMiles!AE105,DataByMiles!$AT$5:$AU$6,2,FALSE)","v":0},{"$f":"DataByMiles!K105","v":0},{"$f":"DataByMiles!L105","v":0},null,null,{"$f":"(Y107/IF(Z107=0,$AD$1,Z107)*$AD$2)/IF(AA107=0,1,AA107)*VLOOKUP(DataByMiles!AE105,DataByMiles!$AT$5:$AU$6,2,FALSE)","v":0},"",0,0,{"$f":"(AF107+AG107)*VLOOKUP(DataByMiles!AE105,DataByMiles!$AT$5:$AU$6,2,FALSE)","v":0},0]
[null,{"$f":"DataByMiles!C106","v":"----102"},{"$f":"DataByMiles!E106*VLOOKUP(DataByMiles!AE106,DataByMiles!$AT$5:$AU$6,2,FALSE)","v":0},null,null,0,{"$f":"C108*$G$2*VLOOKUP(DataByMiles!AE106,DataByMiles!$AT$5:$AU$6,2,FALSE)","v":0},{"$f":"DataByMiles!F106*VLOOKUP(DataByMiles!AE106,DataByMiles!$AT$5:$AU$6,2,FALSE)","v":0},null,null,0,{"$f":"H108*$L$2*VLOOKUP(DataByMiles!AE106,DataByMiles!$AT$5:$AU$6,2,FALSE)","v":0},{"$f":"DataByMiles!G106*VLOOKUP(DataByMiles!AE106,DataByMiles!$AT$5:$AU$6,2,FALSE)","v":0},null,null,{"$f":"M108*$P$2*VLOOKUP(DataByMiles!AE106,DataByMiles!$AT$5:$AU$6,2,FALSE)","v":0},{"$f":"DataByMiles!H106*VLOOKUP(DataByMiles!AE106,DataByMiles!$AT$5:$AU$6,2,FALSE)","v":0},null,null,{"$f":"Q108*$T$2*VLOOKUP(DataByMiles!AE106,DataByMiles!$AT$5:$AU$6,2,FALSE)","v":0},{"$f":"DataByMiles!I106*VLOOKUP(DataByMiles!AE106,DataByMiles!$AT$5:$AU$6,2,FALSE)","v":0},null,null,{"$f":"U108*$X$2*VLOOKUP(DataByMiles!AE106,DataByMiles!$AT$5:$AU$6,2,FALSE)","v":0},{"$f":"DataByMiles!J106*VLOOKUP(DataByMiles!AE106,DataByMiles!$AT$5:$AU$6,2,FALSE)","v":0},{"$f":"DataByMiles!K106","v":0},{"$f":"DataByMiles!L106","v":0},null,null,{"$f":"(Y108/IF(Z108=0,$AD$1,Z108)*$AD$2)/IF(AA108=0,1,AA108)*VLOOKUP(DataByMiles!AE106,DataByMiles!$AT$5:$AU$6,2,FALSE)","v":0},"",0,0,{"$f":"(AF108+AG108)*VLOOKUP(DataByMiles!AE106,DataByMiles!$AT$5:$AU$6,2,FALSE)","v":0},0]
[null,{"$f":"DataByMiles!C107","v":"----103"},{"$f":"DataByMiles!E107*VLOOKUP(DataByMiles!AE107,DataByMiles!$AT$5:$AU$6,2,FALSE)","v":0},null,null,0,{"$f":"C109*$G$2*VLOOKUP(DataByMiles!AE107,DataByMiles!$AT$5:$AU$6,2,FALSE)","v":0},{"$f":"DataByMiles!F107*VLOOKUP(DataByMiles!AE107,DataByMiles!$AT$5:$AU$6,2,FALSE)","v":0},null,null,0,{"$f":"H109*$L$2*VLOOKUP(DataByMiles!AE107,DataByMiles!$AT$5:$AU$6,2,FALSE)","v":0},{"$f":"DataByMiles!G107*VLOOKUP(DataByMiles!AE107,DataByMiles!$AT$5:$AU$6,2,FALSE)","v":0},null,null,{"$f":"M109*$P$2*VLOOKUP(DataByMiles!AE107,DataByMiles!$AT$5:$AU$6,2,FALSE)","v":0},{"$f":"DataByMiles!H107*VLOOKUP(DataByMiles!AE107,DataByMiles!$AT$5:$AU$6,2,FALSE)","v":0},null,null,{"$f":"Q109*$T$2*VLOOKUP(DataByMiles!AE107,DataByMiles!$AT$5:$AU$6,2,FALSE)","v":0},{"$f":"DataByMiles!I107*VLOOKUP(DataByMiles!AE107,DataByMiles!$AT$5:$AU$6,2,FALSE)","v":0},null,null,{"$f":"U109*$X$2*VLOOKUP(DataByMiles!AE107,DataByMiles!$AT$5:$AU$6,2,FALSE)","v":0},{"$f":"DataByMiles!J107*VLOOKUP(DataByMiles!AE107,DataByMiles!$AT$5:$AU$6,2,FALSE)","v":0},{"$f":"DataByMiles!K107","v":0},{"$f":"DataByMiles!L107","v":0},null,null,{"$f":"(Y109/IF(Z109=0,$AD$1,Z109)*$AD$2)/IF(AA109=0,1,AA109)*VLOOKUP(DataByMiles!AE107,DataByMiles!$AT$5:$AU$6,2,FALSE)","v":0},"",0,0,{"$f":"(AF109+AG109)*VLOOKUP(DataByMiles!AE107,DataByMiles!$AT$5:$AU$6,2,FALSE)","v":0},0]
[null,{"$f":"DataByMiles!C108","v":"----104"},{"$f":"DataByMiles!E108*VLOOKUP(DataByMiles!AE108,DataByMiles!$AT$5:$AU$6,2,FALSE)","v":0},null,null,{"$f":"C110*$F$2","v":0},{"$f":"C110*$G$2*VLOOKUP(DataByMiles!AE108,DataByMiles!$AT$5:$AU$6,2,FALSE)","v":0},{"$f":"DataByMiles!F108*VLOOKUP(DataByMiles!AE108,DataByMiles!$AT$5:$AU$6,2,FALSE)","v":0},null,null,{"$f":"H110*$K$2","v":0},{"$f":"H110*$L$2*VLOOKUP(DataByMiles!AE108,DataByMiles!$AT$5:$AU$6,2,FALSE)","v":0},{"$f":"DataByMiles!G108*VLOOKUP(DataByMiles!AE108,DataByMiles!$AT$5:$AU$6,2,FALSE)","v":0},null,null,{"$f":"M110*$P$2*VLOOKUP(DataByMiles!AE108,DataByMiles!$AT$5:$AU$6,2,FALSE)","v":0},{"$f":"DataByMiles!H108*VLOOKUP(DataByMiles!AE108,DataByMiles!$AT$5:$AU$6,2,FALSE)","v":0},null,null,{"$f":"Q110*$T$2*VLOOKUP(DataByMiles!AE108,DataByMiles!$AT$5:$AU$6,2,FALSE)","v":0},{"$f":"DataByMiles!I108*VLOOKUP(DataByMiles!AE108,DataByMiles!$AT$5:$AU$6,2,FALSE)","v":0},null,null,{"$f":"U110*$X$2*VLOOKUP(DataByMiles!AE108,DataByMiles!$AT$5:$AU$6,2,FALSE)","v":0},{"$f":"DataByMiles!J108*VLOOKUP(DataByMiles!AE108,DataByMiles!$AT$5:$AU$6,2,FALSE)","v":0},{"$f":"DataByMiles!K108","v":0},{"$f":"DataByMiles!L108","v":0},null,null,{"$f":"(Y110/IF(Z110=0,$AD$1,Z110)*$AD$2)/IF(AA110=0,1,AA110)*VLOOKUP(DataByMiles!AE108,DataByMiles!$AT$5:$AU$6,2,FALSE)","v":0},{"$f":"IF(C110+H110+M110+Q110+U110+Y110>0,C110+H110+M110+Q110+U110+Y110,\"\")","v":""},{"$f":"F110+K110+P110+T110+X110+AD110","v":0},{"$f":"G110+L110","v":0},{"$f":"(AF110+AG110)*VLOOKUP(DataByMiles!AE108,DataByMiles!$AT$5:$AU$6,2,FALSE)","v":0},{"$f":"IFERROR(AH110/AE110,0)","v":0}]
[null,{"$f":"DataByMiles!C109","v":"----105"},{"$f":"DataByMiles!E109*VLOOKUP(DataByMiles!AE109,DataByMiles!$AT$5:$AU$6,2,FALSE)","v":0},null,null,0,{"$f":"C111*$G$2*VLOOKUP(DataByMiles!AE109,DataByMiles!$AT$5:$AU$6,2,FALSE)","v":0},{"$f":"DataByMiles!F109*VLOOKUP(DataByMiles!AE109,DataByMiles!$AT$5:$AU$6,2,FALSE)","v":0},null,null,0,{"$f":"H111*$L$2*VLOOKUP(DataByMiles!AE109,DataByMiles!$AT$5:$AU$6,2,FALSE)","v":0},{"$f":"DataByMiles!G109*VLOOKUP(DataByMiles!AE109,DataByMiles!$AT$5:$AU$6,2,FALSE)","v":0},null,null,{"$f":"M111*$P$2*VLOOKUP(DataByMiles!AE109,DataByMiles!$AT$5:$AU$6,2,FALSE)","v":0},{"$f":"DataByMiles!H109*VLOOKUP(DataByMiles!AE109,DataByMiles!$AT$5:$AU$6,2,FALSE)","v":0},null,null,{"$f":"Q111*$T$2*VLOOKUP(DataByMiles!AE109,DataByMiles!$AT$5:$AU$6,2,FALSE)","v":0},{"$f":"DataByMiles!I109*VLOOKUP(DataByMiles!AE109,DataByMiles!$AT$5:$AU$6,2,FALSE)","v":0},null,null,{"$f":"U111*$X$2*VLOOKUP(DataByMiles!AE109,DataByMiles!$AT$5:$AU$6,2,FALSE)","v":0},{"$f":"DataByMiles!J109*VLOOKUP(DataByMiles!AE109,DataByMiles!$AT$5:$AU$6,2,FALSE)","v":0},{"$f":"DataByMiles!K109","v":0},{"$f":"DataByMiles!L109","v":0},null,null,{"$f":"(Y111/IF(Z111=0,$AD$1,Z111)*$AD$2)/IF(AA111=0,1,AA111)*VLOOKUP(DataByMiles!AE109,DataByMiles!$AT$5:$AU$6,2,FALSE)","v":0},"",0,0,{"$f":"(AF111+AG111)*VLOOKUP(DataByMiles!AE109,DataByMiles!$AT$5:$AU$6,2,FALSE)","v":0},0]
[null,{"$f":"DataByMiles!C110","v":"----106"},{"$f":"DataByMiles!E110*VLOOKUP(DataByMiles!AE110,DataByMiles!$AT$5:$AU$6,2,FALSE)","v":0},null,null,0,{"$f":"C112*$G$2*VLOOKUP(DataByMiles!AE110,DataByMiles!$AT$5:$AU$6,2,FALSE)","v":0},{"$f":"DataByMiles!F110*VLOOKUP(DataByMiles!AE110,DataByMiles!$AT$5:$AU$6,2,FALSE)","v":0},null,null,0,{"$f":"H112*$L$2*VLOOKUP(DataByMiles!AE110,DataByMiles!$AT$5:$AU$6,2,FALSE)","v":0},{"$f":"DataByMiles!G110*VLOOKUP(DataByMiles!AE110,DataByMiles!$AT$5:$AU$6,2,FALSE)","v":0},null,null,{"$f":"M112*$P$2*VLOOKUP(DataByMiles!AE110,DataByMiles!$AT$5:$AU$6,2,FALSE)","v":0},{"$f":"DataByMiles!H110*VLOOKUP(DataByMiles!AE110,DataByMiles!$AT$5:$AU$6,2,FALSE)","v":0},null,null,{"$f":"Q112*$T$2*VLOOKUP(DataByMiles!AE110,DataByMiles!$AT$5:$AU$6,2,FALSE)","v":0},{"$f":"DataByMiles!I110*VLOOKUP(DataByMiles!AE110,DataByMiles!$AT$5:$AU$6,2,FALSE)","v":0},null,null,{"$f":"U112*$X$2*VLOOKUP(DataByMiles!AE110,DataByMiles!$AT$5:$AU$6,2,FALSE)","v":0},{"$f":"DataByMiles!J110*VLOOKUP(DataByMiles!AE110,DataByMiles!$AT$5:$AU$6,2,FALSE)","v":0},{"$f":"DataByMiles!K110","v":0},{"$f":"DataByMiles!L110","v":0},null,null,{"$f":"(Y112/IF(Z112=0,$AD$1,Z112)*$AD$2)/IF(AA112=0,1,AA112)*VLOOKUP(DataByMiles!AE110,DataByMiles!$AT$5:$AU$6,2,FALSE)","v":0},"",0,0,{"$f":"(AF112+AG112)*VLOOKUP(DataByMiles!AE110,DataByMiles!$AT$5:$AU$6,2,FALSE)","v":0},0]
[null,{"$f":"DataByMiles!C111","v":"----107"},{"$f":"DataByMiles!E111*VLOOKUP(DataByMiles!AE111,DataByMiles!$AT$5:$AU$6,2,FALSE)","v":0},null,null,0,{"$f":"C113*$G$2*VLOOKUP(DataByMiles!AE111,DataByMiles!$AT$5:$AU$6,2,FALSE)","v":0},{"$f":"DataByMiles!F111*VLOOKUP(DataByMiles!AE111,DataByMiles!$AT$5:$AU$6,2,FALSE)","v":0},null,null,0,{"$f":"H113*$L$2*VLOOKUP(DataByMiles!AE111,DataByMiles!$AT$5:$AU$6,2,FALSE)","v":0},{"$f":"DataByMiles!G111*VLOOKUP(DataByMiles!AE111,DataByMiles!$AT$5:$AU$6,2,FALSE)","v":0},null,null,{"$f":"M113*$P$2*VLOOKUP(DataByMiles!AE111,DataByMiles!$AT$5:$AU$6,2,FALSE)","v":0},{"$f":"DataByMiles!H111*VLOOKUP(DataByMiles!AE111,DataByMiles!$AT$5:$AU$6,2,FALSE)","v":0},null,null,{"$f":"Q113*$T$2*VLOOKUP(DataByMiles!AE111,DataByMiles!$AT$5:$AU$6,2,FALSE)","v":0},{"$f":"DataByMiles!I111*VLOOKUP(DataByMiles!AE111,DataByMiles!$AT$5:$AU$6,2,FALSE)","v":0},null,null,{"$f":"U113*$X$2*VLOOKUP(DataByMiles!AE111,DataByMiles!$AT$5:$AU$6,2,FALSE)","v":0},{"$f":"DataByMiles!J111*VLOOKUP(DataByMiles!AE111,DataByMiles!$AT$5:$AU$6,2,FALSE)","v":0},{"$f":"DataByMiles!K111","v":0},{"$f":"DataByMiles!L111","v":0},null,null,{"$f":"(Y113/IF(Z113=0,$AD$1,Z113)*$AD$2)/IF(AA113=0,1,AA113)*VLOOKUP(DataByMiles!AE111,DataByMiles!$AT$5:$AU$6,2,FALSE)","v":0},"",0,0,{"$f":"(AF113+AG113)*VLOOKUP(DataByMiles!AE111,DataByMiles!$AT$5:$AU$6,2,FALSE)","v":0},0]
[null,{"$f":"DataByMiles!C112","v":"----108"},{"$f":"DataByMiles!E112*VLOOKUP(DataByMiles!AE112,DataByMiles!$AT$5:$AU$6,2,FALSE)","v":0},null,null,0,{"$f":"C114*$G$2*VLOOKUP(DataByMiles!AE112,DataByMiles!$AT$5:$AU$6,2,FALSE)","v":0},{"$f":"DataByMiles!F112*VLOOKUP(DataByMiles!AE112,DataByMiles!$AT$5:$AU$6,2,FALSE)","v":0},null,null,0,{"$f":"H114*$L$2*VLOOKUP(DataByMiles!AE112,DataByMiles!$AT$5:$AU$6,2,FALSE)","v":0},{"$f":"DataByMiles!G112*VLOOKUP(DataByMiles!AE112,DataByMiles!$AT$5:$AU$6,2,FALSE)","v":0},null,null,{"$f":"M114*$P$2*VLOOKUP(DataByMiles!AE112,DataByMiles!$AT$5:$AU$6,2,FALSE)","v":0},{"$f":"DataByMiles!H112*VLOOKUP(DataByMiles!AE112,DataByMiles!$AT$5:$AU$6,2,FALSE)","v":0},null,null,{"$f":"Q114*$T$2*VLOOKUP(DataByMiles!AE112,DataByMiles!$AT$5:$AU$6,2,FALSE)","v":0},{"$f":"DataByMiles!I112*VLOOKUP(DataByMiles!AE112,DataByMiles!$AT$5:$AU$6,2,FALSE)","v":0},null,null,{"$f":"U114*$X$2*VLOOKUP(DataByMiles!AE112,DataByMiles!$AT$5:$AU$6,2,FALSE)","v":0},{"$f":"DataByMiles!J112*VLOOKUP(DataByMiles!AE112,DataByMiles!$AT$5:$AU$6,2,FALSE)","v":0},{"$f":"DataByMiles!K112","v":0},{"$f":"DataByMiles!L112","v":0},null,null,{"$f":"(Y114/IF(Z114=0,$AD$1,Z114)*$AD$2)/IF(AA114=0,1,AA114)*VLOOKUP(DataByMiles!AE112,DataByMiles!$AT$5:$AU$6,2,FALSE)","v":0},"",0,0,{"$f":"(AF114+AG114)*VLOOKUP(DataByMiles!AE112,DataByMiles!$AT$5:$AU$6,2,FALSE)","v":0},0]
[null,{"$f":"DataByMiles!C113","v":"----109"},{"$f":"DataByMiles!E113*VLOOKUP(DataByMiles!AE113,DataByMiles!$AT$5:$AU$6,2,FALSE)","v":0},null,null,0,{"$f":"C115*$G$2*VLOOKUP(DataByMiles!AE113,DataByMiles!$AT$5:$AU$6,2,FALSE)","v":0},{"$f":"DataByMiles!F113*VLOOKUP(DataByMiles!AE113,DataByMiles!$AT$5:$AU$6,2,FALSE)","v":0},null,null,0,{"$f":"H115*$L$2*VLOOKUP(DataByMiles!AE113,DataByMiles!$AT$5:$AU$6,2,FALSE)","v":0},{"$f":"DataByMiles!G113*VLOOKUP(DataByMiles!AE113,DataByMiles!$AT$5:$AU$6,2,FALSE)","v":0},null,null,{"$f":"M115*$P$2*VLOOKUP(DataByMiles!AE113,DataByMiles!$AT$5:$AU$6,2,FALSE)","v":0},{"$f":"DataByMiles!H113*VLOOKUP(DataByMiles!AE113,DataByMiles!$AT$5:$AU$6,2,FALSE)","v":0},null,null,{"$f":"Q115*$T$2*VLOOKUP(DataByMiles!AE113,DataByMiles!$AT$5:$AU$6,2,FALSE)","v":0},{"$f":"DataByMiles!I113*VLOOKUP(DataByMiles!AE113,DataByMiles!$AT$5:$AU$6,2,FALSE)","v":0},null,null,{"$f":"U115*$X$2*VLOOKUP(DataByMiles!AE113,DataByMiles!$AT$5:$AU$6,2,FALSE)","v":0},{"$f":"DataByMiles!J113*VLOOKUP(DataByMiles!AE113,DataByMiles!$AT$5:$AU$6,2,FALSE)","v":0},{"$f":"DataByMiles!K113","v":0},{"$f":"DataByMiles!L113","v":0},null,null,{"$f":"(Y115/IF(Z115=0,$AD$1,Z115)*$AD$2)/IF(AA115=0,1,AA115)*VLOOKUP(DataByMiles!AE113,DataByMiles!$AT$5:$AU$6,2,FALSE)","v":0},"",0,0,{"$f":"(AF115+AG115)*VLOOKUP(DataByMiles!AE113,DataByMiles!$AT$5:$AU$6,2,FALSE)","v":0},0]
[null,{"$f":"DataByMiles!C114","v":"----110"},{"$f":"DataByMiles!E114*VLOOKUP(DataByMiles!AE114,DataByMiles!$AT$5:$AU$6,2,FALSE)","v":0},null,null,0,{"$f":"C116*$G$2*VLOOKUP(DataByMiles!AE114,DataByMiles!$AT$5:$AU$6,2,FALSE)","v":0},{"$f":"DataByMiles!F114*VLOOKUP(DataByMiles!AE114,DataByMiles!$AT$5:$AU$6,2,FALSE)","v":0},null,null,0,{"$f":"H116*$L$2*VLOOKUP(DataByMiles!AE114,DataByMiles!$AT$5:$AU$6,2,FALSE)","v":0},{"$f":"DataByMiles!G114*VLOOKUP(DataByMiles!AE114,DataByMiles!$AT$5:$AU$6,2,FALSE)","v":0},null,null,{"$f":"M116*$P$2*VLOOKUP(DataByMiles!AE114,DataByMiles!$AT$5:$AU$6,2,FALSE)","v":0},{"$f":"DataByMiles!H114*VLOOKUP(DataByMiles!AE114,DataByMiles!$AT$5:$AU$6,2,FALSE)","v":0},null,null,{"$f":"Q116*$T$2*VLOOKUP(DataByMiles!AE114,DataByMiles!$AT$5:$AU$6,2,FALSE)","v":0},{"$f":"DataByMiles!I114*VLOOKUP(DataByMiles!AE114,DataByMiles!$AT$5:$AU$6,2,FALSE)","v":0},null,null,{"$f":"U116*$X$2*VLOOKUP(DataByMiles!AE114,DataByMiles!$AT$5:$AU$6,2,FALSE)","v":0},{"$f":"DataByMiles!J114*VLOOKUP(DataByMiles!AE114,DataByMiles!$AT$5:$AU$6,2,FALSE)","v":0},{"$f":"DataByMiles!K114","v":0},{"$f":"DataByMiles!L114","v":0},null,null,{"$f":"(Y116/IF(Z116=0,$AD$1,Z116)*$AD$2)/IF(AA116=0,1,AA116)*VLOOKUP(DataByMiles!AE114,DataByMiles!$AT$5:$AU$6,2,FALSE)","v":0},"",0,0,{"$f":"(AF116+AG116)*VLOOKUP(DataByMiles!AE114,DataByMiles!$AT$5:$AU$6,2,FALSE)","v":0},0]
[null,{"$f":"DataByMiles!C115","v":"----111"},{"$f":"DataByMiles!E115*VLOOKUP(DataByMiles!AE115,DataByMiles!$AT$5:$AU$6,2,FALSE)","v":0},null,null,0,{"$f":"C117*$G$2*VLOOKUP(DataByMiles!AE115,DataByMiles!$AT$5:$AU$6,2,FALSE)","v":0},{"$f":"DataByMiles!F115*VLOOKUP(DataByMiles!AE115,DataByMiles!$AT$5:$AU$6,2,FALSE)","v":0},null,null,0,{"$f":"H117*$L$2*VLOOKUP(DataByMiles!AE115,DataByMiles!$AT$5:$AU$6,2,FALSE)","v":0},{"$f":"DataByMiles!G115*VLOOKUP(DataByMiles!AE115,DataByMiles!$AT$5:$AU$6,2,FALSE)","v":0},null,null,{"$f":"M117*$P$2*VLOOKUP(DataByMiles!AE115,DataByMiles!$AT$5:$AU$6,2,FALSE)","v":0},{"$f":"DataByMiles!H115*VLOOKUP(DataByMiles!AE115,DataByMiles!$AT$5:$AU$6,2,FALSE)","v":0},null,null,{"$f":"Q117*$T$2*VLOOKUP(DataByMiles!AE115,DataByMiles!$AT$5:$AU$6,2,FALSE)","v":0},{"$f":"DataByMiles!I115*VLOOKUP(DataByMiles!AE115,DataByMiles!$AT$5:$AU$6,2,FALSE)","v":0},null,null,{"$f":"U117*$X$2*VLOOKUP(DataByMiles!AE115,DataByMiles!$AT$5:$AU$6,2,FALSE)","v":0},{"$f":"DataByMiles!J115*VLOOKUP(DataByMiles!AE115,DataByMiles!$AT$5:$AU$6,2,FALSE)","v":0},{"$f":"DataByMiles!K115","v":0},{"$f":"DataByMiles!L115","v":0},null,null,{"$f":"(Y117/IF(Z117=0,$AD$1,Z117)*$AD$2)/IF(AA117=0,1,AA117)*VLOOKUP(DataByMiles!AE115,DataByMiles!$AT$5:$AU$6,2,FALSE)","v":0},"",0,0,{"$f":"(AF117+AG117)*VLOOKUP(DataByMiles!AE115,DataByMiles!$AT$5:$AU$6,2,FALSE)","v":0},0]
[null,{"$f":"DataByMiles!C116","v":"----112"},{"$f":"DataByMiles!E116*VLOOKUP(DataByMiles!AE116,DataByMiles!$AT$5:$AU$6,2,FALSE)","v":0},null,null,0,{"$f":"C118*$G$2*VLOOKUP(DataByMiles!AE116,DataByMiles!$AT$5:$AU$6,2,FALSE)","v":0},{"$f":"DataByMiles!F116*VLOOKUP(DataByMiles!AE116,DataByMiles!$AT$5:$AU$6,2,FALSE)","v":0},null,null,0,{"$f":"H118*$L$2*VLOOKUP(DataByMiles!AE116,DataByMiles!$AT$5:$AU$6,2,FALSE)","v":0},{"$f":"DataByMiles!G116*VLOOKUP(DataByMiles!AE116,DataByMiles!$AT$5:$AU$6,2,FALSE)","v":0},null,null,{"$f":"M118*$P$2*VLOOKUP(DataByMiles!AE116,DataByMiles!$AT$5:$AU$6,2,FALSE)","v":0},{"$f":"DataByMiles!H116*VLOOKUP(DataByMiles!AE116,DataByMiles!$AT$5:$AU$6,2,FALSE)","v":0},null,null,{"$f":"Q118*$T$2*VLOOKUP(DataByMiles!AE116,DataByMiles!$AT$5:$AU$6,2,FALSE)","v":0},{"$f":"DataByMiles!I116*VLOOKUP(DataByMiles!AE116,DataByMiles!$AT$5:$AU$6,2,FALSE)","v":0},null,null,{"$f":"U118*$X$2*VLOOKUP(DataByMiles!AE116,DataByMiles!$AT$5:$AU$6,2,FALSE)","v":0},{"$f":"DataByMiles!J116*VLOOKUP(DataByMiles!AE116,DataByMiles!$AT$5:$AU$6,2,FALSE)","v":0},{"$f":"DataByMiles!K116","v":0},{"$f":"DataByMiles!L116","v":0},null,null,{"$f":"(Y118/IF(Z118=0,$AD$1,Z118)*$AD$2)/IF(AA118=0,1,AA118)*VLOOKUP(DataByMiles!AE116,DataByMiles!$AT$5:$AU$6,2,FALSE)","v":0},"",0,0,{"$f":"(AF118+AG118)*VLOOKUP(DataByMiles!AE116,DataByMiles!$AT$5:$AU$6,2,FALSE)","v":0},0]
[null,{"$f":"DataByMiles!C117","v":"----113"},{"$f":"DataByMiles!E117*VLOOKUP(DataByMiles!AE117,DataByMiles!$AT$5:$AU$6,2,FALSE)","v":0},null,null,0,{"$f":"C119*$G$2*VLOOKUP(DataByMiles!AE117,DataByMiles!$AT$5:$AU$6,2,FALSE)","v":0},{"$f":"DataByMiles!F117*VLOOKUP(DataByMiles!AE117,DataByMiles!$AT$5:$AU$6,2,FALSE)","v":0},null,null,0,{"$f":"H119*$L$2*VLOOKUP(DataByMiles!AE117,DataByMiles!$AT$5:$AU$6,2,FALSE)","v":0},{"$f":"DataByMiles!G117*VLOOKUP(DataByMiles!AE117,DataByMiles!$AT$5:$AU$6,2,FALSE)","v":0},null,null,{"$f":"M119*$P$2*VLOOKUP(DataByMiles!AE117,DataByMiles!$AT$5:$AU$6,2,FALSE)","v":0},{"$f":"DataByMiles!H117*VLOOKUP(DataByMiles!AE117,DataByMiles!$AT$5:$AU$6,2,FALSE)","v":0},null,null,{"$f":"Q119*$T$2*VLOOKUP(DataByMiles!AE117,DataByMiles!$AT$5:$AU$6,2,FALSE)","v":0},{"$f":"DataByMiles!I117*VLOOKUP(DataByMiles!AE117,DataByMiles!$AT$5:$AU$6,2,FALSE)","v":0},null,null,{"$f":"U119*$X$2*VLOOKUP(DataByMiles!AE117,DataByMiles!$AT$5:$AU$6,2,FALSE)","v":0},{"$f":"DataByMiles!J117*VLOOKUP(DataByMiles!AE117,DataByMiles!$AT$5:$AU$6,2,FALSE)","v":0},{"$f":"DataByMiles!K117","v":0},{"$f":"DataByMiles!L117","v":0},null,null,{"$f":"(Y119/IF(Z119=0,$AD$1,Z119)*$AD$2)/IF(AA119=0,1,AA119)*VLOOKUP(DataByMiles!AE117,DataByMiles!$AT$5:$AU$6,2,FALSE)","v":0},"",0,0,{"$f":"(AF119+AG119)*VLOOKUP(DataByMiles!AE117,DataByMiles!$AT$5:$AU$6,2,FALSE)","v":0},0]
[null,{"$f":"DataByMiles!C118","v":"----114"},{"$f":"DataByMiles!E118*VLOOKUP(DataByMiles!AE118,DataByMiles!$AT$5:$AU$6,2,FALSE)","v":0},null,null,0,{"$f":"C120*$G$2*VLOOKUP(DataByMiles!AE118,DataByMiles!$AT$5:$AU$6,2,FALSE)","v":0},{"$f":"DataByMiles!F118*VLOOKUP(DataByMiles!AE118,DataByMiles!$AT$5:$AU$6,2,FALSE)","v":0},null,null,0,{"$f":"H120*$L$2*VLOOKUP(DataByMiles!AE118,DataByMiles!$AT$5:$AU$6,2,FALSE)","v":0},{"$f":"DataByMiles!G118*VLOOKUP(DataByMiles!AE118,DataByMiles!$AT$5:$AU$6,2,FALSE)","v":0},null,null,{"$f":"M120*$P$2*VLOOKUP(DataByMiles!AE118,DataByMiles!$AT$5:$AU$6,2,FALSE)","v":0},{"$f":"DataByMiles!H118*VLOOKUP(DataByMiles!AE118,DataByMiles!$AT$5:$AU$6,2,FALSE)","v":0},null,null,{"$f":"Q120*$T$2*VLOOKUP(DataByMiles!AE118,DataByMiles!$AT$5:$AU$6,2,FALSE)","v":0},{"$f":"DataByMiles!I118*VLOOKUP(DataByMiles!AE118,DataByMiles!$AT$5:$AU$6,2,FALSE)","v":0},null,null,{"$f":"U120*$X$2*VLOOKUP(DataByMiles!AE118,DataByMiles!$AT$5:$AU$6,2,FALSE)","v":0},{"$f":"DataByMiles!J118*VLOOKUP(DataByMiles!AE118,DataByMiles!$AT$5:$AU$6,2,FALSE)","v":0},{"$f":"DataByMiles!K118","v":0},{"$f":"DataByMiles!L118","v":0},null,null,{"$f":"(Y120/IF(Z120=0,$AD$1,Z120)*$AD$2)/IF(AA120=0,1,AA120)*VLOOKUP(DataByMiles!AE118,DataByMiles!$AT$5:$AU$6,2,FALSE)","v":0},"",0,0,{"$f":"(AF120+AG120)*VLOOKUP(DataByMiles!AE118,DataByMiles!$AT$5:$AU$6,2,FALSE)","v":0},0]
[null,{"$f":"DataByMiles!C119","v":"----115"},{"$f":"DataByMiles!E119*VLOOKUP(DataByMiles!AE119,DataByMiles!$AT$5:$AU$6,2,FALSE)","v":0},null,null,0,{"$f":"C121*$G$2*VLOOKUP(DataByMiles!AE119,DataByMiles!$AT$5:$AU$6,2,FALSE)","v":0},{"$f":"DataByMiles!F119*VLOOKUP(DataByMiles!AE119,DataByMiles!$AT$5:$AU$6,2,FALSE)","v":0},null,null,0,{"$f":"H121*$L$2*VLOOKUP(DataByMiles!AE119,DataByMiles!$AT$5:$AU$6,2,FALSE)","v":0},{"$f":"DataByMiles!G119*VLOOKUP(DataByMiles!AE119,DataByMiles!$AT$5:$AU$6,2,FALSE)","v":0},null,null,{"$f":"M121*$P$2*VLOOKUP(DataByMiles!AE119,DataByMiles!$AT$5:$AU$6,2,FALSE)","v":0},{"$f":"DataByMiles!H119*VLOOKUP(DataByMiles!AE119,DataByMiles!$AT$5:$AU$6,2,FALSE)","v":0},null,null,{"$f":"Q121*$T$2*VLOOKUP(DataByMiles!AE119,DataByMiles!$AT$5:$AU$6,2,FALSE)","v":0},{"$f":"DataByMiles!I119*VLOOKUP(DataByMiles!AE119,DataByMiles!$AT$5:$AU$6,2,FALSE)","v":0},null,null,{"$f":"U121*$X$2*VLOOKUP(DataByMiles!AE119,DataByMiles!$AT$5:$AU$6,2,FALSE)","v":0},{"$f":"DataByMiles!J119*VLOOKUP(DataByMiles!AE119,DataByMiles!$AT$5:$AU$6,2,FALSE)","v":0},{"$f":"DataByMiles!K119","v":0},{"$f":"DataByMiles!L119","v":0},null,null,{"$f":"(Y121/IF(Z121=0,$AD$1,Z121)*$AD$2)/IF(AA121=0,1,AA121)*VLOOKUP(DataByMiles!AE119,DataByMiles!$AT$5:$AU$6,2,FALSE)","v":0},"",0,0,{"$f":"(AF121+AG121)*VLOOKUP(DataByMiles!AE119,DataByMiles!$AT$5:$AU$6,2,FALSE)","v":0},0]
[null,{"$f":"DataByMiles!C120","v":"----116"},{"$f":"DataByMiles!E120*VLOOKUP(DataByMiles!AE120,DataByMiles!$AT$5:$AU$6,2,FALSE)","v":0},null,null,0,{"$f":"C122*$G$2*VLOOKUP(DataByMiles!AE120,DataByMiles!$AT$5:$AU$6,2,FALSE)","v":0},{"$f":"DataByMiles!F120*VLOOKUP(DataByMiles!AE120,DataByMiles!$AT$5:$AU$6,2,FALSE)","v":0},null,null,0,{"$f":"H122*$L$2*VLOOKUP(DataByMiles!AE120,DataByMiles!$AT$5:$AU$6,2,FALSE)","v":0},{"$f":"DataByMiles!G120*VLOOKUP(DataByMiles!AE120,DataByMiles!$AT$5:$AU$6,2,FALSE)","v":0},null,null,{"$f":"M122*$P$2*VLOOKUP(DataByMiles!AE120,DataByMiles!$AT$5:$AU$6,2,FALSE)","v":0},{"$f":"DataByMiles!H120*VLOOKUP(DataByMiles!AE120,DataByMiles!$AT$5:$AU$6,2,FALSE)","v":0},null,null,{"$f":"Q122*$T$2*VLOOKUP(DataByMiles!AE120,DataByMiles!$AT$5:$AU$6,2,FALSE)","v":0},{"$f":"DataByMiles!I120*VLOOKUP(DataByMiles!AE120,DataByMiles!$AT$5:$AU$6,2,FALSE)","v":0},null,null,{"$f":"U122*$X$2*VLOOKUP(DataByMiles!AE120,DataByMiles!$AT$5:$AU$6,2,FALSE)","v":0},{"$f":"DataByMiles!J120*VLOOKUP(DataByMiles!AE120,DataByMiles!$AT$5:$AU$6,2,FALSE)","v":0},{"$f":"DataByMiles!K120","v":0},{"$f":"DataByMiles!L120","v":0},null,null,{"$f":"(Y122/IF(Z122=0,$AD$1,Z122)*$AD$2)/IF(AA122=0,1,AA122)*VLOOKUP(DataByMiles!AE120,DataByMiles!$AT$5:$AU$6,2,FALSE)","v":0},"",0,0,{"$f":"(AF122+AG122)*VLOOKUP(DataByMiles!AE120,DataByMiles!$AT$5:$AU$6,2,FALSE)","v":0},0]
[null,{"$f":"DataByMiles!C121","v":"----117"},{"$f":"DataByMiles!E121*VLOOKUP(DataByMiles!AE121,DataByMiles!$AT$5:$AU$6,2,FALSE)","v":0},null,null,0,{"$f":"C123*$G$2*VLOOKUP(DataByMiles!AE121,DataByMiles!$AT$5:$AU$6,2,FALSE)","v":0},{"$f":"DataByMiles!F121*VLOOKUP(DataByMiles!AE121,DataByMiles!$AT$5:$AU$6,2,FALSE)","v":0},null,null,0,{"$f":"H123*$L$2*VLOOKUP(DataByMiles!AE121,DataByMiles!$AT$5:$AU$6,2,FALSE)","v":0},{"$f":"DataByMiles!G121*VLOOKUP(DataByMiles!AE121,DataByMiles!$AT$5:$AU$6,2,FALSE)","v":0},null,null,{"$f":"M123*$P$2*VLOOKUP(DataByMiles!AE121,DataByMiles!$AT$5:$AU$6,2,FALSE)","v":0},{"$f":"DataByMiles!H121*VLOOKUP(DataByMiles!AE121,DataByMiles!$AT$5:$AU$6,2,FALSE)","v":0},null,null,{"$f":"Q123*$T$2*VLOOKUP(DataByMiles!AE121,DataByMiles!$AT$5:$AU$6,2,FALSE)","v":0},{"$f":"DataByMiles!I121*VLOOKUP(DataByMiles!AE121,DataByMiles!$AT$5:$AU$6,2,FALSE)","v":0},null,null,{"$f":"U123*$X$2*VLOOKUP(DataByMiles!AE121,DataByMiles!$AT$5:$AU$6,2,FALSE)","v":0},{"$f":"DataByMiles!J121*VLOOKUP(DataByMiles!AE121,DataByMiles!$AT$5:$AU$6,2,FALSE)","v":0},{"$f":"DataByMiles!K121","v":0},{"$f":"DataByMiles!L121","v":0},null,null,{"$f":"(Y123/IF(Z123=0,$AD$1,Z123)*$AD$2)/IF(AA123=0,1,AA123)*VLOOKUP(DataByMiles!AE121,DataByMiles!$AT$5:$AU$6,2,FALSE)","v":0},"",0,0,{"$f":"(AF123+AG123)*VLOOKUP(DataByMiles!AE121,DataByMiles!$AT$5:$AU$6,2,FALSE)","v":0},0]
[null,{"$f":"DataByMiles!C122","v":"----118"},{"$f":"DataByMiles!E122*VLOOKUP(DataByMiles!AE122,DataByMiles!$AT$5:$AU$6,2,FALSE)","v":0},null,null,0,{"$f":"C124*$G$2*VLOOKUP(DataByMiles!AE122,DataByMiles!$AT$5:$AU$6,2,FALSE)","v":0},{"$f":"DataByMiles!F122*VLOOKUP(DataByMiles!AE122,DataByMiles!$AT$5:$AU$6,2,FALSE)","v":0},null,null,0,{"$f":"H124*$L$2*VLOOKUP(DataByMiles!AE122,DataByMiles!$AT$5:$AU$6,2,FALSE)","v":0},{"$f":"DataByMiles!G122*VLOOKUP(DataByMiles!AE122,DataByMiles!$AT$5:$AU$6,2,FALSE)","v":0},null,null,{"$f":"M124*$P$2*VLOOKUP(DataByMiles!AE122,DataByMiles!$AT$5:$AU$6,2,FALSE)","v":0},{"$f":"DataByMiles!H122*VLOOKUP(DataByMiles!AE122,DataByMiles!$AT$5:$AU$6,2,FALSE)","v":0},null,null,{"$f":"Q124*$T$2*VLOOKUP(DataByMiles!AE122,DataByMiles!$AT$5:$AU$6,2,FALSE)","v":0},{"$f":"DataByMiles!I122*VLOOKUP(DataByMiles!AE122,DataByMiles!$AT$5:$AU$6,2,FALSE)","v":0},null,null,{"$f":"U124*$X$2*VLOOKUP(DataByMiles!AE122,DataByMiles!$AT$5:$AU$6,2,FALSE)","v":0},{"$f":"DataByMiles!J122*VLOOKUP(DataByMiles!AE122,DataByMiles!$AT$5:$AU$6,2,FALSE)","v":0},{"$f":"DataByMiles!K122","v":0},{"$f":"DataByMiles!L122","v":0},null,null,{"$f":"(Y124/IF(Z124=0,$AD$1,Z124)*$AD$2)/IF(AA124=0,1,AA124)*VLOOKUP(DataByMiles!AE122,DataByMiles!$AT$5:$AU$6,2,FALSE)","v":0},"",0,0,{"$f":"(AF124+AG124)*VLOOKUP(DataByMiles!AE122,DataByMiles!$AT$5:$AU$6,2,FALSE)","v":0},0]
[null,{"$f":"DataByMiles!C123","v":"----119"},{"$f":"DataByMiles!E123*VLOOKUP(DataByMiles!AE123,DataByMiles!$AT$5:$AU$6,2,FALSE)","v":0},null,null,0,{"$f":"C125*$G$2*VLOOKUP(DataByMiles!AE123,DataByMiles!$AT$5:$AU$6,2,FALSE)","v":0},{"$f":"DataByMiles!F123*VLOOKUP(DataByMiles!AE123,DataByMiles!$AT$5:$AU$6,2,FALSE)","v":0},null,null,0,{"$f":"H125*$L$2*VLOOKUP(DataByMiles!AE123,DataByMiles!$AT$5:$AU$6,2,FALSE)","v":0},{"$f":"DataByMiles!G123*VLOOKUP(DataByMiles!AE123,DataByMiles!$AT$5:$AU$6,2,FALSE)","v":0},null,null,{"$f":"M125*$P$2*VLOOKUP(DataByMiles!AE123,DataByMiles!$AT$5:$AU$6,2,FALSE)","v":0},{"$f":"DataByMiles!H123*VLOOKUP(DataByMiles!AE123,DataByMiles!$AT$5:$AU$6,2,FALSE)","v":0},null,null,{"$f":"Q125*$T$2*VLOOKUP(DataByMiles!AE123,DataByMiles!$AT$5:$AU$6,2,FALSE)","v":0},{"$f":"DataByMiles!I123*VLOOKUP(DataByMiles!AE123,DataByMiles!$AT$5:$AU$6,2,FALSE)","v":0},null,null,{"$f":"U125*$X$2*VLOOKUP(DataByMiles!AE123,DataByMiles!$AT$5:$AU$6,2,FALSE)","v":0},{"$f":"DataByMiles!J123*VLOOKUP(DataByMiles!AE123,DataByMiles!$AT$5:$AU$6,2,FALSE)","v":0},{"$f":"DataByMiles!K123","v":0},{"$f":"DataByMiles!L123","v":0},null,null,{"$f":"(Y125/IF(Z125=0,$AD$1,Z125)*$AD$2)/IF(AA125=0,1,AA125)*VLOOKUP(DataByMiles!AE123,DataByMiles!$AT$5:$AU$6,2,FALSE)","v":0},"",0,0,{"$f":"(AF125+AG125)*VLOOKUP(DataByMiles!AE123,DataByMiles!$AT$5:$AU$6,2,FALSE)","v":0},0]
[null,{"$f":"DataByMiles!C124","v":"----120"},{"$f":"DataByMiles!E124*VLOOKUP(DataByMiles!AE124,DataByMiles!$AT$5:$AU$6,2,FALSE)","v":0},null,null,0,{"$f":"C126*$G$2*VLOOKUP(DataByMiles!AE124,DataByMiles!$AT$5:$AU$6,2,FALSE)","v":0},{"$f":"DataByMiles!F124*VLOOKUP(DataByMiles!AE124,DataByMiles!$AT$5:$AU$6,2,FALSE)","v":0},null,null,0,{"$f":"H126*$L$2*VLOOKUP(DataByMiles!AE124,DataByMiles!$AT$5:$AU$6,2,FALSE)","v":0},{"$f":"DataByMiles!G124*VLOOKUP(DataByMiles!AE124,DataByMiles!$AT$5:$AU$6,2,FALSE)","v":0},null,null,{"$f":"M126*$P$2*VLOOKUP(DataByMiles!AE124,DataByMiles!$AT$5:$AU$6,2,FALSE)","v":0},{"$f":"DataByMiles!H124*VLOOKUP(DataByMiles!AE124,DataByMiles!$AT$5:$AU$6,2,FALSE)","v":0},null,null,{"$f":"Q126*$T$2*VLOOKUP(DataByMiles!AE124,DataByMiles!$AT$5:$AU$6,2,FALSE)","v":0},{"$f":"DataByMiles!I124*VLOOKUP(DataByMiles!AE124,DataByMiles!$AT$5:$AU$6,2,FALSE)","v":0},null,null,{"$f":"U126*$X$2*VLOOKUP(DataByMiles!AE124,DataByMiles!$AT$5:$AU$6,2,FALSE)","v":0},{"$f":"DataByMiles!J124*VLOOKUP(DataByMiles!AE124,DataByMiles!$AT$5:$AU$6,2,FALSE)","v":0},{"$f":"DataByMiles!K124","v":0},{"$f":"DataByMiles!L124","v":0},null,null,{"$f":"(Y126/IF(Z126=0,$AD$1,Z126)*$AD$2)/IF(AA126=0,1,AA126)*VLOOKUP(DataByMiles!AE124,DataByMiles!$AT$5:$AU$6,2,FALSE)","v":0},"",0,0,{"$f":"(AF126+AG126)*VLOOKUP(DataByMiles!AE124,DataByMiles!$AT$5:$AU$6,2,FALSE)","v":0},0]
[null,{"$f":"DataByMiles!C125","v":"----121"},{"$f":"DataByMiles!E125*VLOOKUP(DataByMiles!AE125,DataByMiles!$AT$5:$AU$6,2,FALSE)","v":0},null,null,0,{"$f":"C127*$G$2*VLOOKUP(DataByMiles!AE125,DataByMiles!$AT$5:$AU$6,2,FALSE)","v":0},{"$f":"DataByMiles!F125*VLOOKUP(DataByMiles!AE125,DataByMiles!$AT$5:$AU$6,2,FALSE)","v":0},null,null,0,{"$f":"H127*$L$2*VLOOKUP(DataByMiles!AE125,DataByMiles!$AT$5:$AU$6,2,FALSE)","v":0},{"$f":"DataByMiles!G125*VLOOKUP(DataByMiles!AE125,DataByMiles!$AT$5:$AU$6,2,FALSE)","v":0},null,null,{"$f":"M127*$P$2*VLOOKUP(DataByMiles!AE125,DataByMiles!$AT$5:$AU$6,2,FALSE)","v":0},{"$f":"DataByMiles!H125*VLOOKUP(DataByMiles!AE125,DataByMiles!$AT$5:$AU$6,2,FALSE)","v":0},null,null,{"$f":"Q127*$T$2*VLOOKUP(DataByMiles!AE125,DataByMiles!$AT$5:$AU$6,2,FALSE)","v":0},{"$f":"DataByMiles!I125*VLOOKUP(DataByMiles!AE125,DataByMiles!$AT$5:$AU$6,2,FALSE)","v":0},null,null,{"$f":"U127*$X$2*VLOOKUP(DataByMiles!AE125,DataByMiles!$AT$5:$AU$6,2,FALSE)","v":0},{"$f":"DataByMiles!J125*VLOOKUP(DataByMiles!AE125,DataByMiles!$AT$5:$AU$6,2,FALSE)","v":0},{"$f":"DataByMiles!K125","v":0},{"$f":"DataByMiles!L125","v":0},null,null,{"$f":"(Y127/IF(Z127=0,$AD$1,Z127)*$AD$2)/IF(AA127=0,1,AA127)*VLOOKUP(DataByMiles!AE125,DataByMiles!$AT$5:$AU$6,2,FALSE)","v":0},"",0,0,{"$f":"(AF127+AG127)*VLOOKUP(DataByMiles!AE125,DataByMiles!$AT$5:$AU$6,2,FALSE)","v":0},0]
[null,{"$f":"DataByMiles!C126","v":"----122"},{"$f":"DataByMiles!E126*VLOOKUP(DataByMiles!AE126,DataByMiles!$AT$5:$AU$6,2,FALSE)","v":0},null,null,0,{"$f":"C128*$G$2*VLOOKUP(DataByMiles!AE126,DataByMiles!$AT$5:$AU$6,2,FALSE)","v":0},{"$f":"DataByMiles!F126*VLOOKUP(DataByMiles!AE126,DataByMiles!$AT$5:$AU$6,2,FALSE)","v":0},null,null,0,{"$f":"H128*$L$2*VLOOKUP(DataByMiles!AE126,DataByMiles!$AT$5:$AU$6,2,FALSE)","v":0},{"$f":"DataByMiles!G126*VLOOKUP(DataByMiles!AE126,DataByMiles!$AT$5:$AU$6,2,FALSE)","v":0},null,null,{"$f":"M128*$P$2*VLOOKUP(DataByMiles!AE126,DataByMiles!$AT$5:$AU$6,2,FALSE)","v":0},{"$f":"DataByMiles!H126*VLOOKUP(DataByMiles!AE126,DataByMiles!$AT$5:$AU$6,2,FALSE)","v":0},null,null,{"$f":"Q128*$T$2*VLOOKUP(DataByMiles!AE126,DataByMiles!$AT$5:$AU$6,2,FALSE)","v":0},{"$f":"DataByMiles!I126*VLOOKUP(DataByMiles!AE126,DataByMiles!$AT$5:$AU$6,2,FALSE)","v":0},null,null,{"$f":"U128*$X$2*VLOOKUP(DataByMiles!AE126,DataByMiles!$AT$5:$AU$6,2,FALSE)","v":0},{"$f":"DataByMiles!J126*VLOOKUP(DataByMiles!AE126,DataByMiles!$AT$5:$AU$6,2,FALSE)","v":0},{"$f":"DataByMiles!K126","v":0},{"$f":"DataByMiles!L126","v":0},null,null,{"$f":"(Y128/IF(Z128=0,$AD$1,Z128)*$AD$2)/IF(AA128=0,1,AA128)*VLOOKUP(DataByMiles!AE126,DataByMiles!$AT$5:$AU$6,2,FALSE)","v":0},"",0,0,{"$f":"(AF128+AG128)*VLOOKUP(DataByMiles!AE126,DataByMiles!$AT$5:$AU$6,2,FALSE)","v":0},0]
[null,{"$f":"DataByMiles!C127","v":"----123"},{"$f":"DataByMiles!E127*VLOOKUP(DataByMiles!AE127,DataByMiles!$AT$5:$AU$6,2,FALSE)","v":0},null,null,0,{"$f":"C129*$G$2*VLOOKUP(DataByMiles!AE127,DataByMiles!$AT$5:$AU$6,2,FALSE)","v":0},{"$f":"DataByMiles!F127*VLOOKUP(DataByMiles!AE127,DataByMiles!$AT$5:$AU$6,2,FALSE)","v":0},null,null,0,{"$f":"H129*$L$2*VLOOKUP(DataByMiles!AE127,DataByMiles!$AT$5:$AU$6,2,FALSE)","v":0},{"$f":"DataByMiles!G127*VLOOKUP(DataByMiles!AE127,DataByMiles!$AT$5:$AU$6,2,FALSE)","v":0},null,null,{"$f":"M129*$P$2*VLOOKUP(DataByMiles!AE127,DataByMiles!$AT$5:$AU$6,2,FALSE)","v":0},{"$f":"DataByMiles!H127*VLOOKUP(DataByMiles!AE127,DataByMiles!$AT$5:$AU$6,2,FALSE)","v":0},null,null,{"$f":"Q129*$T$2*VLOOKUP(DataByMiles!AE127,DataByMiles!$AT$5:$AU$6,2,FALSE)","v":0},{"$f":"DataByMiles!I127*VLOOKUP(DataByMiles!AE127,DataByMiles!$AT$5:$AU$6,2,FALSE)","v":0},null,null,{"$f":"U129*$X$2*VLOOKUP(DataByMiles!AE127,DataByMiles!$AT$5:$AU$6,2,FALSE)","v":0},{"$f":"DataByMiles!J127*VLOOKUP(DataByMiles!AE127,DataByMiles!$AT$5:$AU$6,2,FALSE)","v":0},{"$f":"DataByMiles!K127","v":0},{"$f":"DataByMiles!L127","v":0},null,null,{"$f":"(Y129/IF(Z129=0,$AD$1,Z129)*$AD$2)/IF(AA129=0,1,AA129)*VLOOKUP(DataByMiles!AE127,DataByMiles!$AT$5:$AU$6,2,FALSE)","v":0},"",0,0,{"$f":"(AF129+AG129)*VLOOKUP(DataByMiles!AE127,DataByMiles!$AT$5:$AU$6,2,FALSE)","v":0},0]
[null,{"$f":"DataByMiles!C128","v":"----124"},{"$f":"DataByMiles!E128*VLOOKUP(DataByMiles!AE128,DataByMiles!$AT$5:$AU$6,2,FALSE)","v":0},null,null,0,{"$f":"C130*$G$2*VLOOKUP(DataByMiles!AE128,DataByMiles!$AT$5:$AU$6,2,FALSE)","v":0},{"$f":"DataByMiles!F128*VLOOKUP(DataByMiles!AE128,DataByMiles!$AT$5:$AU$6,2,FALSE)","v":0},null,null,0,{"$f":"H130*$L$2*VLOOKUP(DataByMiles!AE128,DataByMiles!$AT$5:$AU$6,2,FALSE)","v":0},{"$f":"DataByMiles!G128*VLOOKUP(DataByMiles!AE128,DataByMiles!$AT$5:$AU$6,2,FALSE)","v":0},null,null,{"$f":"M130*$P$2*VLOOKUP(DataByMiles!AE128,DataByMiles!$AT$5:$AU$6,2,FALSE)","v":0},{"$f":"DataByMiles!H128*VLOOKUP(DataByMiles!AE128,DataByMiles!$AT$5:$AU$6,2,FALSE)","v":0},null,null,{"$f":"Q130*$T$2*VLOOKUP(DataByMiles!AE128,DataByMiles!$AT$5:$AU$6,2,FALSE)","v":0},{"$f":"DataByMiles!I128*VLOOKUP(DataByMiles!AE128,DataByMiles!$AT$5:$AU$6,2,FALSE)","v":0},null,null,{"$f":"U130*$X$2*VLOOKUP(DataByMiles!AE128,DataByMiles!$AT$5:$AU$6,2,FALSE)","v":0},{"$f":"DataByMiles!J128*VLOOKUP(DataByMiles!AE128,DataByMiles!$AT$5:$AU$6,2,FALSE)","v":0},{"$f":"DataByMiles!K128","v":0},{"$f":"DataByMiles!L128","v":0},null,null,{"$f":"(Y130/IF(Z130=0,$AD$1,Z130)*$AD$2)/IF(AA130=0,1,AA130)*VLOOKUP(DataByMiles!AE128,DataByMiles!$AT$5:$AU$6,2,FALSE)","v":0},"",0,0,{"$f":"(AF130+AG130)*VLOOKUP(DataByMiles!AE128,DataByMiles!$AT$5:$AU$6,2,FALSE)","v":0},0]
[null,{"$f":"DataByMiles!C129","v":"----125"},{"$f":"DataByMiles!E129*VLOOKUP(DataByMiles!AE129,DataByMiles!$AT$5:$AU$6,2,FALSE)","v":0},null,null,0,{"$f":"C131*$G$2*VLOOKUP(DataByMiles!AE129,DataByMiles!$AT$5:$AU$6,2,FALSE)","v":0},{"$f":"DataByMiles!F129*VLOOKUP(DataByMiles!AE129,DataByMiles!$AT$5:$AU$6,2,FALSE)","v":0},null,null,0,{"$f":"H131*$L$2*VLOOKUP(DataByMiles!AE129,DataByMiles!$AT$5:$AU$6,2,FALSE)","v":0},{"$f":"DataByMiles!G129*VLOOKUP(DataByMiles!AE129,DataByMiles!$AT$5:$AU$6,2,FALSE)","v":0},null,null,{"$f":"M131*$P$2*VLOOKUP(DataByMiles!AE129,DataByMiles!$AT$5:$AU$6,2,FALSE)","v":0},{"$f":"DataByMiles!H129*VLOOKUP(DataByMiles!AE129,DataByMiles!$AT$5:$AU$6,2,FALSE)","v":0},null,null,{"$f":"Q131*$T$2*VLOOKUP(DataByMiles!AE129,DataByMiles!$AT$5:$AU$6,2,FALSE)","v":0},{"$f":"DataByMiles!I129*VLOOKUP(DataByMiles!AE129,DataByMiles!$AT$5:$AU$6,2,FALSE)","v":0},null,null,{"$f":"U131*$X$2*VLOOKUP(DataByMiles!AE129,DataByMiles!$AT$5:$AU$6,2,FALSE)","v":0},{"$f":"DataByMiles!J129*VLOOKUP(DataByMiles!AE129,DataByMiles!$AT$5:$AU$6,2,FALSE)","v":0},{"$f":"DataByMiles!K129","v":0},{"$f":"DataByMiles!L129","v":0},null,null,{"$f":"(Y131/IF(Z131=0,$AD$1,Z131)*$AD$2)/IF(AA131=0,1,AA131)*VLOOKUP(DataByMiles!AE129,DataByMiles!$AT$5:$AU$6,2,FALSE)","v":0},"",0,0,{"$f":"(AF131+AG131)*VLOOKUP(DataByMiles!AE129,DataByMiles!$AT$5:$AU$6,2,FALSE)","v":0},0]
[null,{"$f":"DataByMiles!C130","v":"----126"},{"$f":"DataByMiles!E130*VLOOKUP(DataByMiles!AE130,DataByMiles!$AT$5:$AU$6,2,FALSE)","v":0},null,null,0,{"$f":"C132*$G$2*VLOOKUP(DataByMiles!AE130,DataByMiles!$AT$5:$AU$6,2,FALSE)","v":0},{"$f":"DataByMiles!F130*VLOOKUP(DataByMiles!AE130,DataByMiles!$AT$5:$AU$6,2,FALSE)","v":0},null,null,0,{"$f":"H132*$L$2*VLOOKUP(DataByMiles!AE130,DataByMiles!$AT$5:$AU$6,2,FALSE)","v":0},{"$f":"DataByMiles!G130*VLOOKUP(DataByMiles!AE130,DataByMiles!$AT$5:$AU$6,2,FALSE)","v":0},null,null,{"$f":"M132*$P$2*VLOOKUP(DataByMiles!AE130,DataByMiles!$AT$5:$AU$6,2,FALSE)","v":0},{"$f":"DataByMiles!H130*VLOOKUP(DataByMiles!AE130,DataByMiles!$AT$5:$AU$6,2,FALSE)","v":0},null,null,{"$f":"Q132*$T$2*VLOOKUP(DataByMiles!AE130,DataByMiles!$AT$5:$AU$6,2,FALSE)","v":0},{"$f":"DataByMiles!I130*VLOOKUP(DataByMiles!AE130,DataByMiles!$AT$5:$AU$6,2,FALSE)","v":0},null,null,{"$f":"U132*$X$2*VLOOKUP(DataByMiles!AE130,DataByMiles!$AT$5:$AU$6,2,FALSE)","v":0},{"$f":"DataByMiles!J130*VLOOKUP(DataByMiles!AE130,DataByMiles!$AT$5:$AU$6,2,FALSE)","v":0},{"$f":"DataByMiles!K130","v":0},{"$f":"DataByMiles!L130","v":0},null,null,{"$f":"(Y132/IF(Z132=0,$AD$1,Z132)*$AD$2)/IF(AA132=0,1,AA132)*VLOOKUP(DataByMiles!AE130,DataByMiles!$AT$5:$AU$6,2,FALSE)","v":0},"",0,0,{"$f":"(AF132+AG132)*VLOOKUP(DataByMiles!AE130,DataByMiles!$AT$5:$AU$6,2,FALSE)","v":0},0]
[null,{"$f":"DataByMiles!C131","v":"----127"},{"$f":"DataByMiles!E131*VLOOKUP(DataByMiles!AE131,DataByMiles!$AT$5:$AU$6,2,FALSE)","v":0},null,null,0,{"$f":"C133*$G$2*VLOOKUP(DataByMiles!AE131,DataByMiles!$AT$5:$AU$6,2,FALSE)","v":0},{"$f":"DataByMiles!F131*VLOOKUP(DataByMiles!AE131,DataByMiles!$AT$5:$AU$6,2,FALSE)","v":0},null,null,0,{"$f":"H133*$L$2*VLOOKUP(DataByMiles!AE131,DataByMiles!$AT$5:$AU$6,2,FALSE)","v":0},{"$f":"DataByMiles!G131*VLOOKUP(DataByMiles!AE131,DataByMiles!$AT$5:$AU$6,2,FALSE)","v":0},null,null,{"$f":"M133*$P$2*VLOOKUP(DataByMiles!AE131,DataByMiles!$AT$5:$AU$6,2,FALSE)","v":0},{"$f":"DataByMiles!H131*VLOOKUP(DataByMiles!AE131,DataByMiles!$AT$5:$AU$6,2,FALSE)","v":0},null,null,{"$f":"Q133*$T$2*VLOOKUP(DataByMiles!AE131,DataByMiles!$AT$5:$AU$6,2,FALSE)","v":0},{"$f":"DataByMiles!I131*VLOOKUP(DataByMiles!AE131,DataByMiles!$AT$5:$AU$6,2,FALSE)","v":0},null,null,{"$f":"U133*$X$2*VLOOKUP(DataByMiles!AE131,DataByMiles!$AT$5:$AU$6,2,FALSE)","v":0},{"$f":"DataByMiles!J131*VLOOKUP(DataByMiles!AE131,DataByMiles!$AT$5:$AU$6,2,FALSE)","v":0},{"$f":"DataByMiles!K131","v":0},{"$f":"DataByMiles!L131","v":0},null,null,{"$f":"(Y133/IF(Z133=0,$AD$1,Z133)*$AD$2)/IF(AA133=0,1,AA133)*VLOOKUP(DataByMiles!AE131,DataByMiles!$AT$5:$AU$6,2,FALSE)","v":0},"",0,0,{"$f":"(AF133+AG133)*VLOOKUP(DataByMiles!AE131,DataByMiles!$AT$5:$AU$6,2,FALSE)","v":0},0]
[null,{"$f":"DataByMiles!C132","v":"----128"},{"$f":"DataByMiles!E132*VLOOKUP(DataByMiles!AE132,DataByMiles!$AT$5:$AU$6,2,FALSE)","v":0},null,null,0,{"$f":"C134*$G$2*VLOOKUP(DataByMiles!AE132,DataByMiles!$AT$5:$AU$6,2,FALSE)","v":0},{"$f":"DataByMiles!F132*VLOOKUP(DataByMiles!AE132,DataByMiles!$AT$5:$AU$6,2,FALSE)","v":0},null,null,0,{"$f":"H134*$L$2*VLOOKUP(DataByMiles!AE132,DataByMiles!$AT$5:$AU$6,2,FALSE)","v":0},{"$f":"DataByMiles!G132*VLOOKUP(DataByMiles!AE132,DataByMiles!$AT$5:$AU$6,2,FALSE)","v":0},null,null,{"$f":"M134*$P$2*VLOOKUP(DataByMiles!AE132,DataByMiles!$AT$5:$AU$6,2,FALSE)","v":0},{"$f":"DataByMiles!H132*VLOOKUP(DataByMiles!AE132,DataByMiles!$AT$5:$AU$6,2,FALSE)","v":0},null,null,{"$f":"Q134*$T$2*VLOOKUP(DataByMiles!AE132,DataByMiles!$AT$5:$AU$6,2,FALSE)","v":0},{"$f":"DataByMiles!I132*VLOOKUP(DataByMiles!AE132,DataByMiles!$AT$5:$AU$6,2,FALSE)","v":0},null,null,{"$f":"U134*$X$2*VLOOKUP(DataByMiles!AE132,DataByMiles!$AT$5:$AU$6,2,FALSE)","v":0},{"$f":"DataByMiles!J132*VLOOKUP(DataByMiles!AE132,DataByMiles!$AT$5:$AU$6,2,FALSE)","v":0},{"$f":"DataByMiles!K132","v":0},{"$f":"DataByMiles!L132","v":0},null,null,{"$f":"(Y134/IF(Z134=0,$AD$1,Z134)*$AD$2)/IF(AA134=0,1,AA134)*VLOOKUP(DataByMiles!AE132,DataByMiles!$AT$5:$AU$6,2,FALSE)","v":0},"",0,0,{"$f":"(AF134+AG134)*VLOOKUP(DataByMiles!AE132,DataByMiles!$AT$5:$AU$6,2,FALSE)","v":0},0]
[null,{"$f":"DataByMiles!C133","v":"----129"},{"$f":"DataByMiles!E133*VLOOKUP(DataByMiles!AE133,DataByMiles!$AT$5:$AU$6,2,FALSE)","v":0},null,null,0,{"$f":"C135*$G$2*VLOOKUP(DataByMiles!AE133,DataByMiles!$AT$5:$AU$6,2,FALSE)","v":0},{"$f":"DataByMiles!F133*VLOOKUP(DataByMiles!AE133,DataByMiles!$AT$5:$AU$6,2,FALSE)","v":0},null,null,0,{"$f":"H135*$L$2*VLOOKUP(DataByMiles!AE133,DataByMiles!$AT$5:$AU$6,2,FALSE)","v":0},{"$f":"DataByMiles!G133*VLOOKUP(DataByMiles!AE133,DataByMiles!$AT$5:$AU$6,2,FALSE)","v":0},null,null,{"$f":"M135*$P$2*VLOOKUP(DataByMiles!AE133,DataByMiles!$AT$5:$AU$6,2,FALSE)","v":0},{"$f":"DataByMiles!H133*VLOOKUP(DataByMiles!AE133,DataByMiles!$AT$5:$AU$6,2,FALSE)","v":0},null,null,{"$f":"Q135*$T$2*VLOOKUP(DataByMiles!AE133,DataByMiles!$AT$5:$AU$6,2,FALSE)","v":0},{"$f":"DataByMiles!I133*VLOOKUP(DataByMiles!AE133,DataByMiles!$AT$5:$AU$6,2,FALSE)","v":0},null,null,{"$f":"U135*$X$2*VLOOKUP(DataByMiles!AE133,DataByMiles!$AT$5:$AU$6,2,FALSE)","v":0},{"$f":"DataByMiles!J133*VLOOKUP(DataByMiles!AE133,DataByMiles!$AT$5:$AU$6,2,FALSE)","v":0},{"$f":"DataByMiles!K133","v":0},{"$f":"DataByMiles!L133","v":0},null,null,{"$f":"(Y135/IF(Z135=0,$AD$1,Z135)*$AD$2)/IF(AA135=0,1,AA135)*VLOOKUP(DataByMiles!AE133,DataByMiles!$AT$5:$AU$6,2,FALSE)","v":0},"",0,0,{"$f":"(AF135+AG135)*VLOOKUP(DataByMiles!AE133,DataByMiles!$AT$5:$AU$6,2,FALSE)","v":0},0]
[null,{"$f":"DataByMiles!C134","v":"----130"},{"$f":"DataByMiles!E134*VLOOKUP(DataByMiles!AE134,DataByMiles!$AT$5:$AU$6,2,FALSE)","v":0},null,null,0,{"$f":"C136*$G$2*VLOOKUP(DataByMiles!AE134,DataByMiles!$AT$5:$AU$6,2,FALSE)","v":0},{"$f":"DataByMiles!F134*VLOOKUP(DataByMiles!AE134,DataByMiles!$AT$5:$AU$6,2,FALSE)","v":0},null,null,0,{"$f":"H136*$L$2*VLOOKUP(DataByMiles!AE134,DataByMiles!$AT$5:$AU$6,2,FALSE)","v":0},{"$f":"DataByMiles!G134*VLOOKUP(DataByMiles!AE134,DataByMiles!$AT$5:$AU$6,2,FALSE)","v":0},null,null,{"$f":"M136*$P$2*VLOOKUP(DataByMiles!AE134,DataByMiles!$AT$5:$AU$6,2,FALSE)","v":0},{"$f":"DataByMiles!H134*VLOOKUP(DataByMiles!AE134,DataByMiles!$AT$5:$AU$6,2,FALSE)","v":0},null,null,{"$f":"Q136*$T$2*VLOOKUP(DataByMiles!AE134,DataByMiles!$AT$5:$AU$6,2,FALSE)","v":0},{"$f":"DataByMiles!I134*VLOOKUP(DataByMiles!AE134,DataByMiles!$AT$5:$AU$6,2,FALSE)","v":0},null,null,{"$f":"U136*$X$2*VLOOKUP(DataByMiles!AE134,DataByMiles!$AT$5:$AU$6,2,FALSE)","v":0},{"$f":"DataByMiles!J134*VLOOKUP(DataByMiles!AE134,DataByMiles!$AT$5:$AU$6,2,FALSE)","v":0},{"$f":"DataByMiles!K134","v":0},{"$f":"DataByMiles!L134","v":0},null,null,{"$f":"(Y136/IF(Z136=0,$AD$1,Z136)*$AD$2)/IF(AA136=0,1,AA136)*VLOOKUP(DataByMiles!AE134,DataByMiles!$AT$5:$AU$6,2,FALSE)","v":0},"",0,0,{"$f":"(AF136+AG136)*VLOOKUP(DataByMiles!AE134,DataByMiles!$AT$5:$AU$6,2,FALSE)","v":0},0]
[null,{"$f":"DataByMiles!C135","v":"----131"},{"$f":"DataByMiles!E135*VLOOKUP(DataByMiles!AE135,DataByMiles!$AT$5:$AU$6,2,FALSE)","v":0},null,null,0,{"$f":"C137*$G$2*VLOOKUP(DataByMiles!AE135,DataByMiles!$AT$5:$AU$6,2,FALSE)","v":0},{"$f":"DataByMiles!F135*VLOOKUP(DataByMiles!AE135,DataByMiles!$AT$5:$AU$6,2,FALSE)","v":0},null,null,0,{"$f":"H137*$L$2*VLOOKUP(DataByMiles!AE135,DataByMiles!$AT$5:$AU$6,2,FALSE)","v":0},{"$f":"DataByMiles!G135*VLOOKUP(DataByMiles!AE135,DataByMiles!$AT$5:$AU$6,2,FALSE)","v":0},null,null,{"$f":"M137*$P$2*VLOOKUP(DataByMiles!AE135,DataByMiles!$AT$5:$AU$6,2,FALSE)","v":0},{"$f":"DataByMiles!H135*VLOOKUP(DataByMiles!AE135,DataByMiles!$AT$5:$AU$6,2,FALSE)","v":0},null,null,{"$f":"Q137*$T$2*VLOOKUP(DataByMiles!AE135,DataByMiles!$AT$5:$AU$6,2,FALSE)","v":0},{"$f":"DataByMiles!I135*VLOOKUP(DataByMiles!AE135,DataByMiles!$AT$5:$AU$6,2,FALSE)","v":0},null,null,{"$f":"U137*$X$2*VLOOKUP(DataByMiles!AE135,DataByMiles!$AT$5:$AU$6,2,FALSE)","v":0},{"$f":"DataByMiles!J135*VLOOKUP(DataByMiles!AE135,DataByMiles!$AT$5:$AU$6,2,FALSE)","v":0},{"$f":"DataByMiles!K135","v":0},{"$f":"DataByMiles!L135","v":0},null,null,{"$f":"(Y137/IF(Z137=0,$AD$1,Z137)*$AD$2)/IF(AA137=0,1,AA137)*VLOOKUP(DataByMiles!AE135,DataByMiles!$AT$5:$AU$6,2,FALSE)","v":0},"",0,0,{"$f":"(AF137+AG137)*VLOOKUP(DataByMiles!AE135,DataByMiles!$AT$5:$AU$6,2,FALSE)","v":0},0]
[null,{"$f":"DataByMiles!C136","v":"----132"},{"$f":"DataByMiles!E136*VLOOKUP(DataByMiles!AE136,DataByMiles!$AT$5:$AU$6,2,FALSE)","v":0},null,null,0,{"$f":"C138*$G$2*VLOOKUP(DataByMiles!AE136,DataByMiles!$AT$5:$AU$6,2,FALSE)","v":0},{"$f":"DataByMiles!F136*VLOOKUP(DataByMiles!AE136,DataByMiles!$AT$5:$AU$6,2,FALSE)","v":0},null,null,0,{"$f":"H138*$L$2*VLOOKUP(DataByMiles!AE136,DataByMiles!$AT$5:$AU$6,2,FALSE)","v":0},{"$f":"DataByMiles!G136*VLOOKUP(DataByMiles!AE136,DataByMiles!$AT$5:$AU$6,2,FALSE)","v":0},null,null,{"$f":"M138*$P$2*VLOOKUP(DataByMiles!AE136,DataByMiles!$AT$5:$AU$6,2,FALSE)","v":0},{"$f":"DataByMiles!H136*VLOOKUP(DataByMiles!AE136,DataByMiles!$AT$5:$AU$6,2,FALSE)","v":0},null,null,{"$f":"Q138*$T$2*VLOOKUP(DataByMiles!AE136,DataByMiles!$AT$5:$AU$6,2,FALSE)","v":0},{"$f":"DataByMiles!I136*VLOOKUP(DataByMiles!AE136,DataByMiles!$AT$5:$AU$6,2,FALSE)","v":0},null,null,{"$f":"U138*$X$2*VLOOKUP(DataByMiles!AE136,DataByMiles!$AT$5:$AU$6,2,FALSE)","v":0},{"$f":"DataByMiles!J136*VLOOKUP(DataByMiles!AE136,DataByMiles!$AT$5:$AU$6,2,FALSE)","v":0},{"$f":"DataByMiles!K136","v":0},{"$f":"DataByMiles!L136","v":0},null,null,{"$f":"(Y138/IF(Z138=0,$AD$1,Z138)*$AD$2)/IF(AA138=0,1,AA138)*VLOOKUP(DataByMiles!AE136,DataByMiles!$AT$5:$AU$6,2,FALSE)","v":0},"",0,0,{"$f":"(AF138+AG138)*VLOOKUP(DataByMiles!AE136,DataByMiles!$AT$5:$AU$6,2,FALSE)","v":0},0]
[null,{"$f":"DataByMiles!C137","v":"----133"},{"$f":"DataByMiles!E137*VLOOKUP(DataByMiles!AE137,DataByMiles!$AT$5:$AU$6,2,FALSE)","v":0},null,null,0,{"$f":"C139*$G$2*VLOOKUP(DataByMiles!AE137,DataByMiles!$AT$5:$AU$6,2,FALSE)","v":0},{"$f":"DataByMiles!F137*VLOOKUP(DataByMiles!AE137,DataByMiles!$AT$5:$AU$6,2,FALSE)","v":0},null,null,0,{"$f":"H139*$L$2*VLOOKUP(DataByMiles!AE137,DataByMiles!$AT$5:$AU$6,2,FALSE)","v":0},{"$f":"DataByMiles!G137*VLOOKUP(DataByMiles!AE137,DataByMiles!$AT$5:$AU$6,2,FALSE)","v":0},null,null,{"$f":"M139*$P$2*VLOOKUP(DataByMiles!AE137,DataByMiles!$AT$5:$AU$6,2,FALSE)","v":0},{"$f":"DataByMiles!H137*VLOOKUP(DataByMiles!AE137,DataByMiles!$AT$5:$AU$6,2,FALSE)","v":0},null,null,{"$f":"Q139*$T$2*VLOOKUP(DataByMiles!AE137,DataByMiles!$AT$5:$AU$6,2,FALSE)","v":0},{"$f":"DataByMiles!I137*VLOOKUP(DataByMiles!AE137,DataByMiles!$AT$5:$AU$6,2,FALSE)","v":0},null,null,{"$f":"U139*$X$2*VLOOKUP(DataByMiles!AE137,DataByMiles!$AT$5:$AU$6,2,FALSE)","v":0},{"$f":"DataByMiles!J137*VLOOKUP(DataByMiles!AE137,DataByMiles!$AT$5:$AU$6,2,FALSE)","v":0},{"$f":"DataByMiles!K137","v":0},{"$f":"DataByMiles!L137","v":0},null,null,{"$f":"(Y139/IF(Z139=0,$AD$1,Z139)*$AD$2)/IF(AA139=0,1,AA139)*VLOOKUP(DataByMiles!AE137,DataByMiles!$AT$5:$AU$6,2,FALSE)","v":0},"",0,0,{"$f":"(AF139+AG139)*VLOOKUP(DataByMiles!AE137,DataByMiles!$AT$5:$AU$6,2,FALSE)","v":0},0]
[null,{"$f":"DataByMiles!C138","v":"----134"},{"$f":"DataByMiles!E138*VLOOKUP(DataByMiles!AE138,DataByMiles!$AT$5:$AU$6,2,FALSE)","v":0},null,null,0,{"$f":"C140*$G$2*VLOOKUP(DataByMiles!AE138,DataByMiles!$AT$5:$AU$6,2,FALSE)","v":0},{"$f":"DataByMiles!F138*VLOOKUP(DataByMiles!AE138,DataByMiles!$AT$5:$AU$6,2,FALSE)","v":0},null,null,0,{"$f":"H140*$L$2*VLOOKUP(DataByMiles!AE138,DataByMiles!$AT$5:$AU$6,2,FALSE)","v":0},{"$f":"DataByMiles!G138*VLOOKUP(DataByMiles!AE138,DataByMiles!$AT$5:$AU$6,2,FALSE)","v":0},null,null,{"$f":"M140*$P$2*VLOOKUP(DataByMiles!AE138,DataByMiles!$AT$5:$AU$6,2,FALSE)","v":0},{"$f":"DataByMiles!H138*VLOOKUP(DataByMiles!AE138,DataByMiles!$AT$5:$AU$6,2,FALSE)","v":0},null,null,{"$f":"Q140*$T$2*VLOOKUP(DataByMiles!AE138,DataByMiles!$AT$5:$AU$6,2,FALSE)","v":0},{"$f":"DataByMiles!I138*VLOOKUP(DataByMiles!AE138,DataByMiles!$AT$5:$AU$6,2,FALSE)","v":0},null,null,{"$f":"U140*$X$2*VLOOKUP(DataByMiles!AE138,DataByMiles!$AT$5:$AU$6,2,FALSE)","v":0},{"$f":"DataByMiles!J138*VLOOKUP(DataByMiles!AE138,DataByMiles!$AT$5:$AU$6,2,FALSE)","v":0},{"$f":"DataByMiles!K138","v":0},{"$f":"DataByMiles!L138","v":0},null,null,{"$f":"(Y140/IF(Z140=0,$AD$1,Z140)*$AD$2)/IF(AA140=0,1,AA140)*VLOOKUP(DataByMiles!AE138,DataByMiles!$AT$5:$AU$6,2,FALSE)","v":0},"",0,0,{"$f":"(AF140+AG140)*VLOOKUP(DataByMiles!AE138,DataByMiles!$AT$5:$AU$6,2,FALSE)","v":0},0]
[null,{"$f":"DataByMiles!C139","v":"----135"},{"$f":"DataByMiles!E139*VLOOKUP(DataByMiles!AE139,DataByMiles!$AT$5:$AU$6,2,FALSE)","v":0},null,null,0,{"$f":"C141*$G$2*VLOOKUP(DataByMiles!AE139,DataByMiles!$AT$5:$AU$6,2,FALSE)","v":0},{"$f":"DataByMiles!F139*VLOOKUP(DataByMiles!AE139,DataByMiles!$AT$5:$AU$6,2,FALSE)","v":0},null,null,0,{"$f":"H141*$L$2*VLOOKUP(DataByMiles!AE139,DataByMiles!$AT$5:$AU$6,2,FALSE)","v":0},{"$f":"DataByMiles!G139*VLOOKUP(DataByMiles!AE139,DataByMiles!$AT$5:$AU$6,2,FALSE)","v":0},null,null,{"$f":"M141*$P$2*VLOOKUP(DataByMiles!AE139,DataByMiles!$AT$5:$AU$6,2,FALSE)","v":0},{"$f":"DataByMiles!H139*VLOOKUP(DataByMiles!AE139,DataByMiles!$AT$5:$AU$6,2,FALSE)","v":0},null,null,{"$f":"Q141*$T$2*VLOOKUP(DataByMiles!AE139,DataByMiles!$AT$5:$AU$6,2,FALSE)","v":0},{"$f":"DataByMiles!I139*VLOOKUP(DataByMiles!AE139,DataByMiles!$AT$5:$AU$6,2,FALSE)","v":0},null,null,{"$f":"U141*$X$2*VLOOKUP(DataByMiles!AE139,DataByMiles!$AT$5:$AU$6,2,FALSE)","v":0},{"$f":"DataByMiles!J139*VLOOKUP(DataByMiles!AE139,DataByMiles!$AT$5:$AU$6,2,FALSE)","v":0},{"$f":"DataByMiles!K139","v":0},{"$f":"DataByMiles!L139","v":0},null,null,{"$f":"(Y141/IF(Z141=0,$AD$1,Z141)*$AD$2)/IF(AA141=0,1,AA141)*VLOOKUP(DataByMiles!AE139,DataByMiles!$AT$5:$AU$6,2,FALSE)","v":0},"",0,0,{"$f":"(AF141+AG141)*VLOOKUP(DataByMiles!AE139,DataByMiles!$AT$5:$AU$6,2,FALSE)","v":0},0]
[null,{"$f":"DataByMiles!C140","v":"----136"},{"$f":"DataByMiles!E140*VLOOKUP(DataByMiles!AE140,DataByMiles!$AT$5:$AU$6,2,FALSE)","v":0},null,null,0,{"$f":"C142*$G$2*VLOOKUP(DataByMiles!AE140,DataByMiles!$AT$5:$AU$6,2,FALSE)","v":0},{"$f":"DataByMiles!F140*VLOOKUP(DataByMiles!AE140,DataByMiles!$AT$5:$AU$6,2,FALSE)","v":0},null,null,0,{"$f":"H142*$L$2*VLOOKUP(DataByMiles!AE140,DataByMiles!$AT$5:$AU$6,2,FALSE)","v":0},{"$f":"DataByMiles!G140*VLOOKUP(DataByMiles!AE140,DataByMiles!$AT$5:$AU$6,2,FALSE)","v":0},null,null,{"$f":"M142*$P$2*VLOOKUP(DataByMiles!AE140,DataByMiles!$AT$5:$AU$6,2,FALSE)","v":0},{"$f":"DataByMiles!H140*VLOOKUP(DataByMiles!AE140,DataByMiles!$AT$5:$AU$6,2,FALSE)","v":0},null,null,{"$f":"Q142*$T$2*VLOOKUP(DataByMiles!AE140,DataByMiles!$AT$5:$AU$6,2,FALSE)","v":0},{"$f":"DataByMiles!I140*VLOOKUP(DataByMiles!AE140,DataByMiles!$AT$5:$AU$6,2,FALSE)","v":0},null,null,{"$f":"U142*$X$2*VLOOKUP(DataByMiles!AE140,DataByMiles!$AT$5:$AU$6,2,FALSE)","v":0},{"$f":"DataByMiles!J140*VLOOKUP(DataByMiles!AE140,DataByMiles!$AT$5:$AU$6,2,FALSE)","v":0},{"$f":"DataByMiles!K140","v":0},{"$f":"DataByMiles!L140","v":0},null,null,{"$f":"(Y142/IF(Z142=0,$AD$1,Z142)*$AD$2)/IF(AA142=0,1,AA142)*VLOOKUP(DataByMiles!AE140,DataByMiles!$AT$5:$AU$6,2,FALSE)","v":0},"",0,0,{"$f":"(AF142+AG142)*VLOOKUP(DataByMiles!AE140,DataByMiles!$AT$5:$AU$6,2,FALSE)","v":0},0]
[null,{"$f":"DataByMiles!C141","v":"----137"},{"$f":"DataByMiles!E141*VLOOKUP(DataByMiles!AE141,DataByMiles!$AT$5:$AU$6,2,FALSE)","v":0},null,null,0,{"$f":"C143*$G$2*VLOOKUP(DataByMiles!AE141,DataByMiles!$AT$5:$AU$6,2,FALSE)","v":0},{"$f":"DataByMiles!F141*VLOOKUP(DataByMiles!AE141,DataByMiles!$AT$5:$AU$6,2,FALSE)","v":0},null,null,0,{"$f":"H143*$L$2*VLOOKUP(DataByMiles!AE141,DataByMiles!$AT$5:$AU$6,2,FALSE)","v":0},{"$f":"DataByMiles!G141*VLOOKUP(DataByMiles!AE141,DataByMiles!$AT$5:$AU$6,2,FALSE)","v":0},null,null,{"$f":"M143*$P$2*VLOOKUP(DataByMiles!AE141,DataByMiles!$AT$5:$AU$6,2,FALSE)","v":0},{"$f":"DataByMiles!H141*VLOOKUP(DataByMiles!AE141,DataByMiles!$AT$5:$AU$6,2,FALSE)","v":0},null,null,{"$f":"Q143*$T$2*VLOOKUP(DataByMiles!AE141,DataByMiles!$AT$5:$AU$6,2,FALSE)","v":0},{"$f":"DataByMiles!I141*VLOOKUP(DataByMiles!AE141,DataByMiles!$AT$5:$AU$6,2,FALSE)","v":0},null,null,{"$f":"U143*$X$2*VLOOKUP(DataByMiles!AE141,DataByMiles!$AT$5:$AU$6,2,FALSE)","v":0},{"$f":"DataByMiles!J141*VLOOKUP(DataByMiles!AE141,DataByMiles!$AT$5:$AU$6,2,FALSE)","v":0},{"$f":"DataByMiles!K141","v":0},{"$f":"DataByMiles!L141","v":0},null,null,{"$f":"(Y143/IF(Z143=0,$AD$1,Z143)*$AD$2)/IF(AA143=0,1,AA143)*VLOOKUP(DataByMiles!AE141,DataByMiles!$AT$5:$AU$6,2,FALSE)","v":0},"",0,0,{"$f":"(AF143+AG143)*VLOOKUP(DataByMiles!AE141,DataByMiles!$AT$5:$AU$6,2,FALSE)","v":0},0]
[null,{"$f":"DataByMiles!C142","v":"----138"},{"$f":"DataByMiles!E142*VLOOKUP(DataByMiles!AE142,DataByMiles!$AT$5:$AU$6,2,FALSE)","v":0},null,null,0,{"$f":"C144*$G$2*VLOOKUP(DataByMiles!AE142,DataByMiles!$AT$5:$AU$6,2,FALSE)","v":0},{"$f":"DataByMiles!F142*VLOOKUP(DataByMiles!AE142,DataByMiles!$AT$5:$AU$6,2,FALSE)","v":0},null,null,0,{"$f":"H144*$L$2*VLOOKUP(DataByMiles!AE142,DataByMiles!$AT$5:$AU$6,2,FALSE)","v":0},{"$f":"DataByMiles!G142*VLOOKUP(DataByMiles!AE142,DataByMiles!$AT$5:$AU$6,2,FALSE)","v":0},null,null,{"$f":"M144*$P$2*VLOOKUP(DataByMiles!AE142,DataByMiles!$AT$5:$AU$6,2,FALSE)","v":0},{"$f":"DataByMiles!H142*VLOOKUP(DataByMiles!AE142,DataByMiles!$AT$5:$AU$6,2,FALSE)","v":0},null,null,{"$f":"Q144*$T$2*VLOOKUP(DataByMiles!AE142,DataByMiles!$AT$5:$AU$6,2,FALSE)","v":0},{"$f":"DataByMiles!I142*VLOOKUP(DataByMiles!AE142,DataByMiles!$AT$5:$AU$6,2,FALSE)","v":0},null,null,{"$f":"U144*$X$2*VLOOKUP(DataByMiles!AE142,DataByMiles!$AT$5:$AU$6,2,FALSE)","v":0},{"$f":"DataByMiles!J142*VLOOKUP(DataByMiles!AE142,DataByMiles!$AT$5:$AU$6,2,FALSE)","v":0},{"$f":"DataByMiles!K142","v":0},{"$f":"DataByMiles!L142","v":0},null,null,{"$f":"(Y144/IF(Z144=0,$AD$1,Z144)*$AD$2)/IF(AA144=0,1,AA144)*VLOOKUP(DataByMiles!AE142,DataByMiles!$AT$5:$AU$6,2,FALSE)","v":0},"",0,0,{"$f":"(AF144+AG144)*VLOOKUP(DataByMiles!AE142,DataByMiles!$AT$5:$AU$6,2,FALSE)","v":0},0]
[null,{"$f":"DataByMiles!C143","v":"----139"},{"$f":"DataByMiles!E143*VLOOKUP(DataByMiles!AE143,DataByMiles!$AT$5:$AU$6,2,FALSE)","v":0},null,null,0,{"$f":"C145*$G$2*VLOOKUP(DataByMiles!AE143,DataByMiles!$AT$5:$AU$6,2,FALSE)","v":0},{"$f":"DataByMiles!F143*VLOOKUP(DataByMiles!AE143,DataByMiles!$AT$5:$AU$6,2,FALSE)","v":0},null,null,0,{"$f":"H145*$L$2*VLOOKUP(DataByMiles!AE143,DataByMiles!$AT$5:$AU$6,2,FALSE)","v":0},{"$f":"DataByMiles!G143*VLOOKUP(DataByMiles!AE143,DataByMiles!$AT$5:$AU$6,2,FALSE)","v":0},null,null,{"$f":"M145*$P$2*VLOOKUP(DataByMiles!AE143,DataByMiles!$AT$5:$AU$6,2,FALSE)","v":0},{"$f":"DataByMiles!H143*VLOOKUP(DataByMiles!AE143,DataByMiles!$AT$5:$AU$6,2,FALSE)","v":0},null,null,{"$f":"Q145*$T$2*VLOOKUP(DataByMiles!AE143,DataByMiles!$AT$5:$AU$6,2,FALSE)","v":0},{"$f":"DataByMiles!I143*VLOOKUP(DataByMiles!AE143,DataByMiles!$AT$5:$AU$6,2,FALSE)","v":0},null,null,{"$f":"U145*$X$2*VLOOKUP(DataByMiles!AE143,DataByMiles!$AT$5:$AU$6,2,FALSE)","v":0},{"$f":"DataByMiles!J143*VLOOKUP(DataByMiles!AE143,DataByMiles!$AT$5:$AU$6,2,FALSE)","v":0},{"$f":"DataByMiles!K143","v":0},{"$f":"DataByMiles!L143","v":0},null,null,{"$f":"(Y145/IF(Z145=0,$AD$1,Z145)*$AD$2)/IF(AA145=0,1,AA145)*VLOOKUP(DataByMiles!AE143,DataByMiles!$AT$5:$AU$6,2,FALSE)","v":0},"",0,0,{"$f":"(AF145+AG145)*VLOOKUP(DataByMiles!AE143,DataByMiles!$AT$5:$AU$6,2,FALSE)","v":0},0]
[null,{"$f":"DataByMiles!C144","v":"----140"},{"$f":"DataByMiles!E144*VLOOKUP(DataByMiles!AE144,DataByMiles!$AT$5:$AU$6,2,FALSE)","v":0},null,null,0,{"$f":"C146*$G$2*VLOOKUP(DataByMiles!AE144,DataByMiles!$AT$5:$AU$6,2,FALSE)","v":0},{"$f":"DataByMiles!F144*VLOOKUP(DataByMiles!AE144,DataByMiles!$AT$5:$AU$6,2,FALSE)","v":0},null,null,0,{"$f":"H146*$L$2*VLOOKUP(DataByMiles!AE144,DataByMiles!$AT$5:$AU$6,2,FALSE)","v":0},{"$f":"DataByMiles!G144*VLOOKUP(DataByMiles!AE144,DataByMiles!$AT$5:$AU$6,2,FALSE)","v":0},null,null,{"$f":"M146*$P$2*VLOOKUP(DataByMiles!AE144,DataByMiles!$AT$5:$AU$6,2,FALSE)","v":0},{"$f":"DataByMiles!H144*VLOOKUP(DataByMiles!AE144,DataByMiles!$AT$5:$AU$6,2,FALSE)","v":0},null,null,{"$f":"Q146*$T$2*VLOOKUP(DataByMiles!AE144,DataByMiles!$AT$5:$AU$6,2,FALSE)","v":0},{"$f":"DataByMiles!I144*VLOOKUP(DataByMiles!AE144,DataByMiles!$AT$5:$AU$6,2,FALSE)","v":0},null,null,{"$f":"U146*$X$2*VLOOKUP(DataByMiles!AE144,DataByMiles!$AT$5:$AU$6,2,FALSE)","v":0},{"$f":"DataByMiles!J144*VLOOKUP(DataByMiles!AE144,DataByMiles!$AT$5:$AU$6,2,FALSE)","v":0},{"$f":"DataByMiles!K144","v":0},{"$f":"DataByMiles!L144","v":0},null,null,{"$f":"(Y146/IF(Z146=0,$AD$1,Z146)*$AD$2)/IF(AA146=0,1,AA146)*VLOOKUP(DataByMiles!AE144,DataByMiles!$AT$5:$AU$6,2,FALSE)","v":0},"",0,0,{"$f":"(AF146+AG146)*VLOOKUP(DataByMiles!AE144,DataByMiles!$AT$5:$AU$6,2,FALSE)","v":0},0]
[null,{"$f":"DataByMiles!C145","v":"----141"},{"$f":"DataByMiles!E145*VLOOKUP(DataByMiles!AE145,DataByMiles!$AT$5:$AU$6,2,FALSE)","v":0},null,null,0,{"$f":"C147*$G$2*VLOOKUP(DataByMiles!AE145,DataByMiles!$AT$5:$AU$6,2,FALSE)","v":0},{"$f":"DataByMiles!F145*VLOOKUP(DataByMiles!AE145,DataByMiles!$AT$5:$AU$6,2,FALSE)","v":0},null,null,0,{"$f":"H147*$L$2*VLOOKUP(DataByMiles!AE145,DataByMiles!$AT$5:$AU$6,2,FALSE)","v":0},{"$f":"DataByMiles!G145*VLOOKUP(DataByMiles!AE145,DataByMiles!$AT$5:$AU$6,2,FALSE)","v":0},null,null,{"$f":"M147*$P$2*VLOOKUP(DataByMiles!AE145,DataByMiles!$AT$5:$AU$6,2,FALSE)","v":0},{"$f":"DataByMiles!H145*VLOOKUP(DataByMiles!AE145,DataByMiles!$AT$5:$AU$6,2,FALSE)","v":0},null,null,{"$f":"Q147*$T$2*VLOOKUP(DataByMiles!AE145,DataByMiles!$AT$5:$AU$6,2,FALSE)","v":0},{"$f":"DataByMiles!I145*VLOOKUP(DataByMiles!AE145,DataByMiles!$AT$5:$AU$6,2,FALSE)","v":0},null,null,{"$f":"U147*$X$2*VLOOKUP(DataByMiles!AE145,DataByMiles!$AT$5:$AU$6,2,FALSE)","v":0},{"$f":"DataByMiles!J145*VLOOKUP(DataByMiles!AE145,DataByMiles!$AT$5:$AU$6,2,FALSE)","v":0},{"$f":"DataByMiles!K145","v":0},{"$f":"DataByMiles!L145","v":0},null,null,{"$f":"(Y147/IF(Z147=0,$AD$1,Z147)*$AD$2)/IF(AA147=0,1,AA147)*VLOOKUP(DataByMiles!AE145,DataByMiles!$AT$5:$AU$6,2,FALSE)","v":0},"",0,0,{"$f":"(AF147+AG147)*VLOOKUP(DataByMiles!AE145,DataByMiles!$AT$5:$AU$6,2,FALSE)","v":0},0]
[null,{"$f":"DataByMiles!C146","v":"----142"},{"$f":"DataByMiles!E146*VLOOKUP(DataByMiles!AE146,DataByMiles!$AT$5:$AU$6,2,FALSE)","v":0},null,null,0,{"$f":"C148*$G$2*VLOOKUP(DataByMiles!AE146,DataByMiles!$AT$5:$AU$6,2,FALSE)","v":0},{"$f":"DataByMiles!F146*VLOOKUP(DataByMiles!AE146,DataByMiles!$AT$5:$AU$6,2,FALSE)","v":0},null,null,0,{"$f":"H148*$L$2*VLOOKUP(DataByMiles!AE146,DataByMiles!$AT$5:$AU$6,2,FALSE)","v":0},{"$f":"DataByMiles!G146*VLOOKUP(DataByMiles!AE146,DataByMiles!$AT$5:$AU$6,2,FALSE)","v":0},null,null,{"$f":"M148*$P$2*VLOOKUP(DataByMiles!AE146,DataByMiles!$AT$5:$AU$6,2,FALSE)","v":0},{"$f":"DataByMiles!H146*VLOOKUP(DataByMiles!AE146,DataByMiles!$AT$5:$AU$6,2,FALSE)","v":0},null,null,{"$f":"Q148*$T$2*VLOOKUP(DataByMiles!AE146,DataByMiles!$AT$5:$AU$6,2,FALSE)","v":0},{"$f":"DataByMiles!I146*VLOOKUP(DataByMiles!AE146,DataByMiles!$AT$5:$AU$6,2,FALSE)","v":0},null,null,{"$f":"U148*$X$2*VLOOKUP(DataByMiles!AE146,DataByMiles!$AT$5:$AU$6,2,FALSE)","v":0},{"$f":"DataByMiles!J146*VLOOKUP(DataByMiles!AE146,DataByMiles!$AT$5:$AU$6,2,FALSE)","v":0},{"$f":"DataByMiles!K146","v":0},{"$f":"DataByMiles!L146","v":0},null,null,{"$f":"(Y148/IF(Z148=0,$AD$1,Z148)*$AD$2)/IF(AA148=0,1,AA148)*VLOOKUP(DataByMiles!AE146,DataByMiles!$AT$5:$AU$6,2,FALSE)","v":0},"",0,0,{"$f":"(AF148+AG148)*VLOOKUP(DataByMiles!AE146,DataByMiles!$AT$5:$AU$6,2,FALSE)","v":0},0]
[null,{"$f":"DataByMiles!C147","v":"----143"},{"$f":"DataByMiles!E147*VLOOKUP(DataByMiles!AE147,DataByMiles!$AT$5:$AU$6,2,FALSE)","v":0},null,null,0,{"$f":"C149*$G$2*VLOOKUP(DataByMiles!AE147,DataByMiles!$AT$5:$AU$6,2,FALSE)","v":0},{"$f":"DataByMiles!F147*VLOOKUP(DataByMiles!AE147,DataByMiles!$AT$5:$AU$6,2,FALSE)","v":0},null,null,0,{"$f":"H149*$L$2*VLOOKUP(DataByMiles!AE147,DataByMiles!$AT$5:$AU$6,2,FALSE)","v":0},{"$f":"DataByMiles!G147*VLOOKUP(DataByMiles!AE147,DataByMiles!$AT$5:$AU$6,2,FALSE)","v":0},null,null,{"$f":"M149*$P$2*VLOOKUP(DataByMiles!AE147,DataByMiles!$AT$5:$AU$6,2,FALSE)","v":0},{"$f":"DataByMiles!H147*VLOOKUP(DataByMiles!AE147,DataByMiles!$AT$5:$AU$6,2,FALSE)","v":0},null,null,{"$f":"Q149*$T$2*VLOOKUP(DataByMiles!AE147,DataByMiles!$AT$5:$AU$6,2,FALSE)","v":0},{"$f":"DataByMiles!I147*VLOOKUP(DataByMiles!AE147,DataByMiles!$AT$5:$AU$6,2,FALSE)","v":0},null,null,{"$f":"U149*$X$2*VLOOKUP(DataByMiles!AE147,DataByMiles!$AT$5:$AU$6,2,FALSE)","v":0},{"$f":"DataByMiles!J147*VLOOKUP(DataByMiles!AE147,DataByMiles!$AT$5:$AU$6,2,FALSE)","v":0},{"$f":"DataByMiles!K147","v":0},{"$f":"DataByMiles!L147","v":0},null,null,{"$f":"(Y149/IF(Z149=0,$AD$1,Z149)*$AD$2)/IF(AA149=0,1,AA149)*VLOOKUP(DataByMiles!AE147,DataByMiles!$AT$5:$AU$6,2,FALSE)","v":0},"",0,0,{"$f":"(AF149+AG149)*VLOOKUP(DataByMiles!AE147,DataByMiles!$AT$5:$AU$6,2,FALSE)","v":0},0]
[null,{"$f":"DataByMiles!C148","v":"----144"},{"$f":"DataByMiles!E148*VLOOKUP(DataByMiles!AE148,DataByMiles!$AT$5:$AU$6,2,FALSE)","v":0},null,null,0,{"$f":"C150*$G$2*VLOOKUP(DataByMiles!AE148,DataByMiles!$AT$5:$AU$6,2,FALSE)","v":0},{"$f":"DataByMiles!F148*VLOOKUP(DataByMiles!AE148,DataByMiles!$AT$5:$AU$6,2,FALSE)","v":0},null,null,0,{"$f":"H150*$L$2*VLOOKUP(DataByMiles!AE148,DataByMiles!$AT$5:$AU$6,2,FALSE)","v":0},{"$f":"DataByMiles!G148*VLOOKUP(DataByMiles!AE148,DataByMiles!$AT$5:$AU$6,2,FALSE)","v":0},null,null,{"$f":"M150*$P$2*VLOOKUP(DataByMiles!AE148,DataByMiles!$AT$5:$AU$6,2,FALSE)","v":0},{"$f":"DataByMiles!H148*VLOOKUP(DataByMiles!AE148,DataByMiles!$AT$5:$AU$6,2,FALSE)","v":0},null,null,{"$f":"Q150*$T$2*VLOOKUP(DataByMiles!AE148,DataByMiles!$AT$5:$AU$6,2,FALSE)","v":0},{"$f":"DataByMiles!I148*VLOOKUP(DataByMiles!AE148,DataByMiles!$AT$5:$AU$6,2,FALSE)","v":0},null,null,{"$f":"U150*$X$2*VLOOKUP(DataByMiles!AE148,DataByMiles!$AT$5:$AU$6,2,FALSE)","v":0},{"$f":"DataByMiles!J148*VLOOKUP(DataByMiles!AE148,DataByMiles!$AT$5:$AU$6,2,FALSE)","v":0},{"$f":"DataByMiles!K148","v":0},{"$f":"DataByMiles!L148","v":0},null,null,{"$f":"(Y150/IF(Z150=0,$AD$1,Z150)*$AD$2)/IF(AA150=0,1,AA150)*VLOOKUP(DataByMiles!AE148,DataByMiles!$AT$5:$AU$6,2,FALSE)","v":0},"",0,0,{"$f":"(AF150+AG150)*VLOOKUP(DataByMiles!AE148,DataByMiles!$AT$5:$AU$6,2,FALSE)","v":0},0]
[null,{"$f":"DataByMiles!C149","v":"----145"},{"$f":"DataByMiles!E149*VLOOKUP(DataByMiles!AE149,DataByMiles!$AT$5:$AU$6,2,FALSE)","v":0},null,null,0,{"$f":"C151*$G$2*VLOOKUP(DataByMiles!AE149,DataByMiles!$AT$5:$AU$6,2,FALSE)","v":0},{"$f":"DataByMiles!F149*VLOOKUP(DataByMiles!AE149,DataByMiles!$AT$5:$AU$6,2,FALSE)","v":0},null,null,0,{"$f":"H151*$L$2*VLOOKUP(DataByMiles!AE149,DataByMiles!$AT$5:$AU$6,2,FALSE)","v":0},{"$f":"DataByMiles!G149*VLOOKUP(DataByMiles!AE149,DataByMiles!$AT$5:$AU$6,2,FALSE)","v":0},null,null,{"$f":"M151*$P$2*VLOOKUP(DataByMiles!AE149,DataByMiles!$AT$5:$AU$6,2,FALSE)","v":0},{"$f":"DataByMiles!H149*VLOOKUP(DataByMiles!AE149,DataByMiles!$AT$5:$AU$6,2,FALSE)","v":0},null,null,{"$f":"Q151*$T$2*VLOOKUP(DataByMiles!AE149,DataByMiles!$AT$5:$AU$6,2,FALSE)","v":0},{"$f":"DataByMiles!I149*VLOOKUP(DataByMiles!AE149,DataByMiles!$AT$5:$AU$6,2,FALSE)","v":0},null,null,{"$f":"U151*$X$2*VLOOKUP(DataByMiles!AE149,DataByMiles!$AT$5:$AU$6,2,FALSE)","v":0},{"$f":"DataByMiles!J149*VLOOKUP(DataByMiles!AE149,DataByMiles!$AT$5:$AU$6,2,FALSE)","v":0},{"$f":"DataByMiles!K149","v":0},{"$f":"DataByMiles!L149","v":0},null,null,{"$f":"(Y151/IF(Z151=0,$AD$1,Z151)*$AD$2)/IF(AA151=0,1,AA151)*VLOOKUP(DataByMiles!AE149,DataByMiles!$AT$5:$AU$6,2,FALSE)","v":0},"",0,0,{"$f":"(AF151+AG151)*VLOOKUP(DataByMiles!AE149,DataByMiles!$AT$5:$AU$6,2,FALSE)","v":0},0]
[null,{"$f":"DataByMiles!C150","v":"----146"},{"$f":"DataByMiles!E150*VLOOKUP(DataByMiles!AE150,DataByMiles!$AT$5:$AU$6,2,FALSE)","v":0},null,null,0,{"$f":"C152*$G$2*VLOOKUP(DataByMiles!AE150,DataByMiles!$AT$5:$AU$6,2,FALSE)","v":0},{"$f":"DataByMiles!F150*VLOOKUP(DataByMiles!AE150,DataByMiles!$AT$5:$AU$6,2,FALSE)","v":0},null,null,0,{"$f":"H152*$L$2*VLOOKUP(DataByMiles!AE150,DataByMiles!$AT$5:$AU$6,2,FALSE)","v":0},{"$f":"DataByMiles!G150*VLOOKUP(DataByMiles!AE150,DataByMiles!$AT$5:$AU$6,2,FALSE)","v":0},null,null,{"$f":"M152*$P$2*VLOOKUP(DataByMiles!AE150,DataByMiles!$AT$5:$AU$6,2,FALSE)","v":0},{"$f":"DataByMiles!H150*VLOOKUP(DataByMiles!AE150,DataByMiles!$AT$5:$AU$6,2,FALSE)","v":0},null,null,{"$f":"Q152*$T$2*VLOOKUP(DataByMiles!AE150,DataByMiles!$AT$5:$AU$6,2,FALSE)","v":0},{"$f":"DataByMiles!I150*VLOOKUP(DataByMiles!AE150,DataByMiles!$AT$5:$AU$6,2,FALSE)","v":0},null,null,{"$f":"U152*$X$2*VLOOKUP(DataByMiles!AE150,DataByMiles!$AT$5:$AU$6,2,FALSE)","v":0},{"$f":"DataByMiles!J150*VLOOKUP(DataByMiles!AE150,DataByMiles!$AT$5:$AU$6,2,FALSE)","v":0},{"$f":"DataByMiles!K150","v":0},{"$f":"DataByMiles!L150","v":0},null,null,{"$f":"(Y152/IF(Z152=0,$AD$1,Z152)*$AD$2)/IF(AA152=0,1,AA152)*VLOOKUP(DataByMiles!AE150,DataByMiles!$AT$5:$AU$6,2,FALSE)","v":0},"",0,0,{"$f":"(AF152+AG152)*VLOOKUP(DataByMiles!AE150,DataByMiles!$AT$5:$AU$6,2,FALSE)","v":0},0]
[null,{"$f":"DataByMiles!C151","v":"----147"},{"$f":"DataByMiles!E151*VLOOKUP(DataByMiles!AE151,DataByMiles!$AT$5:$AU$6,2,FALSE)","v":0},null,null,0,{"$f":"C153*$G$2*VLOOKUP(DataByMiles!AE151,DataByMiles!$AT$5:$AU$6,2,FALSE)","v":0},{"$f":"DataByMiles!F151*VLOOKUP(DataByMiles!AE151,DataByMiles!$AT$5:$AU$6,2,FALSE)","v":0},null,null,0,{"$f":"H153*$L$2*VLOOKUP(DataByMiles!AE151,DataByMiles!$AT$5:$AU$6,2,FALSE)","v":0},{"$f":"DataByMiles!G151*VLOOKUP(DataByMiles!AE151,DataByMiles!$AT$5:$AU$6,2,FALSE)","v":0},null,null,{"$f":"M153*$P$2*VLOOKUP(DataByMiles!AE151,DataByMiles!$AT$5:$AU$6,2,FALSE)","v":0},{"$f":"DataByMiles!H151*VLOOKUP(DataByMiles!AE151,DataByMiles!$AT$5:$AU$6,2,FALSE)","v":0},null,null,{"$f":"Q153*$T$2*VLOOKUP(DataByMiles!AE151,DataByMiles!$AT$5:$AU$6,2,FALSE)","v":0},{"$f":"DataByMiles!I151*VLOOKUP(DataByMiles!AE151,DataByMiles!$AT$5:$AU$6,2,FALSE)","v":0},null,null,{"$f":"U153*$X$2*VLOOKUP(DataByMiles!AE151,DataByMiles!$AT$5:$AU$6,2,FALSE)","v":0},{"$f":"DataByMiles!J151*VLOOKUP(DataByMiles!AE151,DataByMiles!$AT$5:$AU$6,2,FALSE)","v":0},{"$f":"DataByMiles!K151","v":0},{"$f":"DataByMiles!L151","v":0},null,null,{"$f":"(Y153/IF(Z153=0,$AD$1,Z153)*$AD$2)/IF(AA153=0,1,AA153)*VLOOKUP(DataByMiles!AE151,DataByMiles!$AT$5:$AU$6,2,FALSE)","v":0},"",0,0,{"$f":"(AF153+AG153)*VLOOKUP(DataByMiles!AE151,DataByMiles!$AT$5:$AU$6,2,FALSE)","v":0},0]
[null,{"$f":"DataByMiles!C152","v":"----148"},{"$f":"DataByMiles!E152*VLOOKUP(DataByMiles!AE152,DataByMiles!$AT$5:$AU$6,2,FALSE)","v":0},null,null,0,{"$f":"C154*$G$2*VLOOKUP(DataByMiles!AE152,DataByMiles!$AT$5:$AU$6,2,FALSE)","v":0},{"$f":"DataByMiles!F152*VLOOKUP(DataByMiles!AE152,DataByMiles!$AT$5:$AU$6,2,FALSE)","v":0},null,null,0,{"$f":"H154*$L$2*VLOOKUP(DataByMiles!AE152,DataByMiles!$AT$5:$AU$6,2,FALSE)","v":0},{"$f":"DataByMiles!G152*VLOOKUP(DataByMiles!AE152,DataByMiles!$AT$5:$AU$6,2,FALSE)","v":0},null,null,{"$f":"M154*$P$2*VLOOKUP(DataByMiles!AE152,DataByMiles!$AT$5:$AU$6,2,FALSE)","v":0},{"$f":"DataByMiles!H152*VLOOKUP(DataByMiles!AE152,DataByMiles!$AT$5:$AU$6,2,FALSE)","v":0},null,null,{"$f":"Q154*$T$2*VLOOKUP(DataByMiles!AE152,DataByMiles!$AT$5:$AU$6,2,FALSE)","v":0},{"$f":"DataByMiles!I152*VLOOKUP(DataByMiles!AE152,DataByMiles!$AT$5:$AU$6,2,FALSE)","v":0},null,null,{"$f":"U154*$X$2*VLOOKUP(DataByMiles!AE152,DataByMiles!$AT$5:$AU$6,2,FALSE)","v":0},{"$f":"DataByMiles!J152*VLOOKUP(DataByMiles!AE152,DataByMiles!$AT$5:$AU$6,2,FALSE)","v":0},{"$f":"DataByMiles!K152","v":0},{"$f":"DataByMiles!L152","v":0},null,null,{"$f":"(Y154/IF(Z154=0,$AD$1,Z154)*$AD$2)/IF(AA154=0,1,AA154)*VLOOKUP(DataByMiles!AE152,DataByMiles!$AT$5:$AU$6,2,FALSE)","v":0},"",0,0,{"$f":"(AF154+AG154)*VLOOKUP(DataByMiles!AE152,DataByMiles!$AT$5:$AU$6,2,FALSE)","v":0},0]
[null,{"$f":"DataByMiles!C153","v":"----149"},{"$f":"DataByMiles!E153*VLOOKUP(DataByMiles!AE153,DataByMiles!$AT$5:$AU$6,2,FALSE)","v":0},null,null,0,{"$f":"C155*$G$2*VLOOKUP(DataByMiles!AE153,DataByMiles!$AT$5:$AU$6,2,FALSE)","v":0},{"$f":"DataByMiles!F153*VLOOKUP(DataByMiles!AE153,DataByMiles!$AT$5:$AU$6,2,FALSE)","v":0},null,null,0,{"$f":"H155*$L$2*VLOOKUP(DataByMiles!AE153,DataByMiles!$AT$5:$AU$6,2,FALSE)","v":0},{"$f":"DataByMiles!G153*VLOOKUP(DataByMiles!AE153,DataByMiles!$AT$5:$AU$6,2,FALSE)","v":0},null,null,{"$f":"M155*$P$2*VLOOKUP(DataByMiles!AE153,DataByMiles!$AT$5:$AU$6,2,FALSE)","v":0},{"$f":"DataByMiles!H153*VLOOKUP(DataByMiles!AE153,DataByMiles!$AT$5:$AU$6,2,FALSE)","v":0},null,null,{"$f":"Q155*$T$2*VLOOKUP(DataByMiles!AE153,DataByMiles!$AT$5:$AU$6,2,FALSE)","v":0},{"$f":"DataByMiles!I153*VLOOKUP(DataByMiles!AE153,DataByMiles!$AT$5:$AU$6,2,FALSE)","v":0},null,null,{"$f":"U155*$X$2*VLOOKUP(DataByMiles!AE153,DataByMiles!$AT$5:$AU$6,2,FALSE)","v":0},{"$f":"DataByMiles!J153*VLOOKUP(DataByMiles!AE153,DataByMiles!$AT$5:$AU$6,2,FALSE)","v":0},{"$f":"DataByMiles!K153","v":0},{"$f":"DataByMiles!L153","v":0},null,null,{"$f":"(Y155/IF(Z155=0,$AD$1,Z155)*$AD$2)/IF(AA155=0,1,AA155)*VLOOKUP(DataByMiles!AE153,DataByMiles!$AT$5:$AU$6,2,FALSE)","v":0},"",0,0,{"$f":"(AF155+AG155)*VLOOKUP(DataByMiles!AE153,DataByMiles!$AT$5:$AU$6,2,FALSE)","v":0},0]
[null,{"$f":"DataByMiles!C154","v":"----150"},{"$f":"DataByMiles!E154*VLOOKUP(DataByMiles!AE154,DataByMiles!$AT$5:$AU$6,2,FALSE)","v":0},null,null,0,{"$f":"C156*$G$2*VLOOKUP(DataByMiles!AE154,DataByMiles!$AT$5:$AU$6,2,FALSE)","v":0},{"$f":"DataByMiles!F154*VLOOKUP(DataByMiles!AE154,DataByMiles!$AT$5:$AU$6,2,FALSE)","v":0},null,null,0,{"$f":"H156*$L$2*VLOOKUP(DataByMiles!AE154,DataByMiles!$AT$5:$AU$6,2,FALSE)","v":0},{"$f":"DataByMiles!G154*VLOOKUP(DataByMiles!AE154,DataByMiles!$AT$5:$AU$6,2,FALSE)","v":0},null,null,{"$f":"M156*$P$2*VLOOKUP(DataByMiles!AE154,DataByMiles!$AT$5:$AU$6,2,FALSE)","v":0},{"$f":"DataByMiles!H154*VLOOKUP(DataByMiles!AE154,DataByMiles!$AT$5:$AU$6,2,FALSE)","v":0},null,null,{"$f":"Q156*$T$2*VLOOKUP(DataByMiles!AE154,DataByMiles!$AT$5:$AU$6,2,FALSE)","v":0},{"$f":"DataByMiles!I154*VLOOKUP(DataByMiles!AE154,DataByMiles!$AT$5:$AU$6,2,FALSE)","v":0},null,null,{"$f":"U156*$X$2*VLOOKUP(DataByMiles!AE154,DataByMiles!$AT$5:$AU$6,2,FALSE)","v":0},{"$f":"DataByMiles!J154*VLOOKUP(DataByMiles!AE154,DataByMiles!$AT$5:$AU$6,2,FALSE)","v":0},{"$f":"DataByMiles!K154","v":0},{"$f":"DataByMiles!L154","v":0},null,null,{"$f":"(Y156/IF(Z156=0,$AD$1,Z156)*$AD$2)/IF(AA156=0,1,AA156)*VLOOKUP(DataByMiles!AE154,DataByMiles!$AT$5:$AU$6,2,FALSE)","v":0},"",0,0,{"$f":"(AF156+AG156)*VLOOKUP(DataByMiles!AE154,DataByMiles!$AT$5:$AU$6,2,FALSE)","v":0},0]
[null,{"$f":"DataByMiles!C155","v":"----151"},{"$f":"DataByMiles!E155*VLOOKUP(DataByMiles!AE155,DataByMiles!$AT$5:$AU$6,2,FALSE)","v":0},null,null,0,{"$f":"C157*$G$2*VLOOKUP(DataByMiles!AE155,DataByMiles!$AT$5:$AU$6,2,FALSE)","v":0},{"$f":"DataByMiles!F155*VLOOKUP(DataByMiles!AE155,DataByMiles!$AT$5:$AU$6,2,FALSE)","v":0},null,null,0,{"$f":"H157*$L$2*VLOOKUP(DataByMiles!AE155,DataByMiles!$AT$5:$AU$6,2,FALSE)","v":0},{"$f":"DataByMiles!G155*VLOOKUP(DataByMiles!AE155,DataByMiles!$AT$5:$AU$6,2,FALSE)","v":0},null,null,{"$f":"M157*$P$2*VLOOKUP(DataByMiles!AE155,DataByMiles!$AT$5:$AU$6,2,FALSE)","v":0},{"$f":"DataByMiles!H155*VLOOKUP(DataByMiles!AE155,DataByMiles!$AT$5:$AU$6,2,FALSE)","v":0},null,null,{"$f":"Q157*$T$2*VLOOKUP(DataByMiles!AE155,DataByMiles!$AT$5:$AU$6,2,FALSE)","v":0},{"$f":"DataByMiles!I155*VLOOKUP(DataByMiles!AE155,DataByMiles!$AT$5:$AU$6,2,FALSE)","v":0},null,null,{"$f":"U157*$X$2*VLOOKUP(DataByMiles!AE155,DataByMiles!$AT$5:$AU$6,2,FALSE)","v":0},{"$f":"DataByMiles!J155*VLOOKUP(DataByMiles!AE155,DataByMiles!$AT$5:$AU$6,2,FALSE)","v":0},{"$f":"DataByMiles!K155","v":0},{"$f":"DataByMiles!L155","v":0},null,null,{"$f":"(Y157/IF(Z157=0,$AD$1,Z157)*$AD$2)/IF(AA157=0,1,AA157)*VLOOKUP(DataByMiles!AE155,DataByMiles!$AT$5:$AU$6,2,FALSE)","v":0},"",0,0,{"$f":"(AF157+AG157)*VLOOKUP(DataByMiles!AE155,DataByMiles!$AT$5:$AU$6,2,FALSE)","v":0},0]
[null,{"$f":"DataByMiles!C156","v":"----152"},{"$f":"DataByMiles!E156*VLOOKUP(DataByMiles!AE156,DataByMiles!$AT$5:$AU$6,2,FALSE)","v":0},null,null,0,{"$f":"C158*$G$2*VLOOKUP(DataByMiles!AE156,DataByMiles!$AT$5:$AU$6,2,FALSE)","v":0},{"$f":"DataByMiles!F156*VLOOKUP(DataByMiles!AE156,DataByMiles!$AT$5:$AU$6,2,FALSE)","v":0},null,null,0,{"$f":"H158*$L$2*VLOOKUP(DataByMiles!AE156,DataByMiles!$AT$5:$AU$6,2,FALSE)","v":0},{"$f":"DataByMiles!G156*VLOOKUP(DataByMiles!AE156,DataByMiles!$AT$5:$AU$6,2,FALSE)","v":0},null,null,{"$f":"M158*$P$2*VLOOKUP(DataByMiles!AE156,DataByMiles!$AT$5:$AU$6,2,FALSE)","v":0},{"$f":"DataByMiles!H156*VLOOKUP(DataByMiles!AE156,DataByMiles!$AT$5:$AU$6,2,FALSE)","v":0},null,null,{"$f":"Q158*$T$2*VLOOKUP(DataByMiles!AE156,DataByMiles!$AT$5:$AU$6,2,FALSE)","v":0},{"$f":"DataByMiles!I156*VLOOKUP(DataByMiles!AE156,DataByMiles!$AT$5:$AU$6,2,FALSE)","v":0},null,null,{"$f":"U158*$X$2*VLOOKUP(DataByMiles!AE156,DataByMiles!$AT$5:$AU$6,2,FALSE)","v":0},{"$f":"DataByMiles!J156*VLOOKUP(DataByMiles!AE156,DataByMiles!$AT$5:$AU$6,2,FALSE)","v":0},{"$f":"DataByMiles!K156","v":0},{"$f":"DataByMiles!L156","v":0},null,null,{"$f":"(Y158/IF(Z158=0,$AD$1,Z158)*$AD$2)/IF(AA158=0,1,AA158)*VLOOKUP(DataByMiles!AE156,DataByMiles!$AT$5:$AU$6,2,FALSE)","v":0},"",0,0,{"$f":"(AF158+AG158)*VLOOKUP(DataByMiles!AE156,DataByMiles!$AT$5:$AU$6,2,FALSE)","v":0},0]
[null,{"$f":"DataByMiles!C157","v":"----153"},{"$f":"DataByMiles!E157*VLOOKUP(DataByMiles!AE157,DataByMiles!$AT$5:$AU$6,2,FALSE)","v":0},null,null,0,{"$f":"C159*$G$2*VLOOKUP(DataByMiles!AE157,DataByMiles!$AT$5:$AU$6,2,FALSE)","v":0},{"$f":"DataByMiles!F157*VLOOKUP(DataByMiles!AE157,DataByMiles!$AT$5:$AU$6,2,FALSE)","v":0},null,null,0,{"$f":"H159*$L$2*VLOOKUP(DataByMiles!AE157,DataByMiles!$AT$5:$AU$6,2,FALSE)","v":0},{"$f":"DataByMiles!G157*VLOOKUP(DataByMiles!AE157,DataByMiles!$AT$5:$AU$6,2,FALSE)","v":0},null,null,{"$f":"M159*$P$2*VLOOKUP(DataByMiles!AE157,DataByMiles!$AT$5:$AU$6,2,FALSE)","v":0},{"$f":"DataByMiles!H157*VLOOKUP(DataByMiles!AE157,DataByMiles!$AT$5:$AU$6,2,FALSE)","v":0},null,null,{"$f":"Q159*$T$2*VLOOKUP(DataByMiles!AE157,DataByMiles!$AT$5:$AU$6,2,FALSE)","v":0},{"$f":"DataByMiles!I157*VLOOKUP(DataByMiles!AE157,DataByMiles!$AT$5:$AU$6,2,FALSE)","v":0},null,null,{"$f":"U159*$X$2*VLOOKUP(DataByMiles!AE157,DataByMiles!$AT$5:$AU$6,2,FALSE)","v":0},{"$f":"DataByMiles!J157*VLOOKUP(DataByMiles!AE157,DataByMiles!$AT$5:$AU$6,2,FALSE)","v":0},{"$f":"DataByMiles!K157","v":0},{"$f":"DataByMiles!L157","v":0},null,null,{"$f":"(Y159/IF(Z159=0,$AD$1,Z159)*$AD$2)/IF(AA159=0,1,AA159)*VLOOKUP(DataByMiles!AE157,DataByMiles!$AT$5:$AU$6,2,FALSE)","v":0},"",0,0,{"$f":"(AF159+AG159)*VLOOKUP(DataByMiles!AE157,DataByMiles!$AT$5:$AU$6,2,FALSE)","v":0},0]
[null,{"$f":"DataByMiles!C158","v":"----154"},{"$f":"DataByMiles!E158*VLOOKUP(DataByMiles!AE158,DataByMiles!$AT$5:$AU$6,2,FALSE)","v":0},null,null,0,{"$f":"C160*$G$2*VLOOKUP(DataByMiles!AE158,DataByMiles!$AT$5:$AU$6,2,FALSE)","v":0},{"$f":"DataByMiles!F158*VLOOKUP(DataByMiles!AE158,DataByMiles!$AT$5:$AU$6,2,FALSE)","v":0},null,null,0,{"$f":"H160*$L$2*VLOOKUP(DataByMiles!AE158,DataByMiles!$AT$5:$AU$6,2,FALSE)","v":0},{"$f":"DataByMiles!G158*VLOOKUP(DataByMiles!AE158,DataByMiles!$AT$5:$AU$6,2,FALSE)","v":0},null,null,{"$f":"M160*$P$2*VLOOKUP(DataByMiles!AE158,DataByMiles!$AT$5:$AU$6,2,FALSE)","v":0},{"$f":"DataByMiles!H158*VLOOKUP(DataByMiles!AE158,DataByMiles!$AT$5:$AU$6,2,FALSE)","v":0},null,null,{"$f":"Q160*$T$2*VLOOKUP(DataByMiles!AE158,DataByMiles!$AT$5:$AU$6,2,FALSE)","v":0},{"$f":"DataByMiles!I158*VLOOKUP(DataByMiles!AE158,DataByMiles!$AT$5:$AU$6,2,FALSE)","v":0},null,null,{"$f":"U160*$X$2*VLOOKUP(DataByMiles!AE158,DataByMiles!$AT$5:$AU$6,2,FALSE)","v":0},{"$f":"DataByMiles!J158*VLOOKUP(DataByMiles!AE158,DataByMiles!$AT$5:$AU$6,2,FALSE)","v":0},{"$f":"DataByMiles!K158","v":0},{"$f":"DataByMiles!L158","v":0},null,null,{"$f":"(Y160/IF(Z160=0,$AD$1,Z160)*$AD$2)/IF(AA160=0,1,AA160)*VLOOKUP(DataByMiles!AE158,DataByMiles!$AT$5:$AU$6,2,FALSE)","v":0},"",0,0,{"$f":"(AF160+AG160)*VLOOKUP(DataByMiles!AE158,DataByMiles!$AT$5:$AU$6,2,FALSE)","v":0},0]
[null,{"$f":"DataByMiles!C159","v":"----155"},{"$f":"DataByMiles!E159*VLOOKUP(DataByMiles!AE159,DataByMiles!$AT$5:$AU$6,2,FALSE)","v":0},null,null,0,{"$f":"C161*$G$2*VLOOKUP(DataByMiles!AE159,DataByMiles!$AT$5:$AU$6,2,FALSE)","v":0},{"$f":"DataByMiles!F159*VLOOKUP(DataByMiles!AE159,DataByMiles!$AT$5:$AU$6,2,FALSE)","v":0},null,null,0,{"$f":"H161*$L$2*VLOOKUP(DataByMiles!AE159,DataByMiles!$AT$5:$AU$6,2,FALSE)","v":0},{"$f":"DataByMiles!G159*VLOOKUP(DataByMiles!AE159,DataByMiles!$AT$5:$AU$6,2,FALSE)","v":0},null,null,{"$f":"M161*$P$2*VLOOKUP(DataByMiles!AE159,DataByMiles!$AT$5:$AU$6,2,FALSE)","v":0},{"$f":"DataByMiles!H159*VLOOKUP(DataByMiles!AE159,DataByMiles!$AT$5:$AU$6,2,FALSE)","v":0},null,null,{"$f":"Q161*$T$2*VLOOKUP(DataByMiles!AE159,DataByMiles!$AT$5:$AU$6,2,FALSE)","v":0},{"$f":"DataByMiles!I159*VLOOKUP(DataByMiles!AE159,DataByMiles!$AT$5:$AU$6,2,FALSE)","v":0},null,null,{"$f":"U161*$X$2*VLOOKUP(DataByMiles!AE159,DataByMiles!$AT$5:$AU$6,2,FALSE)","v":0},{"$f":"DataByMiles!J159*VLOOKUP(DataByMiles!AE159,DataByMiles!$AT$5:$AU$6,2,FALSE)","v":0},{"$f":"DataByMiles!K159","v":0},{"$f":"DataByMiles!L159","v":0},null,null,{"$f":"(Y161/IF(Z161=0,$AD$1,Z161)*$AD$2)/IF(AA161=0,1,AA161)*VLOOKUP(DataByMiles!AE159,DataByMiles!$AT$5:$AU$6,2,FALSE)","v":0},"",0,0,{"$f":"(AF161+AG161)*VLOOKUP(DataByMiles!AE159,DataByMiles!$AT$5:$AU$6,2,FALSE)","v":0},0]
[null,{"$f":"DataByMiles!C160","v":"----156"},{"$f":"DataByMiles!E160*VLOOKUP(DataByMiles!AE160,DataByMiles!$AT$5:$AU$6,2,FALSE)","v":0},null,null,0,{"$f":"C162*$G$2*VLOOKUP(DataByMiles!AE160,DataByMiles!$AT$5:$AU$6,2,FALSE)","v":0},{"$f":"DataByMiles!F160*VLOOKUP(DataByMiles!AE160,DataByMiles!$AT$5:$AU$6,2,FALSE)","v":0},null,null,0,{"$f":"H162*$L$2*VLOOKUP(DataByMiles!AE160,DataByMiles!$AT$5:$AU$6,2,FALSE)","v":0},{"$f":"DataByMiles!G160*VLOOKUP(DataByMiles!AE160,DataByMiles!$AT$5:$AU$6,2,FALSE)","v":0},null,null,{"$f":"M162*$P$2*VLOOKUP(DataByMiles!AE160,DataByMiles!$AT$5:$AU$6,2,FALSE)","v":0},{"$f":"DataByMiles!H160*VLOOKUP(DataByMiles!AE160,DataByMiles!$AT$5:$AU$6,2,FALSE)","v":0},null,null,{"$f":"Q162*$T$2*VLOOKUP(DataByMiles!AE160,DataByMiles!$AT$5:$AU$6,2,FALSE)","v":0},{"$f":"DataByMiles!I160*VLOOKUP(DataByMiles!AE160,DataByMiles!$AT$5:$AU$6,2,FALSE)","v":0},null,null,{"$f":"U162*$X$2*VLOOKUP(DataByMiles!AE160,DataByMiles!$AT$5:$AU$6,2,FALSE)","v":0},{"$f":"DataByMiles!J160*VLOOKUP(DataByMiles!AE160,DataByMiles!$AT$5:$AU$6,2,FALSE)","v":0},{"$f":"DataByMiles!K160","v":0},{"$f":"DataByMiles!L160","v":0},null,null,{"$f":"(Y162/IF(Z162=0,$AD$1,Z162)*$AD$2)/IF(AA162=0,1,AA162)*VLOOKUP(DataByMiles!AE160,DataByMiles!$AT$5:$AU$6,2,FALSE)","v":0},"",0,0,{"$f":"(AF162+AG162)*VLOOKUP(DataByMiles!AE160,DataByMiles!$AT$5:$AU$6,2,FALSE)","v":0},0]
[null,{"$f":"DataByMiles!C161","v":"----157"},{"$f":"DataByMiles!E161*VLOOKUP(DataByMiles!AE161,DataByMiles!$AT$5:$AU$6,2,FALSE)","v":0},null,null,0,{"$f":"C163*$G$2*VLOOKUP(DataByMiles!AE161,DataByMiles!$AT$5:$AU$6,2,FALSE)","v":0},{"$f":"DataByMiles!F161*VLOOKUP(DataByMiles!AE161,DataByMiles!$AT$5:$AU$6,2,FALSE)","v":0},null,null,0,{"$f":"H163*$L$2*VLOOKUP(DataByMiles!AE161,DataByMiles!$AT$5:$AU$6,2,FALSE)","v":0},{"$f":"DataByMiles!G161*VLOOKUP(DataByMiles!AE161,DataByMiles!$AT$5:$AU$6,2,FALSE)","v":0},null,null,{"$f":"M163*$P$2*VLOOKUP(DataByMiles!AE161,DataByMiles!$AT$5:$AU$6,2,FALSE)","v":0},{"$f":"DataByMiles!H161*VLOOKUP(DataByMiles!AE161,DataByMiles!$AT$5:$AU$6,2,FALSE)","v":0},null,null,{"$f":"Q163*$T$2*VLOOKUP(DataByMiles!AE161,DataByMiles!$AT$5:$AU$6,2,FALSE)","v":0},{"$f":"DataByMiles!I161*VLOOKUP(DataByMiles!AE161,DataByMiles!$AT$5:$AU$6,2,FALSE)","v":0},null,null,{"$f":"U163*$X$2*VLOOKUP(DataByMiles!AE161,DataByMiles!$AT$5:$AU$6,2,FALSE)","v":0},{"$f":"DataByMiles!J161*VLOOKUP(DataByMiles!AE161,DataByMiles!$AT$5:$AU$6,2,FALSE)","v":0},{"$f":"DataByMiles!K161","v":0},{"$f":"DataByMiles!L161","v":0},null,null,{"$f":"(Y163/IF(Z163=0,$AD$1,Z163)*$AD$2)/IF(AA163=0,1,AA163)*VLOOKUP(DataByMiles!AE161,DataByMiles!$AT$5:$AU$6,2,FALSE)","v":0},"",0,0,{"$f":"(AF163+AG163)*VLOOKUP(DataByMiles!AE161,DataByMiles!$AT$5:$AU$6,2,FALSE)","v":0},0]
[null,{"$f":"DataByMiles!C162","v":"----158"},{"$f":"DataByMiles!E162*VLOOKUP(DataByMiles!AE162,DataByMiles!$AT$5:$AU$6,2,FALSE)","v":0},null,null,0,{"$f":"C164*$G$2*VLOOKUP(DataByMiles!AE162,DataByMiles!$AT$5:$AU$6,2,FALSE)","v":0},{"$f":"DataByMiles!F162*VLOOKUP(DataByMiles!AE162,DataByMiles!$AT$5:$AU$6,2,FALSE)","v":0},null,null,0,{"$f":"H164*$L$2*VLOOKUP(DataByMiles!AE162,DataByMiles!$AT$5:$AU$6,2,FALSE)","v":0},{"$f":"DataByMiles!G162*VLOOKUP(DataByMiles!AE162,DataByMiles!$AT$5:$AU$6,2,FALSE)","v":0},null,null,{"$f":"M164*$P$2*VLOOKUP(DataByMiles!AE162,DataByMiles!$AT$5:$AU$6,2,FALSE)","v":0},{"$f":"DataByMiles!H162*VLOOKUP(DataByMiles!AE162,DataByMiles!$AT$5:$AU$6,2,FALSE)","v":0},null,null,{"$f":"Q164*$T$2*VLOOKUP(DataByMiles!AE162,DataByMiles!$AT$5:$AU$6,2,FALSE)","v":0},{"$f":"DataByMiles!I162*VLOOKUP(DataByMiles!AE162,DataByMiles!$AT$5:$AU$6,2,FALSE)","v":0},null,null,{"$f":"U164*$X$2*VLOOKUP(DataByMiles!AE162,DataByMiles!$AT$5:$AU$6,2,FALSE)","v":0},{"$f":"DataByMiles!J162*VLOOKUP(DataByMiles!AE162,DataByMiles!$AT$5:$AU$6,2,FALSE)","v":0},{"$f":"DataByMiles!K162","v":0},{"$f":"DataByMiles!L162","v":0},null,null,{"$f":"(Y164/IF(Z164=0,$AD$1,Z164)*$AD$2)/IF(AA164=0,1,AA164)*VLOOKUP(DataByMiles!AE162,DataByMiles!$AT$5:$AU$6,2,FALSE)","v":0},"",0,0,{"$f":"(AF164+AG164)*VLOOKUP(DataByMiles!AE162,DataByMiles!$AT$5:$AU$6,2,FALSE)","v":0},0]
[null,{"$f":"DataByMiles!C163","v":"----159"},{"$f":"DataByMiles!E163*VLOOKUP(DataByMiles!AE163,DataByMiles!$AT$5:$AU$6,2,FALSE)","v":0},null,null,0,{"$f":"C165*$G$2*VLOOKUP(DataByMiles!AE163,DataByMiles!$AT$5:$AU$6,2,FALSE)","v":0},{"$f":"DataByMiles!F163*VLOOKUP(DataByMiles!AE163,DataByMiles!$AT$5:$AU$6,2,FALSE)","v":0},null,null,0,{"$f":"H165*$L$2*VLOOKUP(DataByMiles!AE163,DataByMiles!$AT$5:$AU$6,2,FALSE)","v":0},{"$f":"DataByMiles!G163*VLOOKUP(DataByMiles!AE163,DataByMiles!$AT$5:$AU$6,2,FALSE)","v":0},null,null,{"$f":"M165*$P$2*VLOOKUP(DataByMiles!AE163,DataByMiles!$AT$5:$AU$6,2,FALSE)","v":0},{"$f":"DataByMiles!H163*VLOOKUP(DataByMiles!AE163,DataByMiles!$AT$5:$AU$6,2,FALSE)","v":0},null,null,{"$f":"Q165*$T$2*VLOOKUP(DataByMiles!AE163,DataByMiles!$AT$5:$AU$6,2,FALSE)","v":0},{"$f":"DataByMiles!I163*VLOOKUP(DataByMiles!AE163,DataByMiles!$AT$5:$AU$6,2,FALSE)","v":0},null,null,{"$f":"U165*$X$2*VLOOKUP(DataByMiles!AE163,DataByMiles!$AT$5:$AU$6,2,FALSE)","v":0},{"$f":"DataByMiles!J163*VLOOKUP(DataByMiles!AE163,DataByMiles!$AT$5:$AU$6,2,FALSE)","v":0},{"$f":"DataByMiles!K163","v":0},{"$f":"DataByMiles!L163","v":0},null,null,{"$f":"(Y165/IF(Z165=0,$AD$1,Z165)*$AD$2)/IF(AA165=0,1,AA165)*VLOOKUP(DataByMiles!AE163,DataByMiles!$AT$5:$AU$6,2,FALSE)","v":0},"",0,0,{"$f":"(AF165+AG165)*VLOOKUP(DataByMiles!AE163,DataByMiles!$AT$5:$AU$6,2,FALSE)","v":0},0]
[null,{"$f":"DataByMiles!C164","v":"----160"},{"$f":"DataByMiles!E164*VLOOKUP(DataByMiles!AE164,DataByMiles!$AT$5:$AU$6,2,FALSE)","v":0},null,null,0,{"$f":"C166*$G$2*VLOOKUP(DataByMiles!AE164,DataByMiles!$AT$5:$AU$6,2,FALSE)","v":0},{"$f":"DataByMiles!F164*VLOOKUP(DataByMiles!AE164,DataByMiles!$AT$5:$AU$6,2,FALSE)","v":0},null,null,0,{"$f":"H166*$L$2*VLOOKUP(DataByMiles!AE164,DataByMiles!$AT$5:$AU$6,2,FALSE)","v":0},{"$f":"DataByMiles!G164*VLOOKUP(DataByMiles!AE164,DataByMiles!$AT$5:$AU$6,2,FALSE)","v":0},null,null,{"$f":"M166*$P$2*VLOOKUP(DataByMiles!AE164,DataByMiles!$AT$5:$AU$6,2,FALSE)","v":0},{"$f":"DataByMiles!H164*VLOOKUP(DataByMiles!AE164,DataByMiles!$AT$5:$AU$6,2,FALSE)","v":0},null,null,{"$f":"Q166*$T$2*VLOOKUP(DataByMiles!AE164,DataByMiles!$AT$5:$AU$6,2,FALSE)","v":0},{"$f":"DataByMiles!I164*VLOOKUP(DataByMiles!AE164,DataByMiles!$AT$5:$AU$6,2,FALSE)","v":0},null,null,{"$f":"U166*$X$2*VLOOKUP(DataByMiles!AE164,DataByMiles!$AT$5:$AU$6,2,FALSE)","v":0},{"$f":"DataByMiles!J164*VLOOKUP(DataByMiles!AE164,DataByMiles!$AT$5:$AU$6,2,FALSE)","v":0},{"$f":"DataByMiles!K164","v":0},{"$f":"DataByMiles!L164","v":0},null,null,{"$f":"(Y166/IF(Z166=0,$AD$1,Z166)*$AD$2)/IF(AA166=0,1,AA166)*VLOOKUP(DataByMiles!AE164,DataByMiles!$AT$5:$AU$6,2,FALSE)","v":0},"",0,0,{"$f":"(AF166+AG166)*VLOOKUP(DataByMiles!AE164,DataByMiles!$AT$5:$AU$6,2,FALSE)","v":0},0]
[null,{"$f":"DataByMiles!C165","v":"----161"},{"$f":"DataByMiles!E165*VLOOKUP(DataByMiles!AE165,DataByMiles!$AT$5:$AU$6,2,FALSE)","v":0},null,null,0,{"$f":"C167*$G$2*VLOOKUP(DataByMiles!AE165,DataByMiles!$AT$5:$AU$6,2,FALSE)","v":0},{"$f":"DataByMiles!F165*VLOOKUP(DataByMiles!AE165,DataByMiles!$AT$5:$AU$6,2,FALSE)","v":0},null,null,0,{"$f":"H167*$L$2*VLOOKUP(DataByMiles!AE165,DataByMiles!$AT$5:$AU$6,2,FALSE)","v":0},{"$f":"DataByMiles!G165*VLOOKUP(DataByMiles!AE165,DataByMiles!$AT$5:$AU$6,2,FALSE)","v":0},null,null,{"$f":"M167*$P$2*VLOOKUP(DataByMiles!AE165,DataByMiles!$AT$5:$AU$6,2,FALSE)","v":0},{"$f":"DataByMiles!H165*VLOOKUP(DataByMiles!AE165,DataByMiles!$AT$5:$AU$6,2,FALSE)","v":0},null,null,{"$f":"Q167*$T$2*VLOOKUP(DataByMiles!AE165,DataByMiles!$AT$5:$AU$6,2,FALSE)","v":0},{"$f":"DataByMiles!I165*VLOOKUP(DataByMiles!AE165,DataByMiles!$AT$5:$AU$6,2,FALSE)","v":0},null,null,{"$f":"U167*$X$2*VLOOKUP(DataByMiles!AE165,DataByMiles!$AT$5:$AU$6,2,FALSE)","v":0},{"$f":"DataByMiles!J165*VLOOKUP(DataByMiles!AE165,DataByMiles!$AT$5:$AU$6,2,FALSE)","v":0},{"$f":"DataByMiles!K165","v":0},{"$f":"DataByMiles!L165","v":0},null,null,{"$f":"(Y167/IF(Z167=0,$AD$1,Z167)*$AD$2)/IF(AA167=0,1,AA167)*VLOOKUP(DataByMiles!AE165,DataByMiles!$AT$5:$AU$6,2,FALSE)","v":0},"",0,0,{"$f":"(AF167+AG167)*VLOOKUP(DataByMiles!AE165,DataByMiles!$AT$5:$AU$6,2,FALSE)","v":0},0]
[null,{"$f":"DataByMiles!C166","v":"----162"},{"$f":"DataByMiles!E166*VLOOKUP(DataByMiles!AE166,DataByMiles!$AT$5:$AU$6,2,FALSE)","v":0},null,null,0,{"$f":"C168*$G$2*VLOOKUP(DataByMiles!AE166,DataByMiles!$AT$5:$AU$6,2,FALSE)","v":0},{"$f":"DataByMiles!F166*VLOOKUP(DataByMiles!AE166,DataByMiles!$AT$5:$AU$6,2,FALSE)","v":0},null,null,0,{"$f":"H168*$L$2*VLOOKUP(DataByMiles!AE166,DataByMiles!$AT$5:$AU$6,2,FALSE)","v":0},{"$f":"DataByMiles!G166*VLOOKUP(DataByMiles!AE166,DataByMiles!$AT$5:$AU$6,2,FALSE)","v":0},null,null,{"$f":"M168*$P$2*VLOOKUP(DataByMiles!AE166,DataByMiles!$AT$5:$AU$6,2,FALSE)","v":0},{"$f":"DataByMiles!H166*VLOOKUP(DataByMiles!AE166,DataByMiles!$AT$5:$AU$6,2,FALSE)","v":0},null,null,{"$f":"Q168*$T$2*VLOOKUP(DataByMiles!AE166,DataByMiles!$AT$5:$AU$6,2,FALSE)","v":0},{"$f":"DataByMiles!I166*VLOOKUP(DataByMiles!AE166,DataByMiles!$AT$5:$AU$6,2,FALSE)","v":0},null,null,{"$f":"U168*$X$2*VLOOKUP(DataByMiles!AE166,DataByMiles!$AT$5:$AU$6,2,FALSE)","v":0},{"$f":"DataByMiles!J166*VLOOKUP(DataByMiles!AE166,DataByMiles!$AT$5:$AU$6,2,FALSE)","v":0},{"$f":"DataByMiles!K166","v":0},{"$f":"DataByMiles!L166","v":0},null,null,{"$f":"(Y168/IF(Z168=0,$AD$1,Z168)*$AD$2)/IF(AA168=0,1,AA168)*VLOOKUP(DataByMiles!AE166,DataByMiles!$AT$5:$AU$6,2,FALSE)","v":0},"",0,0,{"$f":"(AF168+AG168)*VLOOKUP(DataByMiles!AE166,DataByMiles!$AT$5:$AU$6,2,FALSE)","v":0},0]
[null,{"$f":"DataByMiles!C167","v":"----163"},{"$f":"DataByMiles!E167*VLOOKUP(DataByMiles!AE167,DataByMiles!$AT$5:$AU$6,2,FALSE)","v":0},null,null,0,{"$f":"C169*$G$2*VLOOKUP(DataByMiles!AE167,DataByMiles!$AT$5:$AU$6,2,FALSE)","v":0},{"$f":"DataByMiles!F167*VLOOKUP(DataByMiles!AE167,DataByMiles!$AT$5:$AU$6,2,FALSE)","v":0},null,null,0,{"$f":"H169*$L$2*VLOOKUP(DataByMiles!AE167,DataByMiles!$AT$5:$AU$6,2,FALSE)","v":0},{"$f":"DataByMiles!G167*VLOOKUP(DataByMiles!AE167,DataByMiles!$AT$5:$AU$6,2,FALSE)","v":0},null,null,{"$f":"M169*$P$2*VLOOKUP(DataByMiles!AE167,DataByMiles!$AT$5:$AU$6,2,FALSE)","v":0},{"$f":"DataByMiles!H167*VLOOKUP(DataByMiles!AE167,DataByMiles!$AT$5:$AU$6,2,FALSE)","v":0},null,null,{"$f":"Q169*$T$2*VLOOKUP(DataByMiles!AE167,DataByMiles!$AT$5:$AU$6,2,FALSE)","v":0},{"$f":"DataByMiles!I167*VLOOKUP(DataByMiles!AE167,DataByMiles!$AT$5:$AU$6,2,FALSE)","v":0},null,null,{"$f":"U169*$X$2*VLOOKUP(DataByMiles!AE167,DataByMiles!$AT$5:$AU$6,2,FALSE)","v":0},{"$f":"DataByMiles!J167*VLOOKUP(DataByMiles!AE167,DataByMiles!$AT$5:$AU$6,2,FALSE)","v":0},{"$f":"DataByMiles!K167","v":0},{"$f":"DataByMiles!L167","v":0},null,null,{"$f":"(Y169/IF(Z169=0,$AD$1,Z169)*$AD$2)/IF(AA169=0,1,AA169)*VLOOKUP(DataByMiles!AE167,DataByMiles!$AT$5:$AU$6,2,FALSE)","v":0},"",0,0,{"$f":"(AF169+AG169)*VLOOKUP(DataByMiles!AE167,DataByMiles!$AT$5:$AU$6,2,FALSE)","v":0},0]
[null,{"$f":"DataByMiles!C168","v":"----164"},{"$f":"DataByMiles!E168*VLOOKUP(DataByMiles!AE168,DataByMiles!$AT$5:$AU$6,2,FALSE)","v":0},null,null,0,{"$f":"C170*$G$2*VLOOKUP(DataByMiles!AE168,DataByMiles!$AT$5:$AU$6,2,FALSE)","v":0},{"$f":"DataByMiles!F168*VLOOKUP(DataByMiles!AE168,DataByMiles!$AT$5:$AU$6,2,FALSE)","v":0},null,null,0,{"$f":"H170*$L$2*VLOOKUP(DataByMiles!AE168,DataByMiles!$AT$5:$AU$6,2,FALSE)","v":0},{"$f":"DataByMiles!G168*VLOOKUP(DataByMiles!AE168,DataByMiles!$AT$5:$AU$6,2,FALSE)","v":0},null,null,{"$f":"M170*$P$2*VLOOKUP(DataByMiles!AE168,DataByMiles!$AT$5:$AU$6,2,FALSE)","v":0},{"$f":"DataByMiles!H168*VLOOKUP(DataByMiles!AE168,DataByMiles!$AT$5:$AU$6,2,FALSE)","v":0},null,null,{"$f":"Q170*$T$2*VLOOKUP(DataByMiles!AE168,DataByMiles!$AT$5:$AU$6,2,FALSE)","v":0},{"$f":"DataByMiles!I168*VLOOKUP(DataByMiles!AE168,DataByMiles!$AT$5:$AU$6,2,FALSE)","v":0},null,null,{"$f":"U170*$X$2*VLOOKUP(DataByMiles!AE168,DataByMiles!$AT$5:$AU$6,2,FALSE)","v":0},{"$f":"DataByMiles!J168*VLOOKUP(DataByMiles!AE168,DataByMiles!$AT$5:$AU$6,2,FALSE)","v":0},{"$f":"DataByMiles!K168","v":0},{"$f":"DataByMiles!L168","v":0},null,null,{"$f":"(Y170/IF(Z170=0,$AD$1,Z170)*$AD$2)/IF(AA170=0,1,AA170)*VLOOKUP(DataByMiles!AE168,DataByMiles!$AT$5:$AU$6,2,FALSE)","v":0},"",0,0,{"$f":"(AF170+AG170)*VLOOKUP(DataByMiles!AE168,DataByMiles!$AT$5:$AU$6,2,FALSE)","v":0},0]
[null,{"$f":"DataByMiles!C169","v":"----165"},{"$f":"DataByMiles!E169*VLOOKUP(DataByMiles!AE169,DataByMiles!$AT$5:$AU$6,2,FALSE)","v":0},null,null,0,{"$f":"C171*$G$2*VLOOKUP(DataByMiles!AE169,DataByMiles!$AT$5:$AU$6,2,FALSE)","v":0},{"$f":"DataByMiles!F169*VLOOKUP(DataByMiles!AE169,DataByMiles!$AT$5:$AU$6,2,FALSE)","v":0},null,null,0,{"$f":"H171*$L$2*VLOOKUP(DataByMiles!AE169,DataByMiles!$AT$5:$AU$6,2,FALSE)","v":0},{"$f":"DataByMiles!G169*VLOOKUP(DataByMiles!AE169,DataByMiles!$AT$5:$AU$6,2,FALSE)","v":0},null,null,{"$f":"M171*$P$2*VLOOKUP(DataByMiles!AE169,DataByMiles!$AT$5:$AU$6,2,FALSE)","v":0},{"$f":"DataByMiles!H169*VLOOKUP(DataByMiles!AE169,DataByMiles!$AT$5:$AU$6,2,FALSE)","v":0},null,null,{"$f":"Q171*$T$2*VLOOKUP(DataByMiles!AE169,DataByMiles!$AT$5:$AU$6,2,FALSE)","v":0},{"$f":"DataByMiles!I169*VLOOKUP(DataByMiles!AE169,DataByMiles!$AT$5:$AU$6,2,FALSE)","v":0},null,null,{"$f":"U171*$X$2*VLOOKUP(DataByMiles!AE169,DataByMiles!$AT$5:$AU$6,2,FALSE)","v":0},{"$f":"DataByMiles!J169*VLOOKUP(DataByMiles!AE169,DataByMiles!$AT$5:$AU$6,2,FALSE)","v":0},{"$f":"DataByMiles!K169","v":0},{"$f":"DataByMiles!L169","v":0},null,null,{"$f":"(Y171/IF(Z171=0,$AD$1,Z171)*$AD$2)/IF(AA171=0,1,AA171)*VLOOKUP(DataByMiles!AE169,DataByMiles!$AT$5:$AU$6,2,FALSE)","v":0},"",0,0,{"$f":"(AF171+AG171)*VLOOKUP(DataByMiles!AE169,DataByMiles!$AT$5:$AU$6,2,FALSE)","v":0},0]
[null,{"$f":"DataByMiles!C170","v":"----166"},{"$f":"DataByMiles!E170*VLOOKUP(DataByMiles!AE170,DataByMiles!$AT$5:$AU$6,2,FALSE)","v":0},null,null,0,{"$f":"C172*$G$2*VLOOKUP(DataByMiles!AE170,DataByMiles!$AT$5:$AU$6,2,FALSE)","v":0},{"$f":"DataByMiles!F170*VLOOKUP(DataByMiles!AE170,DataByMiles!$AT$5:$AU$6,2,FALSE)","v":0},null,null,0,{"$f":"H172*$L$2*VLOOKUP(DataByMiles!AE170,DataByMiles!$AT$5:$AU$6,2,FALSE)","v":0},{"$f":"DataByMiles!G170*VLOOKUP(DataByMiles!AE170,DataByMiles!$AT$5:$AU$6,2,FALSE)","v":0},null,null,{"$f":"M172*$P$2*VLOOKUP(DataByMiles!AE170,DataByMiles!$AT$5:$AU$6,2,FALSE)","v":0},{"$f":"DataByMiles!H170*VLOOKUP(DataByMiles!AE170,DataByMiles!$AT$5:$AU$6,2,FALSE)","v":0},null,null,{"$f":"Q172*$T$2*VLOOKUP(DataByMiles!AE170,DataByMiles!$AT$5:$AU$6,2,FALSE)","v":0},{"$f":"DataByMiles!I170*VLOOKUP(DataByMiles!AE170,DataByMiles!$AT$5:$AU$6,2,FALSE)","v":0},null,null,{"$f":"U172*$X$2*VLOOKUP(DataByMiles!AE170,DataByMiles!$AT$5:$AU$6,2,FALSE)","v":0},{"$f":"DataByMiles!J170*VLOOKUP(DataByMiles!AE170,DataByMiles!$AT$5:$AU$6,2,FALSE)","v":0},{"$f":"DataByMiles!K170","v":0},{"$f":"DataByMiles!L170","v":0},null,null,{"$f":"(Y172/IF(Z172=0,$AD$1,Z172)*$AD$2)/IF(AA172=0,1,AA172)*VLOOKUP(DataByMiles!AE170,DataByMiles!$AT$5:$AU$6,2,FALSE)","v":0},"",0,0,{"$f":"(AF172+AG172)*VLOOKUP(DataByMiles!AE170,DataByMiles!$AT$5:$AU$6,2,FALSE)","v":0},0]
[null,{"$f":"DataByMiles!C171","v":"----167"},{"$f":"DataByMiles!E171*VLOOKUP(DataByMiles!AE171,DataByMiles!$AT$5:$AU$6,2,FALSE)","v":0},null,null,0,{"$f":"C173*$G$2*VLOOKUP(DataByMiles!AE171,DataByMiles!$AT$5:$AU$6,2,FALSE)","v":0},{"$f":"DataByMiles!F171*VLOOKUP(DataByMiles!AE171,DataByMiles!$AT$5:$AU$6,2,FALSE)","v":0},null,null,0,{"$f":"H173*$L$2*VLOOKUP(DataByMiles!AE171,DataByMiles!$AT$5:$AU$6,2,FALSE)","v":0},{"$f":"DataByMiles!G171*VLOOKUP(DataByMiles!AE171,DataByMiles!$AT$5:$AU$6,2,FALSE)","v":0},null,null,{"$f":"M173*$P$2*VLOOKUP(DataByMiles!AE171,DataByMiles!$AT$5:$AU$6,2,FALSE)","v":0},{"$f":"DataByMiles!H171*VLOOKUP(DataByMiles!AE171,DataByMiles!$AT$5:$AU$6,2,FALSE)","v":0},null,null,{"$f":"Q173*$T$2*VLOOKUP(DataByMiles!AE171,DataByMiles!$AT$5:$AU$6,2,FALSE)","v":0},{"$f":"DataByMiles!I171*VLOOKUP(DataByMiles!AE171,DataByMiles!$AT$5:$AU$6,2,FALSE)","v":0},null,null,{"$f":"U173*$X$2*VLOOKUP(DataByMiles!AE171,DataByMiles!$AT$5:$AU$6,2,FALSE)","v":0},{"$f":"DataByMiles!J171*VLOOKUP(DataByMiles!AE171,DataByMiles!$AT$5:$AU$6,2,FALSE)","v":0},{"$f":"DataByMiles!K171","v":0},{"$f":"DataByMiles!L171","v":0},null,null,{"$f":"(Y173/IF(Z173=0,$AD$1,Z173)*$AD$2)/IF(AA173=0,1,AA173)*VLOOKUP(DataByMiles!AE171,DataByMiles!$AT$5:$AU$6,2,FALSE)","v":0},"",0,0,{"$f":"(AF173+AG173)*VLOOKUP(DataByMiles!AE171,DataByMiles!$AT$5:$AU$6,2,FALSE)","v":0},0]
[null,{"$f":"DataByMiles!C172","v":"----168"},{"$f":"DataByMiles!E172*VLOOKUP(DataByMiles!AE172,DataByMiles!$AT$5:$AU$6,2,FALSE)","v":0},null,null,{"$f":"C174*$F$2","v":0},{"$f":"C174*$G$2*VLOOKUP(DataByMiles!AE172,DataByMiles!$AT$5:$AU$6,2,FALSE)","v":0},{"$f":"DataByMiles!F172*VLOOKUP(DataByMiles!AE172,DataByMiles!$AT$5:$AU$6,2,FALSE)","v":0},null,null,{"$f":"H174*$K$2","v":0},{"$f":"H174*$L$2*VLOOKUP(DataByMiles!AE172,DataByMiles!$AT$5:$AU$6,2,FALSE)","v":0},{"$f":"DataByMiles!G172*VLOOKUP(DataByMiles!AE172,DataByMiles!$AT$5:$AU$6,2,FALSE)","v":0},null,null,{"$f":"M174*$P$2*VLOOKUP(DataByMiles!AE172,DataByMiles!$AT$5:$AU$6,2,FALSE)","v":0},{"$f":"DataByMiles!H172*VLOOKUP(DataByMiles!AE172,DataByMiles!$AT$5:$AU$6,2,FALSE)","v":0},null,null,{"$f":"Q174*$T$2*VLOOKUP(DataByMiles!AE172,DataByMiles!$AT$5:$AU$6,2,FALSE)","v":0},{"$f":"DataByMiles!I172*VLOOKUP(DataByMiles!AE172,DataByMiles!$AT$5:$AU$6,2,FALSE)","v":0},null,null,{"$f":"U174*$X$2*VLOOKUP(DataByMiles!AE172,DataByMiles!$AT$5:$AU$6,2,FALSE)","v":0},{"$f":"DataByMiles!J172*VLOOKUP(DataByMiles!AE172,DataByMiles!$AT$5:$AU$6,2,FALSE)","v":0},{"$f":"DataByMiles!K172","v":0},{"$f":"DataByMiles!L172","v":0},null,null,{"$f":"(Y174/IF(Z174=0,$AD$1,Z174)*$AD$2)/IF(AA174=0,1,AA174)*VLOOKUP(DataByMiles!AE172,DataByMiles!$AT$5:$AU$6,2,FALSE)","v":0},{"$f":"IF(C174+H174+M174+Q174+U174+Y174>0,C174+H174+M174+Q174+U174+Y174,\"\")","v":""},{"$f":"F174+K174+P174+T174+X174+AD174","v":0},{"$f":"G174+L174","v":0},{"$f":"(AF174+AG174)*VLOOKUP(DataByMiles!AE172,DataByMiles!$AT$5:$AU$6,2,FALSE)","v":0},{"$f":"IFERROR(AH174/AE174,0)","v":0}]
[null,{"$f":"DataByMiles!C173","v":"----169"},{"$f":"DataByMiles!E173*VLOOKUP(DataByMiles!AE173,DataByMiles!$AT$5:$AU$6,2,FALSE)","v":0},null,null,0,{"$f":"C175*$G$2*VLOOKUP(DataByMiles!AE173,DataByMiles!$AT$5:$AU$6,2,FALSE)","v":0},{"$f":"DataByMiles!F173*VLOOKUP(DataByMiles!AE173,DataByMiles!$AT$5:$AU$6,2,FALSE)","v":0},null,null,0,{"$f":"H175*$L$2*VLOOKUP(DataByMiles!AE173,DataByMiles!$AT$5:$AU$6,2,FALSE)","v":0},{"$f":"DataByMiles!G173*VLOOKUP(DataByMiles!AE173,DataByMiles!$AT$5:$AU$6,2,FALSE)","v":0},null,null,{"$f":"M175*$P$2*VLOOKUP(DataByMiles!AE173,DataByMiles!$AT$5:$AU$6,2,FALSE)","v":0},{"$f":"DataByMiles!H173*VLOOKUP(DataByMiles!AE173,DataByMiles!$AT$5:$AU$6,2,FALSE)","v":0},null,null,{"$f":"Q175*$T$2*VLOOKUP(DataByMiles!AE173,DataByMiles!$AT$5:$AU$6,2,FALSE)","v":0},{"$f":"DataByMiles!I173*VLOOKUP(DataByMiles!AE173,DataByMiles!$AT$5:$AU$6,2,FALSE)","v":0},null,null,{"$f":"U175*$X$2*VLOOKUP(DataByMiles!AE173,DataByMiles!$AT$5:$AU$6,2,FALSE)","v":0},{"$f":"DataByMiles!J173*VLOOKUP(DataByMiles!AE173,DataByMiles!$AT$5:$AU$6,2,FALSE)","v":0},{"$f":"DataByMiles!K173","v":0},{"$f":"DataByMiles!L173","v":0},null,null,{"$f":"(Y175/IF(Z175=0,$AD$1,Z175)*$AD$2)/IF(AA175=0,1,AA175)*VLOOKUP(DataByMiles!AE173,DataByMiles!$AT$5:$AU$6,2,FALSE)","v":0},"",0,0,{"$f":"(AF175+AG175)*VLOOKUP(DataByMiles!AE173,DataByMiles!$AT$5:$AU$6,2,FALSE)","v":0},0]
[null,{"$f":"DataByMiles!C174","v":"----170"},{"$f":"DataByMiles!E174*VLOOKUP(DataByMiles!AE174,DataByMiles!$AT$5:$AU$6,2,FALSE)","v":0},null,null,0,{"$f":"C176*$G$2*VLOOKUP(DataByMiles!AE174,DataByMiles!$AT$5:$AU$6,2,FALSE)","v":0},{"$f":"DataByMiles!F174*VLOOKUP(DataByMiles!AE174,DataByMiles!$AT$5:$AU$6,2,FALSE)","v":0},null,null,0,{"$f":"H176*$L$2*VLOOKUP(DataByMiles!AE174,DataByMiles!$AT$5:$AU$6,2,FALSE)","v":0},{"$f":"DataByMiles!G174*VLOOKUP(DataByMiles!AE174,DataByMiles!$AT$5:$AU$6,2,FALSE)","v":0},null,null,{"$f":"M176*$P$2*VLOOKUP(DataByMiles!AE174,DataByMiles!$AT$5:$AU$6,2,FALSE)","v":0},{"$f":"DataByMiles!H174*VLOOKUP(DataByMiles!AE174,DataByMiles!$AT$5:$AU$6,2,FALSE)","v":0},null,null,{"$f":"Q176*$T$2*VLOOKUP(DataByMiles!AE174,DataByMiles!$AT$5:$AU$6,2,FALSE)","v":0},{"$f":"DataByMiles!I174*VLOOKUP(DataByMiles!AE174,DataByMiles!$AT$5:$AU$6,2,FALSE)","v":0},null,null,{"$f":"U176*$X$2*VLOOKUP(DataByMiles!AE174,DataByMiles!$AT$5:$AU$6,2,FALSE)","v":0},{"$f":"DataByMiles!J174*VLOOKUP(DataByMiles!AE174,DataByMiles!$AT$5:$AU$6,2,FALSE)","v":0},{"$f":"DataByMiles!K174","v":0},{"$f":"DataByMiles!L174","v":0},null,null,{"$f":"(Y176/IF(Z176=0,$AD$1,Z176)*$AD$2)/IF(AA176=0,1,AA176)*VLOOKUP(DataByMiles!AE174,DataByMiles!$AT$5:$AU$6,2,FALSE)","v":0},"",0,0,{"$f":"(AF176+AG176)*VLOOKUP(DataByMiles!AE174,DataByMiles!$AT$5:$AU$6,2,FALSE)","v":0},0]
[null,{"$f":"DataByMiles!C175","v":"----171"},{"$f":"DataByMiles!E175*VLOOKUP(DataByMiles!AE175,DataByMiles!$AT$5:$AU$6,2,FALSE)","v":0},null,null,0,{"$f":"C177*$G$2*VLOOKUP(DataByMiles!AE175,DataByMiles!$AT$5:$AU$6,2,FALSE)","v":0},{"$f":"DataByMiles!F175*VLOOKUP(DataByMiles!AE175,DataByMiles!$AT$5:$AU$6,2,FALSE)","v":0},null,null,0,{"$f":"H177*$L$2*VLOOKUP(DataByMiles!AE175,DataByMiles!$AT$5:$AU$6,2,FALSE)","v":0},{"$f":"DataByMiles!G175*VLOOKUP(DataByMiles!AE175,DataByMiles!$AT$5:$AU$6,2,FALSE)","v":0},null,null,{"$f":"M177*$P$2*VLOOKUP(DataByMiles!AE175,DataByMiles!$AT$5:$AU$6,2,FALSE)","v":0},{"$f":"DataByMiles!H175*VLOOKUP(DataByMiles!AE175,DataByMiles!$AT$5:$AU$6,2,FALSE)","v":0},null,null,{"$f":"Q177*$T$2*VLOOKUP(DataByMiles!AE175,DataByMiles!$AT$5:$AU$6,2,FALSE)","v":0},{"$f":"DataByMiles!I175*VLOOKUP(DataByMiles!AE175,DataByMiles!$AT$5:$AU$6,2,FALSE)","v":0},null,null,{"$f":"U177*$X$2*VLOOKUP(DataByMiles!AE175,DataByMiles!$AT$5:$AU$6,2,FALSE)","v":0},{"$f":"DataByMiles!J175*VLOOKUP(DataByMiles!AE175,DataByMiles!$AT$5:$AU$6,2,FALSE)","v":0},{"$f":"DataByMiles!K175","v":0},{"$f":"DataByMiles!L175","v":0},null,null,{"$f":"(Y177/IF(Z177=0,$AD$1,Z177)*$AD$2)/IF(AA177=0,1,AA177)*VLOOKUP(DataByMiles!AE175,DataByMiles!$AT$5:$AU$6,2,FALSE)","v":0},"",0,0,{"$f":"(AF177+AG177)*VLOOKUP(DataByMiles!AE175,DataByMiles!$AT$5:$AU$6,2,FALSE)","v":0},0]
[null,{"$f":"DataByMiles!C176","v":"----172"},{"$f":"DataByMiles!E176*VLOOKUP(DataByMiles!AE176,DataByMiles!$AT$5:$AU$6,2,FALSE)","v":0},null,null,0,{"$f":"C178*$G$2*VLOOKUP(DataByMiles!AE176,DataByMiles!$AT$5:$AU$6,2,FALSE)","v":0},{"$f":"DataByMiles!F176*VLOOKUP(DataByMiles!AE176,DataByMiles!$AT$5:$AU$6,2,FALSE)","v":0},null,null,0,{"$f":"H178*$L$2*VLOOKUP(DataByMiles!AE176,DataByMiles!$AT$5:$AU$6,2,FALSE)","v":0},{"$f":"DataByMiles!G176*VLOOKUP(DataByMiles!AE176,DataByMiles!$AT$5:$AU$6,2,FALSE)","v":0},null,null,{"$f":"M178*$P$2*VLOOKUP(DataByMiles!AE176,DataByMiles!$AT$5:$AU$6,2,FALSE)","v":0},{"$f":"DataByMiles!H176*VLOOKUP(DataByMiles!AE176,DataByMiles!$AT$5:$AU$6,2,FALSE)","v":0},null,null,{"$f":"Q178*$T$2*VLOOKUP(DataByMiles!AE176,DataByMiles!$AT$5:$AU$6,2,FALSE)","v":0},{"$f":"DataByMiles!I176*VLOOKUP(DataByMiles!AE176,DataByMiles!$AT$5:$AU$6,2,FALSE)","v":0},null,null,{"$f":"U178*$X$2*VLOOKUP(DataByMiles!AE176,DataByMiles!$AT$5:$AU$6,2,FALSE)","v":0},{"$f":"DataByMiles!J176*VLOOKUP(DataByMiles!AE176,DataByMiles!$AT$5:$AU$6,2,FALSE)","v":0},{"$f":"DataByMiles!K176","v":0},{"$f":"DataByMiles!L176","v":0},null,null,{"$f":"(Y178/IF(Z178=0,$AD$1,Z178)*$AD$2)/IF(AA178=0,1,AA178)*VLOOKUP(DataByMiles!AE176,DataByMiles!$AT$5:$AU$6,2,FALSE)","v":0},"",0,0,{"$f":"(AF178+AG178)*VLOOKUP(DataByMiles!AE176,DataByMiles!$AT$5:$AU$6,2,FALSE)","v":0},0]
[null,{"$f":"DataByMiles!C177","v":"----173"},{"$f":"DataByMiles!E177*VLOOKUP(DataByMiles!AE177,DataByMiles!$AT$5:$AU$6,2,FALSE)","v":0},null,null,0,{"$f":"C179*$G$2*VLOOKUP(DataByMiles!AE177,DataByMiles!$AT$5:$AU$6,2,FALSE)","v":0},{"$f":"DataByMiles!F177*VLOOKUP(DataByMiles!AE177,DataByMiles!$AT$5:$AU$6,2,FALSE)","v":0},null,null,0,{"$f":"H179*$L$2*VLOOKUP(DataByMiles!AE177,DataByMiles!$AT$5:$AU$6,2,FALSE)","v":0},{"$f":"DataByMiles!G177*VLOOKUP(DataByMiles!AE177,DataByMiles!$AT$5:$AU$6,2,FALSE)","v":0},null,null,{"$f":"M179*$P$2*VLOOKUP(DataByMiles!AE177,DataByMiles!$AT$5:$AU$6,2,FALSE)","v":0},{"$f":"DataByMiles!H177*VLOOKUP(DataByMiles!AE177,DataByMiles!$AT$5:$AU$6,2,FALSE)","v":0},null,null,{"$f":"Q179*$T$2*VLOOKUP(DataByMiles!AE177,DataByMiles!$AT$5:$AU$6,2,FALSE)","v":0},{"$f":"DataByMiles!I177*VLOOKUP(DataByMiles!AE177,DataByMiles!$AT$5:$AU$6,2,FALSE)","v":0},null,null,{"$f":"U179*$X$2*VLOOKUP(DataByMiles!AE177,DataByMiles!$AT$5:$AU$6,2,FALSE)","v":0},{"$f":"DataByMiles!J177*VLOOKUP(DataByMiles!AE177,DataByMiles!$AT$5:$AU$6,2,FALSE)","v":0},{"$f":"DataByMiles!K177","v":0},{"$f":"DataByMiles!L177","v":0},null,null,{"$f":"(Y179/IF(Z179=0,$AD$1,Z179)*$AD$2)/IF(AA179=0,1,AA179)*VLOOKUP(DataByMiles!AE177,DataByMiles!$AT$5:$AU$6,2,FALSE)","v":0},"",0,0,{"$f":"(AF179+AG179)*VLOOKUP(DataByMiles!AE177,DataByMiles!$AT$5:$AU$6,2,FALSE)","v":0},0]
[null,{"$f":"DataByMiles!C178","v":"----174"},{"$f":"DataByMiles!E178*VLOOKUP(DataByMiles!AE178,DataByMiles!$AT$5:$AU$6,2,FALSE)","v":0},null,null,0,{"$f":"C180*$G$2*VLOOKUP(DataByMiles!AE178,DataByMiles!$AT$5:$AU$6,2,FALSE)","v":0},{"$f":"DataByMiles!F178*VLOOKUP(DataByMiles!AE178,DataByMiles!$AT$5:$AU$6,2,FALSE)","v":0},null,null,0,{"$f":"H180*$L$2*VLOOKUP(DataByMiles!AE178,DataByMiles!$AT$5:$AU$6,2,FALSE)","v":0},{"$f":"DataByMiles!G178*VLOOKUP(DataByMiles!AE178,DataByMiles!$AT$5:$AU$6,2,FALSE)","v":0},null,null,{"$f":"M180*$P$2*VLOOKUP(DataByMiles!AE178,DataByMiles!$AT$5:$AU$6,2,FALSE)","v":0},{"$f":"DataByMiles!H178*VLOOKUP(DataByMiles!AE178,DataByMiles!$AT$5:$AU$6,2,FALSE)","v":0},null,null,{"$f":"Q180*$T$2*VLOOKUP(DataByMiles!AE178,DataByMiles!$AT$5:$AU$6,2,FALSE)","v":0},{"$f":"DataByMiles!I178*VLOOKUP(DataByMiles!AE178,DataByMiles!$AT$5:$AU$6,2,FALSE)","v":0},null,null,{"$f":"U180*$X$2*VLOOKUP(DataByMiles!AE178,DataByMiles!$AT$5:$AU$6,2,FALSE)","v":0},{"$f":"DataByMiles!J178*VLOOKUP(DataByMiles!AE178,DataByMiles!$AT$5:$AU$6,2,FALSE)","v":0},{"$f":"DataByMiles!K178","v":0},{"$f":"DataByMiles!L178","v":0},null,null,{"$f":"(Y180/IF(Z180=0,$AD$1,Z180)*$AD$2)/IF(AA180=0,1,AA180)*VLOOKUP(DataByMiles!AE178,DataByMiles!$AT$5:$AU$6,2,FALSE)","v":0},"",0,0,{"$f":"(AF180+AG180)*VLOOKUP(DataByMiles!AE178,DataByMiles!$AT$5:$AU$6,2,FALSE)","v":0},0]
[null,{"$f":"DataByMiles!C179","v":"----175"},{"$f":"DataByMiles!E179*VLOOKUP(DataByMiles!AE179,DataByMiles!$AT$5:$AU$6,2,FALSE)","v":0},null,null,0,{"$f":"C181*$G$2*VLOOKUP(DataByMiles!AE179,DataByMiles!$AT$5:$AU$6,2,FALSE)","v":0},{"$f":"DataByMiles!F179*VLOOKUP(DataByMiles!AE179,DataByMiles!$AT$5:$AU$6,2,FALSE)","v":0},null,null,0,{"$f":"H181*$L$2*VLOOKUP(DataByMiles!AE179,DataByMiles!$AT$5:$AU$6,2,FALSE)","v":0},{"$f":"DataByMiles!G179*VLOOKUP(DataByMiles!AE179,DataByMiles!$AT$5:$AU$6,2,FALSE)","v":0},null,null,{"$f":"M181*$P$2*VLOOKUP(DataByMiles!AE179,DataByMiles!$AT$5:$AU$6,2,FALSE)","v":0},{"$f":"DataByMiles!H179*VLOOKUP(DataByMiles!AE179,DataByMiles!$AT$5:$AU$6,2,FALSE)","v":0},null,null,{"$f":"Q181*$T$2*VLOOKUP(DataByMiles!AE179,DataByMiles!$AT$5:$AU$6,2,FALSE)","v":0},{"$f":"DataByMiles!I179*VLOOKUP(DataByMiles!AE179,DataByMiles!$AT$5:$AU$6,2,FALSE)","v":0},null,null,{"$f":"U181*$X$2*VLOOKUP(DataByMiles!AE179,DataByMiles!$AT$5:$AU$6,2,FALSE)","v":0},{"$f":"DataByMiles!J179*VLOOKUP(DataByMiles!AE179,DataByMiles!$AT$5:$AU$6,2,FALSE)","v":0},{"$f":"DataByMiles!K179","v":0},{"$f":"DataByMiles!L179","v":0},null,null,{"$f":"(Y181/IF(Z181=0,$AD$1,Z181)*$AD$2)/IF(AA181=0,1,AA181)*VLOOKUP(DataByMiles!AE179,DataByMiles!$AT$5:$AU$6,2,FALSE)","v":0},"",0,0,{"$f":"(AF181+AG181)*VLOOKUP(DataByMiles!AE179,DataByMiles!$AT$5:$AU$6,2,FALSE)","v":0},0]
[null,{"$f":"DataByMiles!C180","v":"----176"},{"$f":"DataByMiles!E180*VLOOKUP(DataByMiles!AE180,DataByMiles!$AT$5:$AU$6,2,FALSE)","v":0},null,null,0,{"$f":"C182*$G$2*VLOOKUP(DataByMiles!AE180,DataByMiles!$AT$5:$AU$6,2,FALSE)","v":0},{"$f":"DataByMiles!F180*VLOOKUP(DataByMiles!AE180,DataByMiles!$AT$5:$AU$6,2,FALSE)","v":0},null,null,0,{"$f":"H182*$L$2*VLOOKUP(DataByMiles!AE180,DataByMiles!$AT$5:$AU$6,2,FALSE)","v":0},{"$f":"DataByMiles!G180*VLOOKUP(DataByMiles!AE180,DataByMiles!$AT$5:$AU$6,2,FALSE)","v":0},null,null,{"$f":"M182*$P$2*VLOOKUP(DataByMiles!AE180,DataByMiles!$AT$5:$AU$6,2,FALSE)","v":0},{"$f":"DataByMiles!H180*VLOOKUP(DataByMiles!AE180,DataByMiles!$AT$5:$AU$6,2,FALSE)","v":0},null,null,{"$f":"Q182*$T$2*VLOOKUP(DataByMiles!AE180,DataByMiles!$AT$5:$AU$6,2,FALSE)","v":0},{"$f":"DataByMiles!I180*VLOOKUP(DataByMiles!AE180,DataByMiles!$AT$5:$AU$6,2,FALSE)","v":0},null,null,{"$f":"U182*$X$2*VLOOKUP(DataByMiles!AE180,DataByMiles!$AT$5:$AU$6,2,FALSE)","v":0},{"$f":"DataByMiles!J180*VLOOKUP(DataByMiles!AE180,DataByMiles!$AT$5:$AU$6,2,FALSE)","v":0},{"$f":"DataByMiles!K180","v":0},{"$f":"DataByMiles!L180","v":0},null,null,{"$f":"(Y182/IF(Z182=0,$AD$1,Z182)*$AD$2)/IF(AA182=0,1,AA182)*VLOOKUP(DataByMiles!AE180,DataByMiles!$AT$5:$AU$6,2,FALSE)","v":0},"",0,0,{"$f":"(AF182+AG182)*VLOOKUP(DataByMiles!AE180,DataByMiles!$AT$5:$AU$6,2,FALSE)","v":0},0]
[null,{"$f":"DataByMiles!C181","v":"----177"},{"$f":"DataByMiles!E181*VLOOKUP(DataByMiles!AE181,DataByMiles!$AT$5:$AU$6,2,FALSE)","v":0},null,null,0,{"$f":"C183*$G$2*VLOOKUP(DataByMiles!AE181,DataByMiles!$AT$5:$AU$6,2,FALSE)","v":0},{"$f":"DataByMiles!F181*VLOOKUP(DataByMiles!AE181,DataByMiles!$AT$5:$AU$6,2,FALSE)","v":0},null,null,0,{"$f":"H183*$L$2*VLOOKUP(DataByMiles!AE181,DataByMiles!$AT$5:$AU$6,2,FALSE)","v":0},{"$f":"DataByMiles!G181*VLOOKUP(DataByMiles!AE181,DataByMiles!$AT$5:$AU$6,2,FALSE)","v":0},null,null,{"$f":"M183*$P$2*VLOOKUP(DataByMiles!AE181,DataByMiles!$AT$5:$AU$6,2,FALSE)","v":0},{"$f":"DataByMiles!H181*VLOOKUP(DataByMiles!AE181,DataByMiles!$AT$5:$AU$6,2,FALSE)","v":0},null,null,{"$f":"Q183*$T$2*VLOOKUP(DataByMiles!AE181,DataByMiles!$AT$5:$AU$6,2,FALSE)","v":0},{"$f":"DataByMiles!I181*VLOOKUP(DataByMiles!AE181,DataByMiles!$AT$5:$AU$6,2,FALSE)","v":0},null,null,{"$f":"U183*$X$2*VLOOKUP(DataByMiles!AE181,DataByMiles!$AT$5:$AU$6,2,FALSE)","v":0},{"$f":"DataByMiles!J181*VLOOKUP(DataByMiles!AE181,DataByMiles!$AT$5:$AU$6,2,FALSE)","v":0},{"$f":"DataByMiles!K181","v":0},{"$f":"DataByMiles!L181","v":0},null,null,{"$f":"(Y183/IF(Z183=0,$AD$1,Z183)*$AD$2)/IF(AA183=0,1,AA183)*VLOOKUP(DataByMiles!AE181,DataByMiles!$AT$5:$AU$6,2,FALSE)","v":0},"",0,0,{"$f":"(AF183+AG183)*VLOOKUP(DataByMiles!AE181,DataByMiles!$AT$5:$AU$6,2,FALSE)","v":0},0]
[null,{"$f":"DataByMiles!C182","v":"----178"},{"$f":"DataByMiles!E182*VLOOKUP(DataByMiles!AE182,DataByMiles!$AT$5:$AU$6,2,FALSE)","v":0},null,null,0,{"$f":"C184*$G$2*VLOOKUP(DataByMiles!AE182,DataByMiles!$AT$5:$AU$6,2,FALSE)","v":0},{"$f":"DataByMiles!F182*VLOOKUP(DataByMiles!AE182,DataByMiles!$AT$5:$AU$6,2,FALSE)","v":0},null,null,0,{"$f":"H184*$L$2*VLOOKUP(DataByMiles!AE182,DataByMiles!$AT$5:$AU$6,2,FALSE)","v":0},{"$f":"DataByMiles!G182*VLOOKUP(DataByMiles!AE182,DataByMiles!$AT$5:$AU$6,2,FALSE)","v":0},null,null,{"$f":"M184*$P$2*VLOOKUP(DataByMiles!AE182,DataByMiles!$AT$5:$AU$6,2,FALSE)","v":0},{"$f":"DataByMiles!H182*VLOOKUP(DataByMiles!AE182,DataByMiles!$AT$5:$AU$6,2,FALSE)","v":0},null,null,{"$f":"Q184*$T$2*VLOOKUP(DataByMiles!AE182,DataByMiles!$AT$5:$AU$6,2,FALSE)","v":0},{"$f":"DataByMiles!I182*VLOOKUP(DataByMiles!AE182,DataByMiles!$AT$5:$AU$6,2,FALSE)","v":0},null,null,{"$f":"U184*$X$2*VLOOKUP(DataByMiles!AE182,DataByMiles!$AT$5:$AU$6,2,FALSE)","v":0},{"$f":"DataByMiles!J182*VLOOKUP(DataByMiles!AE182,DataByMiles!$AT$5:$AU$6,2,FALSE)","v":0},{"$f":"DataByMiles!K182","v":0},{"$f":"DataByMiles!L182","v":0},null,null,{"$f":"(Y184/IF(Z184=0,$AD$1,Z184)*$AD$2)/IF(AA184=0,1,AA184)*VLOOKUP(DataByMiles!AE182,DataByMiles!$AT$5:$AU$6,2,FALSE)","v":0},"",0,0,{"$f":"(AF184+AG184)*VLOOKUP(DataByMiles!AE182,DataByMiles!$AT$5:$AU$6,2,FALSE)","v":0},0]
[null,{"$f":"DataByMiles!C183","v":"----179"},{"$f":"DataByMiles!E183*VLOOKUP(DataByMiles!AE183,DataByMiles!$AT$5:$AU$6,2,FALSE)","v":0},null,null,0,{"$f":"C185*$G$2*VLOOKUP(DataByMiles!AE183,DataByMiles!$AT$5:$AU$6,2,FALSE)","v":0},{"$f":"DataByMiles!F183*VLOOKUP(DataByMiles!AE183,DataByMiles!$AT$5:$AU$6,2,FALSE)","v":0},null,null,0,{"$f":"H185*$L$2*VLOOKUP(DataByMiles!AE183,DataByMiles!$AT$5:$AU$6,2,FALSE)","v":0},{"$f":"DataByMiles!G183*VLOOKUP(DataByMiles!AE183,DataByMiles!$AT$5:$AU$6,2,FALSE)","v":0},null,null,{"$f":"M185*$P$2*VLOOKUP(DataByMiles!AE183,DataByMiles!$AT$5:$AU$6,2,FALSE)","v":0},{"$f":"DataByMiles!H183*VLOOKUP(DataByMiles!AE183,DataByMiles!$AT$5:$AU$6,2,FALSE)","v":0},null,null,{"$f":"Q185*$T$2*VLOOKUP(DataByMiles!AE183,DataByMiles!$AT$5:$AU$6,2,FALSE)","v":0},{"$f":"DataByMiles!I183*VLOOKUP(DataByMiles!AE183,DataByMiles!$AT$5:$AU$6,2,FALSE)","v":0},null,null,{"$f":"U185*$X$2*VLOOKUP(DataByMiles!AE183,DataByMiles!$AT$5:$AU$6,2,FALSE)","v":0},{"$f":"DataByMiles!J183*VLOOKUP(DataByMiles!AE183,DataByMiles!$AT$5:$AU$6,2,FALSE)","v":0},{"$f":"DataByMiles!K183","v":0},{"$f":"DataByMiles!L183","v":0},null,null,{"$f":"(Y185/IF(Z185=0,$AD$1,Z185)*$AD$2)/IF(AA185=0,1,AA185)*VLOOKUP(DataByMiles!AE183,DataByMiles!$AT$5:$AU$6,2,FALSE)","v":0},"",0,0,{"$f":"(AF185+AG185)*VLOOKUP(DataByMiles!AE183,DataByMiles!$AT$5:$AU$6,2,FALSE)","v":0},0]
[null,{"$f":"DataByMiles!C184","v":"----180"},{"$f":"DataByMiles!E184*VLOOKUP(DataByMiles!AE184,DataByMiles!$AT$5:$AU$6,2,FALSE)","v":0},null,null,0,{"$f":"C186*$G$2*VLOOKUP(DataByMiles!AE184,DataByMiles!$AT$5:$AU$6,2,FALSE)","v":0},{"$f":"DataByMiles!F184*VLOOKUP(DataByMiles!AE184,DataByMiles!$AT$5:$AU$6,2,FALSE)","v":0},null,null,0,{"$f":"H186*$L$2*VLOOKUP(DataByMiles!AE184,DataByMiles!$AT$5:$AU$6,2,FALSE)","v":0},{"$f":"DataByMiles!G184*VLOOKUP(DataByMiles!AE184,DataByMiles!$AT$5:$AU$6,2,FALSE)","v":0},null,null,{"$f":"M186*$P$2*VLOOKUP(DataByMiles!AE184,DataByMiles!$AT$5:$AU$6,2,FALSE)","v":0},{"$f":"DataByMiles!H184*VLOOKUP(DataByMiles!AE184,DataByMiles!$AT$5:$AU$6,2,FALSE)","v":0},null,null,{"$f":"Q186*$T$2*VLOOKUP(DataByMiles!AE184,DataByMiles!$AT$5:$AU$6,2,FALSE)","v":0},{"$f":"DataByMiles!I184*VLOOKUP(DataByMiles!AE184,DataByMiles!$AT$5:$AU$6,2,FALSE)","v":0},null,null,{"$f":"U186*$X$2*VLOOKUP(DataByMiles!AE184,DataByMiles!$AT$5:$AU$6,2,FALSE)","v":0},{"$f":"DataByMiles!J184*VLOOKUP(DataByMiles!AE184,DataByMiles!$AT$5:$AU$6,2,FALSE)","v":0},{"$f":"DataByMiles!K184","v":0},{"$f":"DataByMiles!L184","v":0},null,null,{"$f":"(Y186/IF(Z186=0,$AD$1,Z186)*$AD$2)/IF(AA186=0,1,AA186)*VLOOKUP(DataByMiles!AE184,DataByMiles!$AT$5:$AU$6,2,FALSE)","v":0},"",0,0,{"$f":"(AF186+AG186)*VLOOKUP(DataByMiles!AE184,DataByMiles!$AT$5:$AU$6,2,FALSE)","v":0},0]
[null,{"$f":"DataByMiles!C185","v":"----181"},{"$f":"DataByMiles!E185*VLOOKUP(DataByMiles!AE185,DataByMiles!$AT$5:$AU$6,2,FALSE)","v":0},null,null,0,{"$f":"C187*$G$2*VLOOKUP(DataByMiles!AE185,DataByMiles!$AT$5:$AU$6,2,FALSE)","v":0},{"$f":"DataByMiles!F185*VLOOKUP(DataByMiles!AE185,DataByMiles!$AT$5:$AU$6,2,FALSE)","v":0},null,null,0,{"$f":"H187*$L$2*VLOOKUP(DataByMiles!AE185,DataByMiles!$AT$5:$AU$6,2,FALSE)","v":0},{"$f":"DataByMiles!G185*VLOOKUP(DataByMiles!AE185,DataByMiles!$AT$5:$AU$6,2,FALSE)","v":0},null,null,{"$f":"M187*$P$2*VLOOKUP(DataByMiles!AE185,DataByMiles!$AT$5:$AU$6,2,FALSE)","v":0},{"$f":"DataByMiles!H185*VLOOKUP(DataByMiles!AE185,DataByMiles!$AT$5:$AU$6,2,FALSE)","v":0},null,null,{"$f":"Q187*$T$2*VLOOKUP(DataByMiles!AE185,DataByMiles!$AT$5:$AU$6,2,FALSE)","v":0},{"$f":"DataByMiles!I185*VLOOKUP(DataByMiles!AE185,DataByMiles!$AT$5:$AU$6,2,FALSE)","v":0},null,null,{"$f":"U187*$X$2*VLOOKUP(DataByMiles!AE185,DataByMiles!$AT$5:$AU$6,2,FALSE)","v":0},{"$f":"DataByMiles!J185*VLOOKUP(DataByMiles!AE185,DataByMiles!$AT$5:$AU$6,2,FALSE)","v":0},{"$f":"DataByMiles!K185","v":0},{"$f":"DataByMiles!L185","v":0},null,null,{"$f":"(Y187/IF(Z187=0,$AD$1,Z187)*$AD$2)/IF(AA187=0,1,AA187)*VLOOKUP(DataByMiles!AE185,DataByMiles!$AT$5:$AU$6,2,FALSE)","v":0},"",0,0,{"$f":"(AF187+AG187)*VLOOKUP(DataByMiles!AE185,DataByMiles!$AT$5:$AU$6,2,FALSE)","v":0},0]
[null,{"$f":"DataByMiles!C186","v":"----182"},{"$f":"DataByMiles!E186*VLOOKUP(DataByMiles!AE186,DataByMiles!$AT$5:$AU$6,2,FALSE)","v":0},null,null,0,{"$f":"C188*$G$2*VLOOKUP(DataByMiles!AE186,DataByMiles!$AT$5:$AU$6,2,FALSE)","v":0},{"$f":"DataByMiles!F186*VLOOKUP(DataByMiles!AE186,DataByMiles!$AT$5:$AU$6,2,FALSE)","v":0},null,null,0,{"$f":"H188*$L$2*VLOOKUP(DataByMiles!AE186,DataByMiles!$AT$5:$AU$6,2,FALSE)","v":0},{"$f":"DataByMiles!G186*VLOOKUP(DataByMiles!AE186,DataByMiles!$AT$5:$AU$6,2,FALSE)","v":0},null,null,{"$f":"M188*$P$2*VLOOKUP(DataByMiles!AE186,DataByMiles!$AT$5:$AU$6,2,FALSE)","v":0},{"$f":"DataByMiles!H186*VLOOKUP(DataByMiles!AE186,DataByMiles!$AT$5:$AU$6,2,FALSE)","v":0},null,null,{"$f":"Q188*$T$2*VLOOKUP(DataByMiles!AE186,DataByMiles!$AT$5:$AU$6,2,FALSE)","v":0},{"$f":"DataByMiles!I186*VLOOKUP(DataByMiles!AE186,DataByMiles!$AT$5:$AU$6,2,FALSE)","v":0},null,null,{"$f":"U188*$X$2*VLOOKUP(DataByMiles!AE186,DataByMiles!$AT$5:$AU$6,2,FALSE)","v":0},{"$f":"DataByMiles!J186*VLOOKUP(DataByMiles!AE186,DataByMiles!$AT$5:$AU$6,2,FALSE)","v":0},{"$f":"DataByMiles!K186","v":0},{"$f":"DataByMiles!L186","v":0},null,null,{"$f":"(Y188/IF(Z188=0,$AD$1,Z188)*$AD$2)/IF(AA188=0,1,AA188)*VLOOKUP(DataByMiles!AE186,DataByMiles!$AT$5:$AU$6,2,FALSE)","v":0},"",0,0,{"$f":"(AF188+AG188)*VLOOKUP(DataByMiles!AE186,DataByMiles!$AT$5:$AU$6,2,FALSE)","v":0},0]
[null,{"$f":"DataByMiles!C187","v":"----183"},{"$f":"DataByMiles!E187*VLOOKUP(DataByMiles!AE187,DataByMiles!$AT$5:$AU$6,2,FALSE)","v":0},null,null,0,{"$f":"C189*$G$2*VLOOKUP(DataByMiles!AE187,DataByMiles!$AT$5:$AU$6,2,FALSE)","v":0},{"$f":"DataByMiles!F187*VLOOKUP(DataByMiles!AE187,DataByMiles!$AT$5:$AU$6,2,FALSE)","v":0},null,null,0,{"$f":"H189*$L$2*VLOOKUP(DataByMiles!AE187,DataByMiles!$AT$5:$AU$6,2,FALSE)","v":0},{"$f":"DataByMiles!G187*VLOOKUP(DataByMiles!AE187,DataByMiles!$AT$5:$AU$6,2,FALSE)","v":0},null,null,{"$f":"M189*$P$2*VLOOKUP(DataByMiles!AE187,DataByMiles!$AT$5:$AU$6,2,FALSE)","v":0},{"$f":"DataByMiles!H187*VLOOKUP(DataByMiles!AE187,DataByMiles!$AT$5:$AU$6,2,FALSE)","v":0},null,null,{"$f":"Q189*$T$2*VLOOKUP(DataByMiles!AE187,DataByMiles!$AT$5:$AU$6,2,FALSE)","v":0},{"$f":"DataByMiles!I187*VLOOKUP(DataByMiles!AE187,DataByMiles!$AT$5:$AU$6,2,FALSE)","v":0},null,null,{"$f":"U189*$X$2*VLOOKUP(DataByMiles!AE187,DataByMiles!$AT$5:$AU$6,2,FALSE)","v":0},{"$f":"DataByMiles!J187*VLOOKUP(DataByMiles!AE187,DataByMiles!$AT$5:$AU$6,2,FALSE)","v":0},{"$f":"DataByMiles!K187","v":0},{"$f":"DataByMiles!L187","v":0},null,null,{"$f":"(Y189/IF(Z189=0,$AD$1,Z189)*$AD$2)/IF(AA189=0,1,AA189)*VLOOKUP(DataByMiles!AE187,DataByMiles!$AT$5:$AU$6,2,FALSE)","v":0},"",0,0,{"$f":"(AF189+AG189)*VLOOKUP(DataByMiles!AE187,DataByMiles!$AT$5:$AU$6,2,FALSE)","v":0},0]
[null,{"$f":"DataByMiles!C188","v":"----184"},{"$f":"DataByMiles!E188*VLOOKUP(DataByMiles!AE188,DataByMiles!$AT$5:$AU$6,2,FALSE)","v":0},null,null,0,{"$f":"C190*$G$2*VLOOKUP(DataByMiles!AE188,DataByMiles!$AT$5:$AU$6,2,FALSE)","v":0},{"$f":"DataByMiles!F188*VLOOKUP(DataByMiles!AE188,DataByMiles!$AT$5:$AU$6,2,FALSE)","v":0},null,null,0,{"$f":"H190*$L$2*VLOOKUP(DataByMiles!AE188,DataByMiles!$AT$5:$AU$6,2,FALSE)","v":0},{"$f":"DataByMiles!G188*VLOOKUP(DataByMiles!AE188,DataByMiles!$AT$5:$AU$6,2,FALSE)","v":0},null,null,{"$f":"M190*$P$2*VLOOKUP(DataByMiles!AE188,DataByMiles!$AT$5:$AU$6,2,FALSE)","v":0},{"$f":"DataByMiles!H188*VLOOKUP(DataByMiles!AE188,DataByMiles!$AT$5:$AU$6,2,FALSE)","v":0},null,null,{"$f":"Q190*$T$2*VLOOKUP(DataByMiles!AE188,DataByMiles!$AT$5:$AU$6,2,FALSE)","v":0},{"$f":"DataByMiles!I188*VLOOKUP(DataByMiles!AE188,DataByMiles!$AT$5:$AU$6,2,FALSE)","v":0},null,null,{"$f":"U190*$X$2*VLOOKUP(DataByMiles!AE188,DataByMiles!$AT$5:$AU$6,2,FALSE)","v":0},{"$f":"DataByMiles!J188*VLOOKUP(DataByMiles!AE188,DataByMiles!$AT$5:$AU$6,2,FALSE)","v":0},{"$f":"DataByMiles!K188","v":0},{"$f":"DataByMiles!L188","v":0},null,null,{"$f":"(Y190/IF(Z190=0,$AD$1,Z190)*$AD$2)/IF(AA190=0,1,AA190)*VLOOKUP(DataByMiles!AE188,DataByMiles!$AT$5:$AU$6,2,FALSE)","v":0},"",0,0,{"$f":"(AF190+AG190)*VLOOKUP(DataByMiles!AE188,DataByMiles!$AT$5:$AU$6,2,FALSE)","v":0},0]
[null,{"$f":"DataByMiles!C189","v":"----185"},{"$f":"DataByMiles!E189*VLOOKUP(DataByMiles!AE189,DataByMiles!$AT$5:$AU$6,2,FALSE)","v":0},null,null,0,{"$f":"C191*$G$2*VLOOKUP(DataByMiles!AE189,DataByMiles!$AT$5:$AU$6,2,FALSE)","v":0},{"$f":"DataByMiles!F189*VLOOKUP(DataByMiles!AE189,DataByMiles!$AT$5:$AU$6,2,FALSE)","v":0},null,null,0,{"$f":"H191*$L$2*VLOOKUP(DataByMiles!AE189,DataByMiles!$AT$5:$AU$6,2,FALSE)","v":0},{"$f":"DataByMiles!G189*VLOOKUP(DataByMiles!AE189,DataByMiles!$AT$5:$AU$6,2,FALSE)","v":0},null,null,{"$f":"M191*$P$2*VLOOKUP(DataByMiles!AE189,DataByMiles!$AT$5:$AU$6,2,FALSE)","v":0},{"$f":"DataByMiles!H189*VLOOKUP(DataByMiles!AE189,DataByMiles!$AT$5:$AU$6,2,FALSE)","v":0},null,null,{"$f":"Q191*$T$2*VLOOKUP(DataByMiles!AE189,DataByMiles!$AT$5:$AU$6,2,FALSE)","v":0},{"$f":"DataByMiles!I189*VLOOKUP(DataByMiles!AE189,DataByMiles!$AT$5:$AU$6,2,FALSE)","v":0},null,null,{"$f":"U191*$X$2*VLOOKUP(DataByMiles!AE189,DataByMiles!$AT$5:$AU$6,2,FALSE)","v":0},{"$f":"DataByMiles!J189*VLOOKUP(DataByMiles!AE189,DataByMiles!$AT$5:$AU$6,2,FALSE)","v":0},{"$f":"DataByMiles!K189","v":0},{"$f":"DataByMiles!L189","v":0},null,null,{"$f":"(Y191/IF(Z191=0,$AD$1,Z191)*$AD$2)/IF(AA191=0,1,AA191)*VLOOKUP(DataByMiles!AE189,DataByMiles!$AT$5:$AU$6,2,FALSE)","v":0},"",0,0,{"$f":"(AF191+AG191)*VLOOKUP(DataByMiles!AE189,DataByMiles!$AT$5:$AU$6,2,FALSE)","v":0},0]
[null,{"$f":"DataByMiles!C190","v":"----186"},{"$f":"DataByMiles!E190*VLOOKUP(DataByMiles!AE190,DataByMiles!$AT$5:$AU$6,2,FALSE)","v":0},null,null,0,{"$f":"C192*$G$2*VLOOKUP(DataByMiles!AE190,DataByMiles!$AT$5:$AU$6,2,FALSE)","v":0},{"$f":"DataByMiles!F190*VLOOKUP(DataByMiles!AE190,DataByMiles!$AT$5:$AU$6,2,FALSE)","v":0},null,null,0,{"$f":"H192*$L$2*VLOOKUP(DataByMiles!AE190,DataByMiles!$AT$5:$AU$6,2,FALSE)","v":0},{"$f":"DataByMiles!G190*VLOOKUP(DataByMiles!AE190,DataByMiles!$AT$5:$AU$6,2,FALSE)","v":0},null,null,{"$f":"M192*$P$2*VLOOKUP(DataByMiles!AE190,DataByMiles!$AT$5:$AU$6,2,FALSE)","v":0},{"$f":"DataByMiles!H190*VLOOKUP(DataByMiles!AE190,DataByMiles!$AT$5:$AU$6,2,FALSE)","v":0},null,null,{"$f":"Q192*$T$2*VLOOKUP(DataByMiles!AE190,DataByMiles!$AT$5:$AU$6,2,FALSE)","v":0},{"$f":"DataByMiles!I190*VLOOKUP(DataByMiles!AE190,DataByMiles!$AT$5:$AU$6,2,FALSE)","v":0},null,null,{"$f":"U192*$X$2*VLOOKUP(DataByMiles!AE190,DataByMiles!$AT$5:$AU$6,2,FALSE)","v":0},{"$f":"DataByMiles!J190*VLOOKUP(DataByMiles!AE190,DataByMiles!$AT$5:$AU$6,2,FALSE)","v":0},{"$f":"DataByMiles!K190","v":0},{"$f":"DataByMiles!L190","v":0},null,null,{"$f":"(Y192/IF(Z192=0,$AD$1,Z192)*$AD$2)/IF(AA192=0,1,AA192)*VLOOKUP(DataByMiles!AE190,DataByMiles!$AT$5:$AU$6,2,FALSE)","v":0},"",0,0,{"$f":"(AF192+AG192)*VLOOKUP(DataByMiles!AE190,DataByMiles!$AT$5:$AU$6,2,FALSE)","v":0},0]
[null,{"$f":"DataByMiles!C191","v":"----187"},{"$f":"DataByMiles!E191*VLOOKUP(DataByMiles!AE191,DataByMiles!$AT$5:$AU$6,2,FALSE)","v":0},null,null,0,{"$f":"C193*$G$2*VLOOKUP(DataByMiles!AE191,DataByMiles!$AT$5:$AU$6,2,FALSE)","v":0},{"$f":"DataByMiles!F191*VLOOKUP(DataByMiles!AE191,DataByMiles!$AT$5:$AU$6,2,FALSE)","v":0},null,null,0,{"$f":"H193*$L$2*VLOOKUP(DataByMiles!AE191,DataByMiles!$AT$5:$AU$6,2,FALSE)","v":0},{"$f":"DataByMiles!G191*VLOOKUP(DataByMiles!AE191,DataByMiles!$AT$5:$AU$6,2,FALSE)","v":0},null,null,{"$f":"M193*$P$2*VLOOKUP(DataByMiles!AE191,DataByMiles!$AT$5:$AU$6,2,FALSE)","v":0},{"$f":"DataByMiles!H191*VLOOKUP(DataByMiles!AE191,DataByMiles!$AT$5:$AU$6,2,FALSE)","v":0},null,null,{"$f":"Q193*$T$2*VLOOKUP(DataByMiles!AE191,DataByMiles!$AT$5:$AU$6,2,FALSE)","v":0},{"$f":"DataByMiles!I191*VLOOKUP(DataByMiles!AE191,DataByMiles!$AT$5:$AU$6,2,FALSE)","v":0},null,null,{"$f":"U193*$X$2*VLOOKUP(DataByMiles!AE191,DataByMiles!$AT$5:$AU$6,2,FALSE)","v":0},{"$f":"DataByMiles!J191*VLOOKUP(DataByMiles!AE191,DataByMiles!$AT$5:$AU$6,2,FALSE)","v":0},{"$f":"DataByMiles!K191","v":0},{"$f":"DataByMiles!L191","v":0},null,null,{"$f":"(Y193/IF(Z193=0,$AD$1,Z193)*$AD$2)/IF(AA193=0,1,AA193)*VLOOKUP(DataByMiles!AE191,DataByMiles!$AT$5:$AU$6,2,FALSE)","v":0},"",0,0,{"$f":"(AF193+AG193)*VLOOKUP(DataByMiles!AE191,DataByMiles!$AT$5:$AU$6,2,FALSE)","v":0},0]
[null,{"$f":"DataByMiles!C192","v":"----188"},{"$f":"DataByMiles!E192*VLOOKUP(DataByMiles!AE192,DataByMiles!$AT$5:$AU$6,2,FALSE)","v":0},null,null,0,{"$f":"C194*$G$2*VLOOKUP(DataByMiles!AE192,DataByMiles!$AT$5:$AU$6,2,FALSE)","v":0},{"$f":"DataByMiles!F192*VLOOKUP(DataByMiles!AE192,DataByMiles!$AT$5:$AU$6,2,FALSE)","v":0},null,null,0,{"$f":"H194*$L$2*VLOOKUP(DataByMiles!AE192,DataByMiles!$AT$5:$AU$6,2,FALSE)","v":0},{"$f":"DataByMiles!G192*VLOOKUP(DataByMiles!AE192,DataByMiles!$AT$5:$AU$6,2,FALSE)","v":0},null,null,{"$f":"M194*$P$2*VLOOKUP(DataByMiles!AE192,DataByMiles!$AT$5:$AU$6,2,FALSE)","v":0},{"$f":"DataByMiles!H192*VLOOKUP(DataByMiles!AE192,DataByMiles!$AT$5:$AU$6,2,FALSE)","v":0},null,null,{"$f":"Q194*$T$2*VLOOKUP(DataByMiles!AE192,DataByMiles!$AT$5:$AU$6,2,FALSE)","v":0},{"$f":"DataByMiles!I192*VLOOKUP(DataByMiles!AE192,DataByMiles!$AT$5:$AU$6,2,FALSE)","v":0},null,null,{"$f":"U194*$X$2*VLOOKUP(DataByMiles!AE192,DataByMiles!$AT$5:$AU$6,2,FALSE)","v":0},{"$f":"DataByMiles!J192*VLOOKUP(DataByMiles!AE192,DataByMiles!$AT$5:$AU$6,2,FALSE)","v":0},{"$f":"DataByMiles!K192","v":0},{"$f":"DataByMiles!L192","v":0},null,null,{"$f":"(Y194/IF(Z194=0,$AD$1,Z194)*$AD$2)/IF(AA194=0,1,AA194)*VLOOKUP(DataByMiles!AE192,DataByMiles!$AT$5:$AU$6,2,FALSE)","v":0},"",0,0,{"$f":"(AF194+AG194)*VLOOKUP(DataByMiles!AE192,DataByMiles!$AT$5:$AU$6,2,FALSE)","v":0},0]
[null,{"$f":"DataByMiles!C193","v":"----189"},{"$f":"DataByMiles!E193*VLOOKUP(DataByMiles!AE193,DataByMiles!$AT$5:$AU$6,2,FALSE)","v":0},null,null,0,{"$f":"C195*$G$2*VLOOKUP(DataByMiles!AE193,DataByMiles!$AT$5:$AU$6,2,FALSE)","v":0},{"$f":"DataByMiles!F193*VLOOKUP(DataByMiles!AE193,DataByMiles!$AT$5:$AU$6,2,FALSE)","v":0},null,null,0,{"$f":"H195*$L$2*VLOOKUP(DataByMiles!AE193,DataByMiles!$AT$5:$AU$6,2,FALSE)","v":0},{"$f":"DataByMiles!G193*VLOOKUP(DataByMiles!AE193,DataByMiles!$AT$5:$AU$6,2,FALSE)","v":0},null,null,{"$f":"M195*$P$2*VLOOKUP(DataByMiles!AE193,DataByMiles!$AT$5:$AU$6,2,FALSE)","v":0},{"$f":"DataByMiles!H193*VLOOKUP(DataByMiles!AE193,DataByMiles!$AT$5:$AU$6,2,FALSE)","v":0},null,null,{"$f":"Q195*$T$2*VLOOKUP(DataByMiles!AE193,DataByMiles!$AT$5:$AU$6,2,FALSE)","v":0},{"$f":"DataByMiles!I193*VLOOKUP(DataByMiles!AE193,DataByMiles!$AT$5:$AU$6,2,FALSE)","v":0},null,null,{"$f":"U195*$X$2*VLOOKUP(DataByMiles!AE193,DataByMiles!$AT$5:$AU$6,2,FALSE)","v":0},{"$f":"DataByMiles!J193*VLOOKUP(DataByMiles!AE193,DataByMiles!$AT$5:$AU$6,2,FALSE)","v":0},{"$f":"DataByMiles!K193","v":0},{"$f":"DataByMiles!L193","v":0},null,null,{"$f":"(Y195/IF(Z195=0,$AD$1,Z195)*$AD$2)/IF(AA195=0,1,AA195)*VLOOKUP(DataByMiles!AE193,DataByMiles!$AT$5:$AU$6,2,FALSE)","v":0},"",0,0,{"$f":"(AF195+AG195)*VLOOKUP(DataByMiles!AE193,DataByMiles!$AT$5:$AU$6,2,FALSE)","v":0},0]
[null,{"$f":"DataByMiles!C194","v":"----190"},{"$f":"DataByMiles!E194*VLOOKUP(DataByMiles!AE194,DataByMiles!$AT$5:$AU$6,2,FALSE)","v":0},null,null,0,{"$f":"C196*$G$2*VLOOKUP(DataByMiles!AE194,DataByMiles!$AT$5:$AU$6,2,FALSE)","v":0},{"$f":"DataByMiles!F194*VLOOKUP(DataByMiles!AE194,DataByMiles!$AT$5:$AU$6,2,FALSE)","v":0},null,null,0,{"$f":"H196*$L$2*VLOOKUP(DataByMiles!AE194,DataByMiles!$AT$5:$AU$6,2,FALSE)","v":0},{"$f":"DataByMiles!G194*VLOOKUP(DataByMiles!AE194,DataByMiles!$AT$5:$AU$6,2,FALSE)","v":0},null,null,{"$f":"M196*$P$2*VLOOKUP(DataByMiles!AE194,DataByMiles!$AT$5:$AU$6,2,FALSE)","v":0},{"$f":"DataByMiles!H194*VLOOKUP(DataByMiles!AE194,DataByMiles!$AT$5:$AU$6,2,FALSE)","v":0},null,null,{"$f":"Q196*$T$2*VLOOKUP(DataByMiles!AE194,DataByMiles!$AT$5:$AU$6,2,FALSE)","v":0},{"$f":"DataByMiles!I194*VLOOKUP(DataByMiles!AE194,DataByMiles!$AT$5:$AU$6,2,FALSE)","v":0},null,null,{"$f":"U196*$X$2*VLOOKUP(DataByMiles!AE194,DataByMiles!$AT$5:$AU$6,2,FALSE)","v":0},{"$f":"DataByMiles!J194*VLOOKUP(DataByMiles!AE194,DataByMiles!$AT$5:$AU$6,2,FALSE)","v":0},{"$f":"DataByMiles!K194","v":0},{"$f":"DataByMiles!L194","v":0},null,null,{"$f":"(Y196/IF(Z196=0,$AD$1,Z196)*$AD$2)/IF(AA196=0,1,AA196)*VLOOKUP(DataByMiles!AE194,DataByMiles!$AT$5:$AU$6,2,FALSE)","v":0},"",0,0,{"$f":"(AF196+AG196)*VLOOKUP(DataByMiles!AE194,DataByMiles!$AT$5:$AU$6,2,FALSE)","v":0},0]
[null,{"$f":"DataByMiles!C195","v":"----191"},{"$f":"DataByMiles!E195*VLOOKUP(DataByMiles!AE195,DataByMiles!$AT$5:$AU$6,2,FALSE)","v":0},null,null,0,{"$f":"C197*$G$2*VLOOKUP(DataByMiles!AE195,DataByMiles!$AT$5:$AU$6,2,FALSE)","v":0},{"$f":"DataByMiles!F195*VLOOKUP(DataByMiles!AE195,DataByMiles!$AT$5:$AU$6,2,FALSE)","v":0},null,null,0,{"$f":"H197*$L$2*VLOOKUP(DataByMiles!AE195,DataByMiles!$AT$5:$AU$6,2,FALSE)","v":0},{"$f":"DataByMiles!G195*VLOOKUP(DataByMiles!AE195,DataByMiles!$AT$5:$AU$6,2,FALSE)","v":0},null,null,{"$f":"M197*$P$2*VLOOKUP(DataByMiles!AE195,DataByMiles!$AT$5:$AU$6,2,FALSE)","v":0},{"$f":"DataByMiles!H195*VLOOKUP(DataByMiles!AE195,DataByMiles!$AT$5:$AU$6,2,FALSE)","v":0},null,null,{"$f":"Q197*$T$2*VLOOKUP(DataByMiles!AE195,DataByMiles!$AT$5:$AU$6,2,FALSE)","v":0},{"$f":"DataByMiles!I195*VLOOKUP(DataByMiles!AE195,DataByMiles!$AT$5:$AU$6,2,FALSE)","v":0},null,null,{"$f":"U197*$X$2*VLOOKUP(DataByMiles!AE195,DataByMiles!$AT$5:$AU$6,2,FALSE)","v":0},{"$f":"DataByMiles!J195*VLOOKUP(DataByMiles!AE195,DataByMiles!$AT$5:$AU$6,2,FALSE)","v":0},{"$f":"DataByMiles!K195","v":0},{"$f":"DataByMiles!L195","v":0},null,null,{"$f":"(Y197/IF(Z197=0,$AD$1,Z197)*$AD$2)/IF(AA197=0,1,AA197)*VLOOKUP(DataByMiles!AE195,DataByMiles!$AT$5:$AU$6,2,FALSE)","v":0},"",0,0,{"$f":"(AF197+AG197)*VLOOKUP(DataByMiles!AE195,DataByMiles!$AT$5:$AU$6,2,FALSE)","v":0},0]
[null,{"$f":"DataByMiles!C196","v":"----192"},{"$f":"DataByMiles!E196*VLOOKUP(DataByMiles!AE196,DataByMiles!$AT$5:$AU$6,2,FALSE)","v":0},null,null,0,{"$f":"C198*$G$2*VLOOKUP(DataByMiles!AE196,DataByMiles!$AT$5:$AU$6,2,FALSE)","v":0},{"$f":"DataByMiles!F196*VLOOKUP(DataByMiles!AE196,DataByMiles!$AT$5:$AU$6,2,FALSE)","v":0},null,null,0,{"$f":"H198*$L$2*VLOOKUP(DataByMiles!AE196,DataByMiles!$AT$5:$AU$6,2,FALSE)","v":0},{"$f":"DataByMiles!G196*VLOOKUP(DataByMiles!AE196,DataByMiles!$AT$5:$AU$6,2,FALSE)","v":0},null,null,{"$f":"M198*$P$2*VLOOKUP(DataByMiles!AE196,DataByMiles!$AT$5:$AU$6,2,FALSE)","v":0},{"$f":"DataByMiles!H196*VLOOKUP(DataByMiles!AE196,DataByMiles!$AT$5:$AU$6,2,FALSE)","v":0},null,null,{"$f":"Q198*$T$2*VLOOKUP(DataByMiles!AE196,DataByMiles!$AT$5:$AU$6,2,FALSE)","v":0},{"$f":"DataByMiles!I196*VLOOKUP(DataByMiles!AE196,DataByMiles!$AT$5:$AU$6,2,FALSE)","v":0},null,null,{"$f":"U198*$X$2*VLOOKUP(DataByMiles!AE196,DataByMiles!$AT$5:$AU$6,2,FALSE)","v":0},{"$f":"DataByMiles!J196*VLOOKUP(DataByMiles!AE196,DataByMiles!$AT$5:$AU$6,2,FALSE)","v":0},{"$f":"DataByMiles!K196","v":0},{"$f":"DataByMiles!L196","v":0},null,null,{"$f":"(Y198/IF(Z198=0,$AD$1,Z198)*$AD$2)/IF(AA198=0,1,AA198)*VLOOKUP(DataByMiles!AE196,DataByMiles!$AT$5:$AU$6,2,FALSE)","v":0},"",0,0,{"$f":"(AF198+AG198)*VLOOKUP(DataByMiles!AE196,DataByMiles!$AT$5:$AU$6,2,FALSE)","v":0},0]
[null,{"$f":"DataByMiles!C197","v":"----193"},{"$f":"DataByMiles!E197*VLOOKUP(DataByMiles!AE197,DataByMiles!$AT$5:$AU$6,2,FALSE)","v":0},null,null,0,{"$f":"C199*$G$2*VLOOKUP(DataByMiles!AE197,DataByMiles!$AT$5:$AU$6,2,FALSE)","v":0},{"$f":"DataByMiles!F197*VLOOKUP(DataByMiles!AE197,DataByMiles!$AT$5:$AU$6,2,FALSE)","v":0},null,null,0,{"$f":"H199*$L$2*VLOOKUP(DataByMiles!AE197,DataByMiles!$AT$5:$AU$6,2,FALSE)","v":0},{"$f":"DataByMiles!G197*VLOOKUP(DataByMiles!AE197,DataByMiles!$AT$5:$AU$6,2,FALSE)","v":0},null,null,{"$f":"M199*$P$2*VLOOKUP(DataByMiles!AE197,DataByMiles!$AT$5:$AU$6,2,FALSE)","v":0},{"$f":"DataByMiles!H197*VLOOKUP(DataByMiles!AE197,DataByMiles!$AT$5:$AU$6,2,FALSE)","v":0},null,null,{"$f":"Q199*$T$2*VLOOKUP(DataByMiles!AE197,DataByMiles!$AT$5:$AU$6,2,FALSE)","v":0},{"$f":"DataByMiles!I197*VLOOKUP(DataByMiles!AE197,DataByMiles!$AT$5:$AU$6,2,FALSE)","v":0},null,null,{"$f":"U199*$X$2*VLOOKUP(DataByMiles!AE197,DataByMiles!$AT$5:$AU$6,2,FALSE)","v":0},{"$f":"DataByMiles!J197*VLOOKUP(DataByMiles!AE197,DataByMiles!$AT$5:$AU$6,2,FALSE)","v":0},{"$f":"DataByMiles!K197","v":0},{"$f":"DataByMiles!L197","v":0},null,null,{"$f":"(Y199/IF(Z199=0,$AD$1,Z199)*$AD$2)/IF(AA199=0,1,AA199)*VLOOKUP(DataByMiles!AE197,DataByMiles!$AT$5:$AU$6,2,FALSE)","v":0},"",0,0,{"$f":"(AF199+AG199)*VLOOKUP(DataByMiles!AE197,DataByMiles!$AT$5:$AU$6,2,FALSE)","v":0},0]
[null,{"$f":"DataByMiles!C198","v":"----194"},{"$f":"DataByMiles!E198*VLOOKUP(DataByMiles!AE198,DataByMiles!$AT$5:$AU$6,2,FALSE)","v":0},null,null,0,{"$f":"C200*$G$2*VLOOKUP(DataByMiles!AE198,DataByMiles!$AT$5:$AU$6,2,FALSE)","v":0},{"$f":"DataByMiles!F198*VLOOKUP(DataByMiles!AE198,DataByMiles!$AT$5:$AU$6,2,FALSE)","v":0},null,null,0,{"$f":"H200*$L$2*VLOOKUP(DataByMiles!AE198,DataByMiles!$AT$5:$AU$6,2,FALSE)","v":0},{"$f":"DataByMiles!G198*VLOOKUP(DataByMiles!AE198,DataByMiles!$AT$5:$AU$6,2,FALSE)","v":0},null,null,{"$f":"M200*$P$2*VLOOKUP(DataByMiles!AE198,DataByMiles!$AT$5:$AU$6,2,FALSE)","v":0},{"$f":"DataByMiles!H198*VLOOKUP(DataByMiles!AE198,DataByMiles!$AT$5:$AU$6,2,FALSE)","v":0},null,null,{"$f":"Q200*$T$2*VLOOKUP(DataByMiles!AE198,DataByMiles!$AT$5:$AU$6,2,FALSE)","v":0},{"$f":"DataByMiles!I198*VLOOKUP(DataByMiles!AE198,DataByMiles!$AT$5:$AU$6,2,FALSE)","v":0},null,null,{"$f":"U200*$X$2*VLOOKUP(DataByMiles!AE198,DataByMiles!$AT$5:$AU$6,2,FALSE)","v":0},{"$f":"DataByMiles!J198*VLOOKUP(DataByMiles!AE198,DataByMiles!$AT$5:$AU$6,2,FALSE)","v":0},{"$f":"DataByMiles!K198","v":0},{"$f":"DataByMiles!L198","v":0},null,null,{"$f":"(Y200/IF(Z200=0,$AD$1,Z200)*$AD$2)/IF(AA200=0,1,AA200)*VLOOKUP(DataByMiles!AE198,DataByMiles!$AT$5:$AU$6,2,FALSE)","v":0},"",0,0,{"$f":"(AF200+AG200)*VLOOKUP(DataByMiles!AE198,DataByMiles!$AT$5:$AU$6,2,FALSE)","v":0},0]
[null,{"$f":"DataByMiles!C199","v":"----195"},{"$f":"DataByMiles!E199*VLOOKUP(DataByMiles!AE199,DataByMiles!$AT$5:$AU$6,2,FALSE)","v":0},null,null,0,{"$f":"C201*$G$2*VLOOKUP(DataByMiles!AE199,DataByMiles!$AT$5:$AU$6,2,FALSE)","v":0},{"$f":"DataByMiles!F199*VLOOKUP(DataByMiles!AE199,DataByMiles!$AT$5:$AU$6,2,FALSE)","v":0},null,null,0,{"$f":"H201*$L$2*VLOOKUP(DataByMiles!AE199,DataByMiles!$AT$5:$AU$6,2,FALSE)","v":0},{"$f":"DataByMiles!G199*VLOOKUP(DataByMiles!AE199,DataByMiles!$AT$5:$AU$6,2,FALSE)","v":0},null,null,{"$f":"M201*$P$2*VLOOKUP(DataByMiles!AE199,DataByMiles!$AT$5:$AU$6,2,FALSE)","v":0},{"$f":"DataByMiles!H199*VLOOKUP(DataByMiles!AE199,DataByMiles!$AT$5:$AU$6,2,FALSE)","v":0},null,null,{"$f":"Q201*$T$2*VLOOKUP(DataByMiles!AE199,DataByMiles!$AT$5:$AU$6,2,FALSE)","v":0},{"$f":"DataByMiles!I199*VLOOKUP(DataByMiles!AE199,DataByMiles!$AT$5:$AU$6,2,FALSE)","v":0},null,null,{"$f":"U201*$X$2*VLOOKUP(DataByMiles!AE199,DataByMiles!$AT$5:$AU$6,2,FALSE)","v":0},{"$f":"DataByMiles!J199*VLOOKUP(DataByMiles!AE199,DataByMiles!$AT$5:$AU$6,2,FALSE)","v":0},{"$f":"DataByMiles!K199","v":0},{"$f":"DataByMiles!L199","v":0},null,null,{"$f":"(Y201/IF(Z201=0,$AD$1,Z201)*$AD$2)/IF(AA201=0,1,AA201)*VLOOKUP(DataByMiles!AE199,DataByMiles!$AT$5:$AU$6,2,FALSE)","v":0},"",0,0,{"$f":"(AF201+AG201)*VLOOKUP(DataByMiles!AE199,DataByMiles!$AT$5:$AU$6,2,FALSE)","v":0},0]
[null,{"$f":"DataByMiles!C200","v":"----196"},{"$f":"DataByMiles!E200*VLOOKUP(DataByMiles!AE200,DataByMiles!$AT$5:$AU$6,2,FALSE)","v":0},null,null,0,{"$f":"C202*$G$2*VLOOKUP(DataByMiles!AE200,DataByMiles!$AT$5:$AU$6,2,FALSE)","v":0},{"$f":"DataByMiles!F200*VLOOKUP(DataByMiles!AE200,DataByMiles!$AT$5:$AU$6,2,FALSE)","v":0},null,null,0,{"$f":"H202*$L$2*VLOOKUP(DataByMiles!AE200,DataByMiles!$AT$5:$AU$6,2,FALSE)","v":0},{"$f":"DataByMiles!G200*VLOOKUP(DataByMiles!AE200,DataByMiles!$AT$5:$AU$6,2,FALSE)","v":0},null,null,{"$f":"M202*$P$2*VLOOKUP(DataByMiles!AE200,DataByMiles!$AT$5:$AU$6,2,FALSE)","v":0},{"$f":"DataByMiles!H200*VLOOKUP(DataByMiles!AE200,DataByMiles!$AT$5:$AU$6,2,FALSE)","v":0},null,null,{"$f":"Q202*$T$2*VLOOKUP(DataByMiles!AE200,DataByMiles!$AT$5:$AU$6,2,FALSE)","v":0},{"$f":"DataByMiles!I200*VLOOKUP(DataByMiles!AE200,DataByMiles!$AT$5:$AU$6,2,FALSE)","v":0},null,null,{"$f":"U202*$X$2*VLOOKUP(DataByMiles!AE200,DataByMiles!$AT$5:$AU$6,2,FALSE)","v":0},{"$f":"DataByMiles!J200*VLOOKUP(DataByMiles!AE200,DataByMiles!$AT$5:$AU$6,2,FALSE)","v":0},{"$f":"DataByMiles!K200","v":0},{"$f":"DataByMiles!L200","v":0},null,null,{"$f":"(Y202/IF(Z202=0,$AD$1,Z202)*$AD$2)/IF(AA202=0,1,AA202)*VLOOKUP(DataByMiles!AE200,DataByMiles!$AT$5:$AU$6,2,FALSE)","v":0},"",0,0,{"$f":"(AF202+AG202)*VLOOKUP(DataByMiles!AE200,DataByMiles!$AT$5:$AU$6,2,FALSE)","v":0},0]
[null,{"$f":"DataByMiles!C201","v":"----197"},{"$f":"DataByMiles!E201*VLOOKUP(DataByMiles!AE201,DataByMiles!$AT$5:$AU$6,2,FALSE)","v":0},null,null,0,{"$f":"C203*$G$2*VLOOKUP(DataByMiles!AE201,DataByMiles!$AT$5:$AU$6,2,FALSE)","v":0},{"$f":"DataByMiles!F201*VLOOKUP(DataByMiles!AE201,DataByMiles!$AT$5:$AU$6,2,FALSE)","v":0},null,null,0,{"$f":"H203*$L$2*VLOOKUP(DataByMiles!AE201,DataByMiles!$AT$5:$AU$6,2,FALSE)","v":0},{"$f":"DataByMiles!G201*VLOOKUP(DataByMiles!AE201,DataByMiles!$AT$5:$AU$6,2,FALSE)","v":0},null,null,{"$f":"M203*$P$2*VLOOKUP(DataByMiles!AE201,DataByMiles!$AT$5:$AU$6,2,FALSE)","v":0},{"$f":"DataByMiles!H201*VLOOKUP(DataByMiles!AE201,DataByMiles!$AT$5:$AU$6,2,FALSE)","v":0},null,null,{"$f":"Q203*$T$2*VLOOKUP(DataByMiles!AE201,DataByMiles!$AT$5:$AU$6,2,FALSE)","v":0},{"$f":"DataByMiles!I201*VLOOKUP(DataByMiles!AE201,DataByMiles!$AT$5:$AU$6,2,FALSE)","v":0},null,null,{"$f":"U203*$X$2*VLOOKUP(DataByMiles!AE201,DataByMiles!$AT$5:$AU$6,2,FALSE)","v":0},{"$f":"DataByMiles!J201*VLOOKUP(DataByMiles!AE201,DataByMiles!$AT$5:$AU$6,2,FALSE)","v":0},{"$f":"DataByMiles!K201","v":0},{"$f":"DataByMiles!L201","v":0},null,null,{"$f":"(Y203/IF(Z203=0,$AD$1,Z203)*$AD$2)/IF(AA203=0,1,AA203)*VLOOKUP(DataByMiles!AE201,DataByMiles!$AT$5:$AU$6,2,FALSE)","v":0},"",0,0,{"$f":"(AF203+AG203)*VLOOKUP(DataByMiles!AE201,DataByMiles!$AT$5:$AU$6,2,FALSE)","v":0},0]
[null,{"$f":"DataByMiles!C202","v":"----198"},{"$f":"DataByMiles!E202*VLOOKUP(DataByMiles!AE202,DataByMiles!$AT$5:$AU$6,2,FALSE)","v":0},null,null,0,{"$f":"C204*$G$2*VLOOKUP(DataByMiles!AE202,DataByMiles!$AT$5:$AU$6,2,FALSE)","v":0},{"$f":"DataByMiles!F202*VLOOKUP(DataByMiles!AE202,DataByMiles!$AT$5:$AU$6,2,FALSE)","v":0},null,null,0,{"$f":"H204*$L$2*VLOOKUP(DataByMiles!AE202,DataByMiles!$AT$5:$AU$6,2,FALSE)","v":0},{"$f":"DataByMiles!G202*VLOOKUP(DataByMiles!AE202,DataByMiles!$AT$5:$AU$6,2,FALSE)","v":0},null,null,{"$f":"M204*$P$2*VLOOKUP(DataByMiles!AE202,DataByMiles!$AT$5:$AU$6,2,FALSE)","v":0},{"$f":"DataByMiles!H202*VLOOKUP(DataByMiles!AE202,DataByMiles!$AT$5:$AU$6,2,FALSE)","v":0},null,null,{"$f":"Q204*$T$2*VLOOKUP(DataByMiles!AE202,DataByMiles!$AT$5:$AU$6,2,FALSE)","v":0},{"$f":"DataByMiles!I202*VLOOKUP(DataByMiles!AE202,DataByMiles!$AT$5:$AU$6,2,FALSE)","v":0},null,null,{"$f":"U204*$X$2*VLOOKUP(DataByMiles!AE202,DataByMiles!$AT$5:$AU$6,2,FALSE)","v":0},{"$f":"DataByMiles!J202*VLOOKUP(DataByMiles!AE202,DataByMiles!$AT$5:$AU$6,2,FALSE)","v":0},{"$f":"DataByMiles!K202","v":0},{"$f":"DataByMiles!L202","v":0},null,null,{"$f":"(Y204/IF(Z204=0,$AD$1,Z204)*$AD$2)/IF(AA204=0,1,AA204)*VLOOKUP(DataByMiles!AE202,DataByMiles!$AT$5:$AU$6,2,FALSE)","v":0},"",0,0,{"$f":"(AF204+AG204)*VLOOKUP(DataByMiles!AE202,DataByMiles!$AT$5:$AU$6,2,FALSE)","v":0},0]
[null,{"$f":"DataByMiles!C203","v":"----199"},{"$f":"DataByMiles!E203*VLOOKUP(DataByMiles!AE203,DataByMiles!$AT$5:$AU$6,2,FALSE)","v":0},null,null,0,{"$f":"C205*$G$2*VLOOKUP(DataByMiles!AE203,DataByMiles!$AT$5:$AU$6,2,FALSE)","v":0},{"$f":"DataByMiles!F203*VLOOKUP(DataByMiles!AE203,DataByMiles!$AT$5:$AU$6,2,FALSE)","v":0},null,null,0,{"$f":"H205*$L$2*VLOOKUP(DataByMiles!AE203,DataByMiles!$AT$5:$AU$6,2,FALSE)","v":0},{"$f":"DataByMiles!G203*VLOOKUP(DataByMiles!AE203,DataByMiles!$AT$5:$AU$6,2,FALSE)","v":0},null,null,{"$f":"M205*$P$2*VLOOKUP(DataByMiles!AE203,DataByMiles!$AT$5:$AU$6,2,FALSE)","v":0},{"$f":"DataByMiles!H203*VLOOKUP(DataByMiles!AE203,DataByMiles!$AT$5:$AU$6,2,FALSE)","v":0},null,null,{"$f":"Q205*$T$2*VLOOKUP(DataByMiles!AE203,DataByMiles!$AT$5:$AU$6,2,FALSE)","v":0},{"$f":"DataByMiles!I203*VLOOKUP(DataByMiles!AE203,DataByMiles!$AT$5:$AU$6,2,FALSE)","v":0},null,null,{"$f":"U205*$X$2*VLOOKUP(DataByMiles!AE203,DataByMiles!$AT$5:$AU$6,2,FALSE)","v":0},{"$f":"DataByMiles!J203*VLOOKUP(DataByMiles!AE203,DataByMiles!$AT$5:$AU$6,2,FALSE)","v":0},{"$f":"DataByMiles!K203","v":0},{"$f":"DataByMiles!L203","v":0},null,null,{"$f":"(Y205/IF(Z205=0,$AD$1,Z205)*$AD$2)/IF(AA205=0,1,AA205)*VLOOKUP(DataByMiles!AE203,DataByMiles!$AT$5:$AU$6,2,FALSE)","v":0},"",0,0,{"$f":"(AF205+AG205)*VLOOKUP(DataByMiles!AE203,DataByMiles!$AT$5:$AU$6,2,FALSE)","v":0},0]
[null,{"$f":"DataByMiles!C204","v":"----200"},{"$f":"DataByMiles!E204*VLOOKUP(DataByMiles!AE204,DataByMiles!$AT$5:$AU$6,2,FALSE)","v":0},null,null,0,{"$f":"C206*$G$2*VLOOKUP(DataByMiles!AE204,DataByMiles!$AT$5:$AU$6,2,FALSE)","v":0},{"$f":"DataByMiles!F204*VLOOKUP(DataByMiles!AE204,DataByMiles!$AT$5:$AU$6,2,FALSE)","v":0},null,null,0,{"$f":"H206*$L$2*VLOOKUP(DataByMiles!AE204,DataByMiles!$AT$5:$AU$6,2,FALSE)","v":0},{"$f":"DataByMiles!G204*VLOOKUP(DataByMiles!AE204,DataByMiles!$AT$5:$AU$6,2,FALSE)","v":0},null,null,{"$f":"M206*$P$2*VLOOKUP(DataByMiles!AE204,DataByMiles!$AT$5:$AU$6,2,FALSE)","v":0},{"$f":"DataByMiles!H204*VLOOKUP(DataByMiles!AE204,DataByMiles!$AT$5:$AU$6,2,FALSE)","v":0},null,null,{"$f":"Q206*$T$2*VLOOKUP(DataByMiles!AE204,DataByMiles!$AT$5:$AU$6,2,FALSE)","v":0},{"$f":"DataByMiles!I204*VLOOKUP(DataByMiles!AE204,DataByMiles!$AT$5:$AU$6,2,FALSE)","v":0},null,null,{"$f":"U206*$X$2*VLOOKUP(DataByMiles!AE204,DataByMiles!$AT$5:$AU$6,2,FALSE)","v":0},{"$f":"DataByMiles!J204*VLOOKUP(DataByMiles!AE204,DataByMiles!$AT$5:$AU$6,2,FALSE)","v":0},{"$f":"DataByMiles!K204","v":0},{"$f":"DataByMiles!L204","v":0},null,null,{"$f":"(Y206/IF(Z206=0,$AD$1,Z206)*$AD$2)/IF(AA206=0,1,AA206)*VLOOKUP(DataByMiles!AE204,DataByMiles!$AT$5:$AU$6,2,FALSE)","v":0},"",0,0,{"$f":"(AF206+AG206)*VLOOKUP(DataByMiles!AE204,DataByMiles!$AT$5:$AU$6,2,FALSE)","v":0},0]
[null,{"$f":"DataByMiles!C205","v":"----201"},{"$f":"DataByMiles!E205*VLOOKUP(DataByMiles!AE205,DataByMiles!$AT$5:$AU$6,2,FALSE)","v":0},null,null,0,{"$f":"C207*$G$2*VLOOKUP(DataByMiles!AE205,DataByMiles!$AT$5:$AU$6,2,FALSE)","v":0},{"$f":"DataByMiles!F205*VLOOKUP(DataByMiles!AE205,DataByMiles!$AT$5:$AU$6,2,FALSE)","v":0},null,null,0,{"$f":"H207*$L$2*VLOOKUP(DataByMiles!AE205,DataByMiles!$AT$5:$AU$6,2,FALSE)","v":0},{"$f":"DataByMiles!G205*VLOOKUP(DataByMiles!AE205,DataByMiles!$AT$5:$AU$6,2,FALSE)","v":0},null,null,{"$f":"M207*$P$2*VLOOKUP(DataByMiles!AE205,DataByMiles!$AT$5:$AU$6,2,FALSE)","v":0},{"$f":"DataByMiles!H205*VLOOKUP(DataByMiles!AE205,DataByMiles!$AT$5:$AU$6,2,FALSE)","v":0},null,null,{"$f":"Q207*$T$2*VLOOKUP(DataByMiles!AE205,DataByMiles!$AT$5:$AU$6,2,FALSE)","v":0},{"$f":"DataByMiles!I205*VLOOKUP(DataByMiles!AE205,DataByMiles!$AT$5:$AU$6,2,FALSE)","v":0},null,null,{"$f":"U207*$X$2*VLOOKUP(DataByMiles!AE205,DataByMiles!$AT$5:$AU$6,2,FALSE)","v":0},{"$f":"DataByMiles!J205*VLOOKUP(DataByMiles!AE205,DataByMiles!$AT$5:$AU$6,2,FALSE)","v":0},{"$f":"DataByMiles!K205","v":0},{"$f":"DataByMiles!L205","v":0},null,null,{"$f":"(Y207/IF(Z207=0,$AD$1,Z207)*$AD$2)/IF(AA207=0,1,AA207)*VLOOKUP(DataByMiles!AE205,DataByMiles!$AT$5:$AU$6,2,FALSE)","v":0},"",0,0,{"$f":"(AF207+AG207)*VLOOKUP(DataByMiles!AE205,DataByMiles!$AT$5:$AU$6,2,FALSE)","v":0},0]
[null,{"$f":"DataByMiles!C206","v":"----202"},{"$f":"DataByMiles!E206*VLOOKUP(DataByMiles!AE206,DataByMiles!$AT$5:$AU$6,2,FALSE)","v":0},null,null,0,{"$f":"C208*$G$2*VLOOKUP(DataByMiles!AE206,DataByMiles!$AT$5:$AU$6,2,FALSE)","v":0},{"$f":"DataByMiles!F206*VLOOKUP(DataByMiles!AE206,DataByMiles!$AT$5:$AU$6,2,FALSE)","v":0},null,null,0,{"$f":"H208*$L$2*VLOOKUP(DataByMiles!AE206,DataByMiles!$AT$5:$AU$6,2,FALSE)","v":0},{"$f":"DataByMiles!G206*VLOOKUP(DataByMiles!AE206,DataByMiles!$AT$5:$AU$6,2,FALSE)","v":0},null,null,{"$f":"M208*$P$2*VLOOKUP(DataByMiles!AE206,DataByMiles!$AT$5:$AU$6,2,FALSE)","v":0},{"$f":"DataByMiles!H206*VLOOKUP(DataByMiles!AE206,DataByMiles!$AT$5:$AU$6,2,FALSE)","v":0},null,null,{"$f":"Q208*$T$2*VLOOKUP(DataByMiles!AE206,DataByMiles!$AT$5:$AU$6,2,FALSE)","v":0},{"$f":"DataByMiles!I206*VLOOKUP(DataByMiles!AE206,DataByMiles!$AT$5:$AU$6,2,FALSE)","v":0},null,null,{"$f":"U208*$X$2*VLOOKUP(DataByMiles!AE206,DataByMiles!$AT$5:$AU$6,2,FALSE)","v":0},{"$f":"DataByMiles!J206*VLOOKUP(DataByMiles!AE206,DataByMiles!$AT$5:$AU$6,2,FALSE)","v":0},{"$f":"DataByMiles!K206","v":0},{"$f":"DataByMiles!L206","v":0},null,null,{"$f":"(Y208/IF(Z208=0,$AD$1,Z208)*$AD$2)/IF(AA208=0,1,AA208)*VLOOKUP(DataByMiles!AE206,DataByMiles!$AT$5:$AU$6,2,FALSE)","v":0},"",0,0,{"$f":"(AF208+AG208)*VLOOKUP(DataByMiles!AE206,DataByMiles!$AT$5:$AU$6,2,FALSE)","v":0},0]
[null,{"$f":"DataByMiles!C207","v":"----203"},{"$f":"DataByMiles!E207*VLOOKUP(DataByMiles!AE207,DataByMiles!$AT$5:$AU$6,2,FALSE)","v":0},null,null,0,{"$f":"C209*$G$2*VLOOKUP(DataByMiles!AE207,DataByMiles!$AT$5:$AU$6,2,FALSE)","v":0},{"$f":"DataByMiles!F207*VLOOKUP(DataByMiles!AE207,DataByMiles!$AT$5:$AU$6,2,FALSE)","v":0},null,null,0,{"$f":"H209*$L$2*VLOOKUP(DataByMiles!AE207,DataByMiles!$AT$5:$AU$6,2,FALSE)","v":0},{"$f":"DataByMiles!G207*VLOOKUP(DataByMiles!AE207,DataByMiles!$AT$5:$AU$6,2,FALSE)","v":0},null,null,{"$f":"M209*$P$2*VLOOKUP(DataByMiles!AE207,DataByMiles!$AT$5:$AU$6,2,FALSE)","v":0},{"$f":"DataByMiles!H207*VLOOKUP(DataByMiles!AE207,DataByMiles!$AT$5:$AU$6,2,FALSE)","v":0},null,null,{"$f":"Q209*$T$2*VLOOKUP(DataByMiles!AE207,DataByMiles!$AT$5:$AU$6,2,FALSE)","v":0},{"$f":"DataByMiles!I207*VLOOKUP(DataByMiles!AE207,DataByMiles!$AT$5:$AU$6,2,FALSE)","v":0},null,null,{"$f":"U209*$X$2*VLOOKUP(DataByMiles!AE207,DataByMiles!$AT$5:$AU$6,2,FALSE)","v":0},{"$f":"DataByMiles!J207*VLOOKUP(DataByMiles!AE207,DataByMiles!$AT$5:$AU$6,2,FALSE)","v":0},{"$f":"DataByMiles!K207","v":0},{"$f":"DataByMiles!L207","v":0},null,null,{"$f":"(Y209/IF(Z209=0,$AD$1,Z209)*$AD$2)/IF(AA209=0,1,AA209)*VLOOKUP(DataByMiles!AE207,DataByMiles!$AT$5:$AU$6,2,FALSE)","v":0},"",0,0,{"$f":"(AF209+AG209)*VLOOKUP(DataByMiles!AE207,DataByMiles!$AT$5:$AU$6,2,FALSE)","v":0},0]
[null,{"$f":"DataByMiles!C208","v":"----204"},{"$f":"DataByMiles!E208*VLOOKUP(DataByMiles!AE208,DataByMiles!$AT$5:$AU$6,2,FALSE)","v":0},null,null,0,{"$f":"C210*$G$2*VLOOKUP(DataByMiles!AE208,DataByMiles!$AT$5:$AU$6,2,FALSE)","v":0},{"$f":"DataByMiles!F208*VLOOKUP(DataByMiles!AE208,DataByMiles!$AT$5:$AU$6,2,FALSE)","v":0},null,null,0,{"$f":"H210*$L$2*VLOOKUP(DataByMiles!AE208,DataByMiles!$AT$5:$AU$6,2,FALSE)","v":0},{"$f":"DataByMiles!G208*VLOOKUP(DataByMiles!AE208,DataByMiles!$AT$5:$AU$6,2,FALSE)","v":0},null,null,{"$f":"M210*$P$2*VLOOKUP(DataByMiles!AE208,DataByMiles!$AT$5:$AU$6,2,FALSE)","v":0},{"$f":"DataByMiles!H208*VLOOKUP(DataByMiles!AE208,DataByMiles!$AT$5:$AU$6,2,FALSE)","v":0},null,null,{"$f":"Q210*$T$2*VLOOKUP(DataByMiles!AE208,DataByMiles!$AT$5:$AU$6,2,FALSE)","v":0},{"$f":"DataByMiles!I208*VLOOKUP(DataByMiles!AE208,DataByMiles!$AT$5:$AU$6,2,FALSE)","v":0},null,null,{"$f":"U210*$X$2*VLOOKUP(DataByMiles!AE208,DataByMiles!$AT$5:$AU$6,2,FALSE)","v":0},{"$f":"DataByMiles!J208*VLOOKUP(DataByMiles!AE208,DataByMiles!$AT$5:$AU$6,2,FALSE)","v":0},{"$f":"DataByMiles!K208","v":0},{"$f":"DataByMiles!L208","v":0},null,null,{"$f":"(Y210/IF(Z210=0,$AD$1,Z210)*$AD$2)/IF(AA210=0,1,AA210)*VLOOKUP(DataByMiles!AE208,DataByMiles!$AT$5:$AU$6,2,FALSE)","v":0},"",0,0,{"$f":"(AF210+AG210)*VLOOKUP(DataByMiles!AE208,DataByMiles!$AT$5:$AU$6,2,FALSE)","v":0},0]
[null,{"$f":"DataByMiles!C209","v":"----205"},{"$f":"DataByMiles!E209*VLOOKUP(DataByMiles!AE209,DataByMiles!$AT$5:$AU$6,2,FALSE)","v":0},null,null,0,{"$f":"C211*$G$2*VLOOKUP(DataByMiles!AE209,DataByMiles!$AT$5:$AU$6,2,FALSE)","v":0},{"$f":"DataByMiles!F209*VLOOKUP(DataByMiles!AE209,DataByMiles!$AT$5:$AU$6,2,FALSE)","v":0},null,null,0,{"$f":"H211*$L$2*VLOOKUP(DataByMiles!AE209,DataByMiles!$AT$5:$AU$6,2,FALSE)","v":0},{"$f":"DataByMiles!G209*VLOOKUP(DataByMiles!AE209,DataByMiles!$AT$5:$AU$6,2,FALSE)","v":0},null,null,{"$f":"M211*$P$2*VLOOKUP(DataByMiles!AE209,DataByMiles!$AT$5:$AU$6,2,FALSE)","v":0},{"$f":"DataByMiles!H209*VLOOKUP(DataByMiles!AE209,DataByMiles!$AT$5:$AU$6,2,FALSE)","v":0},null,null,{"$f":"Q211*$T$2*VLOOKUP(DataByMiles!AE209,DataByMiles!$AT$5:$AU$6,2,FALSE)","v":0},{"$f":"DataByMiles!I209*VLOOKUP(DataByMiles!AE209,DataByMiles!$AT$5:$AU$6,2,FALSE)","v":0},null,null,{"$f":"U211*$X$2*VLOOKUP(DataByMiles!AE209,DataByMiles!$AT$5:$AU$6,2,FALSE)","v":0},{"$f":"DataByMiles!J209*VLOOKUP(DataByMiles!AE209,DataByMiles!$AT$5:$AU$6,2,FALSE)","v":0},{"$f":"DataByMiles!K209","v":0},{"$f":"DataByMiles!L209","v":0},null,null,{"$f":"(Y211/IF(Z211=0,$AD$1,Z211)*$AD$2)/IF(AA211=0,1,AA211)*VLOOKUP(DataByMiles!AE209,DataByMiles!$AT$5:$AU$6,2,FALSE)","v":0},"",0,0,{"$f":"(AF211+AG211)*VLOOKUP(DataByMiles!AE209,DataByMiles!$AT$5:$AU$6,2,FALSE)","v":0},0]
[null,{"$f":"DataByMiles!C210","v":"----206"},{"$f":"DataByMiles!E210*VLOOKUP(DataByMiles!AE210,DataByMiles!$AT$5:$AU$6,2,FALSE)","v":0},null,null,0,{"$f":"C212*$G$2*VLOOKUP(DataByMiles!AE210,DataByMiles!$AT$5:$AU$6,2,FALSE)","v":0},{"$f":"DataByMiles!F210*VLOOKUP(DataByMiles!AE210,DataByMiles!$AT$5:$AU$6,2,FALSE)","v":0},null,null,0,{"$f":"H212*$L$2*VLOOKUP(DataByMiles!AE210,DataByMiles!$AT$5:$AU$6,2,FALSE)","v":0},{"$f":"DataByMiles!G210*VLOOKUP(DataByMiles!AE210,DataByMiles!$AT$5:$AU$6,2,FALSE)","v":0},null,null,{"$f":"M212*$P$2*VLOOKUP(DataByMiles!AE210,DataByMiles!$AT$5:$AU$6,2,FALSE)","v":0},{"$f":"DataByMiles!H210*VLOOKUP(DataByMiles!AE210,DataByMiles!$AT$5:$AU$6,2,FALSE)","v":0},null,null,{"$f":"Q212*$T$2*VLOOKUP(DataByMiles!AE210,DataByMiles!$AT$5:$AU$6,2,FALSE)","v":0},{"$f":"DataByMiles!I210*VLOOKUP(DataByMiles!AE210,DataByMiles!$AT$5:$AU$6,2,FALSE)","v":0},null,null,{"$f":"U212*$X$2*VLOOKUP(DataByMiles!AE210,DataByMiles!$AT$5:$AU$6,2,FALSE)","v":0},{"$f":"DataByMiles!J210*VLOOKUP(DataByMiles!AE210,DataByMiles!$AT$5:$AU$6,2,FALSE)","v":0},{"$f":"DataByMiles!K210","v":0},{"$f":"DataByMiles!L210","v":0},null,null,{"$f":"(Y212/IF(Z212=0,$AD$1,Z212)*$AD$2)/IF(AA212=0,1,AA212)*VLOOKUP(DataByMiles!AE210,DataByMiles!$AT$5:$AU$6,2,FALSE)","v":0},"",0,0,{"$f":"(AF212+AG212)*VLOOKUP(DataByMiles!AE210,DataByMiles!$AT$5:$AU$6,2,FALSE)","v":0},0]
[null,{"$f":"DataByMiles!C211","v":"----207"},{"$f":"DataByMiles!E211*VLOOKUP(DataByMiles!AE211,DataByMiles!$AT$5:$AU$6,2,FALSE)","v":0},null,null,0,{"$f":"C213*$G$2*VLOOKUP(DataByMiles!AE211,DataByMiles!$AT$5:$AU$6,2,FALSE)","v":0},{"$f":"DataByMiles!F211*VLOOKUP(DataByMiles!AE211,DataByMiles!$AT$5:$AU$6,2,FALSE)","v":0},null,null,0,{"$f":"H213*$L$2*VLOOKUP(DataByMiles!AE211,DataByMiles!$AT$5:$AU$6,2,FALSE)","v":0},{"$f":"DataByMiles!G211*VLOOKUP(DataByMiles!AE211,DataByMiles!$AT$5:$AU$6,2,FALSE)","v":0},null,null,{"$f":"M213*$P$2*VLOOKUP(DataByMiles!AE211,DataByMiles!$AT$5:$AU$6,2,FALSE)","v":0},{"$f":"DataByMiles!H211*VLOOKUP(DataByMiles!AE211,DataByMiles!$AT$5:$AU$6,2,FALSE)","v":0},null,null,{"$f":"Q213*$T$2*VLOOKUP(DataByMiles!AE211,DataByMiles!$AT$5:$AU$6,2,FALSE)","v":0},{"$f":"DataByMiles!I211*VLOOKUP(DataByMiles!AE211,DataByMiles!$AT$5:$AU$6,2,FALSE)","v":0},null,null,{"$f":"U213*$X$2*VLOOKUP(DataByMiles!AE211,DataByMiles!$AT$5:$AU$6,2,FALSE)","v":0},{"$f":"DataByMiles!J211*VLOOKUP(DataByMiles!AE211,DataByMiles!$AT$5:$AU$6,2,FALSE)","v":0},{"$f":"DataByMiles!K211","v":0},{"$f":"DataByMiles!L211","v":0},null,null,{"$f":"(Y213/IF(Z213=0,$AD$1,Z213)*$AD$2)/IF(AA213=0,1,AA213)*VLOOKUP(DataByMiles!AE211,DataByMiles!$AT$5:$AU$6,2,FALSE)","v":0},"",0,0,{"$f":"(AF213+AG213)*VLOOKUP(DataByMiles!AE211,DataByMiles!$AT$5:$AU$6,2,FALSE)","v":0},0]
[null,{"$f":"DataByMiles!C212","v":"----208"},{"$f":"DataByMiles!E212*VLOOKUP(DataByMiles!AE212,DataByMiles!$AT$5:$AU$6,2,FALSE)","v":0},null,null,0,{"$f":"C214*$G$2*VLOOKUP(DataByMiles!AE212,DataByMiles!$AT$5:$AU$6,2,FALSE)","v":0},{"$f":"DataByMiles!F212*VLOOKUP(DataByMiles!AE212,DataByMiles!$AT$5:$AU$6,2,FALSE)","v":0},null,null,0,{"$f":"H214*$L$2*VLOOKUP(DataByMiles!AE212,DataByMiles!$AT$5:$AU$6,2,FALSE)","v":0},{"$f":"DataByMiles!G212*VLOOKUP(DataByMiles!AE212,DataByMiles!$AT$5:$AU$6,2,FALSE)","v":0},null,null,{"$f":"M214*$P$2*VLOOKUP(DataByMiles!AE212,DataByMiles!$AT$5:$AU$6,2,FALSE)","v":0},{"$f":"DataByMiles!H212*VLOOKUP(DataByMiles!AE212,DataByMiles!$AT$5:$AU$6,2,FALSE)","v":0},null,null,{"$f":"Q214*$T$2*VLOOKUP(DataByMiles!AE212,DataByMiles!$AT$5:$AU$6,2,FALSE)","v":0},{"$f":"DataByMiles!I212*VLOOKUP(DataByMiles!AE212,DataByMiles!$AT$5:$AU$6,2,FALSE)","v":0},null,null,{"$f":"U214*$X$2*VLOOKUP(DataByMiles!AE212,DataByMiles!$AT$5:$AU$6,2,FALSE)","v":0},{"$f":"DataByMiles!J212*VLOOKUP(DataByMiles!AE212,DataByMiles!$AT$5:$AU$6,2,FALSE)","v":0},{"$f":"DataByMiles!K212","v":0},{"$f":"DataByMiles!L212","v":0},null,null,{"$f":"(Y214/IF(Z214=0,$AD$1,Z214)*$AD$2)/IF(AA214=0,1,AA214)*VLOOKUP(DataByMiles!AE212,DataByMiles!$AT$5:$AU$6,2,FALSE)","v":0},"",0,0,{"$f":"(AF214+AG214)*VLOOKUP(DataByMiles!AE212,DataByMiles!$AT$5:$AU$6,2,FALSE)","v":0},0]
[null,{"$f":"DataByMiles!C213","v":"----209"},{"$f":"DataByMiles!E213*VLOOKUP(DataByMiles!AE213,DataByMiles!$AT$5:$AU$6,2,FALSE)","v":0},null,null,0,{"$f":"C215*$G$2*VLOOKUP(DataByMiles!AE213,DataByMiles!$AT$5:$AU$6,2,FALSE)","v":0},{"$f":"DataByMiles!F213*VLOOKUP(DataByMiles!AE213,DataByMiles!$AT$5:$AU$6,2,FALSE)","v":0},null,null,0,{"$f":"H215*$L$2*VLOOKUP(DataByMiles!AE213,DataByMiles!$AT$5:$AU$6,2,FALSE)","v":0},{"$f":"DataByMiles!G213*VLOOKUP(DataByMiles!AE213,DataByMiles!$AT$5:$AU$6,2,FALSE)","v":0},null,null,{"$f":"M215*$P$2*VLOOKUP(DataByMiles!AE213,DataByMiles!$AT$5:$AU$6,2,FALSE)","v":0},{"$f":"DataByMiles!H213*VLOOKUP(DataByMiles!AE213,DataByMiles!$AT$5:$AU$6,2,FALSE)","v":0},null,null,{"$f":"Q215*$T$2*VLOOKUP(DataByMiles!AE213,DataByMiles!$AT$5:$AU$6,2,FALSE)","v":0},{"$f":"DataByMiles!I213*VLOOKUP(DataByMiles!AE213,DataByMiles!$AT$5:$AU$6,2,FALSE)","v":0},null,null,{"$f":"U215*$X$2*VLOOKUP(DataByMiles!AE213,DataByMiles!$AT$5:$AU$6,2,FALSE)","v":0},{"$f":"DataByMiles!J213*VLOOKUP(DataByMiles!AE213,DataByMiles!$AT$5:$AU$6,2,FALSE)","v":0},{"$f":"DataByMiles!K213","v":0},{"$f":"DataByMiles!L213","v":0},null,null,{"$f":"(Y215/IF(Z215=0,$AD$1,Z215)*$AD$2)/IF(AA215=0,1,AA215)*VLOOKUP(DataByMiles!AE213,DataByMiles!$AT$5:$AU$6,2,FALSE)","v":0},"",0,0,{"$f":"(AF215+AG215)*VLOOKUP(DataByMiles!AE213,DataByMiles!$AT$5:$AU$6,2,FALSE)","v":0},0]
[null,{"$f":"DataByMiles!C214","v":"----210"},{"$f":"DataByMiles!E214*VLOOKUP(DataByMiles!AE214,DataByMiles!$AT$5:$AU$6,2,FALSE)","v":0},null,null,0,{"$f":"C216*$G$2*VLOOKUP(DataByMiles!AE214,DataByMiles!$AT$5:$AU$6,2,FALSE)","v":0},{"$f":"DataByMiles!F214*VLOOKUP(DataByMiles!AE214,DataByMiles!$AT$5:$AU$6,2,FALSE)","v":0},null,null,0,{"$f":"H216*$L$2*VLOOKUP(DataByMiles!AE214,DataByMiles!$AT$5:$AU$6,2,FALSE)","v":0},{"$f":"DataByMiles!G214*VLOOKUP(DataByMiles!AE214,DataByMiles!$AT$5:$AU$6,2,FALSE)","v":0},null,null,{"$f":"M216*$P$2*VLOOKUP(DataByMiles!AE214,DataByMiles!$AT$5:$AU$6,2,FALSE)","v":0},{"$f":"DataByMiles!H214*VLOOKUP(DataByMiles!AE214,DataByMiles!$AT$5:$AU$6,2,FALSE)","v":0},null,null,{"$f":"Q216*$T$2*VLOOKUP(DataByMiles!AE214,DataByMiles!$AT$5:$AU$6,2,FALSE)","v":0},{"$f":"DataByMiles!I214*VLOOKUP(DataByMiles!AE214,DataByMiles!$AT$5:$AU$6,2,FALSE)","v":0},null,null,{"$f":"U216*$X$2*VLOOKUP(DataByMiles!AE214,DataByMiles!$AT$5:$AU$6,2,FALSE)","v":0},{"$f":"DataByMiles!J214*VLOOKUP(DataByMiles!AE214,DataByMiles!$AT$5:$AU$6,2,FALSE)","v":0},{"$f":"DataByMiles!K214","v":0},{"$f":"DataByMiles!L214","v":0},null,null,{"$f":"(Y216/IF(Z216=0,$AD$1,Z216)*$AD$2)/IF(AA216=0,1,AA216)*VLOOKUP(DataByMiles!AE214,DataByMiles!$AT$5:$AU$6,2,FALSE)","v":0},"",0,0,{"$f":"(AF216+AG216)*VLOOKUP(DataByMiles!AE214,DataByMiles!$AT$5:$AU$6,2,FALSE)","v":0},0]
[null,{"$f":"DataByMiles!C215","v":"----211"},{"$f":"DataByMiles!E215*VLOOKUP(DataByMiles!AE215,DataByMiles!$AT$5:$AU$6,2,FALSE)","v":0},null,null,0,{"$f":"C217*$G$2*VLOOKUP(DataByMiles!AE215,DataByMiles!$AT$5:$AU$6,2,FALSE)","v":0},{"$f":"DataByMiles!F215*VLOOKUP(DataByMiles!AE215,DataByMiles!$AT$5:$AU$6,2,FALSE)","v":0},null,null,0,{"$f":"H217*$L$2*VLOOKUP(DataByMiles!AE215,DataByMiles!$AT$5:$AU$6,2,FALSE)","v":0},{"$f":"DataByMiles!G215*VLOOKUP(DataByMiles!AE215,DataByMiles!$AT$5:$AU$6,2,FALSE)","v":0},null,null,{"$f":"M217*$P$2*VLOOKUP(DataByMiles!AE215,DataByMiles!$AT$5:$AU$6,2,FALSE)","v":0},{"$f":"DataByMiles!H215*VLOOKUP(DataByMiles!AE215,DataByMiles!$AT$5:$AU$6,2,FALSE)","v":0},null,null,{"$f":"Q217*$T$2*VLOOKUP(DataByMiles!AE215,DataByMiles!$AT$5:$AU$6,2,FALSE)","v":0},{"$f":"DataByMiles!I215*VLOOKUP(DataByMiles!AE215,DataByMiles!$AT$5:$AU$6,2,FALSE)","v":0},null,null,{"$f":"U217*$X$2*VLOOKUP(DataByMiles!AE215,DataByMiles!$AT$5:$AU$6,2,FALSE)","v":0},{"$f":"DataByMiles!J215*VLOOKUP(DataByMiles!AE215,DataByMiles!$AT$5:$AU$6,2,FALSE)","v":0},{"$f":"DataByMiles!K215","v":0},{"$f":"DataByMiles!L215","v":0},null,null,{"$f":"(Y217/IF(Z217=0,$AD$1,Z217)*$AD$2)/IF(AA217=0,1,AA217)*VLOOKUP(DataByMiles!AE215,DataByMiles!$AT$5:$AU$6,2,FALSE)","v":0},"",0,0,{"$f":"(AF217+AG217)*VLOOKUP(DataByMiles!AE215,DataByMiles!$AT$5:$AU$6,2,FALSE)","v":0},0]
[null,{"$f":"DataByMiles!C216","v":"----212"},{"$f":"DataByMiles!E216*VLOOKUP(DataByMiles!AE216,DataByMiles!$AT$5:$AU$6,2,FALSE)","v":0},null,null,0,{"$f":"C218*$G$2*VLOOKUP(DataByMiles!AE216,DataByMiles!$AT$5:$AU$6,2,FALSE)","v":0},{"$f":"DataByMiles!F216*VLOOKUP(DataByMiles!AE216,DataByMiles!$AT$5:$AU$6,2,FALSE)","v":0},null,null,0,{"$f":"H218*$L$2*VLOOKUP(DataByMiles!AE216,DataByMiles!$AT$5:$AU$6,2,FALSE)","v":0},{"$f":"DataByMiles!G216*VLOOKUP(DataByMiles!AE216,DataByMiles!$AT$5:$AU$6,2,FALSE)","v":0},null,null,{"$f":"M218*$P$2*VLOOKUP(DataByMiles!AE216,DataByMiles!$AT$5:$AU$6,2,FALSE)","v":0},{"$f":"DataByMiles!H216*VLOOKUP(DataByMiles!AE216,DataByMiles!$AT$5:$AU$6,2,FALSE)","v":0},null,null,{"$f":"Q218*$T$2*VLOOKUP(DataByMiles!AE216,DataByMiles!$AT$5:$AU$6,2,FALSE)","v":0},{"$f":"DataByMiles!I216*VLOOKUP(DataByMiles!AE216,DataByMiles!$AT$5:$AU$6,2,FALSE)","v":0},null,null,{"$f":"U218*$X$2*VLOOKUP(DataByMiles!AE216,DataByMiles!$AT$5:$AU$6,2,FALSE)","v":0},{"$f":"DataByMiles!J216*VLOOKUP(DataByMiles!AE216,DataByMiles!$AT$5:$AU$6,2,FALSE)","v":0},{"$f":"DataByMiles!K216","v":0},{"$f":"DataByMiles!L216","v":0},null,null,{"$f":"(Y218/IF(Z218=0,$AD$1,Z218)*$AD$2)/IF(AA218=0,1,AA218)*VLOOKUP(DataByMiles!AE216,DataByMiles!$AT$5:$AU$6,2,FALSE)","v":0},"",0,0,{"$f":"(AF218+AG218)*VLOOKUP(DataByMiles!AE216,DataByMiles!$AT$5:$AU$6,2,FALSE)","v":0},0]
[null,{"$f":"DataByMiles!C217","v":"----213"},{"$f":"DataByMiles!E217*VLOOKUP(DataByMiles!AE217,DataByMiles!$AT$5:$AU$6,2,FALSE)","v":0},null,null,0,{"$f":"C219*$G$2*VLOOKUP(DataByMiles!AE217,DataByMiles!$AT$5:$AU$6,2,FALSE)","v":0},{"$f":"DataByMiles!F217*VLOOKUP(DataByMiles!AE217,DataByMiles!$AT$5:$AU$6,2,FALSE)","v":0},null,null,0,{"$f":"H219*$L$2*VLOOKUP(DataByMiles!AE217,DataByMiles!$AT$5:$AU$6,2,FALSE)","v":0},{"$f":"DataByMiles!G217*VLOOKUP(DataByMiles!AE217,DataByMiles!$AT$5:$AU$6,2,FALSE)","v":0},null,null,{"$f":"M219*$P$2*VLOOKUP(DataByMiles!AE217,DataByMiles!$AT$5:$AU$6,2,FALSE)","v":0},{"$f":"DataByMiles!H217*VLOOKUP(DataByMiles!AE217,DataByMiles!$AT$5:$AU$6,2,FALSE)","v":0},null,null,{"$f":"Q219*$T$2*VLOOKUP(DataByMiles!AE217,DataByMiles!$AT$5:$AU$6,2,FALSE)","v":0},{"$f":"DataByMiles!I217*VLOOKUP(DataByMiles!AE217,DataByMiles!$AT$5:$AU$6,2,FALSE)","v":0},null,null,{"$f":"U219*$X$2*VLOOKUP(DataByMiles!AE217,DataByMiles!$AT$5:$AU$6,2,FALSE)","v":0},{"$f":"DataByMiles!J217*VLOOKUP(DataByMiles!AE217,DataByMiles!$AT$5:$AU$6,2,FALSE)","v":0},{"$f":"DataByMiles!K217","v":0},{"$f":"DataByMiles!L217","v":0},null,null,{"$f":"(Y219/IF(Z219=0,$AD$1,Z219)*$AD$2)/IF(AA219=0,1,AA219)*VLOOKUP(DataByMiles!AE217,DataByMiles!$AT$5:$AU$6,2,FALSE)","v":0},"",0,0,{"$f":"(AF219+AG219)*VLOOKUP(DataByMiles!AE217,DataByMiles!$AT$5:$AU$6,2,FALSE)","v":0},0]
[null,{"$f":"DataByMiles!C218","v":"----214"},{"$f":"DataByMiles!E218*VLOOKUP(DataByMiles!AE218,DataByMiles!$AT$5:$AU$6,2,FALSE)","v":0},null,null,0,{"$f":"C220*$G$2*VLOOKUP(DataByMiles!AE218,DataByMiles!$AT$5:$AU$6,2,FALSE)","v":0},{"$f":"DataByMiles!F218*VLOOKUP(DataByMiles!AE218,DataByMiles!$AT$5:$AU$6,2,FALSE)","v":0},null,null,0,{"$f":"H220*$L$2*VLOOKUP(DataByMiles!AE218,DataByMiles!$AT$5:$AU$6,2,FALSE)","v":0},{"$f":"DataByMiles!G218*VLOOKUP(DataByMiles!AE218,DataByMiles!$AT$5:$AU$6,2,FALSE)","v":0},null,null,{"$f":"M220*$P$2*VLOOKUP(DataByMiles!AE218,DataByMiles!$AT$5:$AU$6,2,FALSE)","v":0},{"$f":"DataByMiles!H218*VLOOKUP(DataByMiles!AE218,DataByMiles!$AT$5:$AU$6,2,FALSE)","v":0},null,null,{"$f":"Q220*$T$2*VLOOKUP(DataByMiles!AE218,DataByMiles!$AT$5:$AU$6,2,FALSE)","v":0},{"$f":"DataByMiles!I218*VLOOKUP(DataByMiles!AE218,DataByMiles!$AT$5:$AU$6,2,FALSE)","v":0},null,null,{"$f":"U220*$X$2*VLOOKUP(DataByMiles!AE218,DataByMiles!$AT$5:$AU$6,2,FALSE)","v":0},{"$f":"DataByMiles!J218*VLOOKUP(DataByMiles!AE218,DataByMiles!$AT$5:$AU$6,2,FALSE)","v":0},{"$f":"DataByMiles!K218","v":0},{"$f":"DataByMiles!L218","v":0},null,null,{"$f":"(Y220/IF(Z220=0,$AD$1,Z220)*$AD$2)/IF(AA220=0,1,AA220)*VLOOKUP(DataByMiles!AE218,DataByMiles!$AT$5:$AU$6,2,FALSE)","v":0},"",0,0,{"$f":"(AF220+AG220)*VLOOKUP(DataByMiles!AE218,DataByMiles!$AT$5:$AU$6,2,FALSE)","v":0},0]
[null,{"$f":"DataByMiles!C219","v":"----215"},{"$f":"DataByMiles!E219*VLOOKUP(DataByMiles!AE219,DataByMiles!$AT$5:$AU$6,2,FALSE)","v":0},null,null,0,{"$f":"C221*$G$2*VLOOKUP(DataByMiles!AE219,DataByMiles!$AT$5:$AU$6,2,FALSE)","v":0},{"$f":"DataByMiles!F219*VLOOKUP(DataByMiles!AE219,DataByMiles!$AT$5:$AU$6,2,FALSE)","v":0},null,null,0,{"$f":"H221*$L$2*VLOOKUP(DataByMiles!AE219,DataByMiles!$AT$5:$AU$6,2,FALSE)","v":0},{"$f":"DataByMiles!G219*VLOOKUP(DataByMiles!AE219,DataByMiles!$AT$5:$AU$6,2,FALSE)","v":0},null,null,{"$f":"M221*$P$2*VLOOKUP(DataByMiles!AE219,DataByMiles!$AT$5:$AU$6,2,FALSE)","v":0},{"$f":"DataByMiles!H219*VLOOKUP(DataByMiles!AE219,DataByMiles!$AT$5:$AU$6,2,FALSE)","v":0},null,null,{"$f":"Q221*$T$2*VLOOKUP(DataByMiles!AE219,DataByMiles!$AT$5:$AU$6,2,FALSE)","v":0},{"$f":"DataByMiles!I219*VLOOKUP(DataByMiles!AE219,DataByMiles!$AT$5:$AU$6,2,FALSE)","v":0},null,null,{"$f":"U221*$X$2*VLOOKUP(DataByMiles!AE219,DataByMiles!$AT$5:$AU$6,2,FALSE)","v":0},{"$f":"DataByMiles!J219*VLOOKUP(DataByMiles!AE219,DataByMiles!$AT$5:$AU$6,2,FALSE)","v":0},{"$f":"DataByMiles!K219","v":0},{"$f":"DataByMiles!L219","v":0},null,null,{"$f":"(Y221/IF(Z221=0,$AD$1,Z221)*$AD$2)/IF(AA221=0,1,AA221)*VLOOKUP(DataByMiles!AE219,DataByMiles!$AT$5:$AU$6,2,FALSE)","v":0},"",0,0,{"$f":"(AF221+AG221)*VLOOKUP(DataByMiles!AE219,DataByMiles!$AT$5:$AU$6,2,FALSE)","v":0},0]
[null,{"$f":"DataByMiles!C220","v":"----216"},{"$f":"DataByMiles!E220*VLOOKUP(DataByMiles!AE220,DataByMiles!$AT$5:$AU$6,2,FALSE)","v":0},null,null,0,{"$f":"C222*$G$2*VLOOKUP(DataByMiles!AE220,DataByMiles!$AT$5:$AU$6,2,FALSE)","v":0},{"$f":"DataByMiles!F220*VLOOKUP(DataByMiles!AE220,DataByMiles!$AT$5:$AU$6,2,FALSE)","v":0},null,null,0,{"$f":"H222*$L$2*VLOOKUP(DataByMiles!AE220,DataByMiles!$AT$5:$AU$6,2,FALSE)","v":0},{"$f":"DataByMiles!G220*VLOOKUP(DataByMiles!AE220,DataByMiles!$AT$5:$AU$6,2,FALSE)","v":0},null,null,{"$f":"M222*$P$2*VLOOKUP(DataByMiles!AE220,DataByMiles!$AT$5:$AU$6,2,FALSE)","v":0},{"$f":"DataByMiles!H220*VLOOKUP(DataByMiles!AE220,DataByMiles!$AT$5:$AU$6,2,FALSE)","v":0},null,null,{"$f":"Q222*$T$2*VLOOKUP(DataByMiles!AE220,DataByMiles!$AT$5:$AU$6,2,FALSE)","v":0},{"$f":"DataByMiles!I220*VLOOKUP(DataByMiles!AE220,DataByMiles!$AT$5:$AU$6,2,FALSE)","v":0},null,null,{"$f":"U222*$X$2*VLOOKUP(DataByMiles!AE220,DataByMiles!$AT$5:$AU$6,2,FALSE)","v":0},{"$f":"DataByMiles!J220*VLOOKUP(DataByMiles!AE220,DataByMiles!$AT$5:$AU$6,2,FALSE)","v":0},{"$f":"DataByMiles!K220","v":0},{"$f":"DataByMiles!L220","v":0},null,null,{"$f":"(Y222/IF(Z222=0,$AD$1,Z222)*$AD$2)/IF(AA222=0,1,AA222)*VLOOKUP(DataByMiles!AE220,DataByMiles!$AT$5:$AU$6,2,FALSE)","v":0},"",0,0,{"$f":"(AF222+AG222)*VLOOKUP(DataByMiles!AE220,DataByMiles!$AT$5:$AU$6,2,FALSE)","v":0},0]
[null,{"$f":"DataByMiles!C221","v":"----217"},{"$f":"DataByMiles!E221*VLOOKUP(DataByMiles!AE221,DataByMiles!$AT$5:$AU$6,2,FALSE)","v":0},null,null,0,{"$f":"C223*$G$2*VLOOKUP(DataByMiles!AE221,DataByMiles!$AT$5:$AU$6,2,FALSE)","v":0},{"$f":"DataByMiles!F221*VLOOKUP(DataByMiles!AE221,DataByMiles!$AT$5:$AU$6,2,FALSE)","v":0},null,null,0,{"$f":"H223*$L$2*VLOOKUP(DataByMiles!AE221,DataByMiles!$AT$5:$AU$6,2,FALSE)","v":0},{"$f":"DataByMiles!G221*VLOOKUP(DataByMiles!AE221,DataByMiles!$AT$5:$AU$6,2,FALSE)","v":0},null,null,{"$f":"M223*$P$2*VLOOKUP(DataByMiles!AE221,DataByMiles!$AT$5:$AU$6,2,FALSE)","v":0},{"$f":"DataByMiles!H221*VLOOKUP(DataByMiles!AE221,DataByMiles!$AT$5:$AU$6,2,FALSE)","v":0},null,null,{"$f":"Q223*$T$2*VLOOKUP(DataByMiles!AE221,DataByMiles!$AT$5:$AU$6,2,FALSE)","v":0},{"$f":"DataByMiles!I221*VLOOKUP(DataByMiles!AE221,DataByMiles!$AT$5:$AU$6,2,FALSE)","v":0},null,null,{"$f":"U223*$X$2*VLOOKUP(DataByMiles!AE221,DataByMiles!$AT$5:$AU$6,2,FALSE)","v":0},{"$f":"DataByMiles!J221*VLOOKUP(DataByMiles!AE221,DataByMiles!$AT$5:$AU$6,2,FALSE)","v":0},{"$f":"DataByMiles!K221","v":0},{"$f":"DataByMiles!L221","v":0},null,null,{"$f":"(Y223/IF(Z223=0,$AD$1,Z223)*$AD$2)/IF(AA223=0,1,AA223)*VLOOKUP(DataByMiles!AE221,DataByMiles!$AT$5:$AU$6,2,FALSE)","v":0},"",0,0,{"$f":"(AF223+AG223)*VLOOKUP(DataByMiles!AE221,DataByMiles!$AT$5:$AU$6,2,FALSE)","v":0},0]
[null,{"$f":"DataByMiles!C222","v":"----218"},{"$f":"DataByMiles!E222*VLOOKUP(DataByMiles!AE222,DataByMiles!$AT$5:$AU$6,2,FALSE)","v":0},null,null,0,{"$f":"C224*$G$2*VLOOKUP(DataByMiles!AE222,DataByMiles!$AT$5:$AU$6,2,FALSE)","v":0},{"$f":"DataByMiles!F222*VLOOKUP(DataByMiles!AE222,DataByMiles!$AT$5:$AU$6,2,FALSE)","v":0},null,null,0,{"$f":"H224*$L$2*VLOOKUP(DataByMiles!AE222,DataByMiles!$AT$5:$AU$6,2,FALSE)","v":0},{"$f":"DataByMiles!G222*VLOOKUP(DataByMiles!AE222,DataByMiles!$AT$5:$AU$6,2,FALSE)","v":0},null,null,{"$f":"M224*$P$2*VLOOKUP(DataByMiles!AE222,DataByMiles!$AT$5:$AU$6,2,FALSE)","v":0},{"$f":"DataByMiles!H222*VLOOKUP(DataByMiles!AE222,DataByMiles!$AT$5:$AU$6,2,FALSE)","v":0},null,null,{"$f":"Q224*$T$2*VLOOKUP(DataByMiles!AE222,DataByMiles!$AT$5:$AU$6,2,FALSE)","v":0},{"$f":"DataByMiles!I222*VLOOKUP(DataByMiles!AE222,DataByMiles!$AT$5:$AU$6,2,FALSE)","v":0},null,null,{"$f":"U224*$X$2*VLOOKUP(DataByMiles!AE222,DataByMiles!$AT$5:$AU$6,2,FALSE)","v":0},{"$f":"DataByMiles!J222*VLOOKUP(DataByMiles!AE222,DataByMiles!$AT$5:$AU$6,2,FALSE)","v":0},{"$f":"DataByMiles!K222","v":0},{"$f":"DataByMiles!L222","v":0},null,null,{"$f":"(Y224/IF(Z224=0,$AD$1,Z224)*$AD$2)/IF(AA224=0,1,AA224)*VLOOKUP(DataByMiles!AE222,DataByMiles!$AT$5:$AU$6,2,FALSE)","v":0},"",0,0,{"$f":"(AF224+AG224)*VLOOKUP(DataByMiles!AE222,DataByMiles!$AT$5:$AU$6,2,FALSE)","v":0},0]
[null,{"$f":"DataByMiles!C223","v":"----219"},{"$f":"DataByMiles!E223*VLOOKUP(DataByMiles!AE223,DataByMiles!$AT$5:$AU$6,2,FALSE)","v":0},null,null,0,{"$f":"C225*$G$2*VLOOKUP(DataByMiles!AE223,DataByMiles!$AT$5:$AU$6,2,FALSE)","v":0},{"$f":"DataByMiles!F223*VLOOKUP(DataByMiles!AE223,DataByMiles!$AT$5:$AU$6,2,FALSE)","v":0},null,null,0,{"$f":"H225*$L$2*VLOOKUP(DataByMiles!AE223,DataByMiles!$AT$5:$AU$6,2,FALSE)","v":0},{"$f":"DataByMiles!G223*VLOOKUP(DataByMiles!AE223,DataByMiles!$AT$5:$AU$6,2,FALSE)","v":0},null,null,{"$f":"M225*$P$2*VLOOKUP(DataByMiles!AE223,DataByMiles!$AT$5:$AU$6,2,FALSE)","v":0},{"$f":"DataByMiles!H223*VLOOKUP(DataByMiles!AE223,DataByMiles!$AT$5:$AU$6,2,FALSE)","v":0},null,null,{"$f":"Q225*$T$2*VLOOKUP(DataByMiles!AE223,DataByMiles!$AT$5:$AU$6,2,FALSE)","v":0},{"$f":"DataByMiles!I223*VLOOKUP(DataByMiles!AE223,DataByMiles!$AT$5:$AU$6,2,FALSE)","v":0},null,null,{"$f":"U225*$X$2*VLOOKUP(DataByMiles!AE223,DataByMiles!$AT$5:$AU$6,2,FALSE)","v":0},{"$f":"DataByMiles!J223*VLOOKUP(DataByMiles!AE223,DataByMiles!$AT$5:$AU$6,2,FALSE)","v":0},{"$f":"DataByMiles!K223","v":0},{"$f":"DataByMiles!L223","v":0},null,null,{"$f":"(Y225/IF(Z225=0,$AD$1,Z225)*$AD$2)/IF(AA225=0,1,AA225)*VLOOKUP(DataByMiles!AE223,DataByMiles!$AT$5:$AU$6,2,FALSE)","v":0},"",0,0,{"$f":"(AF225+AG225)*VLOOKUP(DataByMiles!AE223,DataByMiles!$AT$5:$AU$6,2,FALSE)","v":0},0]
[null,{"$f":"DataByMiles!C224","v":"----220"},{"$f":"DataByMiles!E224*VLOOKUP(DataByMiles!AE224,DataByMiles!$AT$5:$AU$6,2,FALSE)","v":0},null,null,0,{"$f":"C226*$G$2*VLOOKUP(DataByMiles!AE224,DataByMiles!$AT$5:$AU$6,2,FALSE)","v":0},{"$f":"DataByMiles!F224*VLOOKUP(DataByMiles!AE224,DataByMiles!$AT$5:$AU$6,2,FALSE)","v":0},null,null,0,{"$f":"H226*$L$2*VLOOKUP(DataByMiles!AE224,DataByMiles!$AT$5:$AU$6,2,FALSE)","v":0},{"$f":"DataByMiles!G224*VLOOKUP(DataByMiles!AE224,DataByMiles!$AT$5:$AU$6,2,FALSE)","v":0},null,null,{"$f":"M226*$P$2*VLOOKUP(DataByMiles!AE224,DataByMiles!$AT$5:$AU$6,2,FALSE)","v":0},{"$f":"DataByMiles!H224*VLOOKUP(DataByMiles!AE224,DataByMiles!$AT$5:$AU$6,2,FALSE)","v":0},null,null,{"$f":"Q226*$T$2*VLOOKUP(DataByMiles!AE224,DataByMiles!$AT$5:$AU$6,2,FALSE)","v":0},{"$f":"DataByMiles!I224*VLOOKUP(DataByMiles!AE224,DataByMiles!$AT$5:$AU$6,2,FALSE)","v":0},null,null,{"$f":"U226*$X$2*VLOOKUP(DataByMiles!AE224,DataByMiles!$AT$5:$AU$6,2,FALSE)","v":0},{"$f":"DataByMiles!J224*VLOOKUP(DataByMiles!AE224,DataByMiles!$AT$5:$AU$6,2,FALSE)","v":0},{"$f":"DataByMiles!K224","v":0},{"$f":"DataByMiles!L224","v":0},null,null,{"$f":"(Y226/IF(Z226=0,$AD$1,Z226)*$AD$2)/IF(AA226=0,1,AA226)*VLOOKUP(DataByMiles!AE224,DataByMiles!$AT$5:$AU$6,2,FALSE)","v":0},"",0,0,{"$f":"(AF226+AG226)*VLOOKUP(DataByMiles!AE224,DataByMiles!$AT$5:$AU$6,2,FALSE)","v":0},0]
[null,{"$f":"DataByMiles!C225","v":"----221"},{"$f":"DataByMiles!E225*VLOOKUP(DataByMiles!AE225,DataByMiles!$AT$5:$AU$6,2,FALSE)","v":0},null,null,0,{"$f":"C227*$G$2*VLOOKUP(DataByMiles!AE225,DataByMiles!$AT$5:$AU$6,2,FALSE)","v":0},{"$f":"DataByMiles!F225*VLOOKUP(DataByMiles!AE225,DataByMiles!$AT$5:$AU$6,2,FALSE)","v":0},null,null,0,{"$f":"H227*$L$2*VLOOKUP(DataByMiles!AE225,DataByMiles!$AT$5:$AU$6,2,FALSE)","v":0},{"$f":"DataByMiles!G225*VLOOKUP(DataByMiles!AE225,DataByMiles!$AT$5:$AU$6,2,FALSE)","v":0},null,null,{"$f":"M227*$P$2*VLOOKUP(DataByMiles!AE225,DataByMiles!$AT$5:$AU$6,2,FALSE)","v":0},{"$f":"DataByMiles!H225*VLOOKUP(DataByMiles!AE225,DataByMiles!$AT$5:$AU$6,2,FALSE)","v":0},null,null,{"$f":"Q227*$T$2*VLOOKUP(DataByMiles!AE225,DataByMiles!$AT$5:$AU$6,2,FALSE)","v":0},{"$f":"DataByMiles!I225*VLOOKUP(DataByMiles!AE225,DataByMiles!$AT$5:$AU$6,2,FALSE)","v":0},null,null,{"$f":"U227*$X$2*VLOOKUP(DataByMiles!AE225,DataByMiles!$AT$5:$AU$6,2,FALSE)","v":0},{"$f":"DataByMiles!J225*VLOOKUP(DataByMiles!AE225,DataByMiles!$AT$5:$AU$6,2,FALSE)","v":0},{"$f":"DataByMiles!K225","v":0},{"$f":"DataByMiles!L225","v":0},null,null,{"$f":"(Y227/IF(Z227=0,$AD$1,Z227)*$AD$2)/IF(AA227=0,1,AA227)*VLOOKUP(DataByMiles!AE225,DataByMiles!$AT$5:$AU$6,2,FALSE)","v":0},"",0,0,{"$f":"(AF227+AG227)*VLOOKUP(DataByMiles!AE225,DataByMiles!$AT$5:$AU$6,2,FALSE)","v":0},0]
[null,{"$f":"DataByMiles!C226","v":"----222"},{"$f":"DataByMiles!E226*VLOOKUP(DataByMiles!AE226,DataByMiles!$AT$5:$AU$6,2,FALSE)","v":0},null,null,0,{"$f":"C228*$G$2*VLOOKUP(DataByMiles!AE226,DataByMiles!$AT$5:$AU$6,2,FALSE)","v":0},{"$f":"DataByMiles!F226*VLOOKUP(DataByMiles!AE226,DataByMiles!$AT$5:$AU$6,2,FALSE)","v":0},null,null,0,{"$f":"H228*$L$2*VLOOKUP(DataByMiles!AE226,DataByMiles!$AT$5:$AU$6,2,FALSE)","v":0},{"$f":"DataByMiles!G226*VLOOKUP(DataByMiles!AE226,DataByMiles!$AT$5:$AU$6,2,FALSE)","v":0},null,null,{"$f":"M228*$P$2*VLOOKUP(DataByMiles!AE226,DataByMiles!$AT$5:$AU$6,2,FALSE)","v":0},{"$f":"DataByMiles!H226*VLOOKUP(DataByMiles!AE226,DataByMiles!$AT$5:$AU$6,2,FALSE)","v":0},null,null,{"$f":"Q228*$T$2*VLOOKUP(DataByMiles!AE226,DataByMiles!$AT$5:$AU$6,2,FALSE)","v":0},{"$f":"DataByMiles!I226*VLOOKUP(DataByMiles!AE226,DataByMiles!$AT$5:$AU$6,2,FALSE)","v":0},null,null,{"$f":"U228*$X$2*VLOOKUP(DataByMiles!AE226,DataByMiles!$AT$5:$AU$6,2,FALSE)","v":0},{"$f":"DataByMiles!J226*VLOOKUP(DataByMiles!AE226,DataByMiles!$AT$5:$AU$6,2,FALSE)","v":0},{"$f":"DataByMiles!K226","v":0},{"$f":"DataByMiles!L226","v":0},null,null,{"$f":"(Y228/IF(Z228=0,$AD$1,Z228)*$AD$2)/IF(AA228=0,1,AA228)*VLOOKUP(DataByMiles!AE226,DataByMiles!$AT$5:$AU$6,2,FALSE)","v":0},"",0,0,{"$f":"(AF228+AG228)*VLOOKUP(DataByMiles!AE226,DataByMiles!$AT$5:$AU$6,2,FALSE)","v":0},0]
[null,{"$f":"DataByMiles!C227","v":"----223"},{"$f":"DataByMiles!E227*VLOOKUP(DataByMiles!AE227,DataByMiles!$AT$5:$AU$6,2,FALSE)","v":0},null,null,0,{"$f":"C229*$G$2*VLOOKUP(DataByMiles!AE227,DataByMiles!$AT$5:$AU$6,2,FALSE)","v":0},{"$f":"DataByMiles!F227*VLOOKUP(DataByMiles!AE227,DataByMiles!$AT$5:$AU$6,2,FALSE)","v":0},null,null,0,{"$f":"H229*$L$2*VLOOKUP(DataByMiles!AE227,DataByMiles!$AT$5:$AU$6,2,FALSE)","v":0},{"$f":"DataByMiles!G227*VLOOKUP(DataByMiles!AE227,DataByMiles!$AT$5:$AU$6,2,FALSE)","v":0},null,null,{"$f":"M229*$P$2*VLOOKUP(DataByMiles!AE227,DataByMiles!$AT$5:$AU$6,2,FALSE)","v":0},{"$f":"DataByMiles!H227*VLOOKUP(DataByMiles!AE227,DataByMiles!$AT$5:$AU$6,2,FALSE)","v":0},null,null,{"$f":"Q229*$T$2*VLOOKUP(DataByMiles!AE227,DataByMiles!$AT$5:$AU$6,2,FALSE)","v":0},{"$f":"DataByMiles!I227*VLOOKUP(DataByMiles!AE227,DataByMiles!$AT$5:$AU$6,2,FALSE)","v":0},null,null,{"$f":"U229*$X$2*VLOOKUP(DataByMiles!AE227,DataByMiles!$AT$5:$AU$6,2,FALSE)","v":0},{"$f":"DataByMiles!J227*VLOOKUP(DataByMiles!AE227,DataByMiles!$AT$5:$AU$6,2,FALSE)","v":0},{"$f":"DataByMiles!K227","v":0},{"$f":"DataByMiles!L227","v":0},null,null,{"$f":"(Y229/IF(Z229=0,$AD$1,Z229)*$AD$2)/IF(AA229=0,1,AA229)*VLOOKUP(DataByMiles!AE227,DataByMiles!$AT$5:$AU$6,2,FALSE)","v":0},"",0,0,{"$f":"(AF229+AG229)*VLOOKUP(DataByMiles!AE227,DataByMiles!$AT$5:$AU$6,2,FALSE)","v":0},0]
[null,{"$f":"DataByMiles!C228","v":"----224"},{"$f":"DataByMiles!E228*VLOOKUP(DataByMiles!AE228,DataByMiles!$AT$5:$AU$6,2,FALSE)","v":0},null,null,0,{"$f":"C230*$G$2*VLOOKUP(DataByMiles!AE228,DataByMiles!$AT$5:$AU$6,2,FALSE)","v":0},{"$f":"DataByMiles!F228*VLOOKUP(DataByMiles!AE228,DataByMiles!$AT$5:$AU$6,2,FALSE)","v":0},null,null,0,{"$f":"H230*$L$2*VLOOKUP(DataByMiles!AE228,DataByMiles!$AT$5:$AU$6,2,FALSE)","v":0},{"$f":"DataByMiles!G228*VLOOKUP(DataByMiles!AE228,DataByMiles!$AT$5:$AU$6,2,FALSE)","v":0},null,null,{"$f":"M230*$P$2*VLOOKUP(DataByMiles!AE228,DataByMiles!$AT$5:$AU$6,2,FALSE)","v":0},{"$f":"DataByMiles!H228*VLOOKUP(DataByMiles!AE228,DataByMiles!$AT$5:$AU$6,2,FALSE)","v":0},null,null,{"$f":"Q230*$T$2*VLOOKUP(DataByMiles!AE228,DataByMiles!$AT$5:$AU$6,2,FALSE)","v":0},{"$f":"DataByMiles!I228*VLOOKUP(DataByMiles!AE228,DataByMiles!$AT$5:$AU$6,2,FALSE)","v":0},null,null,{"$f":"U230*$X$2*VLOOKUP(DataByMiles!AE228,DataByMiles!$AT$5:$AU$6,2,FALSE)","v":0},{"$f":"DataByMiles!J228*VLOOKUP(DataByMiles!AE228,DataByMiles!$AT$5:$AU$6,2,FALSE)","v":0},{"$f":"DataByMiles!K228","v":0},{"$f":"DataByMiles!L228","v":0},null,null,{"$f":"(Y230/IF(Z230=0,$AD$1,Z230)*$AD$2)/IF(AA230=0,1,AA230)*VLOOKUP(DataByMiles!AE228,DataByMiles!$AT$5:$AU$6,2,FALSE)","v":0},"",0,0,{"$f":"(AF230+AG230)*VLOOKUP(DataByMiles!AE228,DataByMiles!$AT$5:$AU$6,2,FALSE)","v":0},0]
[null,{"$f":"DataByMiles!C229","v":"----225"},{"$f":"DataByMiles!E229*VLOOKUP(DataByMiles!AE229,DataByMiles!$AT$5:$AU$6,2,FALSE)","v":0},null,null,0,{"$f":"C231*$G$2*VLOOKUP(DataByMiles!AE229,DataByMiles!$AT$5:$AU$6,2,FALSE)","v":0},{"$f":"DataByMiles!F229*VLOOKUP(DataByMiles!AE229,DataByMiles!$AT$5:$AU$6,2,FALSE)","v":0},null,null,0,{"$f":"H231*$L$2*VLOOKUP(DataByMiles!AE229,DataByMiles!$AT$5:$AU$6,2,FALSE)","v":0},{"$f":"DataByMiles!G229*VLOOKUP(DataByMiles!AE229,DataByMiles!$AT$5:$AU$6,2,FALSE)","v":0},null,null,{"$f":"M231*$P$2*VLOOKUP(DataByMiles!AE229,DataByMiles!$AT$5:$AU$6,2,FALSE)","v":0},{"$f":"DataByMiles!H229*VLOOKUP(DataByMiles!AE229,DataByMiles!$AT$5:$AU$6,2,FALSE)","v":0},null,null,{"$f":"Q231*$T$2*VLOOKUP(DataByMiles!AE229,DataByMiles!$AT$5:$AU$6,2,FALSE)","v":0},{"$f":"DataByMiles!I229*VLOOKUP(DataByMiles!AE229,DataByMiles!$AT$5:$AU$6,2,FALSE)","v":0},null,null,{"$f":"U231*$X$2*VLOOKUP(DataByMiles!AE229,DataByMiles!$AT$5:$AU$6,2,FALSE)","v":0},{"$f":"DataByMiles!J229*VLOOKUP(DataByMiles!AE229,DataByMiles!$AT$5:$AU$6,2,FALSE)","v":0},{"$f":"DataByMiles!K229","v":0},{"$f":"DataByMiles!L229","v":0},null,null,{"$f":"(Y231/IF(Z231=0,$AD$1,Z231)*$AD$2)/IF(AA231=0,1,AA231)*VLOOKUP(DataByMiles!AE229,DataByMiles!$AT$5:$AU$6,2,FALSE)","v":0},"",0,0,{"$f":"(AF231+AG231)*VLOOKUP(DataByMiles!AE229,DataByMiles!$AT$5:$AU$6,2,FALSE)","v":0},0]
[null,{"$f":"DataByMiles!C230","v":"----226"},{"$f":"DataByMiles!E230*VLOOKUP(DataByMiles!AE230,DataByMiles!$AT$5:$AU$6,2,FALSE)","v":0},null,null,0,{"$f":"C232*$G$2*VLOOKUP(DataByMiles!AE230,DataByMiles!$AT$5:$AU$6,2,FALSE)","v":0},{"$f":"DataByMiles!F230*VLOOKUP(DataByMiles!AE230,DataByMiles!$AT$5:$AU$6,2,FALSE)","v":0},null,null,0,{"$f":"H232*$L$2*VLOOKUP(DataByMiles!AE230,DataByMiles!$AT$5:$AU$6,2,FALSE)","v":0},{"$f":"DataByMiles!G230*VLOOKUP(DataByMiles!AE230,DataByMiles!$AT$5:$AU$6,2,FALSE)","v":0},null,null,{"$f":"M232*$P$2*VLOOKUP(DataByMiles!AE230,DataByMiles!$AT$5:$AU$6,2,FALSE)","v":0},{"$f":"DataByMiles!H230*VLOOKUP(DataByMiles!AE230,DataByMiles!$AT$5:$AU$6,2,FALSE)","v":0},null,null,{"$f":"Q232*$T$2*VLOOKUP(DataByMiles!AE230,DataByMiles!$AT$5:$AU$6,2,FALSE)","v":0},{"$f":"DataByMiles!I230*VLOOKUP(DataByMiles!AE230,DataByMiles!$AT$5:$AU$6,2,FALSE)","v":0},null,null,{"$f":"U232*$X$2*VLOOKUP(DataByMiles!AE230,DataByMiles!$AT$5:$AU$6,2,FALSE)","v":0},{"$f":"DataByMiles!J230*VLOOKUP(DataByMiles!AE230,DataByMiles!$AT$5:$AU$6,2,FALSE)","v":0},{"$f":"DataByMiles!K230","v":0},{"$f":"DataByMiles!L230","v":0},null,null,{"$f":"(Y232/IF(Z232=0,$AD$1,Z232)*$AD$2)/IF(AA232=0,1,AA232)*VLOOKUP(DataByMiles!AE230,DataByMiles!$AT$5:$AU$6,2,FALSE)","v":0},"",0,0,{"$f":"(AF232+AG232)*VLOOKUP(DataByMiles!AE230,DataByMiles!$AT$5:$AU$6,2,FALSE)","v":0},0]
[null,{"$f":"DataByMiles!C231","v":"----227"},{"$f":"DataByMiles!E231*VLOOKUP(DataByMiles!AE231,DataByMiles!$AT$5:$AU$6,2,FALSE)","v":0},null,null,0,{"$f":"C233*$G$2*VLOOKUP(DataByMiles!AE231,DataByMiles!$AT$5:$AU$6,2,FALSE)","v":0},{"$f":"DataByMiles!F231*VLOOKUP(DataByMiles!AE231,DataByMiles!$AT$5:$AU$6,2,FALSE)","v":0},null,null,0,{"$f":"H233*$L$2*VLOOKUP(DataByMiles!AE231,DataByMiles!$AT$5:$AU$6,2,FALSE)","v":0},{"$f":"DataByMiles!G231*VLOOKUP(DataByMiles!AE231,DataByMiles!$AT$5:$AU$6,2,FALSE)","v":0},null,null,{"$f":"M233*$P$2*VLOOKUP(DataByMiles!AE231,DataByMiles!$AT$5:$AU$6,2,FALSE)","v":0},{"$f":"DataByMiles!H231*VLOOKUP(DataByMiles!AE231,DataByMiles!$AT$5:$AU$6,2,FALSE)","v":0},null,null,{"$f":"Q233*$T$2*VLOOKUP(DataByMiles!AE231,DataByMiles!$AT$5:$AU$6,2,FALSE)","v":0},{"$f":"DataByMiles!I231*VLOOKUP(DataByMiles!AE231,DataByMiles!$AT$5:$AU$6,2,FALSE)","v":0},null,null,{"$f":"U233*$X$2*VLOOKUP(DataByMiles!AE231,DataByMiles!$AT$5:$AU$6,2,FALSE)","v":0},{"$f":"DataByMiles!J231*VLOOKUP(DataByMiles!AE231,DataByMiles!$AT$5:$AU$6,2,FALSE)","v":0},{"$f":"DataByMiles!K231","v":0},{"$f":"DataByMiles!L231","v":0},null,null,{"$f":"(Y233/IF(Z233=0,$AD$1,Z233)*$AD$2)/IF(AA233=0,1,AA233)*VLOOKUP(DataByMiles!AE231,DataByMiles!$AT$5:$AU$6,2,FALSE)","v":0},"",0,0,{"$f":"(AF233+AG233)*VLOOKUP(DataByMiles!AE231,DataByMiles!$AT$5:$AU$6,2,FALSE)","v":0},0]
[null,{"$f":"DataByMiles!C232","v":"----228"},{"$f":"DataByMiles!E232*VLOOKUP(DataByMiles!AE232,DataByMiles!$AT$5:$AU$6,2,FALSE)","v":0},null,null,0,{"$f":"C234*$G$2*VLOOKUP(DataByMiles!AE232,DataByMiles!$AT$5:$AU$6,2,FALSE)","v":0},{"$f":"DataByMiles!F232*VLOOKUP(DataByMiles!AE232,DataByMiles!$AT$5:$AU$6,2,FALSE)","v":0},null,null,0,{"$f":"H234*$L$2*VLOOKUP(DataByMiles!AE232,DataByMiles!$AT$5:$AU$6,2,FALSE)","v":0},{"$f":"DataByMiles!G232*VLOOKUP(DataByMiles!AE232,DataByMiles!$AT$5:$AU$6,2,FALSE)","v":0},null,null,{"$f":"M234*$P$2*VLOOKUP(DataByMiles!AE232,DataByMiles!$AT$5:$AU$6,2,FALSE)","v":0},{"$f":"DataByMiles!H232*VLOOKUP(DataByMiles!AE232,DataByMiles!$AT$5:$AU$6,2,FALSE)","v":0},null,null,{"$f":"Q234*$T$2*VLOOKUP(DataByMiles!AE232,DataByMiles!$AT$5:$AU$6,2,FALSE)","v":0},{"$f":"DataByMiles!I232*VLOOKUP(DataByMiles!AE232,DataByMiles!$AT$5:$AU$6,2,FALSE)","v":0},null,null,{"$f":"U234*$X$2*VLOOKUP(DataByMiles!AE232,DataByMiles!$AT$5:$AU$6,2,FALSE)","v":0},{"$f":"DataByMiles!J232*VLOOKUP(DataByMiles!AE232,DataByMiles!$AT$5:$AU$6,2,FALSE)","v":0},{"$f":"DataByMiles!K232","v":0},{"$f":"DataByMiles!L232","v":0},null,null,{"$f":"(Y234/IF(Z234=0,$AD$1,Z234)*$AD$2)/IF(AA234=0,1,AA234)*VLOOKUP(DataByMiles!AE232,DataByMiles!$AT$5:$AU$6,2,FALSE)","v":0},"",0,0,{"$f":"(AF234+AG234)*VLOOKUP(DataByMiles!AE232,DataByMiles!$AT$5:$AU$6,2,FALSE)","v":0},0]
[null,{"$f":"DataByMiles!C233","v":"----229"},{"$f":"DataByMiles!E233*VLOOKUP(DataByMiles!AE233,DataByMiles!$AT$5:$AU$6,2,FALSE)","v":0},null,null,0,{"$f":"C235*$G$2*VLOOKUP(DataByMiles!AE233,DataByMiles!$AT$5:$AU$6,2,FALSE)","v":0},{"$f":"DataByMiles!F233*VLOOKUP(DataByMiles!AE233,DataByMiles!$AT$5:$AU$6,2,FALSE)","v":0},null,null,0,{"$f":"H235*$L$2*VLOOKUP(DataByMiles!AE233,DataByMiles!$AT$5:$AU$6,2,FALSE)","v":0},{"$f":"DataByMiles!G233*VLOOKUP(DataByMiles!AE233,DataByMiles!$AT$5:$AU$6,2,FALSE)","v":0},null,null,{"$f":"M235*$P$2*VLOOKUP(DataByMiles!AE233,DataByMiles!$AT$5:$AU$6,2,FALSE)","v":0},{"$f":"DataByMiles!H233*VLOOKUP(DataByMiles!AE233,DataByMiles!$AT$5:$AU$6,2,FALSE)","v":0},null,null,{"$f":"Q235*$T$2*VLOOKUP(DataByMiles!AE233,DataByMiles!$AT$5:$AU$6,2,FALSE)","v":0},{"$f":"DataByMiles!I233*VLOOKUP(DataByMiles!AE233,DataByMiles!$AT$5:$AU$6,2,FALSE)","v":0},null,null,{"$f":"U235*$X$2*VLOOKUP(DataByMiles!AE233,DataByMiles!$AT$5:$AU$6,2,FALSE)","v":0},{"$f":"DataByMiles!J233*VLOOKUP(DataByMiles!AE233,DataByMiles!$AT$5:$AU$6,2,FALSE)","v":0},{"$f":"DataByMiles!K233","v":0},{"$f":"DataByMiles!L233","v":0},null,null,{"$f":"(Y235/IF(Z235=0,$AD$1,Z235)*$AD$2)/IF(AA235=0,1,AA235)*VLOOKUP(DataByMiles!AE233,DataByMiles!$AT$5:$AU$6,2,FALSE)","v":0},"",0,0,{"$f":"(AF235+AG235)*VLOOKUP(DataByMiles!AE233,DataByMiles!$AT$5:$AU$6,2,FALSE)","v":0},0]
[null,{"$f":"DataByMiles!C234","v":"----230"},{"$f":"DataByMiles!E234*VLOOKUP(DataByMiles!AE234,DataByMiles!$AT$5:$AU$6,2,FALSE)","v":0},null,null,0,{"$f":"C236*$G$2*VLOOKUP(DataByMiles!AE234,DataByMiles!$AT$5:$AU$6,2,FALSE)","v":0},{"$f":"DataByMiles!F234*VLOOKUP(DataByMiles!AE234,DataByMiles!$AT$5:$AU$6,2,FALSE)","v":0},null,null,0,{"$f":"H236*$L$2*VLOOKUP(DataByMiles!AE234,DataByMiles!$AT$5:$AU$6,2,FALSE)","v":0},{"$f":"DataByMiles!G234*VLOOKUP(DataByMiles!AE234,DataByMiles!$AT$5:$AU$6,2,FALSE)","v":0},null,null,{"$f":"M236*$P$2*VLOOKUP(DataByMiles!AE234,DataByMiles!$AT$5:$AU$6,2,FALSE)","v":0},{"$f":"DataByMiles!H234*VLOOKUP(DataByMiles!AE234,DataByMiles!$AT$5:$AU$6,2,FALSE)","v":0},null,null,{"$f":"Q236*$T$2*VLOOKUP(DataByMiles!AE234,DataByMiles!$AT$5:$AU$6,2,FALSE)","v":0},{"$f":"DataByMiles!I234*VLOOKUP(DataByMiles!AE234,DataByMiles!$AT$5:$AU$6,2,FALSE)","v":0},null,null,{"$f":"U236*$X$2*VLOOKUP(DataByMiles!AE234,DataByMiles!$AT$5:$AU$6,2,FALSE)","v":0},{"$f":"DataByMiles!J234*VLOOKUP(DataByMiles!AE234,DataByMiles!$AT$5:$AU$6,2,FALSE)","v":0},{"$f":"DataByMiles!K234","v":0},{"$f":"DataByMiles!L234","v":0},null,null,{"$f":"(Y236/IF(Z236=0,$AD$1,Z236)*$AD$2)/IF(AA236=0,1,AA236)*VLOOKUP(DataByMiles!AE234,DataByMiles!$AT$5:$AU$6,2,FALSE)","v":0},"",0,0,{"$f":"(AF236+AG236)*VLOOKUP(DataByMiles!AE234,DataByMiles!$AT$5:$AU$6,2,FALSE)","v":0},0]
[null,{"$f":"DataByMiles!C235","v":"----231"},{"$f":"DataByMiles!E235*VLOOKUP(DataByMiles!AE235,DataByMiles!$AT$5:$AU$6,2,FALSE)","v":0},null,null,0,{"$f":"C237*$G$2*VLOOKUP(DataByMiles!AE235,DataByMiles!$AT$5:$AU$6,2,FALSE)","v":0},{"$f":"DataByMiles!F235*VLOOKUP(DataByMiles!AE235,DataByMiles!$AT$5:$AU$6,2,FALSE)","v":0},null,null,0,{"$f":"H237*$L$2*VLOOKUP(DataByMiles!AE235,DataByMiles!$AT$5:$AU$6,2,FALSE)","v":0},{"$f":"DataByMiles!G235*VLOOKUP(DataByMiles!AE235,DataByMiles!$AT$5:$AU$6,2,FALSE)","v":0},null,null,{"$f":"M237*$P$2*VLOOKUP(DataByMiles!AE235,DataByMiles!$AT$5:$AU$6,2,FALSE)","v":0},{"$f":"DataByMiles!H235*VLOOKUP(DataByMiles!AE235,DataByMiles!$AT$5:$AU$6,2,FALSE)","v":0},null,null,{"$f":"Q237*$T$2*VLOOKUP(DataByMiles!AE235,DataByMiles!$AT$5:$AU$6,2,FALSE)","v":0},{"$f":"DataByMiles!I235*VLOOKUP(DataByMiles!AE235,DataByMiles!$AT$5:$AU$6,2,FALSE)","v":0},null,null,{"$f":"U237*$X$2*VLOOKUP(DataByMiles!AE235,DataByMiles!$AT$5:$AU$6,2,FALSE)","v":0},{"$f":"DataByMiles!J235*VLOOKUP(DataByMiles!AE235,DataByMiles!$AT$5:$AU$6,2,FALSE)","v":0},{"$f":"DataByMiles!K235","v":0},{"$f":"DataByMiles!L235","v":0},null,null,{"$f":"(Y237/IF(Z237=0,$AD$1,Z237)*$AD$2)/IF(AA237=0,1,AA237)*VLOOKUP(DataByMiles!AE235,DataByMiles!$AT$5:$AU$6,2,FALSE)","v":0},"",0,0,{"$f":"(AF237+AG237)*VLOOKUP(DataByMiles!AE235,DataByMiles!$AT$5:$AU$6,2,FALSE)","v":0},0]
[null,{"$f":"DataByMiles!C236","v":"----232"},{"$f":"DataByMiles!E236*VLOOKUP(DataByMiles!AE236,DataByMiles!$AT$5:$AU$6,2,FALSE)","v":0},null,null,{"$f":"C238*$F$2","v":0},{"$f":"C238*$G$2*VLOOKUP(DataByMiles!AE236,DataByMiles!$AT$5:$AU$6,2,FALSE)","v":0},{"$f":"DataByMiles!F236*VLOOKUP(DataByMiles!AE236,DataByMiles!$AT$5:$AU$6,2,FALSE)","v":0},null,null,{"$f":"H238*$K$2","v":0},{"$f":"H238*$L$2*VLOOKUP(DataByMiles!AE236,DataByMiles!$AT$5:$AU$6,2,FALSE)","v":0},{"$f":"DataByMiles!G236*VLOOKUP(DataByMiles!AE236,DataByMiles!$AT$5:$AU$6,2,FALSE)","v":0},null,null,{"$f":"M238*$P$2*VLOOKUP(DataByMiles!AE236,DataByMiles!$AT$5:$AU$6,2,FALSE)","v":0},{"$f":"DataByMiles!H236*VLOOKUP(DataByMiles!AE236,DataByMiles!$AT$5:$AU$6,2,FALSE)","v":0},null,null,{"$f":"Q238*$T$2*VLOOKUP(DataByMiles!AE236,DataByMiles!$AT$5:$AU$6,2,FALSE)","v":0},{"$f":"DataByMiles!I236*VLOOKUP(DataByMiles!AE236,DataByMiles!$AT$5:$AU$6,2,FALSE)","v":0},null,null,{"$f":"U238*$X$2*VLOOKUP(DataByMiles!AE236,DataByMiles!$AT$5:$AU$6,2,FALSE)","v":0},{"$f":"DataByMiles!J236*VLOOKUP(DataByMiles!AE236,DataByMiles!$AT$5:$AU$6,2,FALSE)","v":0},{"$f":"DataByMiles!K236","v":0},{"$f":"DataByMiles!L236","v":0},null,null,{"$f":"(Y238/IF(Z238=0,$AD$1,Z238)*$AD$2)/IF(AA238=0,1,AA238)*VLOOKUP(DataByMiles!AE236,DataByMiles!$AT$5:$AU$6,2,FALSE)","v":0},{"$f":"IF(C238+H238+M238+Q238+U238+Y238>0,C238+H238+M238+Q238+U238+Y238,\"\")","v":""},{"$f":"F238+K238+P238+T238+X238+AD238","v":0},{"$f":"G238+L238","v":0},{"$f":"(AF238+AG238)*VLOOKUP(DataByMiles!AE236,DataByMiles!$AT$5:$AU$6,2,FALSE)","v":0},{"$f":"IFERROR(AH238/AE238,0)","v":0}]
[null,{"$f":"DataByMiles!C237","v":"----233"},{"$f":"DataByMiles!E237*VLOOKUP(DataByMiles!AE237,DataByMiles!$AT$5:$AU$6,2,FALSE)","v":0},null,null,0,{"$f":"C239*$G$2*VLOOKUP(DataByMiles!AE237,DataByMiles!$AT$5:$AU$6,2,FALSE)","v":0},{"$f":"DataByMiles!F237*VLOOKUP(DataByMiles!AE237,DataByMiles!$AT$5:$AU$6,2,FALSE)","v":0},null,null,0,{"$f":"H239*$L$2*VLOOKUP(DataByMiles!AE237,DataByMiles!$AT$5:$AU$6,2,FALSE)","v":0},{"$f":"DataByMiles!G237*VLOOKUP(DataByMiles!AE237,DataByMiles!$AT$5:$AU$6,2,FALSE)","v":0},null,null,{"$f":"M239*$P$2*VLOOKUP(DataByMiles!AE237,DataByMiles!$AT$5:$AU$6,2,FALSE)","v":0},{"$f":"DataByMiles!H237*VLOOKUP(DataByMiles!AE237,DataByMiles!$AT$5:$AU$6,2,FALSE)","v":0},null,null,{"$f":"Q239*$T$2*VLOOKUP(DataByMiles!AE237,DataByMiles!$AT$5:$AU$6,2,FALSE)","v":0},{"$f":"DataByMiles!I237*VLOOKUP(DataByMiles!AE237,DataByMiles!$AT$5:$AU$6,2,FALSE)","v":0},null,null,{"$f":"U239*$X$2*VLOOKUP(DataByMiles!AE237,DataByMiles!$AT$5:$AU$6,2,FALSE)","v":0},{"$f":"DataByMiles!J237*VLOOKUP(DataByMiles!AE237,DataByMiles!$AT$5:$AU$6,2,FALSE)","v":0},{"$f":"DataByMiles!K237","v":0},{"$f":"DataByMiles!L237","v":0},null,null,{"$f":"(Y239/IF(Z239=0,$AD$1,Z239)*$AD$2)/IF(AA239=0,1,AA239)*VLOOKUP(DataByMiles!AE237,DataByMiles!$AT$5:$AU$6,2,FALSE)","v":0},"",0,0,{"$f":"(AF239+AG239)*VLOOKUP(DataByMiles!AE237,DataByMiles!$AT$5:$AU$6,2,FALSE)","v":0},0]
[null,{"$f":"DataByMiles!C238","v":"----234"},{"$f":"DataByMiles!E238*VLOOKUP(DataByMiles!AE238,DataByMiles!$AT$5:$AU$6,2,FALSE)","v":0},null,null,0,{"$f":"C240*$G$2*VLOOKUP(DataByMiles!AE238,DataByMiles!$AT$5:$AU$6,2,FALSE)","v":0},{"$f":"DataByMiles!F238*VLOOKUP(DataByMiles!AE238,DataByMiles!$AT$5:$AU$6,2,FALSE)","v":0},null,null,0,{"$f":"H240*$L$2*VLOOKUP(DataByMiles!AE238,DataByMiles!$AT$5:$AU$6,2,FALSE)","v":0},{"$f":"DataByMiles!G238*VLOOKUP(DataByMiles!AE238,DataByMiles!$AT$5:$AU$6,2,FALSE)","v":0},null,null,{"$f":"M240*$P$2*VLOOKUP(DataByMiles!AE238,DataByMiles!$AT$5:$AU$6,2,FALSE)","v":0},{"$f":"DataByMiles!H238*VLOOKUP(DataByMiles!AE238,DataByMiles!$AT$5:$AU$6,2,FALSE)","v":0},null,null,{"$f":"Q240*$T$2*VLOOKUP(DataByMiles!AE238,DataByMiles!$AT$5:$AU$6,2,FALSE)","v":0},{"$f":"DataByMiles!I238*VLOOKUP(DataByMiles!AE238,DataByMiles!$AT$5:$AU$6,2,FALSE)","v":0},null,null,{"$f":"U240*$X$2*VLOOKUP(DataByMiles!AE238,DataByMiles!$AT$5:$AU$6,2,FALSE)","v":0},{"$f":"DataByMiles!J238*VLOOKUP(DataByMiles!AE238,DataByMiles!$AT$5:$AU$6,2,FALSE)","v":0},{"$f":"DataByMiles!K238","v":0},{"$f":"DataByMiles!L238","v":0},null,null,{"$f":"(Y240/IF(Z240=0,$AD$1,Z240)*$AD$2)/IF(AA240=0,1,AA240)*VLOOKUP(DataByMiles!AE238,DataByMiles!$AT$5:$AU$6,2,FALSE)","v":0},"",0,0,{"$f":"(AF240+AG240)*VLOOKUP(DataByMiles!AE238,DataByMiles!$AT$5:$AU$6,2,FALSE)","v":0},0]
[null,{"$f":"DataByMiles!C239","v":"----235"},{"$f":"DataByMiles!E239*VLOOKUP(DataByMiles!AE239,DataByMiles!$AT$5:$AU$6,2,FALSE)","v":0},null,null,0,{"$f":"C241*$G$2*VLOOKUP(DataByMiles!AE239,DataByMiles!$AT$5:$AU$6,2,FALSE)","v":0},{"$f":"DataByMiles!F239*VLOOKUP(DataByMiles!AE239,DataByMiles!$AT$5:$AU$6,2,FALSE)","v":0},null,null,0,{"$f":"H241*$L$2*VLOOKUP(DataByMiles!AE239,DataByMiles!$AT$5:$AU$6,2,FALSE)","v":0},{"$f":"DataByMiles!G239*VLOOKUP(DataByMiles!AE239,DataByMiles!$AT$5:$AU$6,2,FALSE)","v":0},null,null,{"$f":"M241*$P$2*VLOOKUP(DataByMiles!AE239,DataByMiles!$AT$5:$AU$6,2,FALSE)","v":0},{"$f":"DataByMiles!H239*VLOOKUP(DataByMiles!AE239,DataByMiles!$AT$5:$AU$6,2,FALSE)","v":0},null,null,{"$f":"Q241*$T$2*VLOOKUP(DataByMiles!AE239,DataByMiles!$AT$5:$AU$6,2,FALSE)","v":0},{"$f":"DataByMiles!I239*VLOOKUP(DataByMiles!AE239,DataByMiles!$AT$5:$AU$6,2,FALSE)","v":0},null,null,{"$f":"U241*$X$2*VLOOKUP(DataByMiles!AE239,DataByMiles!$AT$5:$AU$6,2,FALSE)","v":0},{"$f":"DataByMiles!J239*VLOOKUP(DataByMiles!AE239,DataByMiles!$AT$5:$AU$6,2,FALSE)","v":0},{"$f":"DataByMiles!K239","v":0},{"$f":"DataByMiles!L239","v":0},null,null,{"$f":"(Y241/IF(Z241=0,$AD$1,Z241)*$AD$2)/IF(AA241=0,1,AA241)*VLOOKUP(DataByMiles!AE239,DataByMiles!$AT$5:$AU$6,2,FALSE)","v":0},"",0,0,{"$f":"(AF241+AG241)*VLOOKUP(DataByMiles!AE239,DataByMiles!$AT$5:$AU$6,2,FALSE)","v":0},0]
[null,{"$f":"DataByMiles!C240","v":"----236"},{"$f":"DataByMiles!E240*VLOOKUP(DataByMiles!AE240,DataByMiles!$AT$5:$AU$6,2,FALSE)","v":0},null,null,0,{"$f":"C242*$G$2*VLOOKUP(DataByMiles!AE240,DataByMiles!$AT$5:$AU$6,2,FALSE)","v":0},{"$f":"DataByMiles!F240*VLOOKUP(DataByMiles!AE240,DataByMiles!$AT$5:$AU$6,2,FALSE)","v":0},null,null,0,{"$f":"H242*$L$2*VLOOKUP(DataByMiles!AE240,DataByMiles!$AT$5:$AU$6,2,FALSE)","v":0},{"$f":"DataByMiles!G240*VLOOKUP(DataByMiles!AE240,DataByMiles!$AT$5:$AU$6,2,FALSE)","v":0},null,null,{"$f":"M242*$P$2*VLOOKUP(DataByMiles!AE240,DataByMiles!$AT$5:$AU$6,2,FALSE)","v":0},{"$f":"DataByMiles!H240*VLOOKUP(DataByMiles!AE240,DataByMiles!$AT$5:$AU$6,2,FALSE)","v":0},null,null,{"$f":"Q242*$T$2*VLOOKUP(DataByMiles!AE240,DataByMiles!$AT$5:$AU$6,2,FALSE)","v":0},{"$f":"DataByMiles!I240*VLOOKUP(DataByMiles!AE240,DataByMiles!$AT$5:$AU$6,2,FALSE)","v":0},null,null,{"$f":"U242*$X$2*VLOOKUP(DataByMiles!AE240,DataByMiles!$AT$5:$AU$6,2,FALSE)","v":0},{"$f":"DataByMiles!J240*VLOOKUP(DataByMiles!AE240,DataByMiles!$AT$5:$AU$6,2,FALSE)","v":0},{"$f":"DataByMiles!K240","v":0},{"$f":"DataByMiles!L240","v":0},null,null,{"$f":"(Y242/IF(Z242=0,$AD$1,Z242)*$AD$2)/IF(AA242=0,1,AA242)*VLOOKUP(DataByMiles!AE240,DataByMiles!$AT$5:$AU$6,2,FALSE)","v":0},"",0,0,{"$f":"(AF242+AG242)*VLOOKUP(DataByMiles!AE240,DataByMiles!$AT$5:$AU$6,2,FALSE)","v":0},0]
[null,{"$f":"DataByMiles!C241","v":"----237"},{"$f":"DataByMiles!E241*VLOOKUP(DataByMiles!AE241,DataByMiles!$AT$5:$AU$6,2,FALSE)","v":0},null,null,0,{"$f":"C243*$G$2*VLOOKUP(DataByMiles!AE241,DataByMiles!$AT$5:$AU$6,2,FALSE)","v":0},{"$f":"DataByMiles!F241*VLOOKUP(DataByMiles!AE241,DataByMiles!$AT$5:$AU$6,2,FALSE)","v":0},null,null,0,{"$f":"H243*$L$2*VLOOKUP(DataByMiles!AE241,DataByMiles!$AT$5:$AU$6,2,FALSE)","v":0},{"$f":"DataByMiles!G241*VLOOKUP(DataByMiles!AE241,DataByMiles!$AT$5:$AU$6,2,FALSE)","v":0},null,null,{"$f":"M243*$P$2*VLOOKUP(DataByMiles!AE241,DataByMiles!$AT$5:$AU$6,2,FALSE)","v":0},{"$f":"DataByMiles!H241*VLOOKUP(DataByMiles!AE241,DataByMiles!$AT$5:$AU$6,2,FALSE)","v":0},null,null,{"$f":"Q243*$T$2*VLOOKUP(DataByMiles!AE241,DataByMiles!$AT$5:$AU$6,2,FALSE)","v":0},{"$f":"DataByMiles!I241*VLOOKUP(DataByMiles!AE241,DataByMiles!$AT$5:$AU$6,2,FALSE)","v":0},null,null,{"$f":"U243*$X$2*VLOOKUP(DataByMiles!AE241,DataByMiles!$AT$5:$AU$6,2,FALSE)","v":0},{"$f":"DataByMiles!J241*VLOOKUP(DataByMiles!AE241,DataByMiles!$AT$5:$AU$6,2,FALSE)","v":0},{"$f":"DataByMiles!K241","v":0},{"$f":"DataByMiles!L241","v":0},null,null,{"$f":"(Y243/IF(Z243=0,$AD$1,Z243)*$AD$2)/IF(AA243=0,1,AA243)*VLOOKUP(DataByMiles!AE241,DataByMiles!$AT$5:$AU$6,2,FALSE)","v":0},"",0,0,{"$f":"(AF243+AG243)*VLOOKUP(DataByMiles!AE241,DataByMiles!$AT$5:$AU$6,2,FALSE)","v":0},0]
[null,{"$f":"DataByMiles!C242","v":"----238"},{"$f":"DataByMiles!E242*VLOOKUP(DataByMiles!AE242,DataByMiles!$AT$5:$AU$6,2,FALSE)","v":0},null,null,0,{"$f":"C244*$G$2*VLOOKUP(DataByMiles!AE242,DataByMiles!$AT$5:$AU$6,2,FALSE)","v":0},{"$f":"DataByMiles!F242*VLOOKUP(DataByMiles!AE242,DataByMiles!$AT$5:$AU$6,2,FALSE)","v":0},null,null,0,{"$f":"H244*$L$2*VLOOKUP(DataByMiles!AE242,DataByMiles!$AT$5:$AU$6,2,FALSE)","v":0},{"$f":"DataByMiles!G242*VLOOKUP(DataByMiles!AE242,DataByMiles!$AT$5:$AU$6,2,FALSE)","v":0},null,null,{"$f":"M244*$P$2*VLOOKUP(DataByMiles!AE242,DataByMiles!$AT$5:$AU$6,2,FALSE)","v":0},{"$f":"DataByMiles!H242*VLOOKUP(DataByMiles!AE242,DataByMiles!$AT$5:$AU$6,2,FALSE)","v":0},null,null,{"$f":"Q244*$T$2*VLOOKUP(DataByMiles!AE242,DataByMiles!$AT$5:$AU$6,2,FALSE)","v":0},{"$f":"DataByMiles!I242*VLOOKUP(DataByMiles!AE242,DataByMiles!$AT$5:$AU$6,2,FALSE)","v":0},null,null,{"$f":"U244*$X$2*VLOOKUP(DataByMiles!AE242,DataByMiles!$AT$5:$AU$6,2,FALSE)","v":0},{"$f":"DataByMiles!J242*VLOOKUP(DataByMiles!AE242,DataByMiles!$AT$5:$AU$6,2,FALSE)","v":0},{"$f":"DataByMiles!K242","v":0},{"$f":"DataByMiles!L242","v":0},null,null,{"$f":"(Y244/IF(Z244=0,$AD$1,Z244)*$AD$2)/IF(AA244=0,1,AA244)*VLOOKUP(DataByMiles!AE242,DataByMiles!$AT$5:$AU$6,2,FALSE)","v":0},"",0,0,{"$f":"(AF244+AG244)*VLOOKUP(DataByMiles!AE242,DataByMiles!$AT$5:$AU$6,2,FALSE)","v":0},0]
[null,{"$f":"DataByMiles!C243","v":"----239"},{"$f":"DataByMiles!E243*VLOOKUP(DataByMiles!AE243,DataByMiles!$AT$5:$AU$6,2,FALSE)","v":0},null,null,0,{"$f":"C245*$G$2*VLOOKUP(DataByMiles!AE243,DataByMiles!$AT$5:$AU$6,2,FALSE)","v":0},{"$f":"DataByMiles!F243*VLOOKUP(DataByMiles!AE243,DataByMiles!$AT$5:$AU$6,2,FALSE)","v":0},null,null,0,{"$f":"H245*$L$2*VLOOKUP(DataByMiles!AE243,DataByMiles!$AT$5:$AU$6,2,FALSE)","v":0},{"$f":"DataByMiles!G243*VLOOKUP(DataByMiles!AE243,DataByMiles!$AT$5:$AU$6,2,FALSE)","v":0},null,null,{"$f":"M245*$P$2*VLOOKUP(DataByMiles!AE243,DataByMiles!$AT$5:$AU$6,2,FALSE)","v":0},{"$f":"DataByMiles!H243*VLOOKUP(DataByMiles!AE243,DataByMiles!$AT$5:$AU$6,2,FALSE)","v":0},null,null,{"$f":"Q245*$T$2*VLOOKUP(DataByMiles!AE243,DataByMiles!$AT$5:$AU$6,2,FALSE)","v":0},{"$f":"DataByMiles!I243*VLOOKUP(DataByMiles!AE243,DataByMiles!$AT$5:$AU$6,2,FALSE)","v":0},null,null,{"$f":"U245*$X$2*VLOOKUP(DataByMiles!AE243,DataByMiles!$AT$5:$AU$6,2,FALSE)","v":0},{"$f":"DataByMiles!J243*VLOOKUP(DataByMiles!AE243,DataByMiles!$AT$5:$AU$6,2,FALSE)","v":0},{"$f":"DataByMiles!K243","v":0},{"$f":"DataByMiles!L243","v":0},null,null,{"$f":"(Y245/IF(Z245=0,$AD$1,Z245)*$AD$2)/IF(AA245=0,1,AA245)*VLOOKUP(DataByMiles!AE243,DataByMiles!$AT$5:$AU$6,2,FALSE)","v":0},"",0,0,{"$f":"(AF245+AG245)*VLOOKUP(DataByMiles!AE243,DataByMiles!$AT$5:$AU$6,2,FALSE)","v":0},0]
[null,{"$f":"DataByMiles!C244","v":"----240"},{"$f":"DataByMiles!E244*VLOOKUP(DataByMiles!AE244,DataByMiles!$AT$5:$AU$6,2,FALSE)","v":0},null,null,0,{"$f":"C246*$G$2*VLOOKUP(DataByMiles!AE244,DataByMiles!$AT$5:$AU$6,2,FALSE)","v":0},{"$f":"DataByMiles!F244*VLOOKUP(DataByMiles!AE244,DataByMiles!$AT$5:$AU$6,2,FALSE)","v":0},null,null,0,{"$f":"H246*$L$2*VLOOKUP(DataByMiles!AE244,DataByMiles!$AT$5:$AU$6,2,FALSE)","v":0},{"$f":"DataByMiles!G244*VLOOKUP(DataByMiles!AE244,DataByMiles!$AT$5:$AU$6,2,FALSE)","v":0},null,null,{"$f":"M246*$P$2*VLOOKUP(DataByMiles!AE244,DataByMiles!$AT$5:$AU$6,2,FALSE)","v":0},{"$f":"DataByMiles!H244*VLOOKUP(DataByMiles!AE244,DataByMiles!$AT$5:$AU$6,2,FALSE)","v":0},null,null,{"$f":"Q246*$T$2*VLOOKUP(DataByMiles!AE244,DataByMiles!$AT$5:$AU$6,2,FALSE)","v":0},{"$f":"DataByMiles!I244*VLOOKUP(DataByMiles!AE244,DataByMiles!$AT$5:$AU$6,2,FALSE)","v":0},null,null,{"$f":"U246*$X$2*VLOOKUP(DataByMiles!AE244,DataByMiles!$AT$5:$AU$6,2,FALSE)","v":0},{"$f":"DataByMiles!J244*VLOOKUP(DataByMiles!AE244,DataByMiles!$AT$5:$AU$6,2,FALSE)","v":0},{"$f":"DataByMiles!K244","v":0},{"$f":"DataByMiles!L244","v":0},null,null,{"$f":"(Y246/IF(Z246=0,$AD$1,Z246)*$AD$2)/IF(AA246=0,1,AA246)*VLOOKUP(DataByMiles!AE244,DataByMiles!$AT$5:$AU$6,2,FALSE)","v":0},"",0,0,{"$f":"(AF246+AG246)*VLOOKUP(DataByMiles!AE244,DataByMiles!$AT$5:$AU$6,2,FALSE)","v":0},0]
[null,{"$f":"DataByMiles!C245","v":"----241"},{"$f":"DataByMiles!E245*VLOOKUP(DataByMiles!AE245,DataByMiles!$AT$5:$AU$6,2,FALSE)","v":0},null,null,0,{"$f":"C247*$G$2*VLOOKUP(DataByMiles!AE245,DataByMiles!$AT$5:$AU$6,2,FALSE)","v":0},{"$f":"DataByMiles!F245*VLOOKUP(DataByMiles!AE245,DataByMiles!$AT$5:$AU$6,2,FALSE)","v":0},null,null,0,{"$f":"H247*$L$2*VLOOKUP(DataByMiles!AE245,DataByMiles!$AT$5:$AU$6,2,FALSE)","v":0},{"$f":"DataByMiles!G245*VLOOKUP(DataByMiles!AE245,DataByMiles!$AT$5:$AU$6,2,FALSE)","v":0},null,null,{"$f":"M247*$P$2*VLOOKUP(DataByMiles!AE245,DataByMiles!$AT$5:$AU$6,2,FALSE)","v":0},{"$f":"DataByMiles!H245*VLOOKUP(DataByMiles!AE245,DataByMiles!$AT$5:$AU$6,2,FALSE)","v":0},null,null,{"$f":"Q247*$T$2*VLOOKUP(DataByMiles!AE245,DataByMiles!$AT$5:$AU$6,2,FALSE)","v":0},{"$f":"DataByMiles!I245*VLOOKUP(DataByMiles!AE245,DataByMiles!$AT$5:$AU$6,2,FALSE)","v":0},null,null,{"$f":"U247*$X$2*VLOOKUP(DataByMiles!AE245,DataByMiles!$AT$5:$AU$6,2,FALSE)","v":0},{"$f":"DataByMiles!J245*VLOOKUP(DataByMiles!AE245,DataByMiles!$AT$5:$AU$6,2,FALSE)","v":0},{"$f":"DataByMiles!K245","v":0},{"$f":"DataByMiles!L245","v":0},null,null,{"$f":"(Y247/IF(Z247=0,$AD$1,Z247)*$AD$2)/IF(AA247=0,1,AA247)*VLOOKUP(DataByMiles!AE245,DataByMiles!$AT$5:$AU$6,2,FALSE)","v":0},"",0,0,{"$f":"(AF247+AG247)*VLOOKUP(DataByMiles!AE245,DataByMiles!$AT$5:$AU$6,2,FALSE)","v":0},0]
[null,{"$f":"DataByMiles!C246","v":"----242"},{"$f":"DataByMiles!E246*VLOOKUP(DataByMiles!AE246,DataByMiles!$AT$5:$AU$6,2,FALSE)","v":0},null,null,0,{"$f":"C248*$G$2*VLOOKUP(DataByMiles!AE246,DataByMiles!$AT$5:$AU$6,2,FALSE)","v":0},{"$f":"DataByMiles!F246*VLOOKUP(DataByMiles!AE246,DataByMiles!$AT$5:$AU$6,2,FALSE)","v":0},null,null,0,{"$f":"H248*$L$2*VLOOKUP(DataByMiles!AE246,DataByMiles!$AT$5:$AU$6,2,FALSE)","v":0},{"$f":"DataByMiles!G246*VLOOKUP(DataByMiles!AE246,DataByMiles!$AT$5:$AU$6,2,FALSE)","v":0},null,null,{"$f":"M248*$P$2*VLOOKUP(DataByMiles!AE246,DataByMiles!$AT$5:$AU$6,2,FALSE)","v":0},{"$f":"DataByMiles!H246*VLOOKUP(DataByMiles!AE246,DataByMiles!$AT$5:$AU$6,2,FALSE)","v":0},null,null,{"$f":"Q248*$T$2*VLOOKUP(DataByMiles!AE246,DataByMiles!$AT$5:$AU$6,2,FALSE)","v":0},{"$f":"DataByMiles!I246*VLOOKUP(DataByMiles!AE246,DataByMiles!$AT$5:$AU$6,2,FALSE)","v":0},null,null,{"$f":"U248*$X$2*VLOOKUP(DataByMiles!AE246,DataByMiles!$AT$5:$AU$6,2,FALSE)","v":0},{"$f":"DataByMiles!J246*VLOOKUP(DataByMiles!AE246,DataByMiles!$AT$5:$AU$6,2,FALSE)","v":0},{"$f":"DataByMiles!K246","v":0},{"$f":"DataByMiles!L246","v":0},null,null,{"$f":"(Y248/IF(Z248=0,$AD$1,Z248)*$AD$2)/IF(AA248=0,1,AA248)*VLOOKUP(DataByMiles!AE246,DataByMiles!$AT$5:$AU$6,2,FALSE)","v":0},"",0,0,{"$f":"(AF248+AG248)*VLOOKUP(DataByMiles!AE246,DataByMiles!$AT$5:$AU$6,2,FALSE)","v":0},0]
[null,{"$f":"DataByMiles!C247","v":"----243"},{"$f":"DataByMiles!E247*VLOOKUP(DataByMiles!AE247,DataByMiles!$AT$5:$AU$6,2,FALSE)","v":0},null,null,0,{"$f":"C249*$G$2*VLOOKUP(DataByMiles!AE247,DataByMiles!$AT$5:$AU$6,2,FALSE)","v":0},{"$f":"DataByMiles!F247*VLOOKUP(DataByMiles!AE247,DataByMiles!$AT$5:$AU$6,2,FALSE)","v":0},null,null,0,{"$f":"H249*$L$2*VLOOKUP(DataByMiles!AE247,DataByMiles!$AT$5:$AU$6,2,FALSE)","v":0},{"$f":"DataByMiles!G247*VLOOKUP(DataByMiles!AE247,DataByMiles!$AT$5:$AU$6,2,FALSE)","v":0},null,null,{"$f":"M249*$P$2*VLOOKUP(DataByMiles!AE247,DataByMiles!$AT$5:$AU$6,2,FALSE)","v":0},{"$f":"DataByMiles!H247*VLOOKUP(DataByMiles!AE247,DataByMiles!$AT$5:$AU$6,2,FALSE)","v":0},null,null,{"$f":"Q249*$T$2*VLOOKUP(DataByMiles!AE247,DataByMiles!$AT$5:$AU$6,2,FALSE)","v":0},{"$f":"DataByMiles!I247*VLOOKUP(DataByMiles!AE247,DataByMiles!$AT$5:$AU$6,2,FALSE)","v":0},null,null,{"$f":"U249*$X$2*VLOOKUP(DataByMiles!AE247,DataByMiles!$AT$5:$AU$6,2,FALSE)","v":0},{"$f":"DataByMiles!J247*VLOOKUP(DataByMiles!AE247,DataByMiles!$AT$5:$AU$6,2,FALSE)","v":0},{"$f":"DataByMiles!K247","v":0},{"$f":"DataByMiles!L247","v":0},null,null,{"$f":"(Y249/IF(Z249=0,$AD$1,Z249)*$AD$2)/IF(AA249=0,1,AA249)*VLOOKUP(DataByMiles!AE247,DataByMiles!$AT$5:$AU$6,2,FALSE)","v":0},"",0,0,{"$f":"(AF249+AG249)*VLOOKUP(DataByMiles!AE247,DataByMiles!$AT$5:$AU$6,2,FALSE)","v":0},0]
[null,{"$f":"DataByMiles!C248","v":"----244"},{"$f":"DataByMiles!E248*VLOOKUP(DataByMiles!AE248,DataByMiles!$AT$5:$AU$6,2,FALSE)","v":0},null,null,0,{"$f":"C250*$G$2*VLOOKUP(DataByMiles!AE248,DataByMiles!$AT$5:$AU$6,2,FALSE)","v":0},{"$f":"DataByMiles!F248*VLOOKUP(DataByMiles!AE248,DataByMiles!$AT$5:$AU$6,2,FALSE)","v":0},null,null,0,{"$f":"H250*$L$2*VLOOKUP(DataByMiles!AE248,DataByMiles!$AT$5:$AU$6,2,FALSE)","v":0},{"$f":"DataByMiles!G248*VLOOKUP(DataByMiles!AE248,DataByMiles!$AT$5:$AU$6,2,FALSE)","v":0},null,null,{"$f":"M250*$P$2*VLOOKUP(DataByMiles!AE248,DataByMiles!$AT$5:$AU$6,2,FALSE)","v":0},{"$f":"DataByMiles!H248*VLOOKUP(DataByMiles!AE248,DataByMiles!$AT$5:$AU$6,2,FALSE)","v":0},null,null,{"$f":"Q250*$T$2*VLOOKUP(DataByMiles!AE248,DataByMiles!$AT$5:$AU$6,2,FALSE)","v":0},{"$f":"DataByMiles!I248*VLOOKUP(DataByMiles!AE248,DataByMiles!$AT$5:$AU$6,2,FALSE)","v":0},null,null,{"$f":"U250*$X$2*VLOOKUP(DataByMiles!AE248,DataByMiles!$AT$5:$AU$6,2,FALSE)","v":0},{"$f":"DataByMiles!J248*VLOOKUP(DataByMiles!AE248,DataByMiles!$AT$5:$AU$6,2,FALSE)","v":0},{"$f":"DataByMiles!K248","v":0},{"$f":"DataByMiles!L248","v":0},null,null,{"$f":"(Y250/IF(Z250=0,$AD$1,Z250)*$AD$2)/IF(AA250=0,1,AA250)*VLOOKUP(DataByMiles!AE248,DataByMiles!$AT$5:$AU$6,2,FALSE)","v":0},"",0,0,{"$f":"(AF250+AG250)*VLOOKUP(DataByMiles!AE248,DataByMiles!$AT$5:$AU$6,2,FALSE)","v":0},0]
[null,{"$f":"DataByMiles!C249","v":"----245"},{"$f":"DataByMiles!E249*VLOOKUP(DataByMiles!AE249,DataByMiles!$AT$5:$AU$6,2,FALSE)","v":0},null,null,0,{"$f":"C251*$G$2*VLOOKUP(DataByMiles!AE249,DataByMiles!$AT$5:$AU$6,2,FALSE)","v":0},{"$f":"DataByMiles!F249*VLOOKUP(DataByMiles!AE249,DataByMiles!$AT$5:$AU$6,2,FALSE)","v":0},null,null,0,{"$f":"H251*$L$2*VLOOKUP(DataByMiles!AE249,DataByMiles!$AT$5:$AU$6,2,FALSE)","v":0},{"$f":"DataByMiles!G249*VLOOKUP(DataByMiles!AE249,DataByMiles!$AT$5:$AU$6,2,FALSE)","v":0},null,null,{"$f":"M251*$P$2*VLOOKUP(DataByMiles!AE249,DataByMiles!$AT$5:$AU$6,2,FALSE)","v":0},{"$f":"DataByMiles!H249*VLOOKUP(DataByMiles!AE249,DataByMiles!$AT$5:$AU$6,2,FALSE)","v":0},null,null,{"$f":"Q251*$T$2*VLOOKUP(DataByMiles!AE249,DataByMiles!$AT$5:$AU$6,2,FALSE)","v":0},{"$f":"DataByMiles!I249*VLOOKUP(DataByMiles!AE249,DataByMiles!$AT$5:$AU$6,2,FALSE)","v":0},null,null,{"$f":"U251*$X$2*VLOOKUP(DataByMiles!AE249,DataByMiles!$AT$5:$AU$6,2,FALSE)","v":0},{"$f":"DataByMiles!J249*VLOOKUP(DataByMiles!AE249,DataByMiles!$AT$5:$AU$6,2,FALSE)","v":0},{"$f":"DataByMiles!K249","v":0},{"$f":"DataByMiles!L249","v":0},null,null,{"$f":"(Y251/IF(Z251=0,$AD$1,Z251)*$AD$2)/IF(AA251=0,1,AA251)*VLOOKUP(DataByMiles!AE249,DataByMiles!$AT$5:$AU$6,2,FALSE)","v":0},"",0,0,{"$f":"(AF251+AG251)*VLOOKUP(DataByMiles!AE249,DataByMiles!$AT$5:$AU$6,2,FALSE)","v":0},0]
[null,{"$f":"DataByMiles!C250","v":"----246"},{"$f":"DataByMiles!E250*VLOOKUP(DataByMiles!AE250,DataByMiles!$AT$5:$AU$6,2,FALSE)","v":0},null,null,0,{"$f":"C252*$G$2*VLOOKUP(DataByMiles!AE250,DataByMiles!$AT$5:$AU$6,2,FALSE)","v":0},{"$f":"DataByMiles!F250*VLOOKUP(DataByMiles!AE250,DataByMiles!$AT$5:$AU$6,2,FALSE)","v":0},null,null,0,{"$f":"H252*$L$2*VLOOKUP(DataByMiles!AE250,DataByMiles!$AT$5:$AU$6,2,FALSE)","v":0},{"$f":"DataByMiles!G250*VLOOKUP(DataByMiles!AE250,DataByMiles!$AT$5:$AU$6,2,FALSE)","v":0},null,null,{"$f":"M252*$P$2*VLOOKUP(DataByMiles!AE250,DataByMiles!$AT$5:$AU$6,2,FALSE)","v":0},{"$f":"DataByMiles!H250*VLOOKUP(DataByMiles!AE250,DataByMiles!$AT$5:$AU$6,2,FALSE)","v":0},null,null,{"$f":"Q252*$T$2*VLOOKUP(DataByMiles!AE250,DataByMiles!$AT$5:$AU$6,2,FALSE)","v":0},{"$f":"DataByMiles!I250*VLOOKUP(DataByMiles!AE250,DataByMiles!$AT$5:$AU$6,2,FALSE)","v":0},null,null,{"$f":"U252*$X$2*VLOOKUP(DataByMiles!AE250,DataByMiles!$AT$5:$AU$6,2,FALSE)","v":0},{"$f":"DataByMiles!J250*VLOOKUP(DataByMiles!AE250,DataByMiles!$AT$5:$AU$6,2,FALSE)","v":0},{"$f":"DataByMiles!K250","v":0},{"$f":"DataByMiles!L250","v":0},null,null,{"$f":"(Y252/IF(Z252=0,$AD$1,Z252)*$AD$2)/IF(AA252=0,1,AA252)*VLOOKUP(DataByMiles!AE250,DataByMiles!$AT$5:$AU$6,2,FALSE)","v":0},"",0,0,{"$f":"(AF252+AG252)*VLOOKUP(DataByMiles!AE250,DataByMiles!$AT$5:$AU$6,2,FALSE)","v":0},0]
[null,{"$f":"DataByMiles!C251","v":"----247"},{"$f":"DataByMiles!E251*VLOOKUP(DataByMiles!AE251,DataByMiles!$AT$5:$AU$6,2,FALSE)","v":0},null,null,0,{"$f":"C253*$G$2*VLOOKUP(DataByMiles!AE251,DataByMiles!$AT$5:$AU$6,2,FALSE)","v":0},{"$f":"DataByMiles!F251*VLOOKUP(DataByMiles!AE251,DataByMiles!$AT$5:$AU$6,2,FALSE)","v":0},null,null,0,{"$f":"H253*$L$2*VLOOKUP(DataByMiles!AE251,DataByMiles!$AT$5:$AU$6,2,FALSE)","v":0},{"$f":"DataByMiles!G251*VLOOKUP(DataByMiles!AE251,DataByMiles!$AT$5:$AU$6,2,FALSE)","v":0},null,null,{"$f":"M253*$P$2*VLOOKUP(DataByMiles!AE251,DataByMiles!$AT$5:$AU$6,2,FALSE)","v":0},{"$f":"DataByMiles!H251*VLOOKUP(DataByMiles!AE251,DataByMiles!$AT$5:$AU$6,2,FALSE)","v":0},null,null,{"$f":"Q253*$T$2*VLOOKUP(DataByMiles!AE251,DataByMiles!$AT$5:$AU$6,2,FALSE)","v":0},{"$f":"DataByMiles!I251*VLOOKUP(DataByMiles!AE251,DataByMiles!$AT$5:$AU$6,2,FALSE)","v":0},null,null,{"$f":"U253*$X$2*VLOOKUP(DataByMiles!AE251,DataByMiles!$AT$5:$AU$6,2,FALSE)","v":0},{"$f":"DataByMiles!J251*VLOOKUP(DataByMiles!AE251,DataByMiles!$AT$5:$AU$6,2,FALSE)","v":0},{"$f":"DataByMiles!K251","v":0},{"$f":"DataByMiles!L251","v":0},null,null,{"$f":"(Y253/IF(Z253=0,$AD$1,Z253)*$AD$2)/IF(AA253=0,1,AA253)*VLOOKUP(DataByMiles!AE251,DataByMiles!$AT$5:$AU$6,2,FALSE)","v":0},"",0,0,{"$f":"(AF253+AG253)*VLOOKUP(DataByMiles!AE251,DataByMiles!$AT$5:$AU$6,2,FALSE)","v":0},0]
[null,{"$f":"DataByMiles!C252","v":"----248"},{"$f":"DataByMiles!E252*VLOOKUP(DataByMiles!AE252,DataByMiles!$AT$5:$AU$6,2,FALSE)","v":0},null,null,0,{"$f":"C254*$G$2*VLOOKUP(DataByMiles!AE252,DataByMiles!$AT$5:$AU$6,2,FALSE)","v":0},{"$f":"DataByMiles!F252*VLOOKUP(DataByMiles!AE252,DataByMiles!$AT$5:$AU$6,2,FALSE)","v":0},null,null,0,{"$f":"H254*$L$2*VLOOKUP(DataByMiles!AE252,DataByMiles!$AT$5:$AU$6,2,FALSE)","v":0},{"$f":"DataByMiles!G252*VLOOKUP(DataByMiles!AE252,DataByMiles!$AT$5:$AU$6,2,FALSE)","v":0},null,null,{"$f":"M254*$P$2*VLOOKUP(DataByMiles!AE252,DataByMiles!$AT$5:$AU$6,2,FALSE)","v":0},{"$f":"DataByMiles!H252*VLOOKUP(DataByMiles!AE252,DataByMiles!$AT$5:$AU$6,2,FALSE)","v":0},null,null,{"$f":"Q254*$T$2*VLOOKUP(DataByMiles!AE252,DataByMiles!$AT$5:$AU$6,2,FALSE)","v":0},{"$f":"DataByMiles!I252*VLOOKUP(DataByMiles!AE252,DataByMiles!$AT$5:$AU$6,2,FALSE)","v":0},null,null,{"$f":"U254*$X$2*VLOOKUP(DataByMiles!AE252,DataByMiles!$AT$5:$AU$6,2,FALSE)","v":0},{"$f":"DataByMiles!J252*VLOOKUP(DataByMiles!AE252,DataByMiles!$AT$5:$AU$6,2,FALSE)","v":0},{"$f":"DataByMiles!K252","v":0},{"$f":"DataByMiles!L252","v":0},null,null,{"$f":"(Y254/IF(Z254=0,$AD$1,Z254)*$AD$2)/IF(AA254=0,1,AA254)*VLOOKUP(DataByMiles!AE252,DataByMiles!$AT$5:$AU$6,2,FALSE)","v":0},"",0,0,{"$f":"(AF254+AG254)*VLOOKUP(DataByMiles!AE252,DataByMiles!$AT$5:$AU$6,2,FALSE)","v":0},0]
[null,{"$f":"DataByMiles!C253","v":"----249"},{"$f":"DataByMiles!E253*VLOOKUP(DataByMiles!AE253,DataByMiles!$AT$5:$AU$6,2,FALSE)","v":0},null,null,0,{"$f":"C255*$G$2*VLOOKUP(DataByMiles!AE253,DataByMiles!$AT$5:$AU$6,2,FALSE)","v":0},{"$f":"DataByMiles!F253*VLOOKUP(DataByMiles!AE253,DataByMiles!$AT$5:$AU$6,2,FALSE)","v":0},null,null,0,{"$f":"H255*$L$2*VLOOKUP(DataByMiles!AE253,DataByMiles!$AT$5:$AU$6,2,FALSE)","v":0},{"$f":"DataByMiles!G253*VLOOKUP(DataByMiles!AE253,DataByMiles!$AT$5:$AU$6,2,FALSE)","v":0},null,null,{"$f":"M255*$P$2*VLOOKUP(DataByMiles!AE253,DataByMiles!$AT$5:$AU$6,2,FALSE)","v":0},{"$f":"DataByMiles!H253*VLOOKUP(DataByMiles!AE253,DataByMiles!$AT$5:$AU$6,2,FALSE)","v":0},null,null,{"$f":"Q255*$T$2*VLOOKUP(DataByMiles!AE253,DataByMiles!$AT$5:$AU$6,2,FALSE)","v":0},{"$f":"DataByMiles!I253*VLOOKUP(DataByMiles!AE253,DataByMiles!$AT$5:$AU$6,2,FALSE)","v":0},null,null,{"$f":"U255*$X$2*VLOOKUP(DataByMiles!AE253,DataByMiles!$AT$5:$AU$6,2,FALSE)","v":0},{"$f":"DataByMiles!J253*VLOOKUP(DataByMiles!AE253,DataByMiles!$AT$5:$AU$6,2,FALSE)","v":0},{"$f":"DataByMiles!K253","v":0},{"$f":"DataByMiles!L253","v":0},null,null,{"$f":"(Y255/IF(Z255=0,$AD$1,Z255)*$AD$2)/IF(AA255=0,1,AA255)*VLOOKUP(DataByMiles!AE253,DataByMiles!$AT$5:$AU$6,2,FALSE)","v":0},"",0,0,{"$f":"(AF255+AG255)*VLOOKUP(DataByMiles!AE253,DataByMiles!$AT$5:$AU$6,2,FALSE)","v":0},0]
[null,{"$f":"DataByMiles!C254","v":"----250"},{"$f":"DataByMiles!E254*VLOOKUP(DataByMiles!AE254,DataByMiles!$AT$5:$AU$6,2,FALSE)","v":0},null,null,0,{"$f":"C256*$G$2*VLOOKUP(DataByMiles!AE254,DataByMiles!$AT$5:$AU$6,2,FALSE)","v":0},{"$f":"DataByMiles!F254*VLOOKUP(DataByMiles!AE254,DataByMiles!$AT$5:$AU$6,2,FALSE)","v":0},null,null,0,{"$f":"H256*$L$2*VLOOKUP(DataByMiles!AE254,DataByMiles!$AT$5:$AU$6,2,FALSE)","v":0},{"$f":"DataByMiles!G254*VLOOKUP(DataByMiles!AE254,DataByMiles!$AT$5:$AU$6,2,FALSE)","v":0},null,null,{"$f":"M256*$P$2*VLOOKUP(DataByMiles!AE254,DataByMiles!$AT$5:$AU$6,2,FALSE)","v":0},{"$f":"DataByMiles!H254*VLOOKUP(DataByMiles!AE254,DataByMiles!$AT$5:$AU$6,2,FALSE)","v":0},null,null,{"$f":"Q256*$T$2*VLOOKUP(DataByMiles!AE254,DataByMiles!$AT$5:$AU$6,2,FALSE)","v":0},{"$f":"DataByMiles!I254*VLOOKUP(DataByMiles!AE254,DataByMiles!$AT$5:$AU$6,2,FALSE)","v":0},null,null,{"$f":"U256*$X$2*VLOOKUP(DataByMiles!AE254,DataByMiles!$AT$5:$AU$6,2,FALSE)","v":0},{"$f":"DataByMiles!J254*VLOOKUP(DataByMiles!AE254,DataByMiles!$AT$5:$AU$6,2,FALSE)","v":0},{"$f":"DataByMiles!K254","v":0},{"$f":"DataByMiles!L254","v":0},null,null,{"$f":"(Y256/IF(Z256=0,$AD$1,Z256)*$AD$2)/IF(AA256=0,1,AA256)*VLOOKUP(DataByMiles!AE254,DataByMiles!$AT$5:$AU$6,2,FALSE)","v":0},"",0,0,{"$f":"(AF256+AG256)*VLOOKUP(DataByMiles!AE254,DataByMiles!$AT$5:$AU$6,2,FALSE)","v":0},0]
[null,{"$f":"DataByMiles!C255","v":"----251"},{"$f":"DataByMiles!E255*VLOOKUP(DataByMiles!AE255,DataByMiles!$AT$5:$AU$6,2,FALSE)","v":0},null,null,0,{"$f":"C257*$G$2*VLOOKUP(DataByMiles!AE255,DataByMiles!$AT$5:$AU$6,2,FALSE)","v":0},{"$f":"DataByMiles!F255*VLOOKUP(DataByMiles!AE255,DataByMiles!$AT$5:$AU$6,2,FALSE)","v":0},null,null,0,{"$f":"H257*$L$2*VLOOKUP(DataByMiles!AE255,DataByMiles!$AT$5:$AU$6,2,FALSE)","v":0},{"$f":"DataByMiles!G255*VLOOKUP(DataByMiles!AE255,DataByMiles!$AT$5:$AU$6,2,FALSE)","v":0},null,null,{"$f":"M257*$P$2*VLOOKUP(DataByMiles!AE255,DataByMiles!$AT$5:$AU$6,2,FALSE)","v":0},{"$f":"DataByMiles!H255*VLOOKUP(DataByMiles!AE255,DataByMiles!$AT$5:$AU$6,2,FALSE)","v":0},null,null,{"$f":"Q257*$T$2*VLOOKUP(DataByMiles!AE255,DataByMiles!$AT$5:$AU$6,2,FALSE)","v":0},{"$f":"DataByMiles!I255*VLOOKUP(DataByMiles!AE255,DataByMiles!$AT$5:$AU$6,2,FALSE)","v":0},null,null,{"$f":"U257*$X$2*VLOOKUP(DataByMiles!AE255,DataByMiles!$AT$5:$AU$6,2,FALSE)","v":0},{"$f":"DataByMiles!J255*VLOOKUP(DataByMiles!AE255,DataByMiles!$AT$5:$AU$6,2,FALSE)","v":0},{"$f":"DataByMiles!K255","v":0},{"$f":"DataByMiles!L255","v":0},null,null,{"$f":"(Y257/IF(Z257=0,$AD$1,Z257)*$AD$2)/IF(AA257=0,1,AA257)*VLOOKUP(DataByMiles!AE255,DataByMiles!$AT$5:$AU$6,2,FALSE)","v":0},"",0,0,{"$f":"(AF257+AG257)*VLOOKUP(DataByMiles!AE255,DataByMiles!$AT$5:$AU$6,2,FALSE)","v":0},0]
[null,{"$f":"DataByMiles!C256","v":"----252"},{"$f":"DataByMiles!E256*VLOOKUP(DataByMiles!AE256,DataByMiles!$AT$5:$AU$6,2,FALSE)","v":0},null,null,0,{"$f":"C258*$G$2*VLOOKUP(DataByMiles!AE256,DataByMiles!$AT$5:$AU$6,2,FALSE)","v":0},{"$f":"DataByMiles!F256*VLOOKUP(DataByMiles!AE256,DataByMiles!$AT$5:$AU$6,2,FALSE)","v":0},null,null,0,{"$f":"H258*$L$2*VLOOKUP(DataByMiles!AE256,DataByMiles!$AT$5:$AU$6,2,FALSE)","v":0},{"$f":"DataByMiles!G256*VLOOKUP(DataByMiles!AE256,DataByMiles!$AT$5:$AU$6,2,FALSE)","v":0},null,null,{"$f":"M258*$P$2*VLOOKUP(DataByMiles!AE256,DataByMiles!$AT$5:$AU$6,2,FALSE)","v":0},{"$f":"DataByMiles!H256*VLOOKUP(DataByMiles!AE256,DataByMiles!$AT$5:$AU$6,2,FALSE)","v":0},null,null,{"$f":"Q258*$T$2*VLOOKUP(DataByMiles!AE256,DataByMiles!$AT$5:$AU$6,2,FALSE)","v":0},{"$f":"DataByMiles!I256*VLOOKUP(DataByMiles!AE256,DataByMiles!$AT$5:$AU$6,2,FALSE)","v":0},null,null,{"$f":"U258*$X$2*VLOOKUP(DataByMiles!AE256,DataByMiles!$AT$5:$AU$6,2,FALSE)","v":0},{"$f":"DataByMiles!J256*VLOOKUP(DataByMiles!AE256,DataByMiles!$AT$5:$AU$6,2,FALSE)","v":0},{"$f":"DataByMiles!K256","v":0},{"$f":"DataByMiles!L256","v":0},null,null,{"$f":"(Y258/IF(Z258=0,$AD$1,Z258)*$AD$2)/IF(AA258=0,1,AA258)*VLOOKUP(DataByMiles!AE256,DataByMiles!$AT$5:$AU$6,2,FALSE)","v":0},"",0,0,{"$f":"(AF258+AG258)*VLOOKUP(DataByMiles!AE256,DataByMiles!$AT$5:$AU$6,2,FALSE)","v":0},0]
[null,{"$f":"DataByMiles!C257","v":"----253"},{"$f":"DataByMiles!E257*VLOOKUP(DataByMiles!AE257,DataByMiles!$AT$5:$AU$6,2,FALSE)","v":0},null,null,0,{"$f":"C259*$G$2*VLOOKUP(DataByMiles!AE257,DataByMiles!$AT$5:$AU$6,2,FALSE)","v":0},{"$f":"DataByMiles!F257*VLOOKUP(DataByMiles!AE257,DataByMiles!$AT$5:$AU$6,2,FALSE)","v":0},null,null,0,{"$f":"H259*$L$2*VLOOKUP(DataByMiles!AE257,DataByMiles!$AT$5:$AU$6,2,FALSE)","v":0},{"$f":"DataByMiles!G257*VLOOKUP(DataByMiles!AE257,DataByMiles!$AT$5:$AU$6,2,FALSE)","v":0},null,null,{"$f":"M259*$P$2*VLOOKUP(DataByMiles!AE257,DataByMiles!$AT$5:$AU$6,2,FALSE)","v":0},{"$f":"DataByMiles!H257*VLOOKUP(DataByMiles!AE257,DataByMiles!$AT$5:$AU$6,2,FALSE)","v":0},null,null,{"$f":"Q259*$T$2*VLOOKUP(DataByMiles!AE257,DataByMiles!$AT$5:$AU$6,2,FALSE)","v":0},{"$f":"DataByMiles!I257*VLOOKUP(DataByMiles!AE257,DataByMiles!$AT$5:$AU$6,2,FALSE)","v":0},null,null,{"$f":"U259*$X$2*VLOOKUP(DataByMiles!AE257,DataByMiles!$AT$5:$AU$6,2,FALSE)","v":0},{"$f":"DataByMiles!J257*VLOOKUP(DataByMiles!AE257,DataByMiles!$AT$5:$AU$6,2,FALSE)","v":0},{"$f":"DataByMiles!K257","v":0},{"$f":"DataByMiles!L257","v":0},null,null,{"$f":"(Y259/IF(Z259=0,$AD$1,Z259)*$AD$2)/IF(AA259=0,1,AA259)*VLOOKUP(DataByMiles!AE257,DataByMiles!$AT$5:$AU$6,2,FALSE)","v":0},"",0,0,{"$f":"(AF259+AG259)*VLOOKUP(DataByMiles!AE257,DataByMiles!$AT$5:$AU$6,2,FALSE)","v":0},0]
[null,{"$f":"DataByMiles!C258","v":"----254"},{"$f":"DataByMiles!E258*VLOOKUP(DataByMiles!AE258,DataByMiles!$AT$5:$AU$6,2,FALSE)","v":0},null,null,0,{"$f":"C260*$G$2*VLOOKUP(DataByMiles!AE258,DataByMiles!$AT$5:$AU$6,2,FALSE)","v":0},{"$f":"DataByMiles!F258*VLOOKUP(DataByMiles!AE258,DataByMiles!$AT$5:$AU$6,2,FALSE)","v":0},null,null,0,{"$f":"H260*$L$2*VLOOKUP(DataByMiles!AE258,DataByMiles!$AT$5:$AU$6,2,FALSE)","v":0},{"$f":"DataByMiles!G258*VLOOKUP(DataByMiles!AE258,DataByMiles!$AT$5:$AU$6,2,FALSE)","v":0},null,null,{"$f":"M260*$P$2*VLOOKUP(DataByMiles!AE258,DataByMiles!$AT$5:$AU$6,2,FALSE)","v":0},{"$f":"DataByMiles!H258*VLOOKUP(DataByMiles!AE258,DataByMiles!$AT$5:$AU$6,2,FALSE)","v":0},null,null,{"$f":"Q260*$T$2*VLOOKUP(DataByMiles!AE258,DataByMiles!$AT$5:$AU$6,2,FALSE)","v":0},{"$f":"DataByMiles!I258*VLOOKUP(DataByMiles!AE258,DataByMiles!$AT$5:$AU$6,2,FALSE)","v":0},null,null,{"$f":"U260*$X$2*VLOOKUP(DataByMiles!AE258,DataByMiles!$AT$5:$AU$6,2,FALSE)","v":0},{"$f":"DataByMiles!J258*VLOOKUP(DataByMiles!AE258,DataByMiles!$AT$5:$AU$6,2,FALSE)","v":0},{"$f":"DataByMiles!K258","v":0},{"$f":"DataByMiles!L258","v":0},null,null,{"$f":"(Y260/IF(Z260=0,$AD$1,Z260)*$AD$2)/IF(AA260=0,1,AA260)*VLOOKUP(DataByMiles!AE258,DataByMiles!$AT$5:$AU$6,2,FALSE)","v":0},"",0,0,{"$f":"(AF260+AG260)*VLOOKUP(DataByMiles!AE258,DataByMiles!$AT$5:$AU$6,2,FALSE)","v":0},0]
[null,{"$f":"DataByMiles!C259","v":"----255"},{"$f":"DataByMiles!E259*VLOOKUP(DataByMiles!AE259,DataByMiles!$AT$5:$AU$6,2,FALSE)","v":0},null,null,0,{"$f":"C261*$G$2*VLOOKUP(DataByMiles!AE259,DataByMiles!$AT$5:$AU$6,2,FALSE)","v":0},{"$f":"DataByMiles!F259*VLOOKUP(DataByMiles!AE259,DataByMiles!$AT$5:$AU$6,2,FALSE)","v":0},null,null,0,{"$f":"H261*$L$2*VLOOKUP(DataByMiles!AE259,DataByMiles!$AT$5:$AU$6,2,FALSE)","v":0},{"$f":"DataByMiles!G259*VLOOKUP(DataByMiles!AE259,DataByMiles!$AT$5:$AU$6,2,FALSE)","v":0},null,null,{"$f":"M261*$P$2*VLOOKUP(DataByMiles!AE259,DataByMiles!$AT$5:$AU$6,2,FALSE)","v":0},{"$f":"DataByMiles!H259*VLOOKUP(DataByMiles!AE259,DataByMiles!$AT$5:$AU$6,2,FALSE)","v":0},null,null,{"$f":"Q261*$T$2*VLOOKUP(DataByMiles!AE259,DataByMiles!$AT$5:$AU$6,2,FALSE)","v":0},{"$f":"DataByMiles!I259*VLOOKUP(DataByMiles!AE259,DataByMiles!$AT$5:$AU$6,2,FALSE)","v":0},null,null,{"$f":"U261*$X$2*VLOOKUP(DataByMiles!AE259,DataByMiles!$AT$5:$AU$6,2,FALSE)","v":0},{"$f":"DataByMiles!J259*VLOOKUP(DataByMiles!AE259,DataByMiles!$AT$5:$AU$6,2,FALSE)","v":0},{"$f":"DataByMiles!K259","v":0},{"$f":"DataByMiles!L259","v":0},null,null,{"$f":"(Y261/IF(Z261=0,$AD$1,Z261)*$AD$2)/IF(AA261=0,1,AA261)*VLOOKUP(DataByMiles!AE259,DataByMiles!$AT$5:$AU$6,2,FALSE)","v":0},"",0,0,{"$f":"(AF261+AG261)*VLOOKUP(DataByMiles!AE259,DataByMiles!$AT$5:$AU$6,2,FALSE)","v":0},0]
[null,{"$f":"DataByMiles!C260","v":"----256"},{"$f":"DataByMiles!E260*VLOOKUP(DataByMiles!AE260,DataByMiles!$AT$5:$AU$6,2,FALSE)","v":0},null,null,0,{"$f":"C262*$G$2*VLOOKUP(DataByMiles!AE260,DataByMiles!$AT$5:$AU$6,2,FALSE)","v":0},{"$f":"DataByMiles!F260*VLOOKUP(DataByMiles!AE260,DataByMiles!$AT$5:$AU$6,2,FALSE)","v":0},null,null,0,{"$f":"H262*$L$2*VLOOKUP(DataByMiles!AE260,DataByMiles!$AT$5:$AU$6,2,FALSE)","v":0},{"$f":"DataByMiles!G260*VLOOKUP(DataByMiles!AE260,DataByMiles!$AT$5:$AU$6,2,FALSE)","v":0},null,null,{"$f":"M262*$P$2*VLOOKUP(DataByMiles!AE260,DataByMiles!$AT$5:$AU$6,2,FALSE)","v":0},{"$f":"DataByMiles!H260*VLOOKUP(DataByMiles!AE260,DataByMiles!$AT$5:$AU$6,2,FALSE)","v":0},null,null,{"$f":"Q262*$T$2*VLOOKUP(DataByMiles!AE260,DataByMiles!$AT$5:$AU$6,2,FALSE)","v":0},{"$f":"DataByMiles!I260*VLOOKUP(DataByMiles!AE260,DataByMiles!$AT$5:$AU$6,2,FALSE)","v":0},null,null,{"$f":"U262*$X$2*VLOOKUP(DataByMiles!AE260,DataByMiles!$AT$5:$AU$6,2,FALSE)","v":0},{"$f":"DataByMiles!J260*VLOOKUP(DataByMiles!AE260,DataByMiles!$AT$5:$AU$6,2,FALSE)","v":0},{"$f":"DataByMiles!K260","v":0},{"$f":"DataByMiles!L260","v":0},null,null,{"$f":"(Y262/IF(Z262=0,$AD$1,Z262)*$AD$2)/IF(AA262=0,1,AA262)*VLOOKUP(DataByMiles!AE260,DataByMiles!$AT$5:$AU$6,2,FALSE)","v":0},"",0,0,{"$f":"(AF262+AG262)*VLOOKUP(DataByMiles!AE260,DataByMiles!$AT$5:$AU$6,2,FALSE)","v":0},0]
[null,{"$f":"DataByMiles!C261","v":"----257"},{"$f":"DataByMiles!E261*VLOOKUP(DataByMiles!AE261,DataByMiles!$AT$5:$AU$6,2,FALSE)","v":0},null,null,0,{"$f":"C263*$G$2*VLOOKUP(DataByMiles!AE261,DataByMiles!$AT$5:$AU$6,2,FALSE)","v":0},{"$f":"DataByMiles!F261*VLOOKUP(DataByMiles!AE261,DataByMiles!$AT$5:$AU$6,2,FALSE)","v":0},null,null,0,{"$f":"H263*$L$2*VLOOKUP(DataByMiles!AE261,DataByMiles!$AT$5:$AU$6,2,FALSE)","v":0},{"$f":"DataByMiles!G261*VLOOKUP(DataByMiles!AE261,DataByMiles!$AT$5:$AU$6,2,FALSE)","v":0},null,null,{"$f":"M263*$P$2*VLOOKUP(DataByMiles!AE261,DataByMiles!$AT$5:$AU$6,2,FALSE)","v":0},{"$f":"DataByMiles!H261*VLOOKUP(DataByMiles!AE261,DataByMiles!$AT$5:$AU$6,2,FALSE)","v":0},null,null,{"$f":"Q263*$T$2*VLOOKUP(DataByMiles!AE261,DataByMiles!$AT$5:$AU$6,2,FALSE)","v":0},{"$f":"DataByMiles!I261*VLOOKUP(DataByMiles!AE261,DataByMiles!$AT$5:$AU$6,2,FALSE)","v":0},null,null,{"$f":"U263*$X$2*VLOOKUP(DataByMiles!AE261,DataByMiles!$AT$5:$AU$6,2,FALSE)","v":0},{"$f":"DataByMiles!J261*VLOOKUP(DataByMiles!AE261,DataByMiles!$AT$5:$AU$6,2,FALSE)","v":0},{"$f":"DataByMiles!K261","v":0},{"$f":"DataByMiles!L261","v":0},null,null,{"$f":"(Y263/IF(Z263=0,$AD$1,Z263)*$AD$2)/IF(AA263=0,1,AA263)*VLOOKUP(DataByMiles!AE261,DataByMiles!$AT$5:$AU$6,2,FALSE)","v":0},"",0,0,{"$f":"(AF263+AG263)*VLOOKUP(DataByMiles!AE261,DataByMiles!$AT$5:$AU$6,2,FALSE)","v":0},0]
[null,{"$f":"DataByMiles!C262","v":"----258"},{"$f":"DataByMiles!E262*VLOOKUP(DataByMiles!AE262,DataByMiles!$AT$5:$AU$6,2,FALSE)","v":0},null,null,0,{"$f":"C264*$G$2*VLOOKUP(DataByMiles!AE262,DataByMiles!$AT$5:$AU$6,2,FALSE)","v":0},{"$f":"DataByMiles!F262*VLOOKUP(DataByMiles!AE262,DataByMiles!$AT$5:$AU$6,2,FALSE)","v":0},null,null,0,{"$f":"H264*$L$2*VLOOKUP(DataByMiles!AE262,DataByMiles!$AT$5:$AU$6,2,FALSE)","v":0},{"$f":"DataByMiles!G262*VLOOKUP(DataByMiles!AE262,DataByMiles!$AT$5:$AU$6,2,FALSE)","v":0},null,null,{"$f":"M264*$P$2*VLOOKUP(DataByMiles!AE262,DataByMiles!$AT$5:$AU$6,2,FALSE)","v":0},{"$f":"DataByMiles!H262*VLOOKUP(DataByMiles!AE262,DataByMiles!$AT$5:$AU$6,2,FALSE)","v":0},null,null,{"$f":"Q264*$T$2*VLOOKUP(DataByMiles!AE262,DataByMiles!$AT$5:$AU$6,2,FALSE)","v":0},{"$f":"DataByMiles!I262*VLOOKUP(DataByMiles!AE262,DataByMiles!$AT$5:$AU$6,2,FALSE)","v":0},null,null,{"$f":"U264*$X$2*VLOOKUP(DataByMiles!AE262,DataByMiles!$AT$5:$AU$6,2,FALSE)","v":0},{"$f":"DataByMiles!J262*VLOOKUP(DataByMiles!AE262,DataByMiles!$AT$5:$AU$6,2,FALSE)","v":0},{"$f":"DataByMiles!K262","v":0},{"$f":"DataByMiles!L262","v":0},null,null,{"$f":"(Y264/IF(Z264=0,$AD$1,Z264)*$AD$2)/IF(AA264=0,1,AA264)*VLOOKUP(DataByMiles!AE262,DataByMiles!$AT$5:$AU$6,2,FALSE)","v":0},"",0,0,{"$f":"(AF264+AG264)*VLOOKUP(DataByMiles!AE262,DataByMiles!$AT$5:$AU$6,2,FALSE)","v":0},0]
[null,{"$f":"DataByMiles!C263","v":"----259"},{"$f":"DataByMiles!E263*VLOOKUP(DataByMiles!AE263,DataByMiles!$AT$5:$AU$6,2,FALSE)","v":0},null,null,0,{"$f":"C265*$G$2*VLOOKUP(DataByMiles!AE263,DataByMiles!$AT$5:$AU$6,2,FALSE)","v":0},{"$f":"DataByMiles!F263*VLOOKUP(DataByMiles!AE263,DataByMiles!$AT$5:$AU$6,2,FALSE)","v":0},null,null,0,{"$f":"H265*$L$2*VLOOKUP(DataByMiles!AE263,DataByMiles!$AT$5:$AU$6,2,FALSE)","v":0},{"$f":"DataByMiles!G263*VLOOKUP(DataByMiles!AE263,DataByMiles!$AT$5:$AU$6,2,FALSE)","v":0},null,null,{"$f":"M265*$P$2*VLOOKUP(DataByMiles!AE263,DataByMiles!$AT$5:$AU$6,2,FALSE)","v":0},{"$f":"DataByMiles!H263*VLOOKUP(DataByMiles!AE263,DataByMiles!$AT$5:$AU$6,2,FALSE)","v":0},null,null,{"$f":"Q265*$T$2*VLOOKUP(DataByMiles!AE263,DataByMiles!$AT$5:$AU$6,2,FALSE)","v":0},{"$f":"DataByMiles!I263*VLOOKUP(DataByMiles!AE263,DataByMiles!$AT$5:$AU$6,2,FALSE)","v":0},null,null,{"$f":"U265*$X$2*VLOOKUP(DataByMiles!AE263,DataByMiles!$AT$5:$AU$6,2,FALSE)","v":0},{"$f":"DataByMiles!J263*VLOOKUP(DataByMiles!AE263,DataByMiles!$AT$5:$AU$6,2,FALSE)","v":0},{"$f":"DataByMiles!K263","v":0},{"$f":"DataByMiles!L263","v":0},null,null,{"$f":"(Y265/IF(Z265=0,$AD$1,Z265)*$AD$2)/IF(AA265=0,1,AA265)*VLOOKUP(DataByMiles!AE263,DataByMiles!$AT$5:$AU$6,2,FALSE)","v":0},"",0,0,{"$f":"(AF265+AG265)*VLOOKUP(DataByMiles!AE263,DataByMiles!$AT$5:$AU$6,2,FALSE)","v":0},0]
[null,{"$f":"DataByMiles!C264","v":"----260"},{"$f":"DataByMiles!E264*VLOOKUP(DataByMiles!AE264,DataByMiles!$AT$5:$AU$6,2,FALSE)","v":0},null,null,0,{"$f":"C266*$G$2*VLOOKUP(DataByMiles!AE264,DataByMiles!$AT$5:$AU$6,2,FALSE)","v":0},{"$f":"DataByMiles!F264*VLOOKUP(DataByMiles!AE264,DataByMiles!$AT$5:$AU$6,2,FALSE)","v":0},null,null,0,{"$f":"H266*$L$2*VLOOKUP(DataByMiles!AE264,DataByMiles!$AT$5:$AU$6,2,FALSE)","v":0},{"$f":"DataByMiles!G264*VLOOKUP(DataByMiles!AE264,DataByMiles!$AT$5:$AU$6,2,FALSE)","v":0},null,null,{"$f":"M266*$P$2*VLOOKUP(DataByMiles!AE264,DataByMiles!$AT$5:$AU$6,2,FALSE)","v":0},{"$f":"DataByMiles!H264*VLOOKUP(DataByMiles!AE264,DataByMiles!$AT$5:$AU$6,2,FALSE)","v":0},null,null,{"$f":"Q266*$T$2*VLOOKUP(DataByMiles!AE264,DataByMiles!$AT$5:$AU$6,2,FALSE)","v":0},{"$f":"DataByMiles!I264*VLOOKUP(DataByMiles!AE264,DataByMiles!$AT$5:$AU$6,2,FALSE)","v":0},null,null,{"$f":"U266*$X$2*VLOOKUP(DataByMiles!AE264,DataByMiles!$AT$5:$AU$6,2,FALSE)","v":0},{"$f":"DataByMiles!J264*VLOOKUP(DataByMiles!AE264,DataByMiles!$AT$5:$AU$6,2,FALSE)","v":0},{"$f":"DataByMiles!K264","v":0},{"$f":"DataByMiles!L264","v":0},null,null,{"$f":"(Y266/IF(Z266=0,$AD$1,Z266)*$AD$2)/IF(AA266=0,1,AA266)*VLOOKUP(DataByMiles!AE264,DataByMiles!$AT$5:$AU$6,2,FALSE)","v":0},"",0,0,{"$f":"(AF266+AG266)*VLOOKUP(DataByMiles!AE264,DataByMiles!$AT$5:$AU$6,2,FALSE)","v":0},0]
[null,{"$f":"DataByMiles!C265","v":"----261"},{"$f":"DataByMiles!E265*VLOOKUP(DataByMiles!AE265,DataByMiles!$AT$5:$AU$6,2,FALSE)","v":0},null,null,0,{"$f":"C267*$G$2*VLOOKUP(DataByMiles!AE265,DataByMiles!$AT$5:$AU$6,2,FALSE)","v":0},{"$f":"DataByMiles!F265*VLOOKUP(DataByMiles!AE265,DataByMiles!$AT$5:$AU$6,2,FALSE)","v":0},null,null,0,{"$f":"H267*$L$2*VLOOKUP(DataByMiles!AE265,DataByMiles!$AT$5:$AU$6,2,FALSE)","v":0},{"$f":"DataByMiles!G265*VLOOKUP(DataByMiles!AE265,DataByMiles!$AT$5:$AU$6,2,FALSE)","v":0},null,null,{"$f":"M267*$P$2*VLOOKUP(DataByMiles!AE265,DataByMiles!$AT$5:$AU$6,2,FALSE)","v":0},{"$f":"DataByMiles!H265*VLOOKUP(DataByMiles!AE265,DataByMiles!$AT$5:$AU$6,2,FALSE)","v":0},null,null,{"$f":"Q267*$T$2*VLOOKUP(DataByMiles!AE265,DataByMiles!$AT$5:$AU$6,2,FALSE)","v":0},{"$f":"DataByMiles!I265*VLOOKUP(DataByMiles!AE265,DataByMiles!$AT$5:$AU$6,2,FALSE)","v":0},null,null,{"$f":"U267*$X$2*VLOOKUP(DataByMiles!AE265,DataByMiles!$AT$5:$AU$6,2,FALSE)","v":0},{"$f":"DataByMiles!J265*VLOOKUP(DataByMiles!AE265,DataByMiles!$AT$5:$AU$6,2,FALSE)","v":0},{"$f":"DataByMiles!K265","v":0},{"$f":"DataByMiles!L265","v":0},null,null,{"$f":"(Y267/IF(Z267=0,$AD$1,Z267)*$AD$2)/IF(AA267=0,1,AA267)*VLOOKUP(DataByMiles!AE265,DataByMiles!$AT$5:$AU$6,2,FALSE)","v":0},"",0,0,{"$f":"(AF267+AG267)*VLOOKUP(DataByMiles!AE265,DataByMiles!$AT$5:$AU$6,2,FALSE)","v":0},0]
[null,{"$f":"DataByMiles!C266","v":"----262"},{"$f":"DataByMiles!E266*VLOOKUP(DataByMiles!AE266,DataByMiles!$AT$5:$AU$6,2,FALSE)","v":0},null,null,0,{"$f":"C268*$G$2*VLOOKUP(DataByMiles!AE266,DataByMiles!$AT$5:$AU$6,2,FALSE)","v":0},{"$f":"DataByMiles!F266*VLOOKUP(DataByMiles!AE266,DataByMiles!$AT$5:$AU$6,2,FALSE)","v":0},null,null,0,{"$f":"H268*$L$2*VLOOKUP(DataByMiles!AE266,DataByMiles!$AT$5:$AU$6,2,FALSE)","v":0},{"$f":"DataByMiles!G266*VLOOKUP(DataByMiles!AE266,DataByMiles!$AT$5:$AU$6,2,FALSE)","v":0},null,null,{"$f":"M268*$P$2*VLOOKUP(DataByMiles!AE266,DataByMiles!$AT$5:$AU$6,2,FALSE)","v":0},{"$f":"DataByMiles!H266*VLOOKUP(DataByMiles!AE266,DataByMiles!$AT$5:$AU$6,2,FALSE)","v":0},null,null,{"$f":"Q268*$T$2*VLOOKUP(DataByMiles!AE266,DataByMiles!$AT$5:$AU$6,2,FALSE)","v":0},{"$f":"DataByMiles!I266*VLOOKUP(DataByMiles!AE266,DataByMiles!$AT$5:$AU$6,2,FALSE)","v":0},null,null,{"$f":"U268*$X$2*VLOOKUP(DataByMiles!AE266,DataByMiles!$AT$5:$AU$6,2,FALSE)","v":0},{"$f":"DataByMiles!J266*VLOOKUP(DataByMiles!AE266,DataByMiles!$AT$5:$AU$6,2,FALSE)","v":0},{"$f":"DataByMiles!K266","v":0},{"$f":"DataByMiles!L266","v":0},null,null,{"$f":"(Y268/IF(Z268=0,$AD$1,Z268)*$AD$2)/IF(AA268=0,1,AA268)*VLOOKUP(DataByMiles!AE266,DataByMiles!$AT$5:$AU$6,2,FALSE)","v":0},"",0,0,{"$f":"(AF268+AG268)*VLOOKUP(DataByMiles!AE266,DataByMiles!$AT$5:$AU$6,2,FALSE)","v":0},0]
[null,{"$f":"DataByMiles!C267","v":"----263"},{"$f":"DataByMiles!E267*VLOOKUP(DataByMiles!AE267,DataByMiles!$AT$5:$AU$6,2,FALSE)","v":0},null,null,0,{"$f":"C269*$G$2*VLOOKUP(DataByMiles!AE267,DataByMiles!$AT$5:$AU$6,2,FALSE)","v":0},{"$f":"DataByMiles!F267*VLOOKUP(DataByMiles!AE267,DataByMiles!$AT$5:$AU$6,2,FALSE)","v":0},null,null,0,{"$f":"H269*$L$2*VLOOKUP(DataByMiles!AE267,DataByMiles!$AT$5:$AU$6,2,FALSE)","v":0},{"$f":"DataByMiles!G267*VLOOKUP(DataByMiles!AE267,DataByMiles!$AT$5:$AU$6,2,FALSE)","v":0},null,null,{"$f":"M269*$P$2*VLOOKUP(DataByMiles!AE267,DataByMiles!$AT$5:$AU$6,2,FALSE)","v":0},{"$f":"DataByMiles!H267*VLOOKUP(DataByMiles!AE267,DataByMiles!$AT$5:$AU$6,2,FALSE)","v":0},null,null,{"$f":"Q269*$T$2*VLOOKUP(DataByMiles!AE267,DataByMiles!$AT$5:$AU$6,2,FALSE)","v":0},{"$f":"DataByMiles!I267*VLOOKUP(DataByMiles!AE267,DataByMiles!$AT$5:$AU$6,2,FALSE)","v":0},null,null,{"$f":"U269*$X$2*VLOOKUP(DataByMiles!AE267,DataByMiles!$AT$5:$AU$6,2,FALSE)","v":0},{"$f":"DataByMiles!J267*VLOOKUP(DataByMiles!AE267,DataByMiles!$AT$5:$AU$6,2,FALSE)","v":0},{"$f":"DataByMiles!K267","v":0},{"$f":"DataByMiles!L267","v":0},null,null,{"$f":"(Y269/IF(Z269=0,$AD$1,Z269)*$AD$2)/IF(AA269=0,1,AA269)*VLOOKUP(DataByMiles!AE267,DataByMiles!$AT$5:$AU$6,2,FALSE)","v":0},"",0,0,{"$f":"(AF269+AG269)*VLOOKUP(DataByMiles!AE267,DataByMiles!$AT$5:$AU$6,2,FALSE)","v":0},0]
[null,{"$f":"DataByMiles!C268","v":"----264"},{"$f":"DataByMiles!E268*VLOOKUP(DataByMiles!AE268,DataByMiles!$AT$5:$AU$6,2,FALSE)","v":0},null,null,0,{"$f":"C270*$G$2*VLOOKUP(DataByMiles!AE268,DataByMiles!$AT$5:$AU$6,2,FALSE)","v":0},{"$f":"DataByMiles!F268*VLOOKUP(DataByMiles!AE268,DataByMiles!$AT$5:$AU$6,2,FALSE)","v":0},null,null,0,{"$f":"H270*$L$2*VLOOKUP(DataByMiles!AE268,DataByMiles!$AT$5:$AU$6,2,FALSE)","v":0},{"$f":"DataByMiles!G268*VLOOKUP(DataByMiles!AE268,DataByMiles!$AT$5:$AU$6,2,FALSE)","v":0},null,null,{"$f":"M270*$P$2*VLOOKUP(DataByMiles!AE268,DataByMiles!$AT$5:$AU$6,2,FALSE)","v":0},{"$f":"DataByMiles!H268*VLOOKUP(DataByMiles!AE268,DataByMiles!$AT$5:$AU$6,2,FALSE)","v":0},null,null,{"$f":"Q270*$T$2*VLOOKUP(DataByMiles!AE268,DataByMiles!$AT$5:$AU$6,2,FALSE)","v":0},{"$f":"DataByMiles!I268*VLOOKUP(DataByMiles!AE268,DataByMiles!$AT$5:$AU$6,2,FALSE)","v":0},null,null,{"$f":"U270*$X$2*VLOOKUP(DataByMiles!AE268,DataByMiles!$AT$5:$AU$6,2,FALSE)","v":0},{"$f":"DataByMiles!J268*VLOOKUP(DataByMiles!AE268,DataByMiles!$AT$5:$AU$6,2,FALSE)","v":0},{"$f":"DataByMiles!K268","v":0},{"$f":"DataByMiles!L268","v":0},null,null,{"$f":"(Y270/IF(Z270=0,$AD$1,Z270)*$AD$2)/IF(AA270=0,1,AA270)*VLOOKUP(DataByMiles!AE268,DataByMiles!$AT$5:$AU$6,2,FALSE)","v":0},"",0,0,{"$f":"(AF270+AG270)*VLOOKUP(DataByMiles!AE268,DataByMiles!$AT$5:$AU$6,2,FALSE)","v":0},0]
[null,{"$f":"DataByMiles!C269","v":"----265"},{"$f":"DataByMiles!E269*VLOOKUP(DataByMiles!AE269,DataByMiles!$AT$5:$AU$6,2,FALSE)","v":0},null,null,0,{"$f":"C271*$G$2*VLOOKUP(DataByMiles!AE269,DataByMiles!$AT$5:$AU$6,2,FALSE)","v":0},{"$f":"DataByMiles!F269*VLOOKUP(DataByMiles!AE269,DataByMiles!$AT$5:$AU$6,2,FALSE)","v":0},null,null,0,{"$f":"H271*$L$2*VLOOKUP(DataByMiles!AE269,DataByMiles!$AT$5:$AU$6,2,FALSE)","v":0},{"$f":"DataByMiles!G269*VLOOKUP(DataByMiles!AE269,DataByMiles!$AT$5:$AU$6,2,FALSE)","v":0},null,null,{"$f":"M271*$P$2*VLOOKUP(DataByMiles!AE269,DataByMiles!$AT$5:$AU$6,2,FALSE)","v":0},{"$f":"DataByMiles!H269*VLOOKUP(DataByMiles!AE269,DataByMiles!$AT$5:$AU$6,2,FALSE)","v":0},null,null,{"$f":"Q271*$T$2*VLOOKUP(DataByMiles!AE269,DataByMiles!$AT$5:$AU$6,2,FALSE)","v":0},{"$f":"DataByMiles!I269*VLOOKUP(DataByMiles!AE269,DataByMiles!$AT$5:$AU$6,2,FALSE)","v":0},null,null,{"$f":"U271*$X$2*VLOOKUP(DataByMiles!AE269,DataByMiles!$AT$5:$AU$6,2,FALSE)","v":0},{"$f":"DataByMiles!J269*VLOOKUP(DataByMiles!AE269,DataByMiles!$AT$5:$AU$6,2,FALSE)","v":0},{"$f":"DataByMiles!K269","v":0},{"$f":"DataByMiles!L269","v":0},null,null,{"$f":"(Y271/IF(Z271=0,$AD$1,Z271)*$AD$2)/IF(AA271=0,1,AA271)*VLOOKUP(DataByMiles!AE269,DataByMiles!$AT$5:$AU$6,2,FALSE)","v":0},"",0,0,{"$f":"(AF271+AG271)*VLOOKUP(DataByMiles!AE269,DataByMiles!$AT$5:$AU$6,2,FALSE)","v":0},0]
[null,{"$f":"DataByMiles!C270","v":"----266"},{"$f":"DataByMiles!E270*VLOOKUP(DataByMiles!AE270,DataByMiles!$AT$5:$AU$6,2,FALSE)","v":0},null,null,0,{"$f":"C272*$G$2*VLOOKUP(DataByMiles!AE270,DataByMiles!$AT$5:$AU$6,2,FALSE)","v":0},{"$f":"DataByMiles!F270*VLOOKUP(DataByMiles!AE270,DataByMiles!$AT$5:$AU$6,2,FALSE)","v":0},null,null,0,{"$f":"H272*$L$2*VLOOKUP(DataByMiles!AE270,DataByMiles!$AT$5:$AU$6,2,FALSE)","v":0},{"$f":"DataByMiles!G270*VLOOKUP(DataByMiles!AE270,DataByMiles!$AT$5:$AU$6,2,FALSE)","v":0},null,null,{"$f":"M272*$P$2*VLOOKUP(DataByMiles!AE270,DataByMiles!$AT$5:$AU$6,2,FALSE)","v":0},{"$f":"DataByMiles!H270*VLOOKUP(DataByMiles!AE270,DataByMiles!$AT$5:$AU$6,2,FALSE)","v":0},null,null,{"$f":"Q272*$T$2*VLOOKUP(DataByMiles!AE270,DataByMiles!$AT$5:$AU$6,2,FALSE)","v":0},{"$f":"DataByMiles!I270*VLOOKUP(DataByMiles!AE270,DataByMiles!$AT$5:$AU$6,2,FALSE)","v":0},null,null,{"$f":"U272*$X$2*VLOOKUP(DataByMiles!AE270,DataByMiles!$AT$5:$AU$6,2,FALSE)","v":0},{"$f":"DataByMiles!J270*VLOOKUP(DataByMiles!AE270,DataByMiles!$AT$5:$AU$6,2,FALSE)","v":0},{"$f":"DataByMiles!K270","v":0},{"$f":"DataByMiles!L270","v":0},null,null,{"$f":"(Y272/IF(Z272=0,$AD$1,Z272)*$AD$2)/IF(AA272=0,1,AA272)*VLOOKUP(DataByMiles!AE270,DataByMiles!$AT$5:$AU$6,2,FALSE)","v":0},"",0,0,{"$f":"(AF272+AG272)*VLOOKUP(DataByMiles!AE270,DataByMiles!$AT$5:$AU$6,2,FALSE)","v":0},0]
[null,{"$f":"DataByMiles!C271","v":"----267"},{"$f":"DataByMiles!E271*VLOOKUP(DataByMiles!AE271,DataByMiles!$AT$5:$AU$6,2,FALSE)","v":0},null,null,0,{"$f":"C273*$G$2*VLOOKUP(DataByMiles!AE271,DataByMiles!$AT$5:$AU$6,2,FALSE)","v":0},{"$f":"DataByMiles!F271*VLOOKUP(DataByMiles!AE271,DataByMiles!$AT$5:$AU$6,2,FALSE)","v":0},null,null,0,{"$f":"H273*$L$2*VLOOKUP(DataByMiles!AE271,DataByMiles!$AT$5:$AU$6,2,FALSE)","v":0},{"$f":"DataByMiles!G271*VLOOKUP(DataByMiles!AE271,DataByMiles!$AT$5:$AU$6,2,FALSE)","v":0},null,null,{"$f":"M273*$P$2*VLOOKUP(DataByMiles!AE271,DataByMiles!$AT$5:$AU$6,2,FALSE)","v":0},{"$f":"DataByMiles!H271*VLOOKUP(DataByMiles!AE271,DataByMiles!$AT$5:$AU$6,2,FALSE)","v":0},null,null,{"$f":"Q273*$T$2*VLOOKUP(DataByMiles!AE271,DataByMiles!$AT$5:$AU$6,2,FALSE)","v":0},{"$f":"DataByMiles!I271*VLOOKUP(DataByMiles!AE271,DataByMiles!$AT$5:$AU$6,2,FALSE)","v":0},null,null,{"$f":"U273*$X$2*VLOOKUP(DataByMiles!AE271,DataByMiles!$AT$5:$AU$6,2,FALSE)","v":0},{"$f":"DataByMiles!J271*VLOOKUP(DataByMiles!AE271,DataByMiles!$AT$5:$AU$6,2,FALSE)","v":0},{"$f":"DataByMiles!K271","v":0},{"$f":"DataByMiles!L271","v":0},null,null,{"$f":"(Y273/IF(Z273=0,$AD$1,Z273)*$AD$2)/IF(AA273=0,1,AA273)*VLOOKUP(DataByMiles!AE271,DataByMiles!$AT$5:$AU$6,2,FALSE)","v":0},"",0,0,{"$f":"(AF273+AG273)*VLOOKUP(DataByMiles!AE271,DataByMiles!$AT$5:$AU$6,2,FALSE)","v":0},0]
[null,{"$f":"DataByMiles!C272","v":"----268"},{"$f":"DataByMiles!E272*VLOOKUP(DataByMiles!AE272,DataByMiles!$AT$5:$AU$6,2,FALSE)","v":0},null,null,0,{"$f":"C274*$G$2*VLOOKUP(DataByMiles!AE272,DataByMiles!$AT$5:$AU$6,2,FALSE)","v":0},{"$f":"DataByMiles!F272*VLOOKUP(DataByMiles!AE272,DataByMiles!$AT$5:$AU$6,2,FALSE)","v":0},null,null,0,{"$f":"H274*$L$2*VLOOKUP(DataByMiles!AE272,DataByMiles!$AT$5:$AU$6,2,FALSE)","v":0},{"$f":"DataByMiles!G272*VLOOKUP(DataByMiles!AE272,DataByMiles!$AT$5:$AU$6,2,FALSE)","v":0},null,null,{"$f":"M274*$P$2*VLOOKUP(DataByMiles!AE272,DataByMiles!$AT$5:$AU$6,2,FALSE)","v":0},{"$f":"DataByMiles!H272*VLOOKUP(DataByMiles!AE272,DataByMiles!$AT$5:$AU$6,2,FALSE)","v":0},null,null,{"$f":"Q274*$T$2*VLOOKUP(DataByMiles!AE272,DataByMiles!$AT$5:$AU$6,2,FALSE)","v":0},{"$f":"DataByMiles!I272*VLOOKUP(DataByMiles!AE272,DataByMiles!$AT$5:$AU$6,2,FALSE)","v":0},null,null,{"$f":"U274*$X$2*VLOOKUP(DataByMiles!AE272,DataByMiles!$AT$5:$AU$6,2,FALSE)","v":0},{"$f":"DataByMiles!J272*VLOOKUP(DataByMiles!AE272,DataByMiles!$AT$5:$AU$6,2,FALSE)","v":0},{"$f":"DataByMiles!K272","v":0},{"$f":"DataByMiles!L272","v":0},null,null,{"$f":"(Y274/IF(Z274=0,$AD$1,Z274)*$AD$2)/IF(AA274=0,1,AA274)*VLOOKUP(DataByMiles!AE272,DataByMiles!$AT$5:$AU$6,2,FALSE)","v":0},"",0,0,{"$f":"(AF274+AG274)*VLOOKUP(DataByMiles!AE272,DataByMiles!$AT$5:$AU$6,2,FALSE)","v":0},0]
[null,{"$f":"DataByMiles!C273","v":"----269"},{"$f":"DataByMiles!E273*VLOOKUP(DataByMiles!AE273,DataByMiles!$AT$5:$AU$6,2,FALSE)","v":0},null,null,0,{"$f":"C275*$G$2*VLOOKUP(DataByMiles!AE273,DataByMiles!$AT$5:$AU$6,2,FALSE)","v":0},{"$f":"DataByMiles!F273*VLOOKUP(DataByMiles!AE273,DataByMiles!$AT$5:$AU$6,2,FALSE)","v":0},null,null,0,{"$f":"H275*$L$2*VLOOKUP(DataByMiles!AE273,DataByMiles!$AT$5:$AU$6,2,FALSE)","v":0},{"$f":"DataByMiles!G273*VLOOKUP(DataByMiles!AE273,DataByMiles!$AT$5:$AU$6,2,FALSE)","v":0},null,null,{"$f":"M275*$P$2*VLOOKUP(DataByMiles!AE273,DataByMiles!$AT$5:$AU$6,2,FALSE)","v":0},{"$f":"DataByMiles!H273*VLOOKUP(DataByMiles!AE273,DataByMiles!$AT$5:$AU$6,2,FALSE)","v":0},null,null,{"$f":"Q275*$T$2*VLOOKUP(DataByMiles!AE273,DataByMiles!$AT$5:$AU$6,2,FALSE)","v":0},{"$f":"DataByMiles!I273*VLOOKUP(DataByMiles!AE273,DataByMiles!$AT$5:$AU$6,2,FALSE)","v":0},null,null,{"$f":"U275*$X$2*VLOOKUP(DataByMiles!AE273,DataByMiles!$AT$5:$AU$6,2,FALSE)","v":0},{"$f":"DataByMiles!J273*VLOOKUP(DataByMiles!AE273,DataByMiles!$AT$5:$AU$6,2,FALSE)","v":0},{"$f":"DataByMiles!K273","v":0},{"$f":"DataByMiles!L273","v":0},null,null,{"$f":"(Y275/IF(Z275=0,$AD$1,Z275)*$AD$2)/IF(AA275=0,1,AA275)*VLOOKUP(DataByMiles!AE273,DataByMiles!$AT$5:$AU$6,2,FALSE)","v":0},"",0,0,{"$f":"(AF275+AG275)*VLOOKUP(DataByMiles!AE273,DataByMiles!$AT$5:$AU$6,2,FALSE)","v":0},0]
[null,{"$f":"DataByMiles!C274","v":"----270"},{"$f":"DataByMiles!E274*VLOOKUP(DataByMiles!AE274,DataByMiles!$AT$5:$AU$6,2,FALSE)","v":0},null,null,0,{"$f":"C276*$G$2*VLOOKUP(DataByMiles!AE274,DataByMiles!$AT$5:$AU$6,2,FALSE)","v":0},{"$f":"DataByMiles!F274*VLOOKUP(DataByMiles!AE274,DataByMiles!$AT$5:$AU$6,2,FALSE)","v":0},null,null,0,{"$f":"H276*$L$2*VLOOKUP(DataByMiles!AE274,DataByMiles!$AT$5:$AU$6,2,FALSE)","v":0},{"$f":"DataByMiles!G274*VLOOKUP(DataByMiles!AE274,DataByMiles!$AT$5:$AU$6,2,FALSE)","v":0},null,null,{"$f":"M276*$P$2*VLOOKUP(DataByMiles!AE274,DataByMiles!$AT$5:$AU$6,2,FALSE)","v":0},{"$f":"DataByMiles!H274*VLOOKUP(DataByMiles!AE274,DataByMiles!$AT$5:$AU$6,2,FALSE)","v":0},null,null,{"$f":"Q276*$T$2*VLOOKUP(DataByMiles!AE274,DataByMiles!$AT$5:$AU$6,2,FALSE)","v":0},{"$f":"DataByMiles!I274*VLOOKUP(DataByMiles!AE274,DataByMiles!$AT$5:$AU$6,2,FALSE)","v":0},null,null,{"$f":"U276*$X$2*VLOOKUP(DataByMiles!AE274,DataByMiles!$AT$5:$AU$6,2,FALSE)","v":0},{"$f":"DataByMiles!J274*VLOOKUP(DataByMiles!AE274,DataByMiles!$AT$5:$AU$6,2,FALSE)","v":0},{"$f":"DataByMiles!K274","v":0},{"$f":"DataByMiles!L274","v":0},null,null,{"$f":"(Y276/IF(Z276=0,$AD$1,Z276)*$AD$2)/IF(AA276=0,1,AA276)*VLOOKUP(DataByMiles!AE274,DataByMiles!$AT$5:$AU$6,2,FALSE)","v":0},"",0,0,{"$f":"(AF276+AG276)*VLOOKUP(DataByMiles!AE274,DataByMiles!$AT$5:$AU$6,2,FALSE)","v":0},0]
[null,{"$f":"DataByMiles!C275","v":"----271"},{"$f":"DataByMiles!E275*VLOOKUP(DataByMiles!AE275,DataByMiles!$AT$5:$AU$6,2,FALSE)","v":0},null,null,0,{"$f":"C277*$G$2*VLOOKUP(DataByMiles!AE275,DataByMiles!$AT$5:$AU$6,2,FALSE)","v":0},{"$f":"DataByMiles!F275*VLOOKUP(DataByMiles!AE275,DataByMiles!$AT$5:$AU$6,2,FALSE)","v":0},null,null,0,{"$f":"H277*$L$2*VLOOKUP(DataByMiles!AE275,DataByMiles!$AT$5:$AU$6,2,FALSE)","v":0},{"$f":"DataByMiles!G275*VLOOKUP(DataByMiles!AE275,DataByMiles!$AT$5:$AU$6,2,FALSE)","v":0},null,null,{"$f":"M277*$P$2*VLOOKUP(DataByMiles!AE275,DataByMiles!$AT$5:$AU$6,2,FALSE)","v":0},{"$f":"DataByMiles!H275*VLOOKUP(DataByMiles!AE275,DataByMiles!$AT$5:$AU$6,2,FALSE)","v":0},null,null,{"$f":"Q277*$T$2*VLOOKUP(DataByMiles!AE275,DataByMiles!$AT$5:$AU$6,2,FALSE)","v":0},{"$f":"DataByMiles!I275*VLOOKUP(DataByMiles!AE275,DataByMiles!$AT$5:$AU$6,2,FALSE)","v":0},null,null,{"$f":"U277*$X$2*VLOOKUP(DataByMiles!AE275,DataByMiles!$AT$5:$AU$6,2,FALSE)","v":0},{"$f":"DataByMiles!J275*VLOOKUP(DataByMiles!AE275,DataByMiles!$AT$5:$AU$6,2,FALSE)","v":0},{"$f":"DataByMiles!K275","v":0},{"$f":"DataByMiles!L275","v":0},null,null,{"$f":"(Y277/IF(Z277=0,$AD$1,Z277)*$AD$2)/IF(AA277=0,1,AA277)*VLOOKUP(DataByMiles!AE275,DataByMiles!$AT$5:$AU$6,2,FALSE)","v":0},"",0,0,{"$f":"(AF277+AG277)*VLOOKUP(DataByMiles!AE275,DataByMiles!$AT$5:$AU$6,2,FALSE)","v":0},0]
[null,{"$f":"DataByMiles!C276","v":"----272"},{"$f":"DataByMiles!E276*VLOOKUP(DataByMiles!AE276,DataByMiles!$AT$5:$AU$6,2,FALSE)","v":0},null,null,0,{"$f":"C278*$G$2*VLOOKUP(DataByMiles!AE276,DataByMiles!$AT$5:$AU$6,2,FALSE)","v":0},{"$f":"DataByMiles!F276*VLOOKUP(DataByMiles!AE276,DataByMiles!$AT$5:$AU$6,2,FALSE)","v":0},null,null,0,{"$f":"H278*$L$2*VLOOKUP(DataByMiles!AE276,DataByMiles!$AT$5:$AU$6,2,FALSE)","v":0},{"$f":"DataByMiles!G276*VLOOKUP(DataByMiles!AE276,DataByMiles!$AT$5:$AU$6,2,FALSE)","v":0},null,null,{"$f":"M278*$P$2*VLOOKUP(DataByMiles!AE276,DataByMiles!$AT$5:$AU$6,2,FALSE)","v":0},{"$f":"DataByMiles!H276*VLOOKUP(DataByMiles!AE276,DataByMiles!$AT$5:$AU$6,2,FALSE)","v":0},null,null,{"$f":"Q278*$T$2*VLOOKUP(DataByMiles!AE276,DataByMiles!$AT$5:$AU$6,2,FALSE)","v":0},{"$f":"DataByMiles!I276*VLOOKUP(DataByMiles!AE276,DataByMiles!$AT$5:$AU$6,2,FALSE)","v":0},null,null,{"$f":"U278*$X$2*VLOOKUP(DataByMiles!AE276,DataByMiles!$AT$5:$AU$6,2,FALSE)","v":0},{"$f":"DataByMiles!J276*VLOOKUP(DataByMiles!AE276,DataByMiles!$AT$5:$AU$6,2,FALSE)","v":0},{"$f":"DataByMiles!K276","v":0},{"$f":"DataByMiles!L276","v":0},null,null,{"$f":"(Y278/IF(Z278=0,$AD$1,Z278)*$AD$2)/IF(AA278=0,1,AA278)*VLOOKUP(DataByMiles!AE276,DataByMiles!$AT$5:$AU$6,2,FALSE)","v":0},"",0,0,{"$f":"(AF278+AG278)*VLOOKUP(DataByMiles!AE276,DataByMiles!$AT$5:$AU$6,2,FALSE)","v":0},0]
[null,{"$f":"DataByMiles!C277","v":"----273"},{"$f":"DataByMiles!E277*VLOOKUP(DataByMiles!AE277,DataByMiles!$AT$5:$AU$6,2,FALSE)","v":0},null,null,0,{"$f":"C279*$G$2*VLOOKUP(DataByMiles!AE277,DataByMiles!$AT$5:$AU$6,2,FALSE)","v":0},{"$f":"DataByMiles!F277*VLOOKUP(DataByMiles!AE277,DataByMiles!$AT$5:$AU$6,2,FALSE)","v":0},null,null,0,{"$f":"H279*$L$2*VLOOKUP(DataByMiles!AE277,DataByMiles!$AT$5:$AU$6,2,FALSE)","v":0},{"$f":"DataByMiles!G277*VLOOKUP(DataByMiles!AE277,DataByMiles!$AT$5:$AU$6,2,FALSE)","v":0},null,null,{"$f":"M279*$P$2*VLOOKUP(DataByMiles!AE277,DataByMiles!$AT$5:$AU$6,2,FALSE)","v":0},{"$f":"DataByMiles!H277*VLOOKUP(DataByMiles!AE277,DataByMiles!$AT$5:$AU$6,2,FALSE)","v":0},null,null,{"$f":"Q279*$T$2*VLOOKUP(DataByMiles!AE277,DataByMiles!$AT$5:$AU$6,2,FALSE)","v":0},{"$f":"DataByMiles!I277*VLOOKUP(DataByMiles!AE277,DataByMiles!$AT$5:$AU$6,2,FALSE)","v":0},null,null,{"$f":"U279*$X$2*VLOOKUP(DataByMiles!AE277,DataByMiles!$AT$5:$AU$6,2,FALSE)","v":0},{"$f":"DataByMiles!J277*VLOOKUP(DataByMiles!AE277,DataByMiles!$AT$5:$AU$6,2,FALSE)","v":0},{"$f":"DataByMiles!K277","v":0},{"$f":"DataByMiles!L277","v":0},null,null,{"$f":"(Y279/IF(Z279=0,$AD$1,Z279)*$AD$2)/IF(AA279=0,1,AA279)*VLOOKUP(DataByMiles!AE277,DataByMiles!$AT$5:$AU$6,2,FALSE)","v":0},"",0,0,{"$f":"(AF279+AG279)*VLOOKUP(DataByMiles!AE277,DataByMiles!$AT$5:$AU$6,2,FALSE)","v":0},0]
[null,{"$f":"DataByMiles!C278","v":"----274"},{"$f":"DataByMiles!E278*VLOOKUP(DataByMiles!AE278,DataByMiles!$AT$5:$AU$6,2,FALSE)","v":0},null,null,0,{"$f":"C280*$G$2*VLOOKUP(DataByMiles!AE278,DataByMiles!$AT$5:$AU$6,2,FALSE)","v":0},{"$f":"DataByMiles!F278*VLOOKUP(DataByMiles!AE278,DataByMiles!$AT$5:$AU$6,2,FALSE)","v":0},null,null,0,{"$f":"H280*$L$2*VLOOKUP(DataByMiles!AE278,DataByMiles!$AT$5:$AU$6,2,FALSE)","v":0},{"$f":"DataByMiles!G278*VLOOKUP(DataByMiles!AE278,DataByMiles!$AT$5:$AU$6,2,FALSE)","v":0},null,null,{"$f":"M280*$P$2*VLOOKUP(DataByMiles!AE278,DataByMiles!$AT$5:$AU$6,2,FALSE)","v":0},{"$f":"DataByMiles!H278*VLOOKUP(DataByMiles!AE278,DataByMiles!$AT$5:$AU$6,2,FALSE)","v":0},null,null,{"$f":"Q280*$T$2*VLOOKUP(DataByMiles!AE278,DataByMiles!$AT$5:$AU$6,2,FALSE)","v":0},{"$f":"DataByMiles!I278*VLOOKUP(DataByMiles!AE278,DataByMiles!$AT$5:$AU$6,2,FALSE)","v":0},null,null,{"$f":"U280*$X$2*VLOOKUP(DataByMiles!AE278,DataByMiles!$AT$5:$AU$6,2,FALSE)","v":0},{"$f":"DataByMiles!J278*VLOOKUP(DataByMiles!AE278,DataByMiles!$AT$5:$AU$6,2,FALSE)","v":0},{"$f":"DataByMiles!K278","v":0},{"$f":"DataByMiles!L278","v":0},null,null,{"$f":"(Y280/IF(Z280=0,$AD$1,Z280)*$AD$2)/IF(AA280=0,1,AA280)*VLOOKUP(DataByMiles!AE278,DataByMiles!$AT$5:$AU$6,2,FALSE)","v":0},"",0,0,{"$f":"(AF280+AG280)*VLOOKUP(DataByMiles!AE278,DataByMiles!$AT$5:$AU$6,2,FALSE)","v":0},0]
[null,{"$f":"DataByMiles!C279","v":"----275"},{"$f":"DataByMiles!E279*VLOOKUP(DataByMiles!AE279,DataByMiles!$AT$5:$AU$6,2,FALSE)","v":0},null,null,0,{"$f":"C281*$G$2*VLOOKUP(DataByMiles!AE279,DataByMiles!$AT$5:$AU$6,2,FALSE)","v":0},{"$f":"DataByMiles!F279*VLOOKUP(DataByMiles!AE279,DataByMiles!$AT$5:$AU$6,2,FALSE)","v":0},null,null,0,{"$f":"H281*$L$2*VLOOKUP(DataByMiles!AE279,DataByMiles!$AT$5:$AU$6,2,FALSE)","v":0},{"$f":"DataByMiles!G279*VLOOKUP(DataByMiles!AE279,DataByMiles!$AT$5:$AU$6,2,FALSE)","v":0},null,null,{"$f":"M281*$P$2*VLOOKUP(DataByMiles!AE279,DataByMiles!$AT$5:$AU$6,2,FALSE)","v":0},{"$f":"DataByMiles!H279*VLOOKUP(DataByMiles!AE279,DataByMiles!$AT$5:$AU$6,2,FALSE)","v":0},null,null,{"$f":"Q281*$T$2*VLOOKUP(DataByMiles!AE279,DataByMiles!$AT$5:$AU$6,2,FALSE)","v":0},{"$f":"DataByMiles!I279*VLOOKUP(DataByMiles!AE279,DataByMiles!$AT$5:$AU$6,2,FALSE)","v":0},null,null,{"$f":"U281*$X$2*VLOOKUP(DataByMiles!AE279,DataByMiles!$AT$5:$AU$6,2,FALSE)","v":0},{"$f":"DataByMiles!J279*VLOOKUP(DataByMiles!AE279,DataByMiles!$AT$5:$AU$6,2,FALSE)","v":0},{"$f":"DataByMiles!K279","v":0},{"$f":"DataByMiles!L279","v":0},null,null,{"$f":"(Y281/IF(Z281=0,$AD$1,Z281)*$AD$2)/IF(AA281=0,1,AA281)*VLOOKUP(DataByMiles!AE279,DataByMiles!$AT$5:$AU$6,2,FALSE)","v":0},"",0,0,{"$f":"(AF281+AG281)*VLOOKUP(DataByMiles!AE279,DataByMiles!$AT$5:$AU$6,2,FALSE)","v":0},0]
[null,{"$f":"DataByMiles!C280","v":"----276"},{"$f":"DataByMiles!E280*VLOOKUP(DataByMiles!AE280,DataByMiles!$AT$5:$AU$6,2,FALSE)","v":0},null,null,0,{"$f":"C282*$G$2*VLOOKUP(DataByMiles!AE280,DataByMiles!$AT$5:$AU$6,2,FALSE)","v":0},{"$f":"DataByMiles!F280*VLOOKUP(DataByMiles!AE280,DataByMiles!$AT$5:$AU$6,2,FALSE)","v":0},null,null,0,{"$f":"H282*$L$2*VLOOKUP(DataByMiles!AE280,DataByMiles!$AT$5:$AU$6,2,FALSE)","v":0},{"$f":"DataByMiles!G280*VLOOKUP(DataByMiles!AE280,DataByMiles!$AT$5:$AU$6,2,FALSE)","v":0},null,null,{"$f":"M282*$P$2*VLOOKUP(DataByMiles!AE280,DataByMiles!$AT$5:$AU$6,2,FALSE)","v":0},{"$f":"DataByMiles!H280*VLOOKUP(DataByMiles!AE280,DataByMiles!$AT$5:$AU$6,2,FALSE)","v":0},null,null,{"$f":"Q282*$T$2*VLOOKUP(DataByMiles!AE280,DataByMiles!$AT$5:$AU$6,2,FALSE)","v":0},{"$f":"DataByMiles!I280*VLOOKUP(DataByMiles!AE280,DataByMiles!$AT$5:$AU$6,2,FALSE)","v":0},null,null,{"$f":"U282*$X$2*VLOOKUP(DataByMiles!AE280,DataByMiles!$AT$5:$AU$6,2,FALSE)","v":0},{"$f":"DataByMiles!J280*VLOOKUP(DataByMiles!AE280,DataByMiles!$AT$5:$AU$6,2,FALSE)","v":0},{"$f":"DataByMiles!K280","v":0},{"$f":"DataByMiles!L280","v":0},null,null,{"$f":"(Y282/IF(Z282=0,$AD$1,Z282)*$AD$2)/IF(AA282=0,1,AA282)*VLOOKUP(DataByMiles!AE280,DataByMiles!$AT$5:$AU$6,2,FALSE)","v":0},"",0,0,{"$f":"(AF282+AG282)*VLOOKUP(DataByMiles!AE280,DataByMiles!$AT$5:$AU$6,2,FALSE)","v":0},0]
[null,{"$f":"DataByMiles!C281","v":"----277"},{"$f":"DataByMiles!E281*VLOOKUP(DataByMiles!AE281,DataByMiles!$AT$5:$AU$6,2,FALSE)","v":0},null,null,0,{"$f":"C283*$G$2*VLOOKUP(DataByMiles!AE281,DataByMiles!$AT$5:$AU$6,2,FALSE)","v":0},{"$f":"DataByMiles!F281*VLOOKUP(DataByMiles!AE281,DataByMiles!$AT$5:$AU$6,2,FALSE)","v":0},null,null,0,{"$f":"H283*$L$2*VLOOKUP(DataByMiles!AE281,DataByMiles!$AT$5:$AU$6,2,FALSE)","v":0},{"$f":"DataByMiles!G281*VLOOKUP(DataByMiles!AE281,DataByMiles!$AT$5:$AU$6,2,FALSE)","v":0},null,null,{"$f":"M283*$P$2*VLOOKUP(DataByMiles!AE281,DataByMiles!$AT$5:$AU$6,2,FALSE)","v":0},{"$f":"DataByMiles!H281*VLOOKUP(DataByMiles!AE281,DataByMiles!$AT$5:$AU$6,2,FALSE)","v":0},null,null,{"$f":"Q283*$T$2*VLOOKUP(DataByMiles!AE281,DataByMiles!$AT$5:$AU$6,2,FALSE)","v":0},{"$f":"DataByMiles!I281*VLOOKUP(DataByMiles!AE281,DataByMiles!$AT$5:$AU$6,2,FALSE)","v":0},null,null,{"$f":"U283*$X$2*VLOOKUP(DataByMiles!AE281,DataByMiles!$AT$5:$AU$6,2,FALSE)","v":0},{"$f":"DataByMiles!J281*VLOOKUP(DataByMiles!AE281,DataByMiles!$AT$5:$AU$6,2,FALSE)","v":0},{"$f":"DataByMiles!K281","v":0},{"$f":"DataByMiles!L281","v":0},null,null,{"$f":"(Y283/IF(Z283=0,$AD$1,Z283)*$AD$2)/IF(AA283=0,1,AA283)*VLOOKUP(DataByMiles!AE281,DataByMiles!$AT$5:$AU$6,2,FALSE)","v":0},"",0,0,{"$f":"(AF283+AG283)*VLOOKUP(DataByMiles!AE281,DataByMiles!$AT$5:$AU$6,2,FALSE)","v":0},0]
[null,{"$f":"DataByMiles!C282","v":"----278"},{"$f":"DataByMiles!E282*VLOOKUP(DataByMiles!AE282,DataByMiles!$AT$5:$AU$6,2,FALSE)","v":0},null,null,0,{"$f":"C284*$G$2*VLOOKUP(DataByMiles!AE282,DataByMiles!$AT$5:$AU$6,2,FALSE)","v":0},{"$f":"DataByMiles!F282*VLOOKUP(DataByMiles!AE282,DataByMiles!$AT$5:$AU$6,2,FALSE)","v":0},null,null,0,{"$f":"H284*$L$2*VLOOKUP(DataByMiles!AE282,DataByMiles!$AT$5:$AU$6,2,FALSE)","v":0},{"$f":"DataByMiles!G282*VLOOKUP(DataByMiles!AE282,DataByMiles!$AT$5:$AU$6,2,FALSE)","v":0},null,null,{"$f":"M284*$P$2*VLOOKUP(DataByMiles!AE282,DataByMiles!$AT$5:$AU$6,2,FALSE)","v":0},{"$f":"DataByMiles!H282*VLOOKUP(DataByMiles!AE282,DataByMiles!$AT$5:$AU$6,2,FALSE)","v":0},null,null,{"$f":"Q284*$T$2*VLOOKUP(DataByMiles!AE282,DataByMiles!$AT$5:$AU$6,2,FALSE)","v":0},{"$f":"DataByMiles!I282*VLOOKUP(DataByMiles!AE282,DataByMiles!$AT$5:$AU$6,2,FALSE)","v":0},null,null,{"$f":"U284*$X$2*VLOOKUP(DataByMiles!AE282,DataByMiles!$AT$5:$AU$6,2,FALSE)","v":0},{"$f":"DataByMiles!J282*VLOOKUP(DataByMiles!AE282,DataByMiles!$AT$5:$AU$6,2,FALSE)","v":0},{"$f":"DataByMiles!K282","v":0},{"$f":"DataByMiles!L282","v":0},null,null,{"$f":"(Y284/IF(Z284=0,$AD$1,Z284)*$AD$2)/IF(AA284=0,1,AA284)*VLOOKUP(DataByMiles!AE282,DataByMiles!$AT$5:$AU$6,2,FALSE)","v":0},"",0,0,{"$f":"(AF284+AG284)*VLOOKUP(DataByMiles!AE282,DataByMiles!$AT$5:$AU$6,2,FALSE)","v":0},0]
[null,{"$f":"DataByMiles!C283","v":"----279"},{"$f":"DataByMiles!E283*VLOOKUP(DataByMiles!AE283,DataByMiles!$AT$5:$AU$6,2,FALSE)","v":0},null,null,0,{"$f":"C285*$G$2*VLOOKUP(DataByMiles!AE283,DataByMiles!$AT$5:$AU$6,2,FALSE)","v":0},{"$f":"DataByMiles!F283*VLOOKUP(DataByMiles!AE283,DataByMiles!$AT$5:$AU$6,2,FALSE)","v":0},null,null,0,{"$f":"H285*$L$2*VLOOKUP(DataByMiles!AE283,DataByMiles!$AT$5:$AU$6,2,FALSE)","v":0},{"$f":"DataByMiles!G283*VLOOKUP(DataByMiles!AE283,DataByMiles!$AT$5:$AU$6,2,FALSE)","v":0},null,null,{"$f":"M285*$P$2*VLOOKUP(DataByMiles!AE283,DataByMiles!$AT$5:$AU$6,2,FALSE)","v":0},{"$f":"DataByMiles!H283*VLOOKUP(DataByMiles!AE283,DataByMiles!$AT$5:$AU$6,2,FALSE)","v":0},null,null,{"$f":"Q285*$T$2*VLOOKUP(DataByMiles!AE283,DataByMiles!$AT$5:$AU$6,2,FALSE)","v":0},{"$f":"DataByMiles!I283*VLOOKUP(DataByMiles!AE283,DataByMiles!$AT$5:$AU$6,2,FALSE)","v":0},null,null,{"$f":"U285*$X$2*VLOOKUP(DataByMiles!AE283,DataByMiles!$AT$5:$AU$6,2,FALSE)","v":0},{"$f":"DataByMiles!J283*VLOOKUP(DataByMiles!AE283,DataByMiles!$AT$5:$AU$6,2,FALSE)","v":0},{"$f":"DataByMiles!K283","v":0},{"$f":"DataByMiles!L283","v":0},null,null,{"$f":"(Y285/IF(Z285=0,$AD$1,Z285)*$AD$2)/IF(AA285=0,1,AA285)*VLOOKUP(DataByMiles!AE283,DataByMiles!$AT$5:$AU$6,2,FALSE)","v":0},"",0,0,{"$f":"(AF285+AG285)*VLOOKUP(DataByMiles!AE283,DataByMiles!$AT$5:$AU$6,2,FALSE)","v":0},0]
[null,{"$f":"DataByMiles!C284","v":"----280"},{"$f":"DataByMiles!E284*VLOOKUP(DataByMiles!AE284,DataByMiles!$AT$5:$AU$6,2,FALSE)","v":0},null,null,0,{"$f":"C286*$G$2*VLOOKUP(DataByMiles!AE284,DataByMiles!$AT$5:$AU$6,2,FALSE)","v":0},{"$f":"DataByMiles!F284*VLOOKUP(DataByMiles!AE284,DataByMiles!$AT$5:$AU$6,2,FALSE)","v":0},null,null,0,{"$f":"H286*$L$2*VLOOKUP(DataByMiles!AE284,DataByMiles!$AT$5:$AU$6,2,FALSE)","v":0},{"$f":"DataByMiles!G284*VLOOKUP(DataByMiles!AE284,DataByMiles!$AT$5:$AU$6,2,FALSE)","v":0},null,null,{"$f":"M286*$P$2*VLOOKUP(DataByMiles!AE284,DataByMiles!$AT$5:$AU$6,2,FALSE)","v":0},{"$f":"DataByMiles!H284*VLOOKUP(DataByMiles!AE284,DataByMiles!$AT$5:$AU$6,2,FALSE)","v":0},null,null,{"$f":"Q286*$T$2*VLOOKUP(DataByMiles!AE284,DataByMiles!$AT$5:$AU$6,2,FALSE)","v":0},{"$f":"DataByMiles!I284*VLOOKUP(DataByMiles!AE284,DataByMiles!$AT$5:$AU$6,2,FALSE)","v":0},null,null,{"$f":"U286*$X$2*VLOOKUP(DataByMiles!AE284,DataByMiles!$AT$5:$AU$6,2,FALSE)","v":0},{"$f":"DataByMiles!J284*VLOOKUP(DataByMiles!AE284,DataByMiles!$AT$5:$AU$6,2,FALSE)","v":0},{"$f":"DataByMiles!K284","v":0},{"$f":"DataByMiles!L284","v":0},null,null,{"$f":"(Y286/IF(Z286=0,$AD$1,Z286)*$AD$2)/IF(AA286=0,1,AA286)*VLOOKUP(DataByMiles!AE284,DataByMiles!$AT$5:$AU$6,2,FALSE)","v":0},"",0,0,{"$f":"(AF286+AG286)*VLOOKUP(DataByMiles!AE284,DataByMiles!$AT$5:$AU$6,2,FALSE)","v":0},0]
[null,{"$f":"DataByMiles!C285","v":"----281"},{"$f":"DataByMiles!E285*VLOOKUP(DataByMiles!AE285,DataByMiles!$AT$5:$AU$6,2,FALSE)","v":0},null,null,0,{"$f":"C287*$G$2*VLOOKUP(DataByMiles!AE285,DataByMiles!$AT$5:$AU$6,2,FALSE)","v":0},{"$f":"DataByMiles!F285*VLOOKUP(DataByMiles!AE285,DataByMiles!$AT$5:$AU$6,2,FALSE)","v":0},null,null,0,{"$f":"H287*$L$2*VLOOKUP(DataByMiles!AE285,DataByMiles!$AT$5:$AU$6,2,FALSE)","v":0},{"$f":"DataByMiles!G285*VLOOKUP(DataByMiles!AE285,DataByMiles!$AT$5:$AU$6,2,FALSE)","v":0},null,null,{"$f":"M287*$P$2*VLOOKUP(DataByMiles!AE285,DataByMiles!$AT$5:$AU$6,2,FALSE)","v":0},{"$f":"DataByMiles!H285*VLOOKUP(DataByMiles!AE285,DataByMiles!$AT$5:$AU$6,2,FALSE)","v":0},null,null,{"$f":"Q287*$T$2*VLOOKUP(DataByMiles!AE285,DataByMiles!$AT$5:$AU$6,2,FALSE)","v":0},{"$f":"DataByMiles!I285*VLOOKUP(DataByMiles!AE285,DataByMiles!$AT$5:$AU$6,2,FALSE)","v":0},null,null,{"$f":"U287*$X$2*VLOOKUP(DataByMiles!AE285,DataByMiles!$AT$5:$AU$6,2,FALSE)","v":0},{"$f":"DataByMiles!J285*VLOOKUP(DataByMiles!AE285,DataByMiles!$AT$5:$AU$6,2,FALSE)","v":0},{"$f":"DataByMiles!K285","v":0},{"$f":"DataByMiles!L285","v":0},null,null,{"$f":"(Y287/IF(Z287=0,$AD$1,Z287)*$AD$2)/IF(AA287=0,1,AA287)*VLOOKUP(DataByMiles!AE285,DataByMiles!$AT$5:$AU$6,2,FALSE)","v":0},"",0,0,{"$f":"(AF287+AG287)*VLOOKUP(DataByMiles!AE285,DataByMiles!$AT$5:$AU$6,2,FALSE)","v":0},0]
[null,{"$f":"DataByMiles!C286","v":"----282"},{"$f":"DataByMiles!E286*VLOOKUP(DataByMiles!AE286,DataByMiles!$AT$5:$AU$6,2,FALSE)","v":0},null,null,0,{"$f":"C288*$G$2*VLOOKUP(DataByMiles!AE286,DataByMiles!$AT$5:$AU$6,2,FALSE)","v":0},{"$f":"DataByMiles!F286*VLOOKUP(DataByMiles!AE286,DataByMiles!$AT$5:$AU$6,2,FALSE)","v":0},null,null,0,{"$f":"H288*$L$2*VLOOKUP(DataByMiles!AE286,DataByMiles!$AT$5:$AU$6,2,FALSE)","v":0},{"$f":"DataByMiles!G286*VLOOKUP(DataByMiles!AE286,DataByMiles!$AT$5:$AU$6,2,FALSE)","v":0},null,null,{"$f":"M288*$P$2*VLOOKUP(DataByMiles!AE286,DataByMiles!$AT$5:$AU$6,2,FALSE)","v":0},{"$f":"DataByMiles!H286*VLOOKUP(DataByMiles!AE286,DataByMiles!$AT$5:$AU$6,2,FALSE)","v":0},null,null,{"$f":"Q288*$T$2*VLOOKUP(DataByMiles!AE286,DataByMiles!$AT$5:$AU$6,2,FALSE)","v":0},{"$f":"DataByMiles!I286*VLOOKUP(DataByMiles!AE286,DataByMiles!$AT$5:$AU$6,2,FALSE)","v":0},null,null,{"$f":"U288*$X$2*VLOOKUP(DataByMiles!AE286,DataByMiles!$AT$5:$AU$6,2,FALSE)","v":0},{"$f":"DataByMiles!J286*VLOOKUP(DataByMiles!AE286,DataByMiles!$AT$5:$AU$6,2,FALSE)","v":0},{"$f":"DataByMiles!K286","v":0},{"$f":"DataByMiles!L286","v":0},null,null,{"$f":"(Y288/IF(Z288=0,$AD$1,Z288)*$AD$2)/IF(AA288=0,1,AA288)*VLOOKUP(DataByMiles!AE286,DataByMiles!$AT$5:$AU$6,2,FALSE)","v":0},"",0,0,{"$f":"(AF288+AG288)*VLOOKUP(DataByMiles!AE286,DataByMiles!$AT$5:$AU$6,2,FALSE)","v":0},0]
[null,{"$f":"DataByMiles!C287","v":"----283"},{"$f":"DataByMiles!E287*VLOOKUP(DataByMiles!AE287,DataByMiles!$AT$5:$AU$6,2,FALSE)","v":0},null,null,0,{"$f":"C289*$G$2*VLOOKUP(DataByMiles!AE287,DataByMiles!$AT$5:$AU$6,2,FALSE)","v":0},{"$f":"DataByMiles!F287*VLOOKUP(DataByMiles!AE287,DataByMiles!$AT$5:$AU$6,2,FALSE)","v":0},null,null,0,{"$f":"H289*$L$2*VLOOKUP(DataByMiles!AE287,DataByMiles!$AT$5:$AU$6,2,FALSE)","v":0},{"$f":"DataByMiles!G287*VLOOKUP(DataByMiles!AE287,DataByMiles!$AT$5:$AU$6,2,FALSE)","v":0},null,null,{"$f":"M289*$P$2*VLOOKUP(DataByMiles!AE287,DataByMiles!$AT$5:$AU$6,2,FALSE)","v":0},{"$f":"DataByMiles!H287*VLOOKUP(DataByMiles!AE287,DataByMiles!$AT$5:$AU$6,2,FALSE)","v":0},null,null,{"$f":"Q289*$T$2*VLOOKUP(DataByMiles!AE287,DataByMiles!$AT$5:$AU$6,2,FALSE)","v":0},{"$f":"DataByMiles!I287*VLOOKUP(DataByMiles!AE287,DataByMiles!$AT$5:$AU$6,2,FALSE)","v":0},null,null,{"$f":"U289*$X$2*VLOOKUP(DataByMiles!AE287,DataByMiles!$AT$5:$AU$6,2,FALSE)","v":0},{"$f":"DataByMiles!J287*VLOOKUP(DataByMiles!AE287,DataByMiles!$AT$5:$AU$6,2,FALSE)","v":0},{"$f":"DataByMiles!K287","v":0},{"$f":"DataByMiles!L287","v":0},null,null,{"$f":"(Y289/IF(Z289=0,$AD$1,Z289)*$AD$2)/IF(AA289=0,1,AA289)*VLOOKUP(DataByMiles!AE287,DataByMiles!$AT$5:$AU$6,2,FALSE)","v":0},"",0,0,{"$f":"(AF289+AG289)*VLOOKUP(DataByMiles!AE287,DataByMiles!$AT$5:$AU$6,2,FALSE)","v":0},0]
[null,{"$f":"DataByMiles!C288","v":"----284"},{"$f":"DataByMiles!E288*VLOOKUP(DataByMiles!AE288,DataByMiles!$AT$5:$AU$6,2,FALSE)","v":0},null,null,0,{"$f":"C290*$G$2*VLOOKUP(DataByMiles!AE288,DataByMiles!$AT$5:$AU$6,2,FALSE)","v":0},{"$f":"DataByMiles!F288*VLOOKUP(DataByMiles!AE288,DataByMiles!$AT$5:$AU$6,2,FALSE)","v":0},null,null,0,{"$f":"H290*$L$2*VLOOKUP(DataByMiles!AE288,DataByMiles!$AT$5:$AU$6,2,FALSE)","v":0},{"$f":"DataByMiles!G288*VLOOKUP(DataByMiles!AE288,DataByMiles!$AT$5:$AU$6,2,FALSE)","v":0},null,null,{"$f":"M290*$P$2*VLOOKUP(DataByMiles!AE288,DataByMiles!$AT$5:$AU$6,2,FALSE)","v":0},{"$f":"DataByMiles!H288*VLOOKUP(DataByMiles!AE288,DataByMiles!$AT$5:$AU$6,2,FALSE)","v":0},null,null,{"$f":"Q290*$T$2*VLOOKUP(DataByMiles!AE288,DataByMiles!$AT$5:$AU$6,2,FALSE)","v":0},{"$f":"DataByMiles!I288*VLOOKUP(DataByMiles!AE288,DataByMiles!$AT$5:$AU$6,2,FALSE)","v":0},null,null,{"$f":"U290*$X$2*VLOOKUP(DataByMiles!AE288,DataByMiles!$AT$5:$AU$6,2,FALSE)","v":0},{"$f":"DataByMiles!J288*VLOOKUP(DataByMiles!AE288,DataByMiles!$AT$5:$AU$6,2,FALSE)","v":0},{"$f":"DataByMiles!K288","v":0},{"$f":"DataByMiles!L288","v":0},null,null,{"$f":"(Y290/IF(Z290=0,$AD$1,Z290)*$AD$2)/IF(AA290=0,1,AA290)*VLOOKUP(DataByMiles!AE288,DataByMiles!$AT$5:$AU$6,2,FALSE)","v":0},"",0,0,{"$f":"(AF290+AG290)*VLOOKUP(DataByMiles!AE288,DataByMiles!$AT$5:$AU$6,2,FALSE)","v":0},0]
[null,{"$f":"DataByMiles!C289","v":"----285"},{"$f":"DataByMiles!E289*VLOOKUP(DataByMiles!AE289,DataByMiles!$AT$5:$AU$6,2,FALSE)","v":0},null,null,0,{"$f":"C291*$G$2*VLOOKUP(DataByMiles!AE289,DataByMiles!$AT$5:$AU$6,2,FALSE)","v":0},{"$f":"DataByMiles!F289*VLOOKUP(DataByMiles!AE289,DataByMiles!$AT$5:$AU$6,2,FALSE)","v":0},null,null,0,{"$f":"H291*$L$2*VLOOKUP(DataByMiles!AE289,DataByMiles!$AT$5:$AU$6,2,FALSE)","v":0},{"$f":"DataByMiles!G289*VLOOKUP(DataByMiles!AE289,DataByMiles!$AT$5:$AU$6,2,FALSE)","v":0},null,null,{"$f":"M291*$P$2*VLOOKUP(DataByMiles!AE289,DataByMiles!$AT$5:$AU$6,2,FALSE)","v":0},{"$f":"DataByMiles!H289*VLOOKUP(DataByMiles!AE289,DataByMiles!$AT$5:$AU$6,2,FALSE)","v":0},null,null,{"$f":"Q291*$T$2*VLOOKUP(DataByMiles!AE289,DataByMiles!$AT$5:$AU$6,2,FALSE)","v":0},{"$f":"DataByMiles!I289*VLOOKUP(DataByMiles!AE289,DataByMiles!$AT$5:$AU$6,2,FALSE)","v":0},null,null,{"$f":"U291*$X$2*VLOOKUP(DataByMiles!AE289,DataByMiles!$AT$5:$AU$6,2,FALSE)","v":0},{"$f":"DataByMiles!J289*VLOOKUP(DataByMiles!AE289,DataByMiles!$AT$5:$AU$6,2,FALSE)","v":0},{"$f":"DataByMiles!K289","v":0},{"$f":"DataByMiles!L289","v":0},null,null,{"$f":"(Y291/IF(Z291=0,$AD$1,Z291)*$AD$2)/IF(AA291=0,1,AA291)*VLOOKUP(DataByMiles!AE289,DataByMiles!$AT$5:$AU$6,2,FALSE)","v":0},"",0,0,{"$f":"(AF291+AG291)*VLOOKUP(DataByMiles!AE289,DataByMiles!$AT$5:$AU$6,2,FALSE)","v":0},0]
[null,{"$f":"DataByMiles!C290","v":"----286"},{"$f":"DataByMiles!E290*VLOOKUP(DataByMiles!AE290,DataByMiles!$AT$5:$AU$6,2,FALSE)","v":0},null,null,0,{"$f":"C292*$G$2*VLOOKUP(DataByMiles!AE290,DataByMiles!$AT$5:$AU$6,2,FALSE)","v":0},{"$f":"DataByMiles!F290*VLOOKUP(DataByMiles!AE290,DataByMiles!$AT$5:$AU$6,2,FALSE)","v":0},null,null,0,{"$f":"H292*$L$2*VLOOKUP(DataByMiles!AE290,DataByMiles!$AT$5:$AU$6,2,FALSE)","v":0},{"$f":"DataByMiles!G290*VLOOKUP(DataByMiles!AE290,DataByMiles!$AT$5:$AU$6,2,FALSE)","v":0},null,null,{"$f":"M292*$P$2*VLOOKUP(DataByMiles!AE290,DataByMiles!$AT$5:$AU$6,2,FALSE)","v":0},{"$f":"DataByMiles!H290*VLOOKUP(DataByMiles!AE290,DataByMiles!$AT$5:$AU$6,2,FALSE)","v":0},null,null,{"$f":"Q292*$T$2*VLOOKUP(DataByMiles!AE290,DataByMiles!$AT$5:$AU$6,2,FALSE)","v":0},{"$f":"DataByMiles!I290*VLOOKUP(DataByMiles!AE290,DataByMiles!$AT$5:$AU$6,2,FALSE)","v":0},null,null,{"$f":"U292*$X$2*VLOOKUP(DataByMiles!AE290,DataByMiles!$AT$5:$AU$6,2,FALSE)","v":0},{"$f":"DataByMiles!J290*VLOOKUP(DataByMiles!AE290,DataByMiles!$AT$5:$AU$6,2,FALSE)","v":0},{"$f":"DataByMiles!K290","v":0},{"$f":"DataByMiles!L290","v":0},null,null,{"$f":"(Y292/IF(Z292=0,$AD$1,Z292)*$AD$2)/IF(AA292=0,1,AA292)*VLOOKUP(DataByMiles!AE290,DataByMiles!$AT$5:$AU$6,2,FALSE)","v":0},"",0,0,{"$f":"(AF292+AG292)*VLOOKUP(DataByMiles!AE290,DataByMiles!$AT$5:$AU$6,2,FALSE)","v":0},0]
[null,{"$f":"DataByMiles!C291","v":"----287"},{"$f":"DataByMiles!E291*VLOOKUP(DataByMiles!AE291,DataByMiles!$AT$5:$AU$6,2,FALSE)","v":0},null,null,0,{"$f":"C293*$G$2*VLOOKUP(DataByMiles!AE291,DataByMiles!$AT$5:$AU$6,2,FALSE)","v":0},{"$f":"DataByMiles!F291*VLOOKUP(DataByMiles!AE291,DataByMiles!$AT$5:$AU$6,2,FALSE)","v":0},null,null,0,{"$f":"H293*$L$2*VLOOKUP(DataByMiles!AE291,DataByMiles!$AT$5:$AU$6,2,FALSE)","v":0},{"$f":"DataByMiles!G291*VLOOKUP(DataByMiles!AE291,DataByMiles!$AT$5:$AU$6,2,FALSE)","v":0},null,null,{"$f":"M293*$P$2*VLOOKUP(DataByMiles!AE291,DataByMiles!$AT$5:$AU$6,2,FALSE)","v":0},{"$f":"DataByMiles!H291*VLOOKUP(DataByMiles!AE291,DataByMiles!$AT$5:$AU$6,2,FALSE)","v":0},null,null,{"$f":"Q293*$T$2*VLOOKUP(DataByMiles!AE291,DataByMiles!$AT$5:$AU$6,2,FALSE)","v":0},{"$f":"DataByMiles!I291*VLOOKUP(DataByMiles!AE291,DataByMiles!$AT$5:$AU$6,2,FALSE)","v":0},null,null,{"$f":"U293*$X$2*VLOOKUP(DataByMiles!AE291,DataByMiles!$AT$5:$AU$6,2,FALSE)","v":0},{"$f":"DataByMiles!J291*VLOOKUP(DataByMiles!AE291,DataByMiles!$AT$5:$AU$6,2,FALSE)","v":0},{"$f":"DataByMiles!K291","v":0},{"$f":"DataByMiles!L291","v":0},null,null,{"$f":"(Y293/IF(Z293=0,$AD$1,Z293)*$AD$2)/IF(AA293=0,1,AA293)*VLOOKUP(DataByMiles!AE291,DataByMiles!$AT$5:$AU$6,2,FALSE)","v":0},"",0,0,{"$f":"(AF293+AG293)*VLOOKUP(DataByMiles!AE291,DataByMiles!$AT$5:$AU$6,2,FALSE)","v":0},0]
[null,{"$f":"DataByMiles!C292","v":"----288"},{"$f":"DataByMiles!E292*VLOOKUP(DataByMiles!AE292,DataByMiles!$AT$5:$AU$6,2,FALSE)","v":0},null,null,0,{"$f":"C294*$G$2*VLOOKUP(DataByMiles!AE292,DataByMiles!$AT$5:$AU$6,2,FALSE)","v":0},{"$f":"DataByMiles!F292*VLOOKUP(DataByMiles!AE292,DataByMiles!$AT$5:$AU$6,2,FALSE)","v":0},null,null,0,{"$f":"H294*$L$2*VLOOKUP(DataByMiles!AE292,DataByMiles!$AT$5:$AU$6,2,FALSE)","v":0},{"$f":"DataByMiles!G292*VLOOKUP(DataByMiles!AE292,DataByMiles!$AT$5:$AU$6,2,FALSE)","v":0},null,null,{"$f":"M294*$P$2*VLOOKUP(DataByMiles!AE292,DataByMiles!$AT$5:$AU$6,2,FALSE)","v":0},{"$f":"DataByMiles!H292*VLOOKUP(DataByMiles!AE292,DataByMiles!$AT$5:$AU$6,2,FALSE)","v":0},null,null,{"$f":"Q294*$T$2*VLOOKUP(DataByMiles!AE292,DataByMiles!$AT$5:$AU$6,2,FALSE)","v":0},{"$f":"DataByMiles!I292*VLOOKUP(DataByMiles!AE292,DataByMiles!$AT$5:$AU$6,2,FALSE)","v":0},null,null,{"$f":"U294*$X$2*VLOOKUP(DataByMiles!AE292,DataByMiles!$AT$5:$AU$6,2,FALSE)","v":0},{"$f":"DataByMiles!J292*VLOOKUP(DataByMiles!AE292,DataByMiles!$AT$5:$AU$6,2,FALSE)","v":0},{"$f":"DataByMiles!K292","v":0},{"$f":"DataByMiles!L292","v":0},null,null,{"$f":"(Y294/IF(Z294=0,$AD$1,Z294)*$AD$2)/IF(AA294=0,1,AA294)*VLOOKUP(DataByMiles!AE292,DataByMiles!$AT$5:$AU$6,2,FALSE)","v":0},"",0,0,{"$f":"(AF294+AG294)*VLOOKUP(DataByMiles!AE292,DataByMiles!$AT$5:$AU$6,2,FALSE)","v":0},0]
[null,{"$f":"DataByMiles!C293","v":"----289"},{"$f":"DataByMiles!E293*VLOOKUP(DataByMiles!AE293,DataByMiles!$AT$5:$AU$6,2,FALSE)","v":0},null,null,0,{"$f":"C295*$G$2*VLOOKUP(DataByMiles!AE293,DataByMiles!$AT$5:$AU$6,2,FALSE)","v":0},{"$f":"DataByMiles!F293*VLOOKUP(DataByMiles!AE293,DataByMiles!$AT$5:$AU$6,2,FALSE)","v":0},null,null,0,{"$f":"H295*$L$2*VLOOKUP(DataByMiles!AE293,DataByMiles!$AT$5:$AU$6,2,FALSE)","v":0},{"$f":"DataByMiles!G293*VLOOKUP(DataByMiles!AE293,DataByMiles!$AT$5:$AU$6,2,FALSE)","v":0},null,null,{"$f":"M295*$P$2*VLOOKUP(DataByMiles!AE293,DataByMiles!$AT$5:$AU$6,2,FALSE)","v":0},{"$f":"DataByMiles!H293*VLOOKUP(DataByMiles!AE293,DataByMiles!$AT$5:$AU$6,2,FALSE)","v":0},null,null,{"$f":"Q295*$T$2*VLOOKUP(DataByMiles!AE293,DataByMiles!$AT$5:$AU$6,2,FALSE)","v":0},{"$f":"DataByMiles!I293*VLOOKUP(DataByMiles!AE293,DataByMiles!$AT$5:$AU$6,2,FALSE)","v":0},null,null,{"$f":"U295*$X$2*VLOOKUP(DataByMiles!AE293,DataByMiles!$AT$5:$AU$6,2,FALSE)","v":0},{"$f":"DataByMiles!J293*VLOOKUP(DataByMiles!AE293,DataByMiles!$AT$5:$AU$6,2,FALSE)","v":0},{"$f":"DataByMiles!K293","v":0},{"$f":"DataByMiles!L293","v":0},null,null,{"$f":"(Y295/IF(Z295=0,$AD$1,Z295)*$AD$2)/IF(AA295=0,1,AA295)*VLOOKUP(DataByMiles!AE293,DataByMiles!$AT$5:$AU$6,2,FALSE)","v":0},"",0,0,{"$f":"(AF295+AG295)*VLOOKUP(DataByMiles!AE293,DataByMiles!$AT$5:$AU$6,2,FALSE)","v":0},0]
[null,{"$f":"DataByMiles!C294","v":"----290"},{"$f":"DataByMiles!E294*VLOOKUP(DataByMiles!AE294,DataByMiles!$AT$5:$AU$6,2,FALSE)","v":0},null,null,0,{"$f":"C296*$G$2*VLOOKUP(DataByMiles!AE294,DataByMiles!$AT$5:$AU$6,2,FALSE)","v":0},{"$f":"DataByMiles!F294*VLOOKUP(DataByMiles!AE294,DataByMiles!$AT$5:$AU$6,2,FALSE)","v":0},null,null,0,{"$f":"H296*$L$2*VLOOKUP(DataByMiles!AE294,DataByMiles!$AT$5:$AU$6,2,FALSE)","v":0},{"$f":"DataByMiles!G294*VLOOKUP(DataByMiles!AE294,DataByMiles!$AT$5:$AU$6,2,FALSE)","v":0},null,null,{"$f":"M296*$P$2*VLOOKUP(DataByMiles!AE294,DataByMiles!$AT$5:$AU$6,2,FALSE)","v":0},{"$f":"DataByMiles!H294*VLOOKUP(DataByMiles!AE294,DataByMiles!$AT$5:$AU$6,2,FALSE)","v":0},null,null,{"$f":"Q296*$T$2*VLOOKUP(DataByMiles!AE294,DataByMiles!$AT$5:$AU$6,2,FALSE)","v":0},{"$f":"DataByMiles!I294*VLOOKUP(DataByMiles!AE294,DataByMiles!$AT$5:$AU$6,2,FALSE)","v":0},null,null,{"$f":"U296*$X$2*VLOOKUP(DataByMiles!AE294,DataByMiles!$AT$5:$AU$6,2,FALSE)","v":0},{"$f":"DataByMiles!J294*VLOOKUP(DataByMiles!AE294,DataByMiles!$AT$5:$AU$6,2,FALSE)","v":0},{"$f":"DataByMiles!K294","v":0},{"$f":"DataByMiles!L294","v":0},null,null,{"$f":"(Y296/IF(Z296=0,$AD$1,Z296)*$AD$2)/IF(AA296=0,1,AA296)*VLOOKUP(DataByMiles!AE294,DataByMiles!$AT$5:$AU$6,2,FALSE)","v":0},"",0,0,{"$f":"(AF296+AG296)*VLOOKUP(DataByMiles!AE294,DataByMiles!$AT$5:$AU$6,2,FALSE)","v":0},0]
[null,{"$f":"DataByMiles!C295","v":"----291"},{"$f":"DataByMiles!E295*VLOOKUP(DataByMiles!AE295,DataByMiles!$AT$5:$AU$6,2,FALSE)","v":0},null,null,0,{"$f":"C297*$G$2*VLOOKUP(DataByMiles!AE295,DataByMiles!$AT$5:$AU$6,2,FALSE)","v":0},{"$f":"DataByMiles!F295*VLOOKUP(DataByMiles!AE295,DataByMiles!$AT$5:$AU$6,2,FALSE)","v":0},null,null,0,{"$f":"H297*$L$2*VLOOKUP(DataByMiles!AE295,DataByMiles!$AT$5:$AU$6,2,FALSE)","v":0},{"$f":"DataByMiles!G295*VLOOKUP(DataByMiles!AE295,DataByMiles!$AT$5:$AU$6,2,FALSE)","v":0},null,null,{"$f":"M297*$P$2*VLOOKUP(DataByMiles!AE295,DataByMiles!$AT$5:$AU$6,2,FALSE)","v":0},{"$f":"DataByMiles!H295*VLOOKUP(DataByMiles!AE295,DataByMiles!$AT$5:$AU$6,2,FALSE)","v":0},null,null,{"$f":"Q297*$T$2*VLOOKUP(DataByMiles!AE295,DataByMiles!$AT$5:$AU$6,2,FALSE)","v":0},{"$f":"DataByMiles!I295*VLOOKUP(DataByMiles!AE295,DataByMiles!$AT$5:$AU$6,2,FALSE)","v":0},null,null,{"$f":"U297*$X$2*VLOOKUP(DataByMiles!AE295,DataByMiles!$AT$5:$AU$6,2,FALSE)","v":0},{"$f":"DataByMiles!J295*VLOOKUP(DataByMiles!AE295,DataByMiles!$AT$5:$AU$6,2,FALSE)","v":0},{"$f":"DataByMiles!K295","v":0},{"$f":"DataByMiles!L295","v":0},null,null,{"$f":"(Y297/IF(Z297=0,$AD$1,Z297)*$AD$2)/IF(AA297=0,1,AA297)*VLOOKUP(DataByMiles!AE295,DataByMiles!$AT$5:$AU$6,2,FALSE)","v":0},"",0,0,{"$f":"(AF297+AG297)*VLOOKUP(DataByMiles!AE295,DataByMiles!$AT$5:$AU$6,2,FALSE)","v":0},0]
[null,{"$f":"DataByMiles!C296","v":"----292"},{"$f":"DataByMiles!E296*VLOOKUP(DataByMiles!AE296,DataByMiles!$AT$5:$AU$6,2,FALSE)","v":0},null,null,0,{"$f":"C298*$G$2*VLOOKUP(DataByMiles!AE296,DataByMiles!$AT$5:$AU$6,2,FALSE)","v":0},{"$f":"DataByMiles!F296*VLOOKUP(DataByMiles!AE296,DataByMiles!$AT$5:$AU$6,2,FALSE)","v":0},null,null,0,{"$f":"H298*$L$2*VLOOKUP(DataByMiles!AE296,DataByMiles!$AT$5:$AU$6,2,FALSE)","v":0},{"$f":"DataByMiles!G296*VLOOKUP(DataByMiles!AE296,DataByMiles!$AT$5:$AU$6,2,FALSE)","v":0},null,null,{"$f":"M298*$P$2*VLOOKUP(DataByMiles!AE296,DataByMiles!$AT$5:$AU$6,2,FALSE)","v":0},{"$f":"DataByMiles!H296*VLOOKUP(DataByMiles!AE296,DataByMiles!$AT$5:$AU$6,2,FALSE)","v":0},null,null,{"$f":"Q298*$T$2*VLOOKUP(DataByMiles!AE296,DataByMiles!$AT$5:$AU$6,2,FALSE)","v":0},{"$f":"DataByMiles!I296*VLOOKUP(DataByMiles!AE296,DataByMiles!$AT$5:$AU$6,2,FALSE)","v":0},null,null,{"$f":"U298*$X$2*VLOOKUP(DataByMiles!AE296,DataByMiles!$AT$5:$AU$6,2,FALSE)","v":0},{"$f":"DataByMiles!J296*VLOOKUP(DataByMiles!AE296,DataByMiles!$AT$5:$AU$6,2,FALSE)","v":0},{"$f":"DataByMiles!K296","v":0},{"$f":"DataByMiles!L296","v":0},null,null,{"$f":"(Y298/IF(Z298=0,$AD$1,Z298)*$AD$2)/IF(AA298=0,1,AA298)*VLOOKUP(DataByMiles!AE296,DataByMiles!$AT$5:$AU$6,2,FALSE)","v":0},"",0,0,{"$f":"(AF298+AG298)*VLOOKUP(DataByMiles!AE296,DataByMiles!$AT$5:$AU$6,2,FALSE)","v":0},0]
[null,{"$f":"DataByMiles!C297","v":"----293"},{"$f":"DataByMiles!E297*VLOOKUP(DataByMiles!AE297,DataByMiles!$AT$5:$AU$6,2,FALSE)","v":0},null,null,0,{"$f":"C299*$G$2*VLOOKUP(DataByMiles!AE297,DataByMiles!$AT$5:$AU$6,2,FALSE)","v":0},{"$f":"DataByMiles!F297*VLOOKUP(DataByMiles!AE297,DataByMiles!$AT$5:$AU$6,2,FALSE)","v":0},null,null,0,{"$f":"H299*$L$2*VLOOKUP(DataByMiles!AE297,DataByMiles!$AT$5:$AU$6,2,FALSE)","v":0},{"$f":"DataByMiles!G297*VLOOKUP(DataByMiles!AE297,DataByMiles!$AT$5:$AU$6,2,FALSE)","v":0},null,null,{"$f":"M299*$P$2*VLOOKUP(DataByMiles!AE297,DataByMiles!$AT$5:$AU$6,2,FALSE)","v":0},{"$f":"DataByMiles!H297*VLOOKUP(DataByMiles!AE297,DataByMiles!$AT$5:$AU$6,2,FALSE)","v":0},null,null,{"$f":"Q299*$T$2*VLOOKUP(DataByMiles!AE297,DataByMiles!$AT$5:$AU$6,2,FALSE)","v":0},{"$f":"DataByMiles!I297*VLOOKUP(DataByMiles!AE297,DataByMiles!$AT$5:$AU$6,2,FALSE)","v":0},null,null,{"$f":"U299*$X$2*VLOOKUP(DataByMiles!AE297,DataByMiles!$AT$5:$AU$6,2,FALSE)","v":0},{"$f":"DataByMiles!J297*VLOOKUP(DataByMiles!AE297,DataByMiles!$AT$5:$AU$6,2,FALSE)","v":0},{"$f":"DataByMiles!K297","v":0},{"$f":"DataByMiles!L297","v":0},null,null,{"$f":"(Y299/IF(Z299=0,$AD$1,Z299)*$AD$2)/IF(AA299=0,1,AA299)*VLOOKUP(DataByMiles!AE297,DataByMiles!$AT$5:$AU$6,2,FALSE)","v":0},"",0,0,{"$f":"(AF299+AG299)*VLOOKUP(DataByMiles!AE297,DataByMiles!$AT$5:$AU$6,2,FALSE)","v":0},0]
[null,{"$f":"DataByMiles!C298","v":"----294"},{"$f":"DataByMiles!E298*VLOOKUP(DataByMiles!AE298,DataByMiles!$AT$5:$AU$6,2,FALSE)","v":0},null,null,0,{"$f":"C300*$G$2*VLOOKUP(DataByMiles!AE298,DataByMiles!$AT$5:$AU$6,2,FALSE)","v":0},{"$f":"DataByMiles!F298*VLOOKUP(DataByMiles!AE298,DataByMiles!$AT$5:$AU$6,2,FALSE)","v":0},null,null,0,{"$f":"H300*$L$2*VLOOKUP(DataByMiles!AE298,DataByMiles!$AT$5:$AU$6,2,FALSE)","v":0},{"$f":"DataByMiles!G298*VLOOKUP(DataByMiles!AE298,DataByMiles!$AT$5:$AU$6,2,FALSE)","v":0},null,null,{"$f":"M300*$P$2*VLOOKUP(DataByMiles!AE298,DataByMiles!$AT$5:$AU$6,2,FALSE)","v":0},{"$f":"DataByMiles!H298*VLOOKUP(DataByMiles!AE298,DataByMiles!$AT$5:$AU$6,2,FALSE)","v":0},null,null,{"$f":"Q300*$T$2*VLOOKUP(DataByMiles!AE298,DataByMiles!$AT$5:$AU$6,2,FALSE)","v":0},{"$f":"DataByMiles!I298*VLOOKUP(DataByMiles!AE298,DataByMiles!$AT$5:$AU$6,2,FALSE)","v":0},null,null,{"$f":"U300*$X$2*VLOOKUP(DataByMiles!AE298,DataByMiles!$AT$5:$AU$6,2,FALSE)","v":0},{"$f":"DataByMiles!J298*VLOOKUP(DataByMiles!AE298,DataByMiles!$AT$5:$AU$6,2,FALSE)","v":0},{"$f":"DataByMiles!K298","v":0},{"$f":"DataByMiles!L298","v":0},null,null,{"$f":"(Y300/IF(Z300=0,$AD$1,Z300)*$AD$2)/IF(AA300=0,1,AA300)*VLOOKUP(DataByMiles!AE298,DataByMiles!$AT$5:$AU$6,2,FALSE)","v":0},"",0,0,{"$f":"(AF300+AG300)*VLOOKUP(DataByMiles!AE298,DataByMiles!$AT$5:$AU$6,2,FALSE)","v":0},0]
[null,{"$f":"DataByMiles!C299","v":"----295"},{"$f":"DataByMiles!E299*VLOOKUP(DataByMiles!AE299,DataByMiles!$AT$5:$AU$6,2,FALSE)","v":0},null,null,0,{"$f":"C301*$G$2*VLOOKUP(DataByMiles!AE299,DataByMiles!$AT$5:$AU$6,2,FALSE)","v":0},{"$f":"DataByMiles!F299*VLOOKUP(DataByMiles!AE299,DataByMiles!$AT$5:$AU$6,2,FALSE)","v":0},null,null,0,{"$f":"H301*$L$2*VLOOKUP(DataByMiles!AE299,DataByMiles!$AT$5:$AU$6,2,FALSE)","v":0},{"$f":"DataByMiles!G299*VLOOKUP(DataByMiles!AE299,DataByMiles!$AT$5:$AU$6,2,FALSE)","v":0},null,null,{"$f":"M301*$P$2*VLOOKUP(DataByMiles!AE299,DataByMiles!$AT$5:$AU$6,2,FALSE)","v":0},{"$f":"DataByMiles!H299*VLOOKUP(DataByMiles!AE299,DataByMiles!$AT$5:$AU$6,2,FALSE)","v":0},null,null,{"$f":"Q301*$T$2*VLOOKUP(DataByMiles!AE299,DataByMiles!$AT$5:$AU$6,2,FALSE)","v":0},{"$f":"DataByMiles!I299*VLOOKUP(DataByMiles!AE299,DataByMiles!$AT$5:$AU$6,2,FALSE)","v":0},null,null,{"$f":"U301*$X$2*VLOOKUP(DataByMiles!AE299,DataByMiles!$AT$5:$AU$6,2,FALSE)","v":0},{"$f":"DataByMiles!J299*VLOOKUP(DataByMiles!AE299,DataByMiles!$AT$5:$AU$6,2,FALSE)","v":0},{"$f":"DataByMiles!K299","v":0},{"$f":"DataByMiles!L299","v":0},null,null,{"$f":"(Y301/IF(Z301=0,$AD$1,Z301)*$AD$2)/IF(AA301=0,1,AA301)*VLOOKUP(DataByMiles!AE299,DataByMiles!$AT$5:$AU$6,2,FALSE)","v":0},"",0,0,{"$f":"(AF301+AG301)*VLOOKUP(DataByMiles!AE299,DataByMiles!$AT$5:$AU$6,2,FALSE)","v":0},0]
[null,{"$f":"DataByMiles!C300","v":"----296"},{"$f":"DataByMiles!E300*VLOOKUP(DataByMiles!AE300,DataByMiles!$AT$5:$AU$6,2,FALSE)","v":0},null,null,{"$f":"C302*$F$2","v":0},{"$f":"C302*$G$2*VLOOKUP(DataByMiles!AE300,DataByMiles!$AT$5:$AU$6,2,FALSE)","v":0},{"$f":"DataByMiles!F300*VLOOKUP(DataByMiles!AE300,DataByMiles!$AT$5:$AU$6,2,FALSE)","v":0},null,null,{"$f":"H302*$K$2","v":0},{"$f":"H302*$L$2*VLOOKUP(DataByMiles!AE300,DataByMiles!$AT$5:$AU$6,2,FALSE)","v":0},{"$f":"DataByMiles!G300*VLOOKUP(DataByMiles!AE300,DataByMiles!$AT$5:$AU$6,2,FALSE)","v":0},null,null,{"$f":"M302*$P$2*VLOOKUP(DataByMiles!AE300,DataByMiles!$AT$5:$AU$6,2,FALSE)","v":0},{"$f":"DataByMiles!H300*VLOOKUP(DataByMiles!AE300,DataByMiles!$AT$5:$AU$6,2,FALSE)","v":0},null,null,{"$f":"Q302*$T$2*VLOOKUP(DataByMiles!AE300,DataByMiles!$AT$5:$AU$6,2,FALSE)","v":0},{"$f":"DataByMiles!I300*VLOOKUP(DataByMiles!AE300,DataByMiles!$AT$5:$AU$6,2,FALSE)","v":0},null,null,{"$f":"U302*$X$2*VLOOKUP(DataByMiles!AE300,DataByMiles!$AT$5:$AU$6,2,FALSE)","v":0},{"$f":"DataByMiles!J300*VLOOKUP(DataByMiles!AE300,DataByMiles!$AT$5:$AU$6,2,FALSE)","v":0},{"$f":"DataByMiles!K300","v":0},{"$f":"DataByMiles!L300","v":0},null,null,{"$f":"(Y302/IF(Z302=0,$AD$1,Z302)*$AD$2)/IF(AA302=0,1,AA302)*VLOOKUP(DataByMiles!AE300,DataByMiles!$AT$5:$AU$6,2,FALSE)","v":0},{"$f":"IF(C302+H302+M302+Q302+U302+Y302>0,C302+H302+M302+Q302+U302+Y302,\"\")","v":""},{"$f":"F302+K302+P302+T302+X302+AD302","v":0},{"$f":"G302+L302","v":0},{"$f":"(AF302+AG302)*VLOOKUP(DataByMiles!AE300,DataByMiles!$AT$5:$AU$6,2,FALSE)","v":0},{"$f":"IFERROR(AH302/AE302,0)","v":0}]
[null,{"$f":"DataByMiles!C301","v":"----297"},{"$f":"DataByMiles!E301*VLOOKUP(DataByMiles!AE301,DataByMiles!$AT$5:$AU$6,2,FALSE)","v":0},null,null,0,{"$f":"C303*$G$2*VLOOKUP(DataByMiles!AE301,DataByMiles!$AT$5:$AU$6,2,FALSE)","v":0},{"$f":"DataByMiles!F301*VLOOKUP(DataByMiles!AE301,DataByMiles!$AT$5:$AU$6,2,FALSE)","v":0},null,null,0,{"$f":"H303*$L$2*VLOOKUP(DataByMiles!AE301,DataByMiles!$AT$5:$AU$6,2,FALSE)","v":0},{"$f":"DataByMiles!G301*VLOOKUP(DataByMiles!AE301,DataByMiles!$AT$5:$AU$6,2,FALSE)","v":0},null,null,{"$f":"M303*$P$2*VLOOKUP(DataByMiles!AE301,DataByMiles!$AT$5:$AU$6,2,FALSE)","v":0},{"$f":"DataByMiles!H301*VLOOKUP(DataByMiles!AE301,DataByMiles!$AT$5:$AU$6,2,FALSE)","v":0},null,null,{"$f":"Q303*$T$2*VLOOKUP(DataByMiles!AE301,DataByMiles!$AT$5:$AU$6,2,FALSE)","v":0},{"$f":"DataByMiles!I301*VLOOKUP(DataByMiles!AE301,DataByMiles!$AT$5:$AU$6,2,FALSE)","v":0},null,null,{"$f":"U303*$X$2*VLOOKUP(DataByMiles!AE301,DataByMiles!$AT$5:$AU$6,2,FALSE)","v":0},{"$f":"DataByMiles!J301*VLOOKUP(DataByMiles!AE301,DataByMiles!$AT$5:$AU$6,2,FALSE)","v":0},{"$f":"DataByMiles!K301","v":0},{"$f":"DataByMiles!L301","v":0},null,null,{"$f":"(Y303/IF(Z303=0,$AD$1,Z303)*$AD$2)/IF(AA303=0,1,AA303)*VLOOKUP(DataByMiles!AE301,DataByMiles!$AT$5:$AU$6,2,FALSE)","v":0},"",0,0,{"$f":"(AF303+AG303)*VLOOKUP(DataByMiles!AE301,DataByMiles!$AT$5:$AU$6,2,FALSE)","v":0},0]
[null,{"$f":"DataByMiles!C302","v":"----298"},{"$f":"DataByMiles!E302*VLOOKUP(DataByMiles!AE302,DataByMiles!$AT$5:$AU$6,2,FALSE)","v":0},null,null,0,{"$f":"C304*$G$2*VLOOKUP(DataByMiles!AE302,DataByMiles!$AT$5:$AU$6,2,FALSE)","v":0},{"$f":"DataByMiles!F302*VLOOKUP(DataByMiles!AE302,DataByMiles!$AT$5:$AU$6,2,FALSE)","v":0},null,null,0,{"$f":"H304*$L$2*VLOOKUP(DataByMiles!AE302,DataByMiles!$AT$5:$AU$6,2,FALSE)","v":0},{"$f":"DataByMiles!G302*VLOOKUP(DataByMiles!AE302,DataByMiles!$AT$5:$AU$6,2,FALSE)","v":0},null,null,{"$f":"M304*$P$2*VLOOKUP(DataByMiles!AE302,DataByMiles!$AT$5:$AU$6,2,FALSE)","v":0},{"$f":"DataByMiles!H302*VLOOKUP(DataByMiles!AE302,DataByMiles!$AT$5:$AU$6,2,FALSE)","v":0},null,null,{"$f":"Q304*$T$2*VLOOKUP(DataByMiles!AE302,DataByMiles!$AT$5:$AU$6,2,FALSE)","v":0},{"$f":"DataByMiles!I302*VLOOKUP(DataByMiles!AE302,DataByMiles!$AT$5:$AU$6,2,FALSE)","v":0},null,null,{"$f":"U304*$X$2*VLOOKUP(DataByMiles!AE302,DataByMiles!$AT$5:$AU$6,2,FALSE)","v":0},{"$f":"DataByMiles!J302*VLOOKUP(DataByMiles!AE302,DataByMiles!$AT$5:$AU$6,2,FALSE)","v":0},{"$f":"DataByMiles!K302","v":0},{"$f":"DataByMiles!L302","v":0},null,null,{"$f":"(Y304/IF(Z304=0,$AD$1,Z304)*$AD$2)/IF(AA304=0,1,AA304)*VLOOKUP(DataByMiles!AE302,DataByMiles!$AT$5:$AU$6,2,FALSE)","v":0},"",0,0,{"$f":"(AF304+AG304)*VLOOKUP(DataByMiles!AE302,DataByMiles!$AT$5:$AU$6,2,FALSE)","v":0},0]
[null,{"$f":"DataByMiles!C303","v":"----299"},{"$f":"DataByMiles!E303*VLOOKUP(DataByMiles!AE303,DataByMiles!$AT$5:$AU$6,2,FALSE)","v":0},null,null,0,{"$f":"C305*$G$2*VLOOKUP(DataByMiles!AE303,DataByMiles!$AT$5:$AU$6,2,FALSE)","v":0},{"$f":"DataByMiles!F303*VLOOKUP(DataByMiles!AE303,DataByMiles!$AT$5:$AU$6,2,FALSE)","v":0},null,null,0,{"$f":"H305*$L$2*VLOOKUP(DataByMiles!AE303,DataByMiles!$AT$5:$AU$6,2,FALSE)","v":0},{"$f":"DataByMiles!G303*VLOOKUP(DataByMiles!AE303,DataByMiles!$AT$5:$AU$6,2,FALSE)","v":0},null,null,{"$f":"M305*$P$2*VLOOKUP(DataByMiles!AE303,DataByMiles!$AT$5:$AU$6,2,FALSE)","v":0},{"$f":"DataByMiles!H303*VLOOKUP(DataByMiles!AE303,DataByMiles!$AT$5:$AU$6,2,FALSE)","v":0},null,null,{"$f":"Q305*$T$2*VLOOKUP(DataByMiles!AE303,DataByMiles!$AT$5:$AU$6,2,FALSE)","v":0},{"$f":"DataByMiles!I303*VLOOKUP(DataByMiles!AE303,DataByMiles!$AT$5:$AU$6,2,FALSE)","v":0},null,null,{"$f":"U305*$X$2*VLOOKUP(DataByMiles!AE303,DataByMiles!$AT$5:$AU$6,2,FALSE)","v":0},{"$f":"DataByMiles!J303*VLOOKUP(DataByMiles!AE303,DataByMiles!$AT$5:$AU$6,2,FALSE)","v":0},{"$f":"DataByMiles!K303","v":0},{"$f":"DataByMiles!L303","v":0},null,null,{"$f":"(Y305/IF(Z305=0,$AD$1,Z305)*$AD$2)/IF(AA305=0,1,AA305)*VLOOKUP(DataByMiles!AE303,DataByMiles!$AT$5:$AU$6,2,FALSE)","v":0},"",0,0,{"$f":"(AF305+AG305)*VLOOKUP(DataByMiles!AE303,DataByMiles!$AT$5:$AU$6,2,FALSE)","v":0},0]
[null,{"$f":"DataByMiles!C304","v":"----300"},{"$f":"DataByMiles!E304*VLOOKUP(DataByMiles!AE304,DataByMiles!$AT$5:$AU$6,2,FALSE)","v":0},null,null,0,{"$f":"C306*$G$2*VLOOKUP(DataByMiles!AE304,DataByMiles!$AT$5:$AU$6,2,FALSE)","v":0},{"$f":"DataByMiles!F304*VLOOKUP(DataByMiles!AE304,DataByMiles!$AT$5:$AU$6,2,FALSE)","v":0},null,null,0,{"$f":"H306*$L$2*VLOOKUP(DataByMiles!AE304,DataByMiles!$AT$5:$AU$6,2,FALSE)","v":0},{"$f":"DataByMiles!G304*VLOOKUP(DataByMiles!AE304,DataByMiles!$AT$5:$AU$6,2,FALSE)","v":0},null,null,{"$f":"M306*$P$2*VLOOKUP(DataByMiles!AE304,DataByMiles!$AT$5:$AU$6,2,FALSE)","v":0},{"$f":"DataByMiles!H304*VLOOKUP(DataByMiles!AE304,DataByMiles!$AT$5:$AU$6,2,FALSE)","v":0},null,null,{"$f":"Q306*$T$2*VLOOKUP(DataByMiles!AE304,DataByMiles!$AT$5:$AU$6,2,FALSE)","v":0},{"$f":"DataByMiles!I304*VLOOKUP(DataByMiles!AE304,DataByMiles!$AT$5:$AU$6,2,FALSE)","v":0},null,null,{"$f":"U306*$X$2*VLOOKUP(DataByMiles!AE304,DataByMiles!$AT$5:$AU$6,2,FALSE)","v":0},{"$f":"DataByMiles!J304*VLOOKUP(DataByMiles!AE304,DataByMiles!$AT$5:$AU$6,2,FALSE)","v":0},{"$f":"DataByMiles!K304","v":0},{"$f":"DataByMiles!L304","v":0},null,null,{"$f":"(Y306/IF(Z306=0,$AD$1,Z306)*$AD$2)/IF(AA306=0,1,AA306)*VLOOKUP(DataByMiles!AE304,DataByMiles!$AT$5:$AU$6,2,FALSE)","v":0},"",0,0,{"$f":"(AF306+AG306)*VLOOKUP(DataByMiles!AE304,DataByMiles!$AT$5:$AU$6,2,FALSE)","v":0},0]
[null,{"$f":"DataByMiles!C305","v":"----301"},{"$f":"DataByMiles!E305*VLOOKUP(DataByMiles!AE305,DataByMiles!$AT$5:$AU$6,2,FALSE)","v":0},null,null,0,{"$f":"C307*$G$2*VLOOKUP(DataByMiles!AE305,DataByMiles!$AT$5:$AU$6,2,FALSE)","v":0},{"$f":"DataByMiles!F305*VLOOKUP(DataByMiles!AE305,DataByMiles!$AT$5:$AU$6,2,FALSE)","v":0},null,null,0,{"$f":"H307*$L$2*VLOOKUP(DataByMiles!AE305,DataByMiles!$AT$5:$AU$6,2,FALSE)","v":0},{"$f":"DataByMiles!G305*VLOOKUP(DataByMiles!AE305,DataByMiles!$AT$5:$AU$6,2,FALSE)","v":0},null,null,{"$f":"M307*$P$2*VLOOKUP(DataByMiles!AE305,DataByMiles!$AT$5:$AU$6,2,FALSE)","v":0},{"$f":"DataByMiles!H305*VLOOKUP(DataByMiles!AE305,DataByMiles!$AT$5:$AU$6,2,FALSE)","v":0},null,null,{"$f":"Q307*$T$2*VLOOKUP(DataByMiles!AE305,DataByMiles!$AT$5:$AU$6,2,FALSE)","v":0},{"$f":"DataByMiles!I305*VLOOKUP(DataByMiles!AE305,DataByMiles!$AT$5:$AU$6,2,FALSE)","v":0},null,null,{"$f":"U307*$X$2*VLOOKUP(DataByMiles!AE305,DataByMiles!$AT$5:$AU$6,2,FALSE)","v":0},{"$f":"DataByMiles!J305*VLOOKUP(DataByMiles!AE305,DataByMiles!$AT$5:$AU$6,2,FALSE)","v":0},{"$f":"DataByMiles!K305","v":0},{"$f":"DataByMiles!L305","v":0},null,null,{"$f":"(Y307/IF(Z307=0,$AD$1,Z307)*$AD$2)/IF(AA307=0,1,AA307)*VLOOKUP(DataByMiles!AE305,DataByMiles!$AT$5:$AU$6,2,FALSE)","v":0},"",0,0,{"$f":"(AF307+AG307)*VLOOKUP(DataByMiles!AE305,DataByMiles!$AT$5:$AU$6,2,FALSE)","v":0},0]
[null,{"$f":"DataByMiles!C306","v":"----302"},{"$f":"DataByMiles!E306*VLOOKUP(DataByMiles!AE306,DataByMiles!$AT$5:$AU$6,2,FALSE)","v":0},null,null,0,{"$f":"C308*$G$2*VLOOKUP(DataByMiles!AE306,DataByMiles!$AT$5:$AU$6,2,FALSE)","v":0},{"$f":"DataByMiles!F306*VLOOKUP(DataByMiles!AE306,DataByMiles!$AT$5:$AU$6,2,FALSE)","v":0},null,null,0,{"$f":"H308*$L$2*VLOOKUP(DataByMiles!AE306,DataByMiles!$AT$5:$AU$6,2,FALSE)","v":0},{"$f":"DataByMiles!G306*VLOOKUP(DataByMiles!AE306,DataByMiles!$AT$5:$AU$6,2,FALSE)","v":0},null,null,{"$f":"M308*$P$2*VLOOKUP(DataByMiles!AE306,DataByMiles!$AT$5:$AU$6,2,FALSE)","v":0},{"$f":"DataByMiles!H306*VLOOKUP(DataByMiles!AE306,DataByMiles!$AT$5:$AU$6,2,FALSE)","v":0},null,null,{"$f":"Q308*$T$2*VLOOKUP(DataByMiles!AE306,DataByMiles!$AT$5:$AU$6,2,FALSE)","v":0},{"$f":"DataByMiles!I306*VLOOKUP(DataByMiles!AE306,DataByMiles!$AT$5:$AU$6,2,FALSE)","v":0},null,null,{"$f":"U308*$X$2*VLOOKUP(DataByMiles!AE306,DataByMiles!$AT$5:$AU$6,2,FALSE)","v":0},{"$f":"DataByMiles!J306*VLOOKUP(DataByMiles!AE306,DataByMiles!$AT$5:$AU$6,2,FALSE)","v":0},{"$f":"DataByMiles!K306","v":0},{"$f":"DataByMiles!L306","v":0},null,null,{"$f":"(Y308/IF(Z308=0,$AD$1,Z308)*$AD$2)/IF(AA308=0,1,AA308)*VLOOKUP(DataByMiles!AE306,DataByMiles!$AT$5:$AU$6,2,FALSE)","v":0},"",0,0,{"$f":"(AF308+AG308)*VLOOKUP(DataByMiles!AE306,DataByMiles!$AT$5:$AU$6,2,FALSE)","v":0},0]
[null,{"$f":"DataByMiles!C307","v":"----303"},{"$f":"DataByMiles!E307*VLOOKUP(DataByMiles!AE307,DataByMiles!$AT$5:$AU$6,2,FALSE)","v":0},null,null,0,{"$f":"C309*$G$2*VLOOKUP(DataByMiles!AE307,DataByMiles!$AT$5:$AU$6,2,FALSE)","v":0},{"$f":"DataByMiles!F307*VLOOKUP(DataByMiles!AE307,DataByMiles!$AT$5:$AU$6,2,FALSE)","v":0},null,null,0,{"$f":"H309*$L$2*VLOOKUP(DataByMiles!AE307,DataByMiles!$AT$5:$AU$6,2,FALSE)","v":0},{"$f":"DataByMiles!G307*VLOOKUP(DataByMiles!AE307,DataByMiles!$AT$5:$AU$6,2,FALSE)","v":0},null,null,{"$f":"M309*$P$2*VLOOKUP(DataByMiles!AE307,DataByMiles!$AT$5:$AU$6,2,FALSE)","v":0},{"$f":"DataByMiles!H307*VLOOKUP(DataByMiles!AE307,DataByMiles!$AT$5:$AU$6,2,FALSE)","v":0},null,null,{"$f":"Q309*$T$2*VLOOKUP(DataByMiles!AE307,DataByMiles!$AT$5:$AU$6,2,FALSE)","v":0},{"$f":"DataByMiles!I307*VLOOKUP(DataByMiles!AE307,DataByMiles!$AT$5:$AU$6,2,FALSE)","v":0},null,null,{"$f":"U309*$X$2*VLOOKUP(DataByMiles!AE307,DataByMiles!$AT$5:$AU$6,2,FALSE)","v":0},{"$f":"DataByMiles!J307*VLOOKUP(DataByMiles!AE307,DataByMiles!$AT$5:$AU$6,2,FALSE)","v":0},{"$f":"DataByMiles!K307","v":0},{"$f":"DataByMiles!L307","v":0},null,null,{"$f":"(Y309/IF(Z309=0,$AD$1,Z309)*$AD$2)/IF(AA309=0,1,AA309)*VLOOKUP(DataByMiles!AE307,DataByMiles!$AT$5:$AU$6,2,FALSE)","v":0},"",0,0,{"$f":"(AF309+AG309)*VLOOKUP(DataByMiles!AE307,DataByMiles!$AT$5:$AU$6,2,FALSE)","v":0},0]
[null,{"$f":"DataByMiles!C308","v":"----304"},{"$f":"DataByMiles!E308*VLOOKUP(DataByMiles!AE308,DataByMiles!$AT$5:$AU$6,2,FALSE)","v":0},null,null,0,{"$f":"C310*$G$2*VLOOKUP(DataByMiles!AE308,DataByMiles!$AT$5:$AU$6,2,FALSE)","v":0},{"$f":"DataByMiles!F308*VLOOKUP(DataByMiles!AE308,DataByMiles!$AT$5:$AU$6,2,FALSE)","v":0},null,null,0,{"$f":"H310*$L$2*VLOOKUP(DataByMiles!AE308,DataByMiles!$AT$5:$AU$6,2,FALSE)","v":0},{"$f":"DataByMiles!G308*VLOOKUP(DataByMiles!AE308,DataByMiles!$AT$5:$AU$6,2,FALSE)","v":0},null,null,{"$f":"M310*$P$2*VLOOKUP(DataByMiles!AE308,DataByMiles!$AT$5:$AU$6,2,FALSE)","v":0},{"$f":"DataByMiles!H308*VLOOKUP(DataByMiles!AE308,DataByMiles!$AT$5:$AU$6,2,FALSE)","v":0},null,null,{"$f":"Q310*$T$2*VLOOKUP(DataByMiles!AE308,DataByMiles!$AT$5:$AU$6,2,FALSE)","v":0},{"$f":"DataByMiles!I308*VLOOKUP(DataByMiles!AE308,DataByMiles!$AT$5:$AU$6,2,FALSE)","v":0},null,null,{"$f":"U310*$X$2*VLOOKUP(DataByMiles!AE308,DataByMiles!$AT$5:$AU$6,2,FALSE)","v":0},{"$f":"DataByMiles!J308*VLOOKUP(DataByMiles!AE308,DataByMiles!$AT$5:$AU$6,2,FALSE)","v":0},{"$f":"DataByMiles!K308","v":0},{"$f":"DataByMiles!L308","v":0},null,null,{"$f":"(Y310/IF(Z310=0,$AD$1,Z310)*$AD$2)/IF(AA310=0,1,AA310)*VLOOKUP(DataByMiles!AE308,DataByMiles!$AT$5:$AU$6,2,FALSE)","v":0},"",0,0,{"$f":"(AF310+AG310)*VLOOKUP(DataByMiles!AE308,DataByMiles!$AT$5:$AU$6,2,FALSE)","v":0},0]
[null,{"$f":"DataByMiles!C309","v":"----305"},{"$f":"DataByMiles!E309*VLOOKUP(DataByMiles!AE309,DataByMiles!$AT$5:$AU$6,2,FALSE)","v":0},null,null,0,{"$f":"C311*$G$2*VLOOKUP(DataByMiles!AE309,DataByMiles!$AT$5:$AU$6,2,FALSE)","v":0},{"$f":"DataByMiles!F309*VLOOKUP(DataByMiles!AE309,DataByMiles!$AT$5:$AU$6,2,FALSE)","v":0},null,null,0,{"$f":"H311*$L$2*VLOOKUP(DataByMiles!AE309,DataByMiles!$AT$5:$AU$6,2,FALSE)","v":0},{"$f":"DataByMiles!G309*VLOOKUP(DataByMiles!AE309,DataByMiles!$AT$5:$AU$6,2,FALSE)","v":0},null,null,{"$f":"M311*$P$2*VLOOKUP(DataByMiles!AE309,DataByMiles!$AT$5:$AU$6,2,FALSE)","v":0},{"$f":"DataByMiles!H309*VLOOKUP(DataByMiles!AE309,DataByMiles!$AT$5:$AU$6,2,FALSE)","v":0},null,null,{"$f":"Q311*$T$2*VLOOKUP(DataByMiles!AE309,DataByMiles!$AT$5:$AU$6,2,FALSE)","v":0},{"$f":"DataByMiles!I309*VLOOKUP(DataByMiles!AE309,DataByMiles!$AT$5:$AU$6,2,FALSE)","v":0},null,null,{"$f":"U311*$X$2*VLOOKUP(DataByMiles!AE309,DataByMiles!$AT$5:$AU$6,2,FALSE)","v":0},{"$f":"DataByMiles!J309*VLOOKUP(DataByMiles!AE309,DataByMiles!$AT$5:$AU$6,2,FALSE)","v":0},{"$f":"DataByMiles!K309","v":0},{"$f":"DataByMiles!L309","v":0},null,null,{"$f":"(Y311/IF(Z311=0,$AD$1,Z311)*$AD$2)/IF(AA311=0,1,AA311)*VLOOKUP(DataByMiles!AE309,DataByMiles!$AT$5:$AU$6,2,FALSE)","v":0},"",0,0,{"$f":"(AF311+AG311)*VLOOKUP(DataByMiles!AE309,DataByMiles!$AT$5:$AU$6,2,FALSE)","v":0},0]
[null,{"$f":"DataByMiles!C310","v":"----306"},{"$f":"DataByMiles!E310*VLOOKUP(DataByMiles!AE310,DataByMiles!$AT$5:$AU$6,2,FALSE)","v":0},null,null,0,{"$f":"C312*$G$2*VLOOKUP(DataByMiles!AE310,DataByMiles!$AT$5:$AU$6,2,FALSE)","v":0},{"$f":"DataByMiles!F310*VLOOKUP(DataByMiles!AE310,DataByMiles!$AT$5:$AU$6,2,FALSE)","v":0},null,null,0,{"$f":"H312*$L$2*VLOOKUP(DataByMiles!AE310,DataByMiles!$AT$5:$AU$6,2,FALSE)","v":0},{"$f":"DataByMiles!G310*VLOOKUP(DataByMiles!AE310,DataByMiles!$AT$5:$AU$6,2,FALSE)","v":0},null,null,{"$f":"M312*$P$2*VLOOKUP(DataByMiles!AE310,DataByMiles!$AT$5:$AU$6,2,FALSE)","v":0},{"$f":"DataByMiles!H310*VLOOKUP(DataByMiles!AE310,DataByMiles!$AT$5:$AU$6,2,FALSE)","v":0},null,null,{"$f":"Q312*$T$2*VLOOKUP(DataByMiles!AE310,DataByMiles!$AT$5:$AU$6,2,FALSE)","v":0},{"$f":"DataByMiles!I310*VLOOKUP(DataByMiles!AE310,DataByMiles!$AT$5:$AU$6,2,FALSE)","v":0},null,null,{"$f":"U312*$X$2*VLOOKUP(DataByMiles!AE310,DataByMiles!$AT$5:$AU$6,2,FALSE)","v":0},{"$f":"DataByMiles!J310*VLOOKUP(DataByMiles!AE310,DataByMiles!$AT$5:$AU$6,2,FALSE)","v":0},{"$f":"DataByMiles!K310","v":0},{"$f":"DataByMiles!L310","v":0},null,null,{"$f":"(Y312/IF(Z312=0,$AD$1,Z312)*$AD$2)/IF(AA312=0,1,AA312)*VLOOKUP(DataByMiles!AE310,DataByMiles!$AT$5:$AU$6,2,FALSE)","v":0},"",0,0,{"$f":"(AF312+AG312)*VLOOKUP(DataByMiles!AE310,DataByMiles!$AT$5:$AU$6,2,FALSE)","v":0},0]
[null,{"$f":"DataByMiles!C311","v":"----307"},{"$f":"DataByMiles!E311*VLOOKUP(DataByMiles!AE311,DataByMiles!$AT$5:$AU$6,2,FALSE)","v":0},null,null,0,{"$f":"C313*$G$2*VLOOKUP(DataByMiles!AE311,DataByMiles!$AT$5:$AU$6,2,FALSE)","v":0},{"$f":"DataByMiles!F311*VLOOKUP(DataByMiles!AE311,DataByMiles!$AT$5:$AU$6,2,FALSE)","v":0},null,null,0,{"$f":"H313*$L$2*VLOOKUP(DataByMiles!AE311,DataByMiles!$AT$5:$AU$6,2,FALSE)","v":0},{"$f":"DataByMiles!G311*VLOOKUP(DataByMiles!AE311,DataByMiles!$AT$5:$AU$6,2,FALSE)","v":0},null,null,{"$f":"M313*$P$2*VLOOKUP(DataByMiles!AE311,DataByMiles!$AT$5:$AU$6,2,FALSE)","v":0},{"$f":"DataByMiles!H311*VLOOKUP(DataByMiles!AE311,DataByMiles!$AT$5:$AU$6,2,FALSE)","v":0},null,null,{"$f":"Q313*$T$2*VLOOKUP(DataByMiles!AE311,DataByMiles!$AT$5:$AU$6,2,FALSE)","v":0},{"$f":"DataByMiles!I311*VLOOKUP(DataByMiles!AE311,DataByMiles!$AT$5:$AU$6,2,FALSE)","v":0},null,null,{"$f":"U313*$X$2*VLOOKUP(DataByMiles!AE311,DataByMiles!$AT$5:$AU$6,2,FALSE)","v":0},{"$f":"DataByMiles!J311*VLOOKUP(DataByMiles!AE311,DataByMiles!$AT$5:$AU$6,2,FALSE)","v":0},{"$f":"DataByMiles!K311","v":0},{"$f":"DataByMiles!L311","v":0},null,null,{"$f":"(Y313/IF(Z313=0,$AD$1,Z313)*$AD$2)/IF(AA313=0,1,AA313)*VLOOKUP(DataByMiles!AE311,DataByMiles!$AT$5:$AU$6,2,FALSE)","v":0},"",0,0,{"$f":"(AF313+AG313)*VLOOKUP(DataByMiles!AE311,DataByMiles!$AT$5:$AU$6,2,FALSE)","v":0},0]
[null,{"$f":"DataByMiles!C312","v":"----308"},{"$f":"DataByMiles!E312*VLOOKUP(DataByMiles!AE312,DataByMiles!$AT$5:$AU$6,2,FALSE)","v":0},null,null,0,{"$f":"C314*$G$2*VLOOKUP(DataByMiles!AE312,DataByMiles!$AT$5:$AU$6,2,FALSE)","v":0},{"$f":"DataByMiles!F312*VLOOKUP(DataByMiles!AE312,DataByMiles!$AT$5:$AU$6,2,FALSE)","v":0},null,null,0,{"$f":"H314*$L$2*VLOOKUP(DataByMiles!AE312,DataByMiles!$AT$5:$AU$6,2,FALSE)","v":0},{"$f":"DataByMiles!G312*VLOOKUP(DataByMiles!AE312,DataByMiles!$AT$5:$AU$6,2,FALSE)","v":0},null,null,{"$f":"M314*$P$2*VLOOKUP(DataByMiles!AE312,DataByMiles!$AT$5:$AU$6,2,FALSE)","v":0},{"$f":"DataByMiles!H312*VLOOKUP(DataByMiles!AE312,DataByMiles!$AT$5:$AU$6,2,FALSE)","v":0},null,null,{"$f":"Q314*$T$2*VLOOKUP(DataByMiles!AE312,DataByMiles!$AT$5:$AU$6,2,FALSE)","v":0},{"$f":"DataByMiles!I312*VLOOKUP(DataByMiles!AE312,DataByMiles!$AT$5:$AU$6,2,FALSE)","v":0},null,null,{"$f":"U314*$X$2*VLOOKUP(DataByMiles!AE312,DataByMiles!$AT$5:$AU$6,2,FALSE)","v":0},{"$f":"DataByMiles!J312*VLOOKUP(DataByMiles!AE312,DataByMiles!$AT$5:$AU$6,2,FALSE)","v":0},{"$f":"DataByMiles!K312","v":0},{"$f":"DataByMiles!L312","v":0},null,null,{"$f":"(Y314/IF(Z314=0,$AD$1,Z314)*$AD$2)/IF(AA314=0,1,AA314)*VLOOKUP(DataByMiles!AE312,DataByMiles!$AT$5:$AU$6,2,FALSE)","v":0},"",0,0,{"$f":"(AF314+AG314)*VLOOKUP(DataByMiles!AE312,DataByMiles!$AT$5:$AU$6,2,FALSE)","v":0},0]
[null,{"$f":"DataByMiles!C313","v":"----309"},{"$f":"DataByMiles!E313*VLOOKUP(DataByMiles!AE313,DataByMiles!$AT$5:$AU$6,2,FALSE)","v":0},null,null,0,{"$f":"C315*$G$2*VLOOKUP(DataByMiles!AE313,DataByMiles!$AT$5:$AU$6,2,FALSE)","v":0},{"$f":"DataByMiles!F313*VLOOKUP(DataByMiles!AE313,DataByMiles!$AT$5:$AU$6,2,FALSE)","v":0},null,null,0,{"$f":"H315*$L$2*VLOOKUP(DataByMiles!AE313,DataByMiles!$AT$5:$AU$6,2,FALSE)","v":0},{"$f":"DataByMiles!G313*VLOOKUP(DataByMiles!AE313,DataByMiles!$AT$5:$AU$6,2,FALSE)","v":0},null,null,{"$f":"M315*$P$2*VLOOKUP(DataByMiles!AE313,DataByMiles!$AT$5:$AU$6,2,FALSE)","v":0},{"$f":"DataByMiles!H313*VLOOKUP(DataByMiles!AE313,DataByMiles!$AT$5:$AU$6,2,FALSE)","v":0},null,null,{"$f":"Q315*$T$2*VLOOKUP(DataByMiles!AE313,DataByMiles!$AT$5:$AU$6,2,FALSE)","v":0},{"$f":"DataByMiles!I313*VLOOKUP(DataByMiles!AE313,DataByMiles!$AT$5:$AU$6,2,FALSE)","v":0},null,null,{"$f":"U315*$X$2*VLOOKUP(DataByMiles!AE313,DataByMiles!$AT$5:$AU$6,2,FALSE)","v":0},{"$f":"DataByMiles!J313*VLOOKUP(DataByMiles!AE313,DataByMiles!$AT$5:$AU$6,2,FALSE)","v":0},{"$f":"DataByMiles!K313","v":0},{"$f":"DataByMiles!L313","v":0},null,null,{"$f":"(Y315/IF(Z315=0,$AD$1,Z315)*$AD$2)/IF(AA315=0,1,AA315)*VLOOKUP(DataByMiles!AE313,DataByMiles!$AT$5:$AU$6,2,FALSE)","v":0},"",0,0,{"$f":"(AF315+AG315)*VLOOKUP(DataByMiles!AE313,DataByMiles!$AT$5:$AU$6,2,FALSE)","v":0},0]
[null,{"$f":"DataByMiles!C314","v":"----310"},{"$f":"DataByMiles!E314*VLOOKUP(DataByMiles!AE314,DataByMiles!$AT$5:$AU$6,2,FALSE)","v":0},null,null,0,{"$f":"C316*$G$2*VLOOKUP(DataByMiles!AE314,DataByMiles!$AT$5:$AU$6,2,FALSE)","v":0},{"$f":"DataByMiles!F314*VLOOKUP(DataByMiles!AE314,DataByMiles!$AT$5:$AU$6,2,FALSE)","v":0},null,null,0,{"$f":"H316*$L$2*VLOOKUP(DataByMiles!AE314,DataByMiles!$AT$5:$AU$6,2,FALSE)","v":0},{"$f":"DataByMiles!G314*VLOOKUP(DataByMiles!AE314,DataByMiles!$AT$5:$AU$6,2,FALSE)","v":0},null,null,{"$f":"M316*$P$2*VLOOKUP(DataByMiles!AE314,DataByMiles!$AT$5:$AU$6,2,FALSE)","v":0},{"$f":"DataByMiles!H314*VLOOKUP(DataByMiles!AE314,DataByMiles!$AT$5:$AU$6,2,FALSE)","v":0},null,null,{"$f":"Q316*$T$2*VLOOKUP(DataByMiles!AE314,DataByMiles!$AT$5:$AU$6,2,FALSE)","v":0},{"$f":"DataByMiles!I314*VLOOKUP(DataByMiles!AE314,DataByMiles!$AT$5:$AU$6,2,FALSE)","v":0},null,null,{"$f":"U316*$X$2*VLOOKUP(DataByMiles!AE314,DataByMiles!$AT$5:$AU$6,2,FALSE)","v":0},{"$f":"DataByMiles!J314*VLOOKUP(DataByMiles!AE314,DataByMiles!$AT$5:$AU$6,2,FALSE)","v":0},{"$f":"DataByMiles!K314","v":0},{"$f":"DataByMiles!L314","v":0},null,null,{"$f":"(Y316/IF(Z316=0,$AD$1,Z316)*$AD$2)/IF(AA316=0,1,AA316)*VLOOKUP(DataByMiles!AE314,DataByMiles!$AT$5:$AU$6,2,FALSE)","v":0},"",0,0,{"$f":"(AF316+AG316)*VLOOKUP(DataByMiles!AE314,DataByMiles!$AT$5:$AU$6,2,FALSE)","v":0},0]
[null,{"$f":"DataByMiles!C315","v":"----311"},{"$f":"DataByMiles!E315*VLOOKUP(DataByMiles!AE315,DataByMiles!$AT$5:$AU$6,2,FALSE)","v":0},null,null,0,{"$f":"C317*$G$2*VLOOKUP(DataByMiles!AE315,DataByMiles!$AT$5:$AU$6,2,FALSE)","v":0},{"$f":"DataByMiles!F315*VLOOKUP(DataByMiles!AE315,DataByMiles!$AT$5:$AU$6,2,FALSE)","v":0},null,null,0,{"$f":"H317*$L$2*VLOOKUP(DataByMiles!AE315,DataByMiles!$AT$5:$AU$6,2,FALSE)","v":0},{"$f":"DataByMiles!G315*VLOOKUP(DataByMiles!AE315,DataByMiles!$AT$5:$AU$6,2,FALSE)","v":0},null,null,{"$f":"M317*$P$2*VLOOKUP(DataByMiles!AE315,DataByMiles!$AT$5:$AU$6,2,FALSE)","v":0},{"$f":"DataByMiles!H315*VLOOKUP(DataByMiles!AE315,DataByMiles!$AT$5:$AU$6,2,FALSE)","v":0},null,null,{"$f":"Q317*$T$2*VLOOKUP(DataByMiles!AE315,DataByMiles!$AT$5:$AU$6,2,FALSE)","v":0},{"$f":"DataByMiles!I315*VLOOKUP(DataByMiles!AE315,DataByMiles!$AT$5:$AU$6,2,FALSE)","v":0},null,null,{"$f":"U317*$X$2*VLOOKUP(DataByMiles!AE315,DataByMiles!$AT$5:$AU$6,2,FALSE)","v":0},{"$f":"DataByMiles!J315*VLOOKUP(DataByMiles!AE315,DataByMiles!$AT$5:$AU$6,2,FALSE)","v":0},{"$f":"DataByMiles!K315","v":0},{"$f":"DataByMiles!L315","v":0},null,null,{"$f":"(Y317/IF(Z317=0,$AD$1,Z317)*$AD$2)/IF(AA317=0,1,AA317)*VLOOKUP(DataByMiles!AE315,DataByMiles!$AT$5:$AU$6,2,FALSE)","v":0},"",0,0,{"$f":"(AF317+AG317)*VLOOKUP(DataByMiles!AE315,DataByMiles!$AT$5:$AU$6,2,FALSE)","v":0},0]
[null,{"$f":"DataByMiles!C316","v":"----312"},{"$f":"DataByMiles!E316*VLOOKUP(DataByMiles!AE316,DataByMiles!$AT$5:$AU$6,2,FALSE)","v":0},null,null,0,{"$f":"C318*$G$2*VLOOKUP(DataByMiles!AE316,DataByMiles!$AT$5:$AU$6,2,FALSE)","v":0},{"$f":"DataByMiles!F316*VLOOKUP(DataByMiles!AE316,DataByMiles!$AT$5:$AU$6,2,FALSE)","v":0},null,null,0,{"$f":"H318*$L$2*VLOOKUP(DataByMiles!AE316,DataByMiles!$AT$5:$AU$6,2,FALSE)","v":0},{"$f":"DataByMiles!G316*VLOOKUP(DataByMiles!AE316,DataByMiles!$AT$5:$AU$6,2,FALSE)","v":0},null,null,{"$f":"M318*$P$2*VLOOKUP(DataByMiles!AE316,DataByMiles!$AT$5:$AU$6,2,FALSE)","v":0},{"$f":"DataByMiles!H316*VLOOKUP(DataByMiles!AE316,DataByMiles!$AT$5:$AU$6,2,FALSE)","v":0},null,null,{"$f":"Q318*$T$2*VLOOKUP(DataByMiles!AE316,DataByMiles!$AT$5:$AU$6,2,FALSE)","v":0},{"$f":"DataByMiles!I316*VLOOKUP(DataByMiles!AE316,DataByMiles!$AT$5:$AU$6,2,FALSE)","v":0},null,null,{"$f":"U318*$X$2*VLOOKUP(DataByMiles!AE316,DataByMiles!$AT$5:$AU$6,2,FALSE)","v":0},{"$f":"DataByMiles!J316*VLOOKUP(DataByMiles!AE316,DataByMiles!$AT$5:$AU$6,2,FALSE)","v":0},{"$f":"DataByMiles!K316","v":0},{"$f":"DataByMiles!L316","v":0},null,null,{"$f":"(Y318/IF(Z318=0,$AD$1,Z318)*$AD$2)/IF(AA318=0,1,AA318)*VLOOKUP(DataByMiles!AE316,DataByMiles!$AT$5:$AU$6,2,FALSE)","v":0},"",0,0,{"$f":"(AF318+AG318)*VLOOKUP(DataByMiles!AE316,DataByMiles!$AT$5:$AU$6,2,FALSE)","v":0},0]
[null,{"$f":"DataByMiles!C317","v":"----313"},{"$f":"DataByMiles!E317*VLOOKUP(DataByMiles!AE317,DataByMiles!$AT$5:$AU$6,2,FALSE)","v":0},null,null,0,{"$f":"C319*$G$2*VLOOKUP(DataByMiles!AE317,DataByMiles!$AT$5:$AU$6,2,FALSE)","v":0},{"$f":"DataByMiles!F317*VLOOKUP(DataByMiles!AE317,DataByMiles!$AT$5:$AU$6,2,FALSE)","v":0},null,null,0,{"$f":"H319*$L$2*VLOOKUP(DataByMiles!AE317,DataByMiles!$AT$5:$AU$6,2,FALSE)","v":0},{"$f":"DataByMiles!G317*VLOOKUP(DataByMiles!AE317,DataByMiles!$AT$5:$AU$6,2,FALSE)","v":0},null,null,{"$f":"M319*$P$2*VLOOKUP(DataByMiles!AE317,DataByMiles!$AT$5:$AU$6,2,FALSE)","v":0},{"$f":"DataByMiles!H317*VLOOKUP(DataByMiles!AE317,DataByMiles!$AT$5:$AU$6,2,FALSE)","v":0},null,null,{"$f":"Q319*$T$2*VLOOKUP(DataByMiles!AE317,DataByMiles!$AT$5:$AU$6,2,FALSE)","v":0},{"$f":"DataByMiles!I317*VLOOKUP(DataByMiles!AE317,DataByMiles!$AT$5:$AU$6,2,FALSE)","v":0},null,null,{"$f":"U319*$X$2*VLOOKUP(DataByMiles!AE317,DataByMiles!$AT$5:$AU$6,2,FALSE)","v":0},{"$f":"DataByMiles!J317*VLOOKUP(DataByMiles!AE317,DataByMiles!$AT$5:$AU$6,2,FALSE)","v":0},{"$f":"DataByMiles!K317","v":0},{"$f":"DataByMiles!L317","v":0},null,null,{"$f":"(Y319/IF(Z319=0,$AD$1,Z319)*$AD$2)/IF(AA319=0,1,AA319)*VLOOKUP(DataByMiles!AE317,DataByMiles!$AT$5:$AU$6,2,FALSE)","v":0},"",0,0,{"$f":"(AF319+AG319)*VLOOKUP(DataByMiles!AE317,DataByMiles!$AT$5:$AU$6,2,FALSE)","v":0},0]
[null,{"$f":"DataByMiles!C318","v":"----314"},{"$f":"DataByMiles!E318*VLOOKUP(DataByMiles!AE318,DataByMiles!$AT$5:$AU$6,2,FALSE)","v":0},null,null,0,{"$f":"C320*$G$2*VLOOKUP(DataByMiles!AE318,DataByMiles!$AT$5:$AU$6,2,FALSE)","v":0},{"$f":"DataByMiles!F318*VLOOKUP(DataByMiles!AE318,DataByMiles!$AT$5:$AU$6,2,FALSE)","v":0},null,null,0,{"$f":"H320*$L$2*VLOOKUP(DataByMiles!AE318,DataByMiles!$AT$5:$AU$6,2,FALSE)","v":0},{"$f":"DataByMiles!G318*VLOOKUP(DataByMiles!AE318,DataByMiles!$AT$5:$AU$6,2,FALSE)","v":0},null,null,{"$f":"M320*$P$2*VLOOKUP(DataByMiles!AE318,DataByMiles!$AT$5:$AU$6,2,FALSE)","v":0},{"$f":"DataByMiles!H318*VLOOKUP(DataByMiles!AE318,DataByMiles!$AT$5:$AU$6,2,FALSE)","v":0},null,null,{"$f":"Q320*$T$2*VLOOKUP(DataByMiles!AE318,DataByMiles!$AT$5:$AU$6,2,FALSE)","v":0},{"$f":"DataByMiles!I318*VLOOKUP(DataByMiles!AE318,DataByMiles!$AT$5:$AU$6,2,FALSE)","v":0},null,null,{"$f":"U320*$X$2*VLOOKUP(DataByMiles!AE318,DataByMiles!$AT$5:$AU$6,2,FALSE)","v":0},{"$f":"DataByMiles!J318*VLOOKUP(DataByMiles!AE318,DataByMiles!$AT$5:$AU$6,2,FALSE)","v":0},{"$f":"DataByMiles!K318","v":0},{"$f":"DataByMiles!L318","v":0},null,null,{"$f":"(Y320/IF(Z320=0,$AD$1,Z320)*$AD$2)/IF(AA320=0,1,AA320)*VLOOKUP(DataByMiles!AE318,DataByMiles!$AT$5:$AU$6,2,FALSE)","v":0},"",0,0,{"$f":"(AF320+AG320)*VLOOKUP(DataByMiles!AE318,DataByMiles!$AT$5:$AU$6,2,FALSE)","v":0},0]
[null,{"$f":"DataByMiles!C319","v":"----315"},{"$f":"DataByMiles!E319*VLOOKUP(DataByMiles!AE319,DataByMiles!$AT$5:$AU$6,2,FALSE)","v":0},null,null,0,{"$f":"C321*$G$2*VLOOKUP(DataByMiles!AE319,DataByMiles!$AT$5:$AU$6,2,FALSE)","v":0},{"$f":"DataByMiles!F319*VLOOKUP(DataByMiles!AE319,DataByMiles!$AT$5:$AU$6,2,FALSE)","v":0},null,null,0,{"$f":"H321*$L$2*VLOOKUP(DataByMiles!AE319,DataByMiles!$AT$5:$AU$6,2,FALSE)","v":0},{"$f":"DataByMiles!G319*VLOOKUP(DataByMiles!AE319,DataByMiles!$AT$5:$AU$6,2,FALSE)","v":0},null,null,{"$f":"M321*$P$2*VLOOKUP(DataByMiles!AE319,DataByMiles!$AT$5:$AU$6,2,FALSE)","v":0},{"$f":"DataByMiles!H319*VLOOKUP(DataByMiles!AE319,DataByMiles!$AT$5:$AU$6,2,FALSE)","v":0},null,null,{"$f":"Q321*$T$2*VLOOKUP(DataByMiles!AE319,DataByMiles!$AT$5:$AU$6,2,FALSE)","v":0},{"$f":"DataByMiles!I319*VLOOKUP(DataByMiles!AE319,DataByMiles!$AT$5:$AU$6,2,FALSE)","v":0},null,null,{"$f":"U321*$X$2*VLOOKUP(DataByMiles!AE319,DataByMiles!$AT$5:$AU$6,2,FALSE)","v":0},{"$f":"DataByMiles!J319*VLOOKUP(DataByMiles!AE319,DataByMiles!$AT$5:$AU$6,2,FALSE)","v":0},{"$f":"DataByMiles!K319","v":0},{"$f":"DataByMiles!L319","v":0},null,null,{"$f":"(Y321/IF(Z321=0,$AD$1,Z321)*$AD$2)/IF(AA321=0,1,AA321)*VLOOKUP(DataByMiles!AE319,DataByMiles!$AT$5:$AU$6,2,FALSE)","v":0},"",0,0,{"$f":"(AF321+AG321)*VLOOKUP(DataByMiles!AE319,DataByMiles!$AT$5:$AU$6,2,FALSE)","v":0},0]
[null,{"$f":"DataByMiles!C320","v":"----316"},{"$f":"DataByMiles!E320*VLOOKUP(DataByMiles!AE320,DataByMiles!$AT$5:$AU$6,2,FALSE)","v":0},null,null,0,{"$f":"C322*$G$2*VLOOKUP(DataByMiles!AE320,DataByMiles!$AT$5:$AU$6,2,FALSE)","v":0},{"$f":"DataByMiles!F320*VLOOKUP(DataByMiles!AE320,DataByMiles!$AT$5:$AU$6,2,FALSE)","v":0},null,null,0,{"$f":"H322*$L$2*VLOOKUP(DataByMiles!AE320,DataByMiles!$AT$5:$AU$6,2,FALSE)","v":0},{"$f":"DataByMiles!G320*VLOOKUP(DataByMiles!AE320,DataByMiles!$AT$5:$AU$6,2,FALSE)","v":0},null,null,{"$f":"M322*$P$2*VLOOKUP(DataByMiles!AE320,DataByMiles!$AT$5:$AU$6,2,FALSE)","v":0},{"$f":"DataByMiles!H320*VLOOKUP(DataByMiles!AE320,DataByMiles!$AT$5:$AU$6,2,FALSE)","v":0},null,null,{"$f":"Q322*$T$2*VLOOKUP(DataByMiles!AE320,DataByMiles!$AT$5:$AU$6,2,FALSE)","v":0},{"$f":"DataByMiles!I320*VLOOKUP(DataByMiles!AE320,DataByMiles!$AT$5:$AU$6,2,FALSE)","v":0},null,null,{"$f":"U322*$X$2*VLOOKUP(DataByMiles!AE320,DataByMiles!$AT$5:$AU$6,2,FALSE)","v":0},{"$f":"DataByMiles!J320*VLOOKUP(DataByMiles!AE320,DataByMiles!$AT$5:$AU$6,2,FALSE)","v":0},{"$f":"DataByMiles!K320","v":0},{"$f":"DataByMiles!L320","v":0},null,null,{"$f":"(Y322/IF(Z322=0,$AD$1,Z322)*$AD$2)/IF(AA322=0,1,AA322)*VLOOKUP(DataByMiles!AE320,DataByMiles!$AT$5:$AU$6,2,FALSE)","v":0},"",0,0,{"$f":"(AF322+AG322)*VLOOKUP(DataByMiles!AE320,DataByMiles!$AT$5:$AU$6,2,FALSE)","v":0},0]
[null,{"$f":"DataByMiles!C321","v":"----317"},{"$f":"DataByMiles!E321*VLOOKUP(DataByMiles!AE321,DataByMiles!$AT$5:$AU$6,2,FALSE)","v":0},null,null,0,{"$f":"C323*$G$2*VLOOKUP(DataByMiles!AE321,DataByMiles!$AT$5:$AU$6,2,FALSE)","v":0},{"$f":"DataByMiles!F321*VLOOKUP(DataByMiles!AE321,DataByMiles!$AT$5:$AU$6,2,FALSE)","v":0},null,null,0,{"$f":"H323*$L$2*VLOOKUP(DataByMiles!AE321,DataByMiles!$AT$5:$AU$6,2,FALSE)","v":0},{"$f":"DataByMiles!G321*VLOOKUP(DataByMiles!AE321,DataByMiles!$AT$5:$AU$6,2,FALSE)","v":0},null,null,{"$f":"M323*$P$2*VLOOKUP(DataByMiles!AE321,DataByMiles!$AT$5:$AU$6,2,FALSE)","v":0},{"$f":"DataByMiles!H321*VLOOKUP(DataByMiles!AE321,DataByMiles!$AT$5:$AU$6,2,FALSE)","v":0},null,null,{"$f":"Q323*$T$2*VLOOKUP(DataByMiles!AE321,DataByMiles!$AT$5:$AU$6,2,FALSE)","v":0},{"$f":"DataByMiles!I321*VLOOKUP(DataByMiles!AE321,DataByMiles!$AT$5:$AU$6,2,FALSE)","v":0},null,null,{"$f":"U323*$X$2*VLOOKUP(DataByMiles!AE321,DataByMiles!$AT$5:$AU$6,2,FALSE)","v":0},{"$f":"DataByMiles!J321*VLOOKUP(DataByMiles!AE321,DataByMiles!$AT$5:$AU$6,2,FALSE)","v":0},{"$f":"DataByMiles!K321","v":0},{"$f":"DataByMiles!L321","v":0},null,null,{"$f":"(Y323/IF(Z323=0,$AD$1,Z323)*$AD$2)/IF(AA323=0,1,AA323)*VLOOKUP(DataByMiles!AE321,DataByMiles!$AT$5:$AU$6,2,FALSE)","v":0},"",0,0,{"$f":"(AF323+AG323)*VLOOKUP(DataByMiles!AE321,DataByMiles!$AT$5:$AU$6,2,FALSE)","v":0},0]
[null,{"$f":"DataByMiles!C322","v":"----318"},{"$f":"DataByMiles!E322*VLOOKUP(DataByMiles!AE322,DataByMiles!$AT$5:$AU$6,2,FALSE)","v":0},null,null,0,{"$f":"C324*$G$2*VLOOKUP(DataByMiles!AE322,DataByMiles!$AT$5:$AU$6,2,FALSE)","v":0},{"$f":"DataByMiles!F322*VLOOKUP(DataByMiles!AE322,DataByMiles!$AT$5:$AU$6,2,FALSE)","v":0},null,null,0,{"$f":"H324*$L$2*VLOOKUP(DataByMiles!AE322,DataByMiles!$AT$5:$AU$6,2,FALSE)","v":0},{"$f":"DataByMiles!G322*VLOOKUP(DataByMiles!AE322,DataByMiles!$AT$5:$AU$6,2,FALSE)","v":0},null,null,{"$f":"M324*$P$2*VLOOKUP(DataByMiles!AE322,DataByMiles!$AT$5:$AU$6,2,FALSE)","v":0},{"$f":"DataByMiles!H322*VLOOKUP(DataByMiles!AE322,DataByMiles!$AT$5:$AU$6,2,FALSE)","v":0},null,null,{"$f":"Q324*$T$2*VLOOKUP(DataByMiles!AE322,DataByMiles!$AT$5:$AU$6,2,FALSE)","v":0},{"$f":"DataByMiles!I322*VLOOKUP(DataByMiles!AE322,DataByMiles!$AT$5:$AU$6,2,FALSE)","v":0},null,null,{"$f":"U324*$X$2*VLOOKUP(DataByMiles!AE322,DataByMiles!$AT$5:$AU$6,2,FALSE)","v":0},{"$f":"DataByMiles!J322*VLOOKUP(DataByMiles!AE322,DataByMiles!$AT$5:$AU$6,2,FALSE)","v":0},{"$f":"DataByMiles!K322","v":0},{"$f":"DataByMiles!L322","v":0},null,null,{"$f":"(Y324/IF(Z324=0,$AD$1,Z324)*$AD$2)/IF(AA324=0,1,AA324)*VLOOKUP(DataByMiles!AE322,DataByMiles!$AT$5:$AU$6,2,FALSE)","v":0},"",0,0,{"$f":"(AF324+AG324)*VLOOKUP(DataByMiles!AE322,DataByMiles!$AT$5:$AU$6,2,FALSE)","v":0},0]
[null,{"$f":"DataByMiles!C323","v":"----319"},{"$f":"DataByMiles!E323*VLOOKUP(DataByMiles!AE323,DataByMiles!$AT$5:$AU$6,2,FALSE)","v":0},null,null,0,{"$f":"C325*$G$2*VLOOKUP(DataByMiles!AE323,DataByMiles!$AT$5:$AU$6,2,FALSE)","v":0},{"$f":"DataByMiles!F323*VLOOKUP(DataByMiles!AE323,DataByMiles!$AT$5:$AU$6,2,FALSE)","v":0},null,null,0,{"$f":"H325*$L$2*VLOOKUP(DataByMiles!AE323,DataByMiles!$AT$5:$AU$6,2,FALSE)","v":0},{"$f":"DataByMiles!G323*VLOOKUP(DataByMiles!AE323,DataByMiles!$AT$5:$AU$6,2,FALSE)","v":0},null,null,{"$f":"M325*$P$2*VLOOKUP(DataByMiles!AE323,DataByMiles!$AT$5:$AU$6,2,FALSE)","v":0},{"$f":"DataByMiles!H323*VLOOKUP(DataByMiles!AE323,DataByMiles!$AT$5:$AU$6,2,FALSE)","v":0},null,null,{"$f":"Q325*$T$2*VLOOKUP(DataByMiles!AE323,DataByMiles!$AT$5:$AU$6,2,FALSE)","v":0},{"$f":"DataByMiles!I323*VLOOKUP(DataByMiles!AE323,DataByMiles!$AT$5:$AU$6,2,FALSE)","v":0},null,null,{"$f":"U325*$X$2*VLOOKUP(DataByMiles!AE323,DataByMiles!$AT$5:$AU$6,2,FALSE)","v":0},{"$f":"DataByMiles!J323*VLOOKUP(DataByMiles!AE323,DataByMiles!$AT$5:$AU$6,2,FALSE)","v":0},{"$f":"DataByMiles!K323","v":0},{"$f":"DataByMiles!L323","v":0},null,null,{"$f":"(Y325/IF(Z325=0,$AD$1,Z325)*$AD$2)/IF(AA325=0,1,AA325)*VLOOKUP(DataByMiles!AE323,DataByMiles!$AT$5:$AU$6,2,FALSE)","v":0},"",0,0,{"$f":"(AF325+AG325)*VLOOKUP(DataByMiles!AE323,DataByMiles!$AT$5:$AU$6,2,FALSE)","v":0},0]
[null,{"$f":"DataByMiles!C324","v":"----320"},{"$f":"DataByMiles!E324*VLOOKUP(DataByMiles!AE324,DataByMiles!$AT$5:$AU$6,2,FALSE)","v":0},null,null,0,{"$f":"C326*$G$2*VLOOKUP(DataByMiles!AE324,DataByMiles!$AT$5:$AU$6,2,FALSE)","v":0},{"$f":"DataByMiles!F324*VLOOKUP(DataByMiles!AE324,DataByMiles!$AT$5:$AU$6,2,FALSE)","v":0},null,null,0,{"$f":"H326*$L$2*VLOOKUP(DataByMiles!AE324,DataByMiles!$AT$5:$AU$6,2,FALSE)","v":0},{"$f":"DataByMiles!G324*VLOOKUP(DataByMiles!AE324,DataByMiles!$AT$5:$AU$6,2,FALSE)","v":0},null,null,{"$f":"M326*$P$2*VLOOKUP(DataByMiles!AE324,DataByMiles!$AT$5:$AU$6,2,FALSE)","v":0},{"$f":"DataByMiles!H324*VLOOKUP(DataByMiles!AE324,DataByMiles!$AT$5:$AU$6,2,FALSE)","v":0},null,null,{"$f":"Q326*$T$2*VLOOKUP(DataByMiles!AE324,DataByMiles!$AT$5:$AU$6,2,FALSE)","v":0},{"$f":"DataByMiles!I324*VLOOKUP(DataByMiles!AE324,DataByMiles!$AT$5:$AU$6,2,FALSE)","v":0},null,null,{"$f":"U326*$X$2*VLOOKUP(DataByMiles!AE324,DataByMiles!$AT$5:$AU$6,2,FALSE)","v":0},{"$f":"DataByMiles!J324*VLOOKUP(DataByMiles!AE324,DataByMiles!$AT$5:$AU$6,2,FALSE)","v":0},{"$f":"DataByMiles!K324","v":0},{"$f":"DataByMiles!L324","v":0},null,null,{"$f":"(Y326/IF(Z326=0,$AD$1,Z326)*$AD$2)/IF(AA326=0,1,AA326)*VLOOKUP(DataByMiles!AE324,DataByMiles!$AT$5:$AU$6,2,FALSE)","v":0},"",0,0,{"$f":"(AF326+AG326)*VLOOKUP(DataByMiles!AE324,DataByMiles!$AT$5:$AU$6,2,FALSE)","v":0},0]
[null,{"$f":"DataByMiles!C325","v":"----321"},{"$f":"DataByMiles!E325*VLOOKUP(DataByMiles!AE325,DataByMiles!$AT$5:$AU$6,2,FALSE)","v":0},null,null,0,{"$f":"C327*$G$2*VLOOKUP(DataByMiles!AE325,DataByMiles!$AT$5:$AU$6,2,FALSE)","v":0},{"$f":"DataByMiles!F325*VLOOKUP(DataByMiles!AE325,DataByMiles!$AT$5:$AU$6,2,FALSE)","v":0},null,null,0,{"$f":"H327*$L$2*VLOOKUP(DataByMiles!AE325,DataByMiles!$AT$5:$AU$6,2,FALSE)","v":0},{"$f":"DataByMiles!G325*VLOOKUP(DataByMiles!AE325,DataByMiles!$AT$5:$AU$6,2,FALSE)","v":0},null,null,{"$f":"M327*$P$2*VLOOKUP(DataByMiles!AE325,DataByMiles!$AT$5:$AU$6,2,FALSE)","v":0},{"$f":"DataByMiles!H325*VLOOKUP(DataByMiles!AE325,DataByMiles!$AT$5:$AU$6,2,FALSE)","v":0},null,null,{"$f":"Q327*$T$2*VLOOKUP(DataByMiles!AE325,DataByMiles!$AT$5:$AU$6,2,FALSE)","v":0},{"$f":"DataByMiles!I325*VLOOKUP(DataByMiles!AE325,DataByMiles!$AT$5:$AU$6,2,FALSE)","v":0},null,null,{"$f":"U327*$X$2*VLOOKUP(DataByMiles!AE325,DataByMiles!$AT$5:$AU$6,2,FALSE)","v":0},{"$f":"DataByMiles!J325*VLOOKUP(DataByMiles!AE325,DataByMiles!$AT$5:$AU$6,2,FALSE)","v":0},{"$f":"DataByMiles!K325","v":0},{"$f":"DataByMiles!L325","v":0},null,null,{"$f":"(Y327/IF(Z327=0,$AD$1,Z327)*$AD$2)/IF(AA327=0,1,AA327)*VLOOKUP(DataByMiles!AE325,DataByMiles!$AT$5:$AU$6,2,FALSE)","v":0},"",0,0,{"$f":"(AF327+AG327)*VLOOKUP(DataByMiles!AE325,DataByMiles!$AT$5:$AU$6,2,FALSE)","v":0},0]
[null,{"$f":"DataByMiles!C326","v":"----322"},{"$f":"DataByMiles!E326*VLOOKUP(DataByMiles!AE326,DataByMiles!$AT$5:$AU$6,2,FALSE)","v":0},null,null,0,{"$f":"C328*$G$2*VLOOKUP(DataByMiles!AE326,DataByMiles!$AT$5:$AU$6,2,FALSE)","v":0},{"$f":"DataByMiles!F326*VLOOKUP(DataByMiles!AE326,DataByMiles!$AT$5:$AU$6,2,FALSE)","v":0},null,null,0,{"$f":"H328*$L$2*VLOOKUP(DataByMiles!AE326,DataByMiles!$AT$5:$AU$6,2,FALSE)","v":0},{"$f":"DataByMiles!G326*VLOOKUP(DataByMiles!AE326,DataByMiles!$AT$5:$AU$6,2,FALSE)","v":0},null,null,{"$f":"M328*$P$2*VLOOKUP(DataByMiles!AE326,DataByMiles!$AT$5:$AU$6,2,FALSE)","v":0},{"$f":"DataByMiles!H326*VLOOKUP(DataByMiles!AE326,DataByMiles!$AT$5:$AU$6,2,FALSE)","v":0},null,null,{"$f":"Q328*$T$2*VLOOKUP(DataByMiles!AE326,DataByMiles!$AT$5:$AU$6,2,FALSE)","v":0},{"$f":"DataByMiles!I326*VLOOKUP(DataByMiles!AE326,DataByMiles!$AT$5:$AU$6,2,FALSE)","v":0},null,null,{"$f":"U328*$X$2*VLOOKUP(DataByMiles!AE326,DataByMiles!$AT$5:$AU$6,2,FALSE)","v":0},{"$f":"DataByMiles!J326*VLOOKUP(DataByMiles!AE326,DataByMiles!$AT$5:$AU$6,2,FALSE)","v":0},{"$f":"DataByMiles!K326","v":0},{"$f":"DataByMiles!L326","v":0},null,null,{"$f":"(Y328/IF(Z328=0,$AD$1,Z328)*$AD$2)/IF(AA328=0,1,AA328)*VLOOKUP(DataByMiles!AE326,DataByMiles!$AT$5:$AU$6,2,FALSE)","v":0},"",0,0,{"$f":"(AF328+AG328)*VLOOKUP(DataByMiles!AE326,DataByMiles!$AT$5:$AU$6,2,FALSE)","v":0},0]
[null,{"$f":"DataByMiles!C327","v":"----323"},{"$f":"DataByMiles!E327*VLOOKUP(DataByMiles!AE327,DataByMiles!$AT$5:$AU$6,2,FALSE)","v":0},null,null,0,{"$f":"C329*$G$2*VLOOKUP(DataByMiles!AE327,DataByMiles!$AT$5:$AU$6,2,FALSE)","v":0},{"$f":"DataByMiles!F327*VLOOKUP(DataByMiles!AE327,DataByMiles!$AT$5:$AU$6,2,FALSE)","v":0},null,null,0,{"$f":"H329*$L$2*VLOOKUP(DataByMiles!AE327,DataByMiles!$AT$5:$AU$6,2,FALSE)","v":0},{"$f":"DataByMiles!G327*VLOOKUP(DataByMiles!AE327,DataByMiles!$AT$5:$AU$6,2,FALSE)","v":0},null,null,{"$f":"M329*$P$2*VLOOKUP(DataByMiles!AE327,DataByMiles!$AT$5:$AU$6,2,FALSE)","v":0},{"$f":"DataByMiles!H327*VLOOKUP(DataByMiles!AE327,DataByMiles!$AT$5:$AU$6,2,FALSE)","v":0},null,null,{"$f":"Q329*$T$2*VLOOKUP(DataByMiles!AE327,DataByMiles!$AT$5:$AU$6,2,FALSE)","v":0},{"$f":"DataByMiles!I327*VLOOKUP(DataByMiles!AE327,DataByMiles!$AT$5:$AU$6,2,FALSE)","v":0},null,null,{"$f":"U329*$X$2*VLOOKUP(DataByMiles!AE327,DataByMiles!$AT$5:$AU$6,2,FALSE)","v":0},{"$f":"DataByMiles!J327*VLOOKUP(DataByMiles!AE327,DataByMiles!$AT$5:$AU$6,2,FALSE)","v":0},{"$f":"DataByMiles!K327","v":0},{"$f":"DataByMiles!L327","v":0},null,null,{"$f":"(Y329/IF(Z329=0,$AD$1,Z329)*$AD$2)/IF(AA329=0,1,AA329)*VLOOKUP(DataByMiles!AE327,DataByMiles!$AT$5:$AU$6,2,FALSE)","v":0},"",0,0,{"$f":"(AF329+AG329)*VLOOKUP(DataByMiles!AE327,DataByMiles!$AT$5:$AU$6,2,FALSE)","v":0},0]
[null,{"$f":"DataByMiles!C328","v":"----324"},{"$f":"DataByMiles!E328*VLOOKUP(DataByMiles!AE328,DataByMiles!$AT$5:$AU$6,2,FALSE)","v":0},null,null,0,{"$f":"C330*$G$2*VLOOKUP(DataByMiles!AE328,DataByMiles!$AT$5:$AU$6,2,FALSE)","v":0},{"$f":"DataByMiles!F328*VLOOKUP(DataByMiles!AE328,DataByMiles!$AT$5:$AU$6,2,FALSE)","v":0},null,null,0,{"$f":"H330*$L$2*VLOOKUP(DataByMiles!AE328,DataByMiles!$AT$5:$AU$6,2,FALSE)","v":0},{"$f":"DataByMiles!G328*VLOOKUP(DataByMiles!AE328,DataByMiles!$AT$5:$AU$6,2,FALSE)","v":0},null,null,{"$f":"M330*$P$2*VLOOKUP(DataByMiles!AE328,DataByMiles!$AT$5:$AU$6,2,FALSE)","v":0},{"$f":"DataByMiles!H328*VLOOKUP(DataByMiles!AE328,DataByMiles!$AT$5:$AU$6,2,FALSE)","v":0},null,null,{"$f":"Q330*$T$2*VLOOKUP(DataByMiles!AE328,DataByMiles!$AT$5:$AU$6,2,FALSE)","v":0},{"$f":"DataByMiles!I328*VLOOKUP(DataByMiles!AE328,DataByMiles!$AT$5:$AU$6,2,FALSE)","v":0},null,null,{"$f":"U330*$X$2*VLOOKUP(DataByMiles!AE328,DataByMiles!$AT$5:$AU$6,2,FALSE)","v":0},{"$f":"DataByMiles!J328*VLOOKUP(DataByMiles!AE328,DataByMiles!$AT$5:$AU$6,2,FALSE)","v":0},{"$f":"DataByMiles!K328","v":0},{"$f":"DataByMiles!L328","v":0},null,null,{"$f":"(Y330/IF(Z330=0,$AD$1,Z330)*$AD$2)/IF(AA330=0,1,AA330)*VLOOKUP(DataByMiles!AE328,DataByMiles!$AT$5:$AU$6,2,FALSE)","v":0},"",0,0,{"$f":"(AF330+AG330)*VLOOKUP(DataByMiles!AE328,DataByMiles!$AT$5:$AU$6,2,FALSE)","v":0},0]
[null,{"$f":"DataByMiles!C329","v":"----325"},{"$f":"DataByMiles!E329*VLOOKUP(DataByMiles!AE329,DataByMiles!$AT$5:$AU$6,2,FALSE)","v":0},null,null,0,{"$f":"C331*$G$2*VLOOKUP(DataByMiles!AE329,DataByMiles!$AT$5:$AU$6,2,FALSE)","v":0},{"$f":"DataByMiles!F329*VLOOKUP(DataByMiles!AE329,DataByMiles!$AT$5:$AU$6,2,FALSE)","v":0},null,null,0,{"$f":"H331*$L$2*VLOOKUP(DataByMiles!AE329,DataByMiles!$AT$5:$AU$6,2,FALSE)","v":0},{"$f":"DataByMiles!G329*VLOOKUP(DataByMiles!AE329,DataByMiles!$AT$5:$AU$6,2,FALSE)","v":0},null,null,{"$f":"M331*$P$2*VLOOKUP(DataByMiles!AE329,DataByMiles!$AT$5:$AU$6,2,FALSE)","v":0},{"$f":"DataByMiles!H329*VLOOKUP(DataByMiles!AE329,DataByMiles!$AT$5:$AU$6,2,FALSE)","v":0},null,null,{"$f":"Q331*$T$2*VLOOKUP(DataByMiles!AE329,DataByMiles!$AT$5:$AU$6,2,FALSE)","v":0},{"$f":"DataByMiles!I329*VLOOKUP(DataByMiles!AE329,DataByMiles!$AT$5:$AU$6,2,FALSE)","v":0},null,null,{"$f":"U331*$X$2*VLOOKUP(DataByMiles!AE329,DataByMiles!$AT$5:$AU$6,2,FALSE)","v":0},{"$f":"DataByMiles!J329*VLOOKUP(DataByMiles!AE329,DataByMiles!$AT$5:$AU$6,2,FALSE)","v":0},{"$f":"DataByMiles!K329","v":0},{"$f":"DataByMiles!L329","v":0},null,null,{"$f":"(Y331/IF(Z331=0,$AD$1,Z331)*$AD$2)/IF(AA331=0,1,AA331)*VLOOKUP(DataByMiles!AE329,DataByMiles!$AT$5:$AU$6,2,FALSE)","v":0},"",0,0,{"$f":"(AF331+AG331)*VLOOKUP(DataByMiles!AE329,DataByMiles!$AT$5:$AU$6,2,FALSE)","v":0},0]
[null,{"$f":"DataByMiles!C330","v":"----326"},{"$f":"DataByMiles!E330*VLOOKUP(DataByMiles!AE330,DataByMiles!$AT$5:$AU$6,2,FALSE)","v":0},null,null,0,{"$f":"C332*$G$2*VLOOKUP(DataByMiles!AE330,DataByMiles!$AT$5:$AU$6,2,FALSE)","v":0},{"$f":"DataByMiles!F330*VLOOKUP(DataByMiles!AE330,DataByMiles!$AT$5:$AU$6,2,FALSE)","v":0},null,null,0,{"$f":"H332*$L$2*VLOOKUP(DataByMiles!AE330,DataByMiles!$AT$5:$AU$6,2,FALSE)","v":0},{"$f":"DataByMiles!G330*VLOOKUP(DataByMiles!AE330,DataByMiles!$AT$5:$AU$6,2,FALSE)","v":0},null,null,{"$f":"M332*$P$2*VLOOKUP(DataByMiles!AE330,DataByMiles!$AT$5:$AU$6,2,FALSE)","v":0},{"$f":"DataByMiles!H330*VLOOKUP(DataByMiles!AE330,DataByMiles!$AT$5:$AU$6,2,FALSE)","v":0},null,null,{"$f":"Q332*$T$2*VLOOKUP(DataByMiles!AE330,DataByMiles!$AT$5:$AU$6,2,FALSE)","v":0},{"$f":"DataByMiles!I330*VLOOKUP(DataByMiles!AE330,DataByMiles!$AT$5:$AU$6,2,FALSE)","v":0},null,null,{"$f":"U332*$X$2*VLOOKUP(DataByMiles!AE330,DataByMiles!$AT$5:$AU$6,2,FALSE)","v":0},{"$f":"DataByMiles!J330*VLOOKUP(DataByMiles!AE330,DataByMiles!$AT$5:$AU$6,2,FALSE)","v":0},{"$f":"DataByMiles!K330","v":0},{"$f":"DataByMiles!L330","v":0},null,null,{"$f":"(Y332/IF(Z332=0,$AD$1,Z332)*$AD$2)/IF(AA332=0,1,AA332)*VLOOKUP(DataByMiles!AE330,DataByMiles!$AT$5:$AU$6,2,FALSE)","v":0},"",0,0,{"$f":"(AF332+AG332)*VLOOKUP(DataByMiles!AE330,DataByMiles!$AT$5:$AU$6,2,FALSE)","v":0},0]
[null,{"$f":"DataByMiles!C331","v":"----327"},{"$f":"DataByMiles!E331*VLOOKUP(DataByMiles!AE331,DataByMiles!$AT$5:$AU$6,2,FALSE)","v":0},null,null,0,{"$f":"C333*$G$2*VLOOKUP(DataByMiles!AE331,DataByMiles!$AT$5:$AU$6,2,FALSE)","v":0},{"$f":"DataByMiles!F331*VLOOKUP(DataByMiles!AE331,DataByMiles!$AT$5:$AU$6,2,FALSE)","v":0},null,null,0,{"$f":"H333*$L$2*VLOOKUP(DataByMiles!AE331,DataByMiles!$AT$5:$AU$6,2,FALSE)","v":0},{"$f":"DataByMiles!G331*VLOOKUP(DataByMiles!AE331,DataByMiles!$AT$5:$AU$6,2,FALSE)","v":0},null,null,{"$f":"M333*$P$2*VLOOKUP(DataByMiles!AE331,DataByMiles!$AT$5:$AU$6,2,FALSE)","v":0},{"$f":"DataByMiles!H331*VLOOKUP(DataByMiles!AE331,DataByMiles!$AT$5:$AU$6,2,FALSE)","v":0},null,null,{"$f":"Q333*$T$2*VLOOKUP(DataByMiles!AE331,DataByMiles!$AT$5:$AU$6,2,FALSE)","v":0},{"$f":"DataByMiles!I331*VLOOKUP(DataByMiles!AE331,DataByMiles!$AT$5:$AU$6,2,FALSE)","v":0},null,null,{"$f":"U333*$X$2*VLOOKUP(DataByMiles!AE331,DataByMiles!$AT$5:$AU$6,2,FALSE)","v":0},{"$f":"DataByMiles!J331*VLOOKUP(DataByMiles!AE331,DataByMiles!$AT$5:$AU$6,2,FALSE)","v":0},{"$f":"DataByMiles!K331","v":0},{"$f":"DataByMiles!L331","v":0},null,null,{"$f":"(Y333/IF(Z333=0,$AD$1,Z333)*$AD$2)/IF(AA333=0,1,AA333)*VLOOKUP(DataByMiles!AE331,DataByMiles!$AT$5:$AU$6,2,FALSE)","v":0},"",0,0,{"$f":"(AF333+AG333)*VLOOKUP(DataByMiles!AE331,DataByMiles!$AT$5:$AU$6,2,FALSE)","v":0},0]
[null,{"$f":"DataByMiles!C332","v":"----328"},{"$f":"DataByMiles!E332*VLOOKUP(DataByMiles!AE332,DataByMiles!$AT$5:$AU$6,2,FALSE)","v":0},null,null,0,{"$f":"C334*$G$2*VLOOKUP(DataByMiles!AE332,DataByMiles!$AT$5:$AU$6,2,FALSE)","v":0},{"$f":"DataByMiles!F332*VLOOKUP(DataByMiles!AE332,DataByMiles!$AT$5:$AU$6,2,FALSE)","v":0},null,null,0,{"$f":"H334*$L$2*VLOOKUP(DataByMiles!AE332,DataByMiles!$AT$5:$AU$6,2,FALSE)","v":0},{"$f":"DataByMiles!G332*VLOOKUP(DataByMiles!AE332,DataByMiles!$AT$5:$AU$6,2,FALSE)","v":0},null,null,{"$f":"M334*$P$2*VLOOKUP(DataByMiles!AE332,DataByMiles!$AT$5:$AU$6,2,FALSE)","v":0},{"$f":"DataByMiles!H332*VLOOKUP(DataByMiles!AE332,DataByMiles!$AT$5:$AU$6,2,FALSE)","v":0},null,null,{"$f":"Q334*$T$2*VLOOKUP(DataByMiles!AE332,DataByMiles!$AT$5:$AU$6,2,FALSE)","v":0},{"$f":"DataByMiles!I332*VLOOKUP(DataByMiles!AE332,DataByMiles!$AT$5:$AU$6,2,FALSE)","v":0},null,null,{"$f":"U334*$X$2*VLOOKUP(DataByMiles!AE332,DataByMiles!$AT$5:$AU$6,2,FALSE)","v":0},{"$f":"DataByMiles!J332*VLOOKUP(DataByMiles!AE332,DataByMiles!$AT$5:$AU$6,2,FALSE)","v":0},{"$f":"DataByMiles!K332","v":0},{"$f":"DataByMiles!L332","v":0},null,null,{"$f":"(Y334/IF(Z334=0,$AD$1,Z334)*$AD$2)/IF(AA334=0,1,AA334)*VLOOKUP(DataByMiles!AE332,DataByMiles!$AT$5:$AU$6,2,FALSE)","v":0},"",0,0,{"$f":"(AF334+AG334)*VLOOKUP(DataByMiles!AE332,DataByMiles!$AT$5:$AU$6,2,FALSE)","v":0},0]
[null,{"$f":"DataByMiles!C333","v":"----329"},{"$f":"DataByMiles!E333*VLOOKUP(DataByMiles!AE333,DataByMiles!$AT$5:$AU$6,2,FALSE)","v":0},null,null,0,{"$f":"C335*$G$2*VLOOKUP(DataByMiles!AE333,DataByMiles!$AT$5:$AU$6,2,FALSE)","v":0},{"$f":"DataByMiles!F333*VLOOKUP(DataByMiles!AE333,DataByMiles!$AT$5:$AU$6,2,FALSE)","v":0},null,null,0,{"$f":"H335*$L$2*VLOOKUP(DataByMiles!AE333,DataByMiles!$AT$5:$AU$6,2,FALSE)","v":0},{"$f":"DataByMiles!G333*VLOOKUP(DataByMiles!AE333,DataByMiles!$AT$5:$AU$6,2,FALSE)","v":0},null,null,{"$f":"M335*$P$2*VLOOKUP(DataByMiles!AE333,DataByMiles!$AT$5:$AU$6,2,FALSE)","v":0},{"$f":"DataByMiles!H333*VLOOKUP(DataByMiles!AE333,DataByMiles!$AT$5:$AU$6,2,FALSE)","v":0},null,null,{"$f":"Q335*$T$2*VLOOKUP(DataByMiles!AE333,DataByMiles!$AT$5:$AU$6,2,FALSE)","v":0},{"$f":"DataByMiles!I333*VLOOKUP(DataByMiles!AE333,DataByMiles!$AT$5:$AU$6,2,FALSE)","v":0},null,null,{"$f":"U335*$X$2*VLOOKUP(DataByMiles!AE333,DataByMiles!$AT$5:$AU$6,2,FALSE)","v":0},{"$f":"DataByMiles!J333*VLOOKUP(DataByMiles!AE333,DataByMiles!$AT$5:$AU$6,2,FALSE)","v":0},{"$f":"DataByMiles!K333","v":0},{"$f":"DataByMiles!L333","v":0},null,null,{"$f":"(Y335/IF(Z335=0,$AD$1,Z335)*$AD$2)/IF(AA335=0,1,AA335)*VLOOKUP(DataByMiles!AE333,DataByMiles!$AT$5:$AU$6,2,FALSE)","v":0},"",0,0,{"$f":"(AF335+AG335)*VLOOKUP(DataByMiles!AE333,DataByMiles!$AT$5:$AU$6,2,FALSE)","v":0},0]
[null,{"$f":"DataByMiles!C334","v":"----330"},{"$f":"DataByMiles!E334*VLOOKUP(DataByMiles!AE334,DataByMiles!$AT$5:$AU$6,2,FALSE)","v":0},null,null,0,{"$f":"C336*$G$2*VLOOKUP(DataByMiles!AE334,DataByMiles!$AT$5:$AU$6,2,FALSE)","v":0},{"$f":"DataByMiles!F334*VLOOKUP(DataByMiles!AE334,DataByMiles!$AT$5:$AU$6,2,FALSE)","v":0},null,null,0,{"$f":"H336*$L$2*VLOOKUP(DataByMiles!AE334,DataByMiles!$AT$5:$AU$6,2,FALSE)","v":0},{"$f":"DataByMiles!G334*VLOOKUP(DataByMiles!AE334,DataByMiles!$AT$5:$AU$6,2,FALSE)","v":0},null,null,{"$f":"M336*$P$2*VLOOKUP(DataByMiles!AE334,DataByMiles!$AT$5:$AU$6,2,FALSE)","v":0},{"$f":"DataByMiles!H334*VLOOKUP(DataByMiles!AE334,DataByMiles!$AT$5:$AU$6,2,FALSE)","v":0},null,null,{"$f":"Q336*$T$2*VLOOKUP(DataByMiles!AE334,DataByMiles!$AT$5:$AU$6,2,FALSE)","v":0},{"$f":"DataByMiles!I334*VLOOKUP(DataByMiles!AE334,DataByMiles!$AT$5:$AU$6,2,FALSE)","v":0},null,null,{"$f":"U336*$X$2*VLOOKUP(DataByMiles!AE334,DataByMiles!$AT$5:$AU$6,2,FALSE)","v":0},{"$f":"DataByMiles!J334*VLOOKUP(DataByMiles!AE334,DataByMiles!$AT$5:$AU$6,2,FALSE)","v":0},{"$f":"DataByMiles!K334","v":0},{"$f":"DataByMiles!L334","v":0},null,null,{"$f":"(Y336/IF(Z336=0,$AD$1,Z336)*$AD$2)/IF(AA336=0,1,AA336)*VLOOKUP(DataByMiles!AE334,DataByMiles!$AT$5:$AU$6,2,FALSE)","v":0},"",0,0,{"$f":"(AF336+AG336)*VLOOKUP(DataByMiles!AE334,DataByMiles!$AT$5:$AU$6,2,FALSE)","v":0},0]
[null,{"$f":"DataByMiles!C335","v":"----331"},{"$f":"DataByMiles!E335*VLOOKUP(DataByMiles!AE335,DataByMiles!$AT$5:$AU$6,2,FALSE)","v":0},null,null,0,{"$f":"C337*$G$2*VLOOKUP(DataByMiles!AE335,DataByMiles!$AT$5:$AU$6,2,FALSE)","v":0},{"$f":"DataByMiles!F335*VLOOKUP(DataByMiles!AE335,DataByMiles!$AT$5:$AU$6,2,FALSE)","v":0},null,null,0,{"$f":"H337*$L$2*VLOOKUP(DataByMiles!AE335,DataByMiles!$AT$5:$AU$6,2,FALSE)","v":0},{"$f":"DataByMiles!G335*VLOOKUP(DataByMiles!AE335,DataByMiles!$AT$5:$AU$6,2,FALSE)","v":0},null,null,{"$f":"M337*$P$2*VLOOKUP(DataByMiles!AE335,DataByMiles!$AT$5:$AU$6,2,FALSE)","v":0},{"$f":"DataByMiles!H335*VLOOKUP(DataByMiles!AE335,DataByMiles!$AT$5:$AU$6,2,FALSE)","v":0},null,null,{"$f":"Q337*$T$2*VLOOKUP(DataByMiles!AE335,DataByMiles!$AT$5:$AU$6,2,FALSE)","v":0},{"$f":"DataByMiles!I335*VLOOKUP(DataByMiles!AE335,DataByMiles!$AT$5:$AU$6,2,FALSE)","v":0},null,null,{"$f":"U337*$X$2*VLOOKUP(DataByMiles!AE335,DataByMiles!$AT$5:$AU$6,2,FALSE)","v":0},{"$f":"DataByMiles!J335*VLOOKUP(DataByMiles!AE335,DataByMiles!$AT$5:$AU$6,2,FALSE)","v":0},{"$f":"DataByMiles!K335","v":0},{"$f":"DataByMiles!L335","v":0},null,null,{"$f":"(Y337/IF(Z337=0,$AD$1,Z337)*$AD$2)/IF(AA337=0,1,AA337)*VLOOKUP(DataByMiles!AE335,DataByMiles!$AT$5:$AU$6,2,FALSE)","v":0},"",0,0,{"$f":"(AF337+AG337)*VLOOKUP(DataByMiles!AE335,DataByMiles!$AT$5:$AU$6,2,FALSE)","v":0},0]
[null,{"$f":"DataByMiles!C336","v":"----332"},{"$f":"DataByMiles!E336*VLOOKUP(DataByMiles!AE336,DataByMiles!$AT$5:$AU$6,2,FALSE)","v":0},null,null,0,{"$f":"C338*$G$2*VLOOKUP(DataByMiles!AE336,DataByMiles!$AT$5:$AU$6,2,FALSE)","v":0},{"$f":"DataByMiles!F336*VLOOKUP(DataByMiles!AE336,DataByMiles!$AT$5:$AU$6,2,FALSE)","v":0},null,null,0,{"$f":"H338*$L$2*VLOOKUP(DataByMiles!AE336,DataByMiles!$AT$5:$AU$6,2,FALSE)","v":0},{"$f":"DataByMiles!G336*VLOOKUP(DataByMiles!AE336,DataByMiles!$AT$5:$AU$6,2,FALSE)","v":0},null,null,{"$f":"M338*$P$2*VLOOKUP(DataByMiles!AE336,DataByMiles!$AT$5:$AU$6,2,FALSE)","v":0},{"$f":"DataByMiles!H336*VLOOKUP(DataByMiles!AE336,DataByMiles!$AT$5:$AU$6,2,FALSE)","v":0},null,null,{"$f":"Q338*$T$2*VLOOKUP(DataByMiles!AE336,DataByMiles!$AT$5:$AU$6,2,FALSE)","v":0},{"$f":"DataByMiles!I336*VLOOKUP(DataByMiles!AE336,DataByMiles!$AT$5:$AU$6,2,FALSE)","v":0},null,null,{"$f":"U338*$X$2*VLOOKUP(DataByMiles!AE336,DataByMiles!$AT$5:$AU$6,2,FALSE)","v":0},{"$f":"DataByMiles!J336*VLOOKUP(DataByMiles!AE336,DataByMiles!$AT$5:$AU$6,2,FALSE)","v":0},{"$f":"DataByMiles!K336","v":0},{"$f":"DataByMiles!L336","v":0},null,null,{"$f":"(Y338/IF(Z338=0,$AD$1,Z338)*$AD$2)/IF(AA338=0,1,AA338)*VLOOKUP(DataByMiles!AE336,DataByMiles!$AT$5:$AU$6,2,FALSE)","v":0},"",0,0,{"$f":"(AF338+AG338)*VLOOKUP(DataByMiles!AE336,DataByMiles!$AT$5:$AU$6,2,FALSE)","v":0},0]
[null,{"$f":"DataByMiles!C337","v":"----333"},{"$f":"DataByMiles!E337*VLOOKUP(DataByMiles!AE337,DataByMiles!$AT$5:$AU$6,2,FALSE)","v":0},null,null,0,{"$f":"C339*$G$2*VLOOKUP(DataByMiles!AE337,DataByMiles!$AT$5:$AU$6,2,FALSE)","v":0},{"$f":"DataByMiles!F337*VLOOKUP(DataByMiles!AE337,DataByMiles!$AT$5:$AU$6,2,FALSE)","v":0},null,null,0,{"$f":"H339*$L$2*VLOOKUP(DataByMiles!AE337,DataByMiles!$AT$5:$AU$6,2,FALSE)","v":0},{"$f":"DataByMiles!G337*VLOOKUP(DataByMiles!AE337,DataByMiles!$AT$5:$AU$6,2,FALSE)","v":0},null,null,{"$f":"M339*$P$2*VLOOKUP(DataByMiles!AE337,DataByMiles!$AT$5:$AU$6,2,FALSE)","v":0},{"$f":"DataByMiles!H337*VLOOKUP(DataByMiles!AE337,DataByMiles!$AT$5:$AU$6,2,FALSE)","v":0},null,null,{"$f":"Q339*$T$2*VLOOKUP(DataByMiles!AE337,DataByMiles!$AT$5:$AU$6,2,FALSE)","v":0},{"$f":"DataByMiles!I337*VLOOKUP(DataByMiles!AE337,DataByMiles!$AT$5:$AU$6,2,FALSE)","v":0},null,null,{"$f":"U339*$X$2*VLOOKUP(DataByMiles!AE337,DataByMiles!$AT$5:$AU$6,2,FALSE)","v":0},{"$f":"DataByMiles!J337*VLOOKUP(DataByMiles!AE337,DataByMiles!$AT$5:$AU$6,2,FALSE)","v":0},{"$f":"DataByMiles!K337","v":0},{"$f":"DataByMiles!L337","v":0},null,null,{"$f":"(Y339/IF(Z339=0,$AD$1,Z339)*$AD$2)/IF(AA339=0,1,AA339)*VLOOKUP(DataByMiles!AE337,DataByMiles!$AT$5:$AU$6,2,FALSE)","v":0},"",0,0,{"$f":"(AF339+AG339)*VLOOKUP(DataByMiles!AE337,DataByMiles!$AT$5:$AU$6,2,FALSE)","v":0},0]
[null,{"$f":"DataByMiles!C338","v":"----334"},{"$f":"DataByMiles!E338*VLOOKUP(DataByMiles!AE338,DataByMiles!$AT$5:$AU$6,2,FALSE)","v":0},null,null,0,{"$f":"C340*$G$2*VLOOKUP(DataByMiles!AE338,DataByMiles!$AT$5:$AU$6,2,FALSE)","v":0},{"$f":"DataByMiles!F338*VLOOKUP(DataByMiles!AE338,DataByMiles!$AT$5:$AU$6,2,FALSE)","v":0},null,null,0,{"$f":"H340*$L$2*VLOOKUP(DataByMiles!AE338,DataByMiles!$AT$5:$AU$6,2,FALSE)","v":0},{"$f":"DataByMiles!G338*VLOOKUP(DataByMiles!AE338,DataByMiles!$AT$5:$AU$6,2,FALSE)","v":0},null,null,{"$f":"M340*$P$2*VLOOKUP(DataByMiles!AE338,DataByMiles!$AT$5:$AU$6,2,FALSE)","v":0},{"$f":"DataByMiles!H338*VLOOKUP(DataByMiles!AE338,DataByMiles!$AT$5:$AU$6,2,FALSE)","v":0},null,null,{"$f":"Q340*$T$2*VLOOKUP(DataByMiles!AE338,DataByMiles!$AT$5:$AU$6,2,FALSE)","v":0},{"$f":"DataByMiles!I338*VLOOKUP(DataByMiles!AE338,DataByMiles!$AT$5:$AU$6,2,FALSE)","v":0},null,null,{"$f":"U340*$X$2*VLOOKUP(DataByMiles!AE338,DataByMiles!$AT$5:$AU$6,2,FALSE)","v":0},{"$f":"DataByMiles!J338*VLOOKUP(DataByMiles!AE338,DataByMiles!$AT$5:$AU$6,2,FALSE)","v":0},{"$f":"DataByMiles!K338","v":0},{"$f":"DataByMiles!L338","v":0},null,null,{"$f":"(Y340/IF(Z340=0,$AD$1,Z340)*$AD$2)/IF(AA340=0,1,AA340)*VLOOKUP(DataByMiles!AE338,DataByMiles!$AT$5:$AU$6,2,FALSE)","v":0},"",0,0,{"$f":"(AF340+AG340)*VLOOKUP(DataByMiles!AE338,DataByMiles!$AT$5:$AU$6,2,FALSE)","v":0},0]
[null,{"$f":"DataByMiles!C339","v":"----335"},{"$f":"DataByMiles!E339*VLOOKUP(DataByMiles!AE339,DataByMiles!$AT$5:$AU$6,2,FALSE)","v":0},null,null,0,{"$f":"C341*$G$2*VLOOKUP(DataByMiles!AE339,DataByMiles!$AT$5:$AU$6,2,FALSE)","v":0},{"$f":"DataByMiles!F339*VLOOKUP(DataByMiles!AE339,DataByMiles!$AT$5:$AU$6,2,FALSE)","v":0},null,null,0,{"$f":"H341*$L$2*VLOOKUP(DataByMiles!AE339,DataByMiles!$AT$5:$AU$6,2,FALSE)","v":0},{"$f":"DataByMiles!G339*VLOOKUP(DataByMiles!AE339,DataByMiles!$AT$5:$AU$6,2,FALSE)","v":0},null,null,{"$f":"M341*$P$2*VLOOKUP(DataByMiles!AE339,DataByMiles!$AT$5:$AU$6,2,FALSE)","v":0},{"$f":"DataByMiles!H339*VLOOKUP(DataByMiles!AE339,DataByMiles!$AT$5:$AU$6,2,FALSE)","v":0},null,null,{"$f":"Q341*$T$2*VLOOKUP(DataByMiles!AE339,DataByMiles!$AT$5:$AU$6,2,FALSE)","v":0},{"$f":"DataByMiles!I339*VLOOKUP(DataByMiles!AE339,DataByMiles!$AT$5:$AU$6,2,FALSE)","v":0},null,null,{"$f":"U341*$X$2*VLOOKUP(DataByMiles!AE339,DataByMiles!$AT$5:$AU$6,2,FALSE)","v":0},{"$f":"DataByMiles!J339*VLOOKUP(DataByMiles!AE339,DataByMiles!$AT$5:$AU$6,2,FALSE)","v":0},{"$f":"DataByMiles!K339","v":0},{"$f":"DataByMiles!L339","v":0},null,null,{"$f":"(Y341/IF(Z341=0,$AD$1,Z341)*$AD$2)/IF(AA341=0,1,AA341)*VLOOKUP(DataByMiles!AE339,DataByMiles!$AT$5:$AU$6,2,FALSE)","v":0},"",0,0,{"$f":"(AF341+AG341)*VLOOKUP(DataByMiles!AE339,DataByMiles!$AT$5:$AU$6,2,FALSE)","v":0},0]
[null,{"$f":"DataByMiles!C340","v":"----336"},{"$f":"DataByMiles!E340*VLOOKUP(DataByMiles!AE340,DataByMiles!$AT$5:$AU$6,2,FALSE)","v":0},null,null,0,{"$f":"C342*$G$2*VLOOKUP(DataByMiles!AE340,DataByMiles!$AT$5:$AU$6,2,FALSE)","v":0},{"$f":"DataByMiles!F340*VLOOKUP(DataByMiles!AE340,DataByMiles!$AT$5:$AU$6,2,FALSE)","v":0},null,null,0,{"$f":"H342*$L$2*VLOOKUP(DataByMiles!AE340,DataByMiles!$AT$5:$AU$6,2,FALSE)","v":0},{"$f":"DataByMiles!G340*VLOOKUP(DataByMiles!AE340,DataByMiles!$AT$5:$AU$6,2,FALSE)","v":0},null,null,{"$f":"M342*$P$2*VLOOKUP(DataByMiles!AE340,DataByMiles!$AT$5:$AU$6,2,FALSE)","v":0},{"$f":"DataByMiles!H340*VLOOKUP(DataByMiles!AE340,DataByMiles!$AT$5:$AU$6,2,FALSE)","v":0},null,null,{"$f":"Q342*$T$2*VLOOKUP(DataByMiles!AE340,DataByMiles!$AT$5:$AU$6,2,FALSE)","v":0},{"$f":"DataByMiles!I340*VLOOKUP(DataByMiles!AE340,DataByMiles!$AT$5:$AU$6,2,FALSE)","v":0},null,null,{"$f":"U342*$X$2*VLOOKUP(DataByMiles!AE340,DataByMiles!$AT$5:$AU$6,2,FALSE)","v":0},{"$f":"DataByMiles!J340*VLOOKUP(DataByMiles!AE340,DataByMiles!$AT$5:$AU$6,2,FALSE)","v":0},{"$f":"DataByMiles!K340","v":0},{"$f":"DataByMiles!L340","v":0},null,null,{"$f":"(Y342/IF(Z342=0,$AD$1,Z342)*$AD$2)/IF(AA342=0,1,AA342)*VLOOKUP(DataByMiles!AE340,DataByMiles!$AT$5:$AU$6,2,FALSE)","v":0},"",0,0,{"$f":"(AF342+AG342)*VLOOKUP(DataByMiles!AE340,DataByMiles!$AT$5:$AU$6,2,FALSE)","v":0},0]
[null,{"$f":"DataByMiles!C341","v":"----337"},{"$f":"DataByMiles!E341*VLOOKUP(DataByMiles!AE341,DataByMiles!$AT$5:$AU$6,2,FALSE)","v":0},null,null,0,{"$f":"C343*$G$2*VLOOKUP(DataByMiles!AE341,DataByMiles!$AT$5:$AU$6,2,FALSE)","v":0},{"$f":"DataByMiles!F341*VLOOKUP(DataByMiles!AE341,DataByMiles!$AT$5:$AU$6,2,FALSE)","v":0},null,null,0,{"$f":"H343*$L$2*VLOOKUP(DataByMiles!AE341,DataByMiles!$AT$5:$AU$6,2,FALSE)","v":0},{"$f":"DataByMiles!G341*VLOOKUP(DataByMiles!AE341,DataByMiles!$AT$5:$AU$6,2,FALSE)","v":0},null,null,{"$f":"M343*$P$2*VLOOKUP(DataByMiles!AE341,DataByMiles!$AT$5:$AU$6,2,FALSE)","v":0},{"$f":"DataByMiles!H341*VLOOKUP(DataByMiles!AE341,DataByMiles!$AT$5:$AU$6,2,FALSE)","v":0},null,null,{"$f":"Q343*$T$2*VLOOKUP(DataByMiles!AE341,DataByMiles!$AT$5:$AU$6,2,FALSE)","v":0},{"$f":"DataByMiles!I341*VLOOKUP(DataByMiles!AE341,DataByMiles!$AT$5:$AU$6,2,FALSE)","v":0},null,null,{"$f":"U343*$X$2*VLOOKUP(DataByMiles!AE341,DataByMiles!$AT$5:$AU$6,2,FALSE)","v":0},{"$f":"DataByMiles!J341*VLOOKUP(DataByMiles!AE341,DataByMiles!$AT$5:$AU$6,2,FALSE)","v":0},{"$f":"DataByMiles!K341","v":0},{"$f":"DataByMiles!L341","v":0},null,null,{"$f":"(Y343/IF(Z343=0,$AD$1,Z343)*$AD$2)/IF(AA343=0,1,AA343)*VLOOKUP(DataByMiles!AE341,DataByMiles!$AT$5:$AU$6,2,FALSE)","v":0},"",0,0,{"$f":"(AF343+AG343)*VLOOKUP(DataByMiles!AE341,DataByMiles!$AT$5:$AU$6,2,FALSE)","v":0},0]
[null,{"$f":"DataByMiles!C342","v":"----338"},{"$f":"DataByMiles!E342*VLOOKUP(DataByMiles!AE342,DataByMiles!$AT$5:$AU$6,2,FALSE)","v":0},null,null,0,{"$f":"C344*$G$2*VLOOKUP(DataByMiles!AE342,DataByMiles!$AT$5:$AU$6,2,FALSE)","v":0},{"$f":"DataByMiles!F342*VLOOKUP(DataByMiles!AE342,DataByMiles!$AT$5:$AU$6,2,FALSE)","v":0},null,null,0,{"$f":"H344*$L$2*VLOOKUP(DataByMiles!AE342,DataByMiles!$AT$5:$AU$6,2,FALSE)","v":0},{"$f":"DataByMiles!G342*VLOOKUP(DataByMiles!AE342,DataByMiles!$AT$5:$AU$6,2,FALSE)","v":0},null,null,{"$f":"M344*$P$2*VLOOKUP(DataByMiles!AE342,DataByMiles!$AT$5:$AU$6,2,FALSE)","v":0},{"$f":"DataByMiles!H342*VLOOKUP(DataByMiles!AE342,DataByMiles!$AT$5:$AU$6,2,FALSE)","v":0},null,null,{"$f":"Q344*$T$2*VLOOKUP(DataByMiles!AE342,DataByMiles!$AT$5:$AU$6,2,FALSE)","v":0},{"$f":"DataByMiles!I342*VLOOKUP(DataByMiles!AE342,DataByMiles!$AT$5:$AU$6,2,FALSE)","v":0},null,null,{"$f":"U344*$X$2*VLOOKUP(DataByMiles!AE342,DataByMiles!$AT$5:$AU$6,2,FALSE)","v":0},{"$f":"DataByMiles!J342*VLOOKUP(DataByMiles!AE342,DataByMiles!$AT$5:$AU$6,2,FALSE)","v":0},{"$f":"DataByMiles!K342","v":0},{"$f":"DataByMiles!L342","v":0},null,null,{"$f":"(Y344/IF(Z344=0,$AD$1,Z344)*$AD$2)/IF(AA344=0,1,AA344)*VLOOKUP(DataByMiles!AE342,DataByMiles!$AT$5:$AU$6,2,FALSE)","v":0},"",0,0,{"$f":"(AF344+AG344)*VLOOKUP(DataByMiles!AE342,DataByMiles!$AT$5:$AU$6,2,FALSE)","v":0},0]
[null,{"$f":"DataByMiles!C343","v":"----339"},{"$f":"DataByMiles!E343*VLOOKUP(DataByMiles!AE343,DataByMiles!$AT$5:$AU$6,2,FALSE)","v":0},null,null,0,{"$f":"C345*$G$2*VLOOKUP(DataByMiles!AE343,DataByMiles!$AT$5:$AU$6,2,FALSE)","v":0},{"$f":"DataByMiles!F343*VLOOKUP(DataByMiles!AE343,DataByMiles!$AT$5:$AU$6,2,FALSE)","v":0},null,null,0,{"$f":"H345*$L$2*VLOOKUP(DataByMiles!AE343,DataByMiles!$AT$5:$AU$6,2,FALSE)","v":0},{"$f":"DataByMiles!G343*VLOOKUP(DataByMiles!AE343,DataByMiles!$AT$5:$AU$6,2,FALSE)","v":0},null,null,{"$f":"M345*$P$2*VLOOKUP(DataByMiles!AE343,DataByMiles!$AT$5:$AU$6,2,FALSE)","v":0},{"$f":"DataByMiles!H343*VLOOKUP(DataByMiles!AE343,DataByMiles!$AT$5:$AU$6,2,FALSE)","v":0},null,null,{"$f":"Q345*$T$2*VLOOKUP(DataByMiles!AE343,DataByMiles!$AT$5:$AU$6,2,FALSE)","v":0},{"$f":"DataByMiles!I343*VLOOKUP(DataByMiles!AE343,DataByMiles!$AT$5:$AU$6,2,FALSE)","v":0},null,null,{"$f":"U345*$X$2*VLOOKUP(DataByMiles!AE343,DataByMiles!$AT$5:$AU$6,2,FALSE)","v":0},{"$f":"DataByMiles!J343*VLOOKUP(DataByMiles!AE343,DataByMiles!$AT$5:$AU$6,2,FALSE)","v":0},{"$f":"DataByMiles!K343","v":0},{"$f":"DataByMiles!L343","v":0},null,null,{"$f":"(Y345/IF(Z345=0,$AD$1,Z345)*$AD$2)/IF(AA345=0,1,AA345)*VLOOKUP(DataByMiles!AE343,DataByMiles!$AT$5:$AU$6,2,FALSE)","v":0},"",0,0,{"$f":"(AF345+AG345)*VLOOKUP(DataByMiles!AE343,DataByMiles!$AT$5:$AU$6,2,FALSE)","v":0},0]
[null,{"$f":"DataByMiles!C344","v":"----340"},{"$f":"DataByMiles!E344*VLOOKUP(DataByMiles!AE344,DataByMiles!$AT$5:$AU$6,2,FALSE)","v":0},null,null,0,{"$f":"C346*$G$2*VLOOKUP(DataByMiles!AE344,DataByMiles!$AT$5:$AU$6,2,FALSE)","v":0},{"$f":"DataByMiles!F344*VLOOKUP(DataByMiles!AE344,DataByMiles!$AT$5:$AU$6,2,FALSE)","v":0},null,null,0,{"$f":"H346*$L$2*VLOOKUP(DataByMiles!AE344,DataByMiles!$AT$5:$AU$6,2,FALSE)","v":0},{"$f":"DataByMiles!G344*VLOOKUP(DataByMiles!AE344,DataByMiles!$AT$5:$AU$6,2,FALSE)","v":0},null,null,{"$f":"M346*$P$2*VLOOKUP(DataByMiles!AE344,DataByMiles!$AT$5:$AU$6,2,FALSE)","v":0},{"$f":"DataByMiles!H344*VLOOKUP(DataByMiles!AE344,DataByMiles!$AT$5:$AU$6,2,FALSE)","v":0},null,null,{"$f":"Q346*$T$2*VLOOKUP(DataByMiles!AE344,DataByMiles!$AT$5:$AU$6,2,FALSE)","v":0},{"$f":"DataByMiles!I344*VLOOKUP(DataByMiles!AE344,DataByMiles!$AT$5:$AU$6,2,FALSE)","v":0},null,null,{"$f":"U346*$X$2*VLOOKUP(DataByMiles!AE344,DataByMiles!$AT$5:$AU$6,2,FALSE)","v":0},{"$f":"DataByMiles!J344*VLOOKUP(DataByMiles!AE344,DataByMiles!$AT$5:$AU$6,2,FALSE)","v":0},{"$f":"DataByMiles!K344","v":0},{"$f":"DataByMiles!L344","v":0},null,null,{"$f":"(Y346/IF(Z346=0,$AD$1,Z346)*$AD$2)/IF(AA346=0,1,AA346)*VLOOKUP(DataByMiles!AE344,DataByMiles!$AT$5:$AU$6,2,FALSE)","v":0},"",0,0,{"$f":"(AF346+AG346)*VLOOKUP(DataByMiles!AE344,DataByMiles!$AT$5:$AU$6,2,FALSE)","v":0},0]
[null,{"$f":"DataByMiles!C345","v":"----341"},{"$f":"DataByMiles!E345*VLOOKUP(DataByMiles!AE345,DataByMiles!$AT$5:$AU$6,2,FALSE)","v":0},null,null,0,{"$f":"C347*$G$2*VLOOKUP(DataByMiles!AE345,DataByMiles!$AT$5:$AU$6,2,FALSE)","v":0},{"$f":"DataByMiles!F345*VLOOKUP(DataByMiles!AE345,DataByMiles!$AT$5:$AU$6,2,FALSE)","v":0},null,null,0,{"$f":"H347*$L$2*VLOOKUP(DataByMiles!AE345,DataByMiles!$AT$5:$AU$6,2,FALSE)","v":0},{"$f":"DataByMiles!G345*VLOOKUP(DataByMiles!AE345,DataByMiles!$AT$5:$AU$6,2,FALSE)","v":0},null,null,{"$f":"M347*$P$2*VLOOKUP(DataByMiles!AE345,DataByMiles!$AT$5:$AU$6,2,FALSE)","v":0},{"$f":"DataByMiles!H345*VLOOKUP(DataByMiles!AE345,DataByMiles!$AT$5:$AU$6,2,FALSE)","v":0},null,null,{"$f":"Q347*$T$2*VLOOKUP(DataByMiles!AE345,DataByMiles!$AT$5:$AU$6,2,FALSE)","v":0},{"$f":"DataByMiles!I345*VLOOKUP(DataByMiles!AE345,DataByMiles!$AT$5:$AU$6,2,FALSE)","v":0},null,null,{"$f":"U347*$X$2*VLOOKUP(DataByMiles!AE345,DataByMiles!$AT$5:$AU$6,2,FALSE)","v":0},{"$f":"DataByMiles!J345*VLOOKUP(DataByMiles!AE345,DataByMiles!$AT$5:$AU$6,2,FALSE)","v":0},{"$f":"DataByMiles!K345","v":0},{"$f":"DataByMiles!L345","v":0},null,null,{"$f":"(Y347/IF(Z347=0,$AD$1,Z347)*$AD$2)/IF(AA347=0,1,AA347)*VLOOKUP(DataByMiles!AE345,DataByMiles!$AT$5:$AU$6,2,FALSE)","v":0},"",0,0,{"$f":"(AF347+AG347)*VLOOKUP(DataByMiles!AE345,DataByMiles!$AT$5:$AU$6,2,FALSE)","v":0},0]
[null,{"$f":"DataByMiles!C346","v":"----342"},{"$f":"DataByMiles!E346*VLOOKUP(DataByMiles!AE346,DataByMiles!$AT$5:$AU$6,2,FALSE)","v":0},null,null,0,{"$f":"C348*$G$2*VLOOKUP(DataByMiles!AE346,DataByMiles!$AT$5:$AU$6,2,FALSE)","v":0},{"$f":"DataByMiles!F346*VLOOKUP(DataByMiles!AE346,DataByMiles!$AT$5:$AU$6,2,FALSE)","v":0},null,null,0,{"$f":"H348*$L$2*VLOOKUP(DataByMiles!AE346,DataByMiles!$AT$5:$AU$6,2,FALSE)","v":0},{"$f":"DataByMiles!G346*VLOOKUP(DataByMiles!AE346,DataByMiles!$AT$5:$AU$6,2,FALSE)","v":0},null,null,{"$f":"M348*$P$2*VLOOKUP(DataByMiles!AE346,DataByMiles!$AT$5:$AU$6,2,FALSE)","v":0},{"$f":"DataByMiles!H346*VLOOKUP(DataByMiles!AE346,DataByMiles!$AT$5:$AU$6,2,FALSE)","v":0},null,null,{"$f":"Q348*$T$2*VLOOKUP(DataByMiles!AE346,DataByMiles!$AT$5:$AU$6,2,FALSE)","v":0},{"$f":"DataByMiles!I346*VLOOKUP(DataByMiles!AE346,DataByMiles!$AT$5:$AU$6,2,FALSE)","v":0},null,null,{"$f":"U348*$X$2*VLOOKUP(DataByMiles!AE346,DataByMiles!$AT$5:$AU$6,2,FALSE)","v":0},{"$f":"DataByMiles!J346*VLOOKUP(DataByMiles!AE346,DataByMiles!$AT$5:$AU$6,2,FALSE)","v":0},{"$f":"DataByMiles!K346","v":0},{"$f":"DataByMiles!L346","v":0},null,null,{"$f":"(Y348/IF(Z348=0,$AD$1,Z348)*$AD$2)/IF(AA348=0,1,AA348)*VLOOKUP(DataByMiles!AE346,DataByMiles!$AT$5:$AU$6,2,FALSE)","v":0},"",0,0,{"$f":"(AF348+AG348)*VLOOKUP(DataByMiles!AE346,DataByMiles!$AT$5:$AU$6,2,FALSE)","v":0},0]
[null,{"$f":"DataByMiles!C347","v":"----343"},{"$f":"DataByMiles!E347*VLOOKUP(DataByMiles!AE347,DataByMiles!$AT$5:$AU$6,2,FALSE)","v":0},null,null,0,{"$f":"C349*$G$2*VLOOKUP(DataByMiles!AE347,DataByMiles!$AT$5:$AU$6,2,FALSE)","v":0},{"$f":"DataByMiles!F347*VLOOKUP(DataByMiles!AE347,DataByMiles!$AT$5:$AU$6,2,FALSE)","v":0},null,null,0,{"$f":"H349*$L$2*VLOOKUP(DataByMiles!AE347,DataByMiles!$AT$5:$AU$6,2,FALSE)","v":0},{"$f":"DataByMiles!G347*VLOOKUP(DataByMiles!AE347,DataByMiles!$AT$5:$AU$6,2,FALSE)","v":0},null,null,{"$f":"M349*$P$2*VLOOKUP(DataByMiles!AE347,DataByMiles!$AT$5:$AU$6,2,FALSE)","v":0},{"$f":"DataByMiles!H347*VLOOKUP(DataByMiles!AE347,DataByMiles!$AT$5:$AU$6,2,FALSE)","v":0},null,null,{"$f":"Q349*$T$2*VLOOKUP(DataByMiles!AE347,DataByMiles!$AT$5:$AU$6,2,FALSE)","v":0},{"$f":"DataByMiles!I347*VLOOKUP(DataByMiles!AE347,DataByMiles!$AT$5:$AU$6,2,FALSE)","v":0},null,null,{"$f":"U349*$X$2*VLOOKUP(DataByMiles!AE347,DataByMiles!$AT$5:$AU$6,2,FALSE)","v":0},{"$f":"DataByMiles!J347*VLOOKUP(DataByMiles!AE347,DataByMiles!$AT$5:$AU$6,2,FALSE)","v":0},{"$f":"DataByMiles!K347","v":0},{"$f":"DataByMiles!L347","v":0},null,null,{"$f":"(Y349/IF(Z349=0,$AD$1,Z349)*$AD$2)/IF(AA349=0,1,AA349)*VLOOKUP(DataByMiles!AE347,DataByMiles!$AT$5:$AU$6,2,FALSE)","v":0},"",0,0,{"$f":"(AF349+AG349)*VLOOKUP(DataByMiles!AE347,DataByMiles!$AT$5:$AU$6,2,FALSE)","v":0},0]
[null,{"$f":"DataByMiles!C348","v":"----344"},{"$f":"DataByMiles!E348*VLOOKUP(DataByMiles!AE348,DataByMiles!$AT$5:$AU$6,2,FALSE)","v":0},null,null,0,{"$f":"C350*$G$2*VLOOKUP(DataByMiles!AE348,DataByMiles!$AT$5:$AU$6,2,FALSE)","v":0},{"$f":"DataByMiles!F348*VLOOKUP(DataByMiles!AE348,DataByMiles!$AT$5:$AU$6,2,FALSE)","v":0},null,null,0,{"$f":"H350*$L$2*VLOOKUP(DataByMiles!AE348,DataByMiles!$AT$5:$AU$6,2,FALSE)","v":0},{"$f":"DataByMiles!G348*VLOOKUP(DataByMiles!AE348,DataByMiles!$AT$5:$AU$6,2,FALSE)","v":0},null,null,{"$f":"M350*$P$2*VLOOKUP(DataByMiles!AE348,DataByMiles!$AT$5:$AU$6,2,FALSE)","v":0},{"$f":"DataByMiles!H348*VLOOKUP(DataByMiles!AE348,DataByMiles!$AT$5:$AU$6,2,FALSE)","v":0},null,null,{"$f":"Q350*$T$2*VLOOKUP(DataByMiles!AE348,DataByMiles!$AT$5:$AU$6,2,FALSE)","v":0},{"$f":"DataByMiles!I348*VLOOKUP(DataByMiles!AE348,DataByMiles!$AT$5:$AU$6,2,FALSE)","v":0},null,null,{"$f":"U350*$X$2*VLOOKUP(DataByMiles!AE348,DataByMiles!$AT$5:$AU$6,2,FALSE)","v":0},{"$f":"DataByMiles!J348*VLOOKUP(DataByMiles!AE348,DataByMiles!$AT$5:$AU$6,2,FALSE)","v":0},{"$f":"DataByMiles!K348","v":0},{"$f":"DataByMiles!L348","v":0},null,null,{"$f":"(Y350/IF(Z350=0,$AD$1,Z350)*$AD$2)/IF(AA350=0,1,AA350)*VLOOKUP(DataByMiles!AE348,DataByMiles!$AT$5:$AU$6,2,FALSE)","v":0},"",0,0,{"$f":"(AF350+AG350)*VLOOKUP(DataByMiles!AE348,DataByMiles!$AT$5:$AU$6,2,FALSE)","v":0},0]
[null,{"$f":"DataByMiles!C349","v":"----345"},{"$f":"DataByMiles!E349*VLOOKUP(DataByMiles!AE349,DataByMiles!$AT$5:$AU$6,2,FALSE)","v":0},null,null,0,{"$f":"C351*$G$2*VLOOKUP(DataByMiles!AE349,DataByMiles!$AT$5:$AU$6,2,FALSE)","v":0},{"$f":"DataByMiles!F349*VLOOKUP(DataByMiles!AE349,DataByMiles!$AT$5:$AU$6,2,FALSE)","v":0},null,null,0,{"$f":"H351*$L$2*VLOOKUP(DataByMiles!AE349,DataByMiles!$AT$5:$AU$6,2,FALSE)","v":0},{"$f":"DataByMiles!G349*VLOOKUP(DataByMiles!AE349,DataByMiles!$AT$5:$AU$6,2,FALSE)","v":0},null,null,{"$f":"M351*$P$2*VLOOKUP(DataByMiles!AE349,DataByMiles!$AT$5:$AU$6,2,FALSE)","v":0},{"$f":"DataByMiles!H349*VLOOKUP(DataByMiles!AE349,DataByMiles!$AT$5:$AU$6,2,FALSE)","v":0},null,null,{"$f":"Q351*$T$2*VLOOKUP(DataByMiles!AE349,DataByMiles!$AT$5:$AU$6,2,FALSE)","v":0},{"$f":"DataByMiles!I349*VLOOKUP(DataByMiles!AE349,DataByMiles!$AT$5:$AU$6,2,FALSE)","v":0},null,null,{"$f":"U351*$X$2*VLOOKUP(DataByMiles!AE349,DataByMiles!$AT$5:$AU$6,2,FALSE)","v":0},{"$f":"DataByMiles!J349*VLOOKUP(DataByMiles!AE349,DataByMiles!$AT$5:$AU$6,2,FALSE)","v":0},{"$f":"DataByMiles!K349","v":0},{"$f":"DataByMiles!L349","v":0},null,null,{"$f":"(Y351/IF(Z351=0,$AD$1,Z351)*$AD$2)/IF(AA351=0,1,AA351)*VLOOKUP(DataByMiles!AE349,DataByMiles!$AT$5:$AU$6,2,FALSE)","v":0},"",0,0,{"$f":"(AF351+AG351)*VLOOKUP(DataByMiles!AE349,DataByMiles!$AT$5:$AU$6,2,FALSE)","v":0},0]
[null,{"$f":"DataByMiles!C350","v":"----346"},{"$f":"DataByMiles!E350*VLOOKUP(DataByMiles!AE350,DataByMiles!$AT$5:$AU$6,2,FALSE)","v":0},null,null,0,{"$f":"C352*$G$2*VLOOKUP(DataByMiles!AE350,DataByMiles!$AT$5:$AU$6,2,FALSE)","v":0},{"$f":"DataByMiles!F350*VLOOKUP(DataByMiles!AE350,DataByMiles!$AT$5:$AU$6,2,FALSE)","v":0},null,null,0,{"$f":"H352*$L$2*VLOOKUP(DataByMiles!AE350,DataByMiles!$AT$5:$AU$6,2,FALSE)","v":0},{"$f":"DataByMiles!G350*VLOOKUP(DataByMiles!AE350,DataByMiles!$AT$5:$AU$6,2,FALSE)","v":0},null,null,{"$f":"M352*$P$2*VLOOKUP(DataByMiles!AE350,DataByMiles!$AT$5:$AU$6,2,FALSE)","v":0},{"$f":"DataByMiles!H350*VLOOKUP(DataByMiles!AE350,DataByMiles!$AT$5:$AU$6,2,FALSE)","v":0},null,null,{"$f":"Q352*$T$2*VLOOKUP(DataByMiles!AE350,DataByMiles!$AT$5:$AU$6,2,FALSE)","v":0},{"$f":"DataByMiles!I350*VLOOKUP(DataByMiles!AE350,DataByMiles!$AT$5:$AU$6,2,FALSE)","v":0},null,null,{"$f":"U352*$X$2*VLOOKUP(DataByMiles!AE350,DataByMiles!$AT$5:$AU$6,2,FALSE)","v":0},{"$f":"DataByMiles!J350*VLOOKUP(DataByMiles!AE350,DataByMiles!$AT$5:$AU$6,2,FALSE)","v":0},{"$f":"DataByMiles!K350","v":0},{"$f":"DataByMiles!L350","v":0},null,null,{"$f":"(Y352/IF(Z352=0,$AD$1,Z352)*$AD$2)/IF(AA352=0,1,AA352)*VLOOKUP(DataByMiles!AE350,DataByMiles!$AT$5:$AU$6,2,FALSE)","v":0},"",0,0,{"$f":"(AF352+AG352)*VLOOKUP(DataByMiles!AE350,DataByMiles!$AT$5:$AU$6,2,FALSE)","v":0},0]
[null,{"$f":"DataByMiles!C351","v":"----347"},{"$f":"DataByMiles!E351*VLOOKUP(DataByMiles!AE351,DataByMiles!$AT$5:$AU$6,2,FALSE)","v":0},null,null,0,{"$f":"C353*$G$2*VLOOKUP(DataByMiles!AE351,DataByMiles!$AT$5:$AU$6,2,FALSE)","v":0},{"$f":"DataByMiles!F351*VLOOKUP(DataByMiles!AE351,DataByMiles!$AT$5:$AU$6,2,FALSE)","v":0},null,null,0,{"$f":"H353*$L$2*VLOOKUP(DataByMiles!AE351,DataByMiles!$AT$5:$AU$6,2,FALSE)","v":0},{"$f":"DataByMiles!G351*VLOOKUP(DataByMiles!AE351,DataByMiles!$AT$5:$AU$6,2,FALSE)","v":0},null,null,{"$f":"M353*$P$2*VLOOKUP(DataByMiles!AE351,DataByMiles!$AT$5:$AU$6,2,FALSE)","v":0},{"$f":"DataByMiles!H351*VLOOKUP(DataByMiles!AE351,DataByMiles!$AT$5:$AU$6,2,FALSE)","v":0},null,null,{"$f":"Q353*$T$2*VLOOKUP(DataByMiles!AE351,DataByMiles!$AT$5:$AU$6,2,FALSE)","v":0},{"$f":"DataByMiles!I351*VLOOKUP(DataByMiles!AE351,DataByMiles!$AT$5:$AU$6,2,FALSE)","v":0},null,null,{"$f":"U353*$X$2*VLOOKUP(DataByMiles!AE351,DataByMiles!$AT$5:$AU$6,2,FALSE)","v":0},{"$f":"DataByMiles!J351*VLOOKUP(DataByMiles!AE351,DataByMiles!$AT$5:$AU$6,2,FALSE)","v":0},{"$f":"DataByMiles!K351","v":0},{"$f":"DataByMiles!L351","v":0},null,null,{"$f":"(Y353/IF(Z353=0,$AD$1,Z353)*$AD$2)/IF(AA353=0,1,AA353)*VLOOKUP(DataByMiles!AE351,DataByMiles!$AT$5:$AU$6,2,FALSE)","v":0},"",0,0,{"$f":"(AF353+AG353)*VLOOKUP(DataByMiles!AE351,DataByMiles!$AT$5:$AU$6,2,FALSE)","v":0},0]
[null,{"$f":"DataByMiles!C352","v":"----348"},{"$f":"DataByMiles!E352*VLOOKUP(DataByMiles!AE352,DataByMiles!$AT$5:$AU$6,2,FALSE)","v":0},null,null,0,{"$f":"C354*$G$2*VLOOKUP(DataByMiles!AE352,DataByMiles!$AT$5:$AU$6,2,FALSE)","v":0},{"$f":"DataByMiles!F352*VLOOKUP(DataByMiles!AE352,DataByMiles!$AT$5:$AU$6,2,FALSE)","v":0},null,null,0,{"$f":"H354*$L$2*VLOOKUP(DataByMiles!AE352,DataByMiles!$AT$5:$AU$6,2,FALSE)","v":0},{"$f":"DataByMiles!G352*VLOOKUP(DataByMiles!AE352,DataByMiles!$AT$5:$AU$6,2,FALSE)","v":0},null,null,{"$f":"M354*$P$2*VLOOKUP(DataByMiles!AE352,DataByMiles!$AT$5:$AU$6,2,FALSE)","v":0},{"$f":"DataByMiles!H352*VLOOKUP(DataByMiles!AE352,DataByMiles!$AT$5:$AU$6,2,FALSE)","v":0},null,null,{"$f":"Q354*$T$2*VLOOKUP(DataByMiles!AE352,DataByMiles!$AT$5:$AU$6,2,FALSE)","v":0},{"$f":"DataByMiles!I352*VLOOKUP(DataByMiles!AE352,DataByMiles!$AT$5:$AU$6,2,FALSE)","v":0},null,null,{"$f":"U354*$X$2*VLOOKUP(DataByMiles!AE352,DataByMiles!$AT$5:$AU$6,2,FALSE)","v":0},{"$f":"DataByMiles!J352*VLOOKUP(DataByMiles!AE352,DataByMiles!$AT$5:$AU$6,2,FALSE)","v":0},{"$f":"DataByMiles!K352","v":0},{"$f":"DataByMiles!L352","v":0},null,null,{"$f":"(Y354/IF(Z354=0,$AD$1,Z354)*$AD$2)/IF(AA354=0,1,AA354)*VLOOKUP(DataByMiles!AE352,DataByMiles!$AT$5:$AU$6,2,FALSE)","v":0},"",0,0,{"$f":"(AF354+AG354)*VLOOKUP(DataByMiles!AE352,DataByMiles!$AT$5:$AU$6,2,FALSE)","v":0},0]
[null,{"$f":"DataByMiles!C353","v":"----349"},{"$f":"DataByMiles!E353*VLOOKUP(DataByMiles!AE353,DataByMiles!$AT$5:$AU$6,2,FALSE)","v":0},null,null,0,{"$f":"C355*$G$2*VLOOKUP(DataByMiles!AE353,DataByMiles!$AT$5:$AU$6,2,FALSE)","v":0},{"$f":"DataByMiles!F353*VLOOKUP(DataByMiles!AE353,DataByMiles!$AT$5:$AU$6,2,FALSE)","v":0},null,null,0,{"$f":"H355*$L$2*VLOOKUP(DataByMiles!AE353,DataByMiles!$AT$5:$AU$6,2,FALSE)","v":0},{"$f":"DataByMiles!G353*VLOOKUP(DataByMiles!AE353,DataByMiles!$AT$5:$AU$6,2,FALSE)","v":0},null,null,{"$f":"M355*$P$2*VLOOKUP(DataByMiles!AE353,DataByMiles!$AT$5:$AU$6,2,FALSE)","v":0},{"$f":"DataByMiles!H353*VLOOKUP(DataByMiles!AE353,DataByMiles!$AT$5:$AU$6,2,FALSE)","v":0},null,null,{"$f":"Q355*$T$2*VLOOKUP(DataByMiles!AE353,DataByMiles!$AT$5:$AU$6,2,FALSE)","v":0},{"$f":"DataByMiles!I353*VLOOKUP(DataByMiles!AE353,DataByMiles!$AT$5:$AU$6,2,FALSE)","v":0},null,null,{"$f":"U355*$X$2*VLOOKUP(DataByMiles!AE353,DataByMiles!$AT$5:$AU$6,2,FALSE)","v":0},{"$f":"DataByMiles!J353*VLOOKUP(DataByMiles!AE353,DataByMiles!$AT$5:$AU$6,2,FALSE)","v":0},{"$f":"DataByMiles!K353","v":0},{"$f":"DataByMiles!L353","v":0},null,null,{"$f":"(Y355/IF(Z355=0,$AD$1,Z355)*$AD$2)/IF(AA355=0,1,AA355)*VLOOKUP(DataByMiles!AE353,DataByMiles!$AT$5:$AU$6,2,FALSE)","v":0},"",0,0,{"$f":"(AF355+AG355)*VLOOKUP(DataByMiles!AE353,DataByMiles!$AT$5:$AU$6,2,FALSE)","v":0},0]
[null,{"$f":"DataByMiles!C354","v":"----350"},{"$f":"DataByMiles!E354*VLOOKUP(DataByMiles!AE354,DataByMiles!$AT$5:$AU$6,2,FALSE)","v":0},null,null,0,{"$f":"C356*$G$2*VLOOKUP(DataByMiles!AE354,DataByMiles!$AT$5:$AU$6,2,FALSE)","v":0},{"$f":"DataByMiles!F354*VLOOKUP(DataByMiles!AE354,DataByMiles!$AT$5:$AU$6,2,FALSE)","v":0},null,null,0,{"$f":"H356*$L$2*VLOOKUP(DataByMiles!AE354,DataByMiles!$AT$5:$AU$6,2,FALSE)","v":0},{"$f":"DataByMiles!G354*VLOOKUP(DataByMiles!AE354,DataByMiles!$AT$5:$AU$6,2,FALSE)","v":0},null,null,{"$f":"M356*$P$2*VLOOKUP(DataByMiles!AE354,DataByMiles!$AT$5:$AU$6,2,FALSE)","v":0},{"$f":"DataByMiles!H354*VLOOKUP(DataByMiles!AE354,DataByMiles!$AT$5:$AU$6,2,FALSE)","v":0},null,null,{"$f":"Q356*$T$2*VLOOKUP(DataByMiles!AE354,DataByMiles!$AT$5:$AU$6,2,FALSE)","v":0},{"$f":"DataByMiles!I354*VLOOKUP(DataByMiles!AE354,DataByMiles!$AT$5:$AU$6,2,FALSE)","v":0},null,null,{"$f":"U356*$X$2*VLOOKUP(DataByMiles!AE354,DataByMiles!$AT$5:$AU$6,2,FALSE)","v":0},{"$f":"DataByMiles!J354*VLOOKUP(DataByMiles!AE354,DataByMiles!$AT$5:$AU$6,2,FALSE)","v":0},{"$f":"DataByMiles!K354","v":0},{"$f":"DataByMiles!L354","v":0},null,null,{"$f":"(Y356/IF(Z356=0,$AD$1,Z356)*$AD$2)/IF(AA356=0,1,AA356)*VLOOKUP(DataByMiles!AE354,DataByMiles!$AT$5:$AU$6,2,FALSE)","v":0},"",0,0,{"$f":"(AF356+AG356)*VLOOKUP(DataByMiles!AE354,DataByMiles!$AT$5:$AU$6,2,FALSE)","v":0},0]
[null,{"$f":"DataByMiles!C355","v":"----351"},{"$f":"DataByMiles!E355*VLOOKUP(DataByMiles!AE355,DataByMiles!$AT$5:$AU$6,2,FALSE)","v":0},null,null,0,{"$f":"C357*$G$2*VLOOKUP(DataByMiles!AE355,DataByMiles!$AT$5:$AU$6,2,FALSE)","v":0},{"$f":"DataByMiles!F355*VLOOKUP(DataByMiles!AE355,DataByMiles!$AT$5:$AU$6,2,FALSE)","v":0},null,null,0,{"$f":"H357*$L$2*VLOOKUP(DataByMiles!AE355,DataByMiles!$AT$5:$AU$6,2,FALSE)","v":0},{"$f":"DataByMiles!G355*VLOOKUP(DataByMiles!AE355,DataByMiles!$AT$5:$AU$6,2,FALSE)","v":0},null,null,{"$f":"M357*$P$2*VLOOKUP(DataByMiles!AE355,DataByMiles!$AT$5:$AU$6,2,FALSE)","v":0},{"$f":"DataByMiles!H355*VLOOKUP(DataByMiles!AE355,DataByMiles!$AT$5:$AU$6,2,FALSE)","v":0},null,null,{"$f":"Q357*$T$2*VLOOKUP(DataByMiles!AE355,DataByMiles!$AT$5:$AU$6,2,FALSE)","v":0},{"$f":"DataByMiles!I355*VLOOKUP(DataByMiles!AE355,DataByMiles!$AT$5:$AU$6,2,FALSE)","v":0},null,null,{"$f":"U357*$X$2*VLOOKUP(DataByMiles!AE355,DataByMiles!$AT$5:$AU$6,2,FALSE)","v":0},{"$f":"DataByMiles!J355*VLOOKUP(DataByMiles!AE355,DataByMiles!$AT$5:$AU$6,2,FALSE)","v":0},{"$f":"DataByMiles!K355","v":0},{"$f":"DataByMiles!L355","v":0},null,null,{"$f":"(Y357/IF(Z357=0,$AD$1,Z357)*$AD$2)/IF(AA357=0,1,AA357)*VLOOKUP(DataByMiles!AE355,DataByMiles!$AT$5:$AU$6,2,FALSE)","v":0},"",0,0,{"$f":"(AF357+AG357)*VLOOKUP(DataByMiles!AE355,DataByMiles!$AT$5:$AU$6,2,FALSE)","v":0},0]
[null,{"$f":"DataByMiles!C356","v":"----352"},{"$f":"DataByMiles!E356*VLOOKUP(DataByMiles!AE356,DataByMiles!$AT$5:$AU$6,2,FALSE)","v":0},null,null,0,{"$f":"C358*$G$2*VLOOKUP(DataByMiles!AE356,DataByMiles!$AT$5:$AU$6,2,FALSE)","v":0},{"$f":"DataByMiles!F356*VLOOKUP(DataByMiles!AE356,DataByMiles!$AT$5:$AU$6,2,FALSE)","v":0},null,null,0,{"$f":"H358*$L$2*VLOOKUP(DataByMiles!AE356,DataByMiles!$AT$5:$AU$6,2,FALSE)","v":0},{"$f":"DataByMiles!G356*VLOOKUP(DataByMiles!AE356,DataByMiles!$AT$5:$AU$6,2,FALSE)","v":0},null,null,{"$f":"M358*$P$2*VLOOKUP(DataByMiles!AE356,DataByMiles!$AT$5:$AU$6,2,FALSE)","v":0},{"$f":"DataByMiles!H356*VLOOKUP(DataByMiles!AE356,DataByMiles!$AT$5:$AU$6,2,FALSE)","v":0},null,null,{"$f":"Q358*$T$2*VLOOKUP(DataByMiles!AE356,DataByMiles!$AT$5:$AU$6,2,FALSE)","v":0},{"$f":"DataByMiles!I356*VLOOKUP(DataByMiles!AE356,DataByMiles!$AT$5:$AU$6,2,FALSE)","v":0},null,null,{"$f":"U358*$X$2*VLOOKUP(DataByMiles!AE356,DataByMiles!$AT$5:$AU$6,2,FALSE)","v":0},{"$f":"DataByMiles!J356*VLOOKUP(DataByMiles!AE356,DataByMiles!$AT$5:$AU$6,2,FALSE)","v":0},{"$f":"DataByMiles!K356","v":0},{"$f":"DataByMiles!L356","v":0},null,null,{"$f":"(Y358/IF(Z358=0,$AD$1,Z358)*$AD$2)/IF(AA358=0,1,AA358)*VLOOKUP(DataByMiles!AE356,DataByMiles!$AT$5:$AU$6,2,FALSE)","v":0},"",0,0,{"$f":"(AF358+AG358)*VLOOKUP(DataByMiles!AE356,DataByMiles!$AT$5:$AU$6,2,FALSE)","v":0},0]
[null,{"$f":"DataByMiles!C357","v":"----353"},{"$f":"DataByMiles!E357*VLOOKUP(DataByMiles!AE357,DataByMiles!$AT$5:$AU$6,2,FALSE)","v":0},null,null,0,{"$f":"C359*$G$2*VLOOKUP(DataByMiles!AE357,DataByMiles!$AT$5:$AU$6,2,FALSE)","v":0},{"$f":"DataByMiles!F357*VLOOKUP(DataByMiles!AE357,DataByMiles!$AT$5:$AU$6,2,FALSE)","v":0},null,null,0,{"$f":"H359*$L$2*VLOOKUP(DataByMiles!AE357,DataByMiles!$AT$5:$AU$6,2,FALSE)","v":0},{"$f":"DataByMiles!G357*VLOOKUP(DataByMiles!AE357,DataByMiles!$AT$5:$AU$6,2,FALSE)","v":0},null,null,{"$f":"M359*$P$2*VLOOKUP(DataByMiles!AE357,DataByMiles!$AT$5:$AU$6,2,FALSE)","v":0},{"$f":"DataByMiles!H357*VLOOKUP(DataByMiles!AE357,DataByMiles!$AT$5:$AU$6,2,FALSE)","v":0},null,null,{"$f":"Q359*$T$2*VLOOKUP(DataByMiles!AE357,DataByMiles!$AT$5:$AU$6,2,FALSE)","v":0},{"$f":"DataByMiles!I357*VLOOKUP(DataByMiles!AE357,DataByMiles!$AT$5:$AU$6,2,FALSE)","v":0},null,null,{"$f":"U359*$X$2*VLOOKUP(DataByMiles!AE357,DataByMiles!$AT$5:$AU$6,2,FALSE)","v":0},{"$f":"DataByMiles!J357*VLOOKUP(DataByMiles!AE357,DataByMiles!$AT$5:$AU$6,2,FALSE)","v":0},{"$f":"DataByMiles!K357","v":0},{"$f":"DataByMiles!L357","v":0},null,null,{"$f":"(Y359/IF(Z359=0,$AD$1,Z359)*$AD$2)/IF(AA359=0,1,AA359)*VLOOKUP(DataByMiles!AE357,DataByMiles!$AT$5:$AU$6,2,FALSE)","v":0},"",0,0,{"$f":"(AF359+AG359)*VLOOKUP(DataByMiles!AE357,DataByMiles!$AT$5:$AU$6,2,FALSE)","v":0},0]
[null,{"$f":"DataByMiles!C358","v":"----354"},{"$f":"DataByMiles!E358*VLOOKUP(DataByMiles!AE358,DataByMiles!$AT$5:$AU$6,2,FALSE)","v":0},null,null,0,{"$f":"C360*$G$2*VLOOKUP(DataByMiles!AE358,DataByMiles!$AT$5:$AU$6,2,FALSE)","v":0},{"$f":"DataByMiles!F358*VLOOKUP(DataByMiles!AE358,DataByMiles!$AT$5:$AU$6,2,FALSE)","v":0},null,null,0,{"$f":"H360*$L$2*VLOOKUP(DataByMiles!AE358,DataByMiles!$AT$5:$AU$6,2,FALSE)","v":0},{"$f":"DataByMiles!G358*VLOOKUP(DataByMiles!AE358,DataByMiles!$AT$5:$AU$6,2,FALSE)","v":0},null,null,{"$f":"M360*$P$2*VLOOKUP(DataByMiles!AE358,DataByMiles!$AT$5:$AU$6,2,FALSE)","v":0},{"$f":"DataByMiles!H358*VLOOKUP(DataByMiles!AE358,DataByMiles!$AT$5:$AU$6,2,FALSE)","v":0},null,null,{"$f":"Q360*$T$2*VLOOKUP(DataByMiles!AE358,DataByMiles!$AT$5:$AU$6,2,FALSE)","v":0},{"$f":"DataByMiles!I358*VLOOKUP(DataByMiles!AE358,DataByMiles!$AT$5:$AU$6,2,FALSE)","v":0},null,null,{"$f":"U360*$X$2*VLOOKUP(DataByMiles!AE358,DataByMiles!$AT$5:$AU$6,2,FALSE)","v":0},{"$f":"DataByMiles!J358*VLOOKUP(DataByMiles!AE358,DataByMiles!$AT$5:$AU$6,2,FALSE)","v":0},{"$f":"DataByMiles!K358","v":0},{"$f":"DataByMiles!L358","v":0},null,null,{"$f":"(Y360/IF(Z360=0,$AD$1,Z360)*$AD$2)/IF(AA360=0,1,AA360)*VLOOKUP(DataByMiles!AE358,DataByMiles!$AT$5:$AU$6,2,FALSE)","v":0},"",0,0,{"$f":"(AF360+AG360)*VLOOKUP(DataByMiles!AE358,DataByMiles!$AT$5:$AU$6,2,FALSE)","v":0},0]
[null,{"$f":"DataByMiles!C359","v":"----355"},{"$f":"DataByMiles!E359*VLOOKUP(DataByMiles!AE359,DataByMiles!$AT$5:$AU$6,2,FALSE)","v":0},null,null,0,{"$f":"C361*$G$2*VLOOKUP(DataByMiles!AE359,DataByMiles!$AT$5:$AU$6,2,FALSE)","v":0},{"$f":"DataByMiles!F359*VLOOKUP(DataByMiles!AE359,DataByMiles!$AT$5:$AU$6,2,FALSE)","v":0},null,null,0,{"$f":"H361*$L$2*VLOOKUP(DataByMiles!AE359,DataByMiles!$AT$5:$AU$6,2,FALSE)","v":0},{"$f":"DataByMiles!G359*VLOOKUP(DataByMiles!AE359,DataByMiles!$AT$5:$AU$6,2,FALSE)","v":0},null,null,{"$f":"M361*$P$2*VLOOKUP(DataByMiles!AE359,DataByMiles!$AT$5:$AU$6,2,FALSE)","v":0},{"$f":"DataByMiles!H359*VLOOKUP(DataByMiles!AE359,DataByMiles!$AT$5:$AU$6,2,FALSE)","v":0},null,null,{"$f":"Q361*$T$2*VLOOKUP(DataByMiles!AE359,DataByMiles!$AT$5:$AU$6,2,FALSE)","v":0},{"$f":"DataByMiles!I359*VLOOKUP(DataByMiles!AE359,DataByMiles!$AT$5:$AU$6,2,FALSE)","v":0},null,null,{"$f":"U361*$X$2*VLOOKUP(DataByMiles!AE359,DataByMiles!$AT$5:$AU$6,2,FALSE)","v":0},{"$f":"DataByMiles!J359*VLOOKUP(DataByMiles!AE359,DataByMiles!$AT$5:$AU$6,2,FALSE)","v":0},{"$f":"DataByMiles!K359","v":0},{"$f":"DataByMiles!L359","v":0},null,null,{"$f":"(Y361/IF(Z361=0,$AD$1,Z361)*$AD$2)/IF(AA361=0,1,AA361)*VLOOKUP(DataByMiles!AE359,DataByMiles!$AT$5:$AU$6,2,FALSE)","v":0},"",0,0,{"$f":"(AF361+AG361)*VLOOKUP(DataByMiles!AE359,DataByMiles!$AT$5:$AU$6,2,FALSE)","v":0},0]
[null,{"$f":"DataByMiles!C360","v":"----356"},{"$f":"DataByMiles!E360*VLOOKUP(DataByMiles!AE360,DataByMiles!$AT$5:$AU$6,2,FALSE)","v":0},null,null,0,{"$f":"C362*$G$2*VLOOKUP(DataByMiles!AE360,DataByMiles!$AT$5:$AU$6,2,FALSE)","v":0},{"$f":"DataByMiles!F360*VLOOKUP(DataByMiles!AE360,DataByMiles!$AT$5:$AU$6,2,FALSE)","v":0},null,null,0,{"$f":"H362*$L$2*VLOOKUP(DataByMiles!AE360,DataByMiles!$AT$5:$AU$6,2,FALSE)","v":0},{"$f":"DataByMiles!G360*VLOOKUP(DataByMiles!AE360,DataByMiles!$AT$5:$AU$6,2,FALSE)","v":0},null,null,{"$f":"M362*$P$2*VLOOKUP(DataByMiles!AE360,DataByMiles!$AT$5:$AU$6,2,FALSE)","v":0},{"$f":"DataByMiles!H360*VLOOKUP(DataByMiles!AE360,DataByMiles!$AT$5:$AU$6,2,FALSE)","v":0},null,null,{"$f":"Q362*$T$2*VLOOKUP(DataByMiles!AE360,DataByMiles!$AT$5:$AU$6,2,FALSE)","v":0},{"$f":"DataByMiles!I360*VLOOKUP(DataByMiles!AE360,DataByMiles!$AT$5:$AU$6,2,FALSE)","v":0},null,null,{"$f":"U362*$X$2*VLOOKUP(DataByMiles!AE360,DataByMiles!$AT$5:$AU$6,2,FALSE)","v":0},{"$f":"DataByMiles!J360*VLOOKUP(DataByMiles!AE360,DataByMiles!$AT$5:$AU$6,2,FALSE)","v":0},{"$f":"DataByMiles!K360","v":0},{"$f":"DataByMiles!L360","v":0},null,null,{"$f":"(Y362/IF(Z362=0,$AD$1,Z362)*$AD$2)/IF(AA362=0,1,AA362)*VLOOKUP(DataByMiles!AE360,DataByMiles!$AT$5:$AU$6,2,FALSE)","v":0},"",0,0,{"$f":"(AF362+AG362)*VLOOKUP(DataByMiles!AE360,DataByMiles!$AT$5:$AU$6,2,FALSE)","v":0},0]
[null,{"$f":"DataByMiles!C361","v":"----357"},{"$f":"DataByMiles!E361*VLOOKUP(DataByMiles!AE361,DataByMiles!$AT$5:$AU$6,2,FALSE)","v":0},null,null,0,{"$f":"C363*$G$2*VLOOKUP(DataByMiles!AE361,DataByMiles!$AT$5:$AU$6,2,FALSE)","v":0},{"$f":"DataByMiles!F361*VLOOKUP(DataByMiles!AE361,DataByMiles!$AT$5:$AU$6,2,FALSE)","v":0},null,null,0,{"$f":"H363*$L$2*VLOOKUP(DataByMiles!AE361,DataByMiles!$AT$5:$AU$6,2,FALSE)","v":0},{"$f":"DataByMiles!G361*VLOOKUP(DataByMiles!AE361,DataByMiles!$AT$5:$AU$6,2,FALSE)","v":0},null,null,{"$f":"M363*$P$2*VLOOKUP(DataByMiles!AE361,DataByMiles!$AT$5:$AU$6,2,FALSE)","v":0},{"$f":"DataByMiles!H361*VLOOKUP(DataByMiles!AE361,DataByMiles!$AT$5:$AU$6,2,FALSE)","v":0},null,null,{"$f":"Q363*$T$2*VLOOKUP(DataByMiles!AE361,DataByMiles!$AT$5:$AU$6,2,FALSE)","v":0},{"$f":"DataByMiles!I361*VLOOKUP(DataByMiles!AE361,DataByMiles!$AT$5:$AU$6,2,FALSE)","v":0},null,null,{"$f":"U363*$X$2*VLOOKUP(DataByMiles!AE361,DataByMiles!$AT$5:$AU$6,2,FALSE)","v":0},{"$f":"DataByMiles!J361*VLOOKUP(DataByMiles!AE361,DataByMiles!$AT$5:$AU$6,2,FALSE)","v":0},{"$f":"DataByMiles!K361","v":0},{"$f":"DataByMiles!L361","v":0},null,null,{"$f":"(Y363/IF(Z363=0,$AD$1,Z363)*$AD$2)/IF(AA363=0,1,AA363)*VLOOKUP(DataByMiles!AE361,DataByMiles!$AT$5:$AU$6,2,FALSE)","v":0},"",0,0,{"$f":"(AF363+AG363)*VLOOKUP(DataByMiles!AE361,DataByMiles!$AT$5:$AU$6,2,FALSE)","v":0},0]
[null,{"$f":"DataByMiles!C362","v":"----358"},{"$f":"DataByMiles!E362*VLOOKUP(DataByMiles!AE362,DataByMiles!$AT$5:$AU$6,2,FALSE)","v":0},null,null,0,{"$f":"C364*$G$2*VLOOKUP(DataByMiles!AE362,DataByMiles!$AT$5:$AU$6,2,FALSE)","v":0},{"$f":"DataByMiles!F362*VLOOKUP(DataByMiles!AE362,DataByMiles!$AT$5:$AU$6,2,FALSE)","v":0},null,null,0,{"$f":"H364*$L$2*VLOOKUP(DataByMiles!AE362,DataByMiles!$AT$5:$AU$6,2,FALSE)","v":0},{"$f":"DataByMiles!G362*VLOOKUP(DataByMiles!AE362,DataByMiles!$AT$5:$AU$6,2,FALSE)","v":0},null,null,{"$f":"M364*$P$2*VLOOKUP(DataByMiles!AE362,DataByMiles!$AT$5:$AU$6,2,FALSE)","v":0},{"$f":"DataByMiles!H362*VLOOKUP(DataByMiles!AE362,DataByMiles!$AT$5:$AU$6,2,FALSE)","v":0},null,null,{"$f":"Q364*$T$2*VLOOKUP(DataByMiles!AE362,DataByMiles!$AT$5:$AU$6,2,FALSE)","v":0},{"$f":"DataByMiles!I362*VLOOKUP(DataByMiles!AE362,DataByMiles!$AT$5:$AU$6,2,FALSE)","v":0},null,null,{"$f":"U364*$X$2*VLOOKUP(DataByMiles!AE362,DataByMiles!$AT$5:$AU$6,2,FALSE)","v":0},{"$f":"DataByMiles!J362*VLOOKUP(DataByMiles!AE362,DataByMiles!$AT$5:$AU$6,2,FALSE)","v":0},{"$f":"DataByMiles!K362","v":0},{"$f":"DataByMiles!L362","v":0},null,null,{"$f":"(Y364/IF(Z364=0,$AD$1,Z364)*$AD$2)/IF(AA364=0,1,AA364)*VLOOKUP(DataByMiles!AE362,DataByMiles!$AT$5:$AU$6,2,FALSE)","v":0},"",0,0,{"$f":"(AF364+AG364)*VLOOKUP(DataByMiles!AE362,DataByMiles!$AT$5:$AU$6,2,FALSE)","v":0},0]
[null,{"$f":"DataByMiles!C363","v":"----359"},{"$f":"DataByMiles!E363*VLOOKUP(DataByMiles!AE363,DataByMiles!$AT$5:$AU$6,2,FALSE)","v":0},null,null,0,{"$f":"C365*$G$2*VLOOKUP(DataByMiles!AE363,DataByMiles!$AT$5:$AU$6,2,FALSE)","v":0},{"$f":"DataByMiles!F363*VLOOKUP(DataByMiles!AE363,DataByMiles!$AT$5:$AU$6,2,FALSE)","v":0},null,null,0,{"$f":"H365*$L$2*VLOOKUP(DataByMiles!AE363,DataByMiles!$AT$5:$AU$6,2,FALSE)","v":0},{"$f":"DataByMiles!G363*VLOOKUP(DataByMiles!AE363,DataByMiles!$AT$5:$AU$6,2,FALSE)","v":0},null,null,{"$f":"M365*$P$2*VLOOKUP(DataByMiles!AE363,DataByMiles!$AT$5:$AU$6,2,FALSE)","v":0},{"$f":"DataByMiles!H363*VLOOKUP(DataByMiles!AE363,DataByMiles!$AT$5:$AU$6,2,FALSE)","v":0},null,null,{"$f":"Q365*$T$2*VLOOKUP(DataByMiles!AE363,DataByMiles!$AT$5:$AU$6,2,FALSE)","v":0},{"$f":"DataByMiles!I363*VLOOKUP(DataByMiles!AE363,DataByMiles!$AT$5:$AU$6,2,FALSE)","v":0},null,null,{"$f":"U365*$X$2*VLOOKUP(DataByMiles!AE363,DataByMiles!$AT$5:$AU$6,2,FALSE)","v":0},{"$f":"DataByMiles!J363*VLOOKUP(DataByMiles!AE363,DataByMiles!$AT$5:$AU$6,2,FALSE)","v":0},{"$f":"DataByMiles!K363","v":0},{"$f":"DataByMiles!L363","v":0},null,null,{"$f":"(Y365/IF(Z365=0,$AD$1,Z365)*$AD$2)/IF(AA365=0,1,AA365)*VLOOKUP(DataByMiles!AE363,DataByMiles!$AT$5:$AU$6,2,FALSE)","v":0},"",0,0,{"$f":"(AF365+AG365)*VLOOKUP(DataByMiles!AE363,DataByMiles!$AT$5:$AU$6,2,FALSE)","v":0},0]
[null,{"$f":"DataByMiles!C364","v":"----360"},{"$f":"DataByMiles!E364*VLOOKUP(DataByMiles!AE364,DataByMiles!$AT$5:$AU$6,2,FALSE)","v":0},null,null,{"$f":"C366*$F$2","v":0},{"$f":"C366*$G$2*VLOOKUP(DataByMiles!AE364,DataByMiles!$AT$5:$AU$6,2,FALSE)","v":0},{"$f":"DataByMiles!F364*VLOOKUP(DataByMiles!AE364,DataByMiles!$AT$5:$AU$6,2,FALSE)","v":0},null,null,{"$f":"H366*$K$2","v":0},{"$f":"H366*$L$2*VLOOKUP(DataByMiles!AE364,DataByMiles!$AT$5:$AU$6,2,FALSE)","v":0},{"$f":"DataByMiles!G364*VLOOKUP(DataByMiles!AE364,DataByMiles!$AT$5:$AU$6,2,FALSE)","v":0},null,null,{"$f":"M366*$P$2*VLOOKUP(DataByMiles!AE364,DataByMiles!$AT$5:$AU$6,2,FALSE)","v":0},{"$f":"DataByMiles!H364*VLOOKUP(DataByMiles!AE364,DataByMiles!$AT$5:$AU$6,2,FALSE)","v":0},null,null,{"$f":"Q366*$T$2*VLOOKUP(DataByMiles!AE364,DataByMiles!$AT$5:$AU$6,2,FALSE)","v":0},{"$f":"DataByMiles!I364*VLOOKUP(DataByMiles!AE364,DataByMiles!$AT$5:$AU$6,2,FALSE)","v":0},null,null,{"$f":"U366*$X$2*VLOOKUP(DataByMiles!AE364,DataByMiles!$AT$5:$AU$6,2,FALSE)","v":0},{"$f":"DataByMiles!J364*VLOOKUP(DataByMiles!AE364,DataByMiles!$AT$5:$AU$6,2,FALSE)","v":0},{"$f":"DataByMiles!K364","v":0},{"$f":"DataByMiles!L364","v":0},null,null,{"$f":"(Y366/IF(Z366=0,$AD$1,Z366)*$AD$2)/IF(AA366=0,1,AA366)*VLOOKUP(DataByMiles!AE364,DataByMiles!$AT$5:$AU$6,2,FALSE)","v":0},{"$f":"IF(C366+H366+M366+Q366+U366+Y366>0,C366+H366+M366+Q366+U366+Y366,\"\")","v":""},{"$f":"F366+K366+P366+T366+X366+AD366","v":0},{"$f":"G366+L366","v":0},{"$f":"(AF366+AG366)*VLOOKUP(DataByMiles!AE364,DataByMiles!$AT$5:$AU$6,2,FALSE)","v":0},{"$f":"IFERROR(AH366/AE366,0)","v":0}]
[null,{"$f":"DataByMiles!C365","v":"----361"},{"$f":"DataByMiles!E365*VLOOKUP(DataByMiles!AE365,DataByMiles!$AT$5:$AU$6,2,FALSE)","v":0},null,null,0,{"$f":"C367*$G$2*VLOOKUP(DataByMiles!AE365,DataByMiles!$AT$5:$AU$6,2,FALSE)","v":0},{"$f":"DataByMiles!F365*VLOOKUP(DataByMiles!AE365,DataByMiles!$AT$5:$AU$6,2,FALSE)","v":0},null,null,0,{"$f":"H367*$L$2*VLOOKUP(DataByMiles!AE365,DataByMiles!$AT$5:$AU$6,2,FALSE)","v":0},{"$f":"DataByMiles!G365*VLOOKUP(DataByMiles!AE365,DataByMiles!$AT$5:$AU$6,2,FALSE)","v":0},null,null,{"$f":"M367*$P$2*VLOOKUP(DataByMiles!AE365,DataByMiles!$AT$5:$AU$6,2,FALSE)","v":0},{"$f":"DataByMiles!H365*VLOOKUP(DataByMiles!AE365,DataByMiles!$AT$5:$AU$6,2,FALSE)","v":0},null,null,{"$f":"Q367*$T$2*VLOOKUP(DataByMiles!AE365,DataByMiles!$AT$5:$AU$6,2,FALSE)","v":0},{"$f":"DataByMiles!I365*VLOOKUP(DataByMiles!AE365,DataByMiles!$AT$5:$AU$6,2,FALSE)","v":0},null,null,{"$f":"U367*$X$2*VLOOKUP(DataByMiles!AE365,DataByMiles!$AT$5:$AU$6,2,FALSE)","v":0},{"$f":"DataByMiles!J365*VLOOKUP(DataByMiles!AE365,DataByMiles!$AT$5:$AU$6,2,FALSE)","v":0},{"$f":"DataByMiles!K365","v":0},{"$f":"DataByMiles!L365","v":0},null,null,{"$f":"(Y367/IF(Z367=0,$AD$1,Z367)*$AD$2)/IF(AA367=0,1,AA367)*VLOOKUP(DataByMiles!AE365,DataByMiles!$AT$5:$AU$6,2,FALSE)","v":0},"",0,0,{"$f":"(AF367+AG367)*VLOOKUP(DataByMiles!AE365,DataByMiles!$AT$5:$AU$6,2,FALSE)","v":0},0]
[null,{"$f":"DataByMiles!C366","v":"----362"},{"$f":"DataByMiles!E366*VLOOKUP(DataByMiles!AE366,DataByMiles!$AT$5:$AU$6,2,FALSE)","v":0},null,null,0,{"$f":"C368*$G$2*VLOOKUP(DataByMiles!AE366,DataByMiles!$AT$5:$AU$6,2,FALSE)","v":0},{"$f":"DataByMiles!F366*VLOOKUP(DataByMiles!AE366,DataByMiles!$AT$5:$AU$6,2,FALSE)","v":0},null,null,0,{"$f":"H368*$L$2*VLOOKUP(DataByMiles!AE366,DataByMiles!$AT$5:$AU$6,2,FALSE)","v":0},{"$f":"DataByMiles!G366*VLOOKUP(DataByMiles!AE366,DataByMiles!$AT$5:$AU$6,2,FALSE)","v":0},null,null,{"$f":"M368*$P$2*VLOOKUP(DataByMiles!AE366,DataByMiles!$AT$5:$AU$6,2,FALSE)","v":0},{"$f":"DataByMiles!H366*VLOOKUP(DataByMiles!AE366,DataByMiles!$AT$5:$AU$6,2,FALSE)","v":0},null,null,{"$f":"Q368*$T$2*VLOOKUP(DataByMiles!AE366,DataByMiles!$AT$5:$AU$6,2,FALSE)","v":0},{"$f":"DataByMiles!I366*VLOOKUP(DataByMiles!AE366,DataByMiles!$AT$5:$AU$6,2,FALSE)","v":0},null,null,{"$f":"U368*$X$2*VLOOKUP(DataByMiles!AE366,DataByMiles!$AT$5:$AU$6,2,FALSE)","v":0},{"$f":"DataByMiles!J366*VLOOKUP(DataByMiles!AE366,DataByMiles!$AT$5:$AU$6,2,FALSE)","v":0},{"$f":"DataByMiles!K366","v":0},{"$f":"DataByMiles!L366","v":0},null,null,{"$f":"(Y368/IF(Z368=0,$AD$1,Z368)*$AD$2)/IF(AA368=0,1,AA368)*VLOOKUP(DataByMiles!AE366,DataByMiles!$AT$5:$AU$6,2,FALSE)","v":0},"",0,0,{"$f":"(AF368+AG368)*VLOOKUP(DataByMiles!AE366,DataByMiles!$AT$5:$AU$6,2,FALSE)","v":0},0]
[null,{"$f":"DataByMiles!C367","v":"----363"},{"$f":"DataByMiles!E367*VLOOKUP(DataByMiles!AE367,DataByMiles!$AT$5:$AU$6,2,FALSE)","v":0},null,null,0,{"$f":"C369*$G$2*VLOOKUP(DataByMiles!AE367,DataByMiles!$AT$5:$AU$6,2,FALSE)","v":0},{"$f":"DataByMiles!F367*VLOOKUP(DataByMiles!AE367,DataByMiles!$AT$5:$AU$6,2,FALSE)","v":0},null,null,0,{"$f":"H369*$L$2*VLOOKUP(DataByMiles!AE367,DataByMiles!$AT$5:$AU$6,2,FALSE)","v":0},{"$f":"DataByMiles!G367*VLOOKUP(DataByMiles!AE367,DataByMiles!$AT$5:$AU$6,2,FALSE)","v":0},null,null,{"$f":"M369*$P$2*VLOOKUP(DataByMiles!AE367,DataByMiles!$AT$5:$AU$6,2,FALSE)","v":0},{"$f":"DataByMiles!H367*VLOOKUP(DataByMiles!AE367,DataByMiles!$AT$5:$AU$6,2,FALSE)","v":0},null,null,{"$f":"Q369*$T$2*VLOOKUP(DataByMiles!AE367,DataByMiles!$AT$5:$AU$6,2,FALSE)","v":0},{"$f":"DataByMiles!I367*VLOOKUP(DataByMiles!AE367,DataByMiles!$AT$5:$AU$6,2,FALSE)","v":0},null,null,{"$f":"U369*$X$2*VLOOKUP(DataByMiles!AE367,DataByMiles!$AT$5:$AU$6,2,FALSE)","v":0},{"$f":"DataByMiles!J367*VLOOKUP(DataByMiles!AE367,DataByMiles!$AT$5:$AU$6,2,FALSE)","v":0},{"$f":"DataByMiles!K367","v":0},{"$f":"DataByMiles!L367","v":0},null,null,{"$f":"(Y369/IF(Z369=0,$AD$1,Z369)*$AD$2)/IF(AA369=0,1,AA369)*VLOOKUP(DataByMiles!AE367,DataByMiles!$AT$5:$AU$6,2,FALSE)","v":0},"",0,0,{"$f":"(AF369+AG369)*VLOOKUP(DataByMiles!AE367,DataByMiles!$AT$5:$AU$6,2,FALSE)","v":0},0]
[null,{"$f":"DataByMiles!C368","v":"----364"},{"$f":"DataByMiles!E368*VLOOKUP(DataByMiles!AE368,DataByMiles!$AT$5:$AU$6,2,FALSE)","v":0},null,null,0,{"$f":"C370*$G$2*VLOOKUP(DataByMiles!AE368,DataByMiles!$AT$5:$AU$6,2,FALSE)","v":0},{"$f":"DataByMiles!F368*VLOOKUP(DataByMiles!AE368,DataByMiles!$AT$5:$AU$6,2,FALSE)","v":0},null,null,0,{"$f":"H370*$L$2*VLOOKUP(DataByMiles!AE368,DataByMiles!$AT$5:$AU$6,2,FALSE)","v":0},{"$f":"DataByMiles!G368*VLOOKUP(DataByMiles!AE368,DataByMiles!$AT$5:$AU$6,2,FALSE)","v":0},null,null,{"$f":"M370*$P$2*VLOOKUP(DataByMiles!AE368,DataByMiles!$AT$5:$AU$6,2,FALSE)","v":0},{"$f":"DataByMiles!H368*VLOOKUP(DataByMiles!AE368,DataByMiles!$AT$5:$AU$6,2,FALSE)","v":0},null,null,{"$f":"Q370*$T$2*VLOOKUP(DataByMiles!AE368,DataByMiles!$AT$5:$AU$6,2,FALSE)","v":0},{"$f":"DataByMiles!I368*VLOOKUP(DataByMiles!AE368,DataByMiles!$AT$5:$AU$6,2,FALSE)","v":0},null,null,{"$f":"U370*$X$2*VLOOKUP(DataByMiles!AE368,DataByMiles!$AT$5:$AU$6,2,FALSE)","v":0},{"$f":"DataByMiles!J368*VLOOKUP(DataByMiles!AE368,DataByMiles!$AT$5:$AU$6,2,FALSE)","v":0},{"$f":"DataByMiles!K368","v":0},{"$f":"DataByMiles!L368","v":0},null,null,{"$f":"(Y370/IF(Z370=0,$AD$1,Z370)*$AD$2)/IF(AA370=0,1,AA370)*VLOOKUP(DataByMiles!AE368,DataByMiles!$AT$5:$AU$6,2,FALSE)","v":0},"",0,0,{"$f":"(AF370+AG370)*VLOOKUP(DataByMiles!AE368,DataByMiles!$AT$5:$AU$6,2,FALSE)","v":0},0]
[null,{"$f":"DataByMiles!C369","v":"----365"},{"$f":"DataByMiles!E369*VLOOKUP(DataByMiles!AE369,DataByMiles!$AT$5:$AU$6,2,FALSE)","v":0},null,null,0,{"$f":"C371*$G$2*VLOOKUP(DataByMiles!AE369,DataByMiles!$AT$5:$AU$6,2,FALSE)","v":0},{"$f":"DataByMiles!F369*VLOOKUP(DataByMiles!AE369,DataByMiles!$AT$5:$AU$6,2,FALSE)","v":0},null,null,0,{"$f":"H371*$L$2*VLOOKUP(DataByMiles!AE369,DataByMiles!$AT$5:$AU$6,2,FALSE)","v":0},{"$f":"DataByMiles!G369*VLOOKUP(DataByMiles!AE369,DataByMiles!$AT$5:$AU$6,2,FALSE)","v":0},null,null,{"$f":"M371*$P$2*VLOOKUP(DataByMiles!AE369,DataByMiles!$AT$5:$AU$6,2,FALSE)","v":0},{"$f":"DataByMiles!H369*VLOOKUP(DataByMiles!AE369,DataByMiles!$AT$5:$AU$6,2,FALSE)","v":0},null,null,{"$f":"Q371*$T$2*VLOOKUP(DataByMiles!AE369,DataByMiles!$AT$5:$AU$6,2,FALSE)","v":0},{"$f":"DataByMiles!I369*VLOOKUP(DataByMiles!AE369,DataByMiles!$AT$5:$AU$6,2,FALSE)","v":0},null,null,{"$f":"U371*$X$2*VLOOKUP(DataByMiles!AE369,DataByMiles!$AT$5:$AU$6,2,FALSE)","v":0},{"$f":"DataByMiles!J369*VLOOKUP(DataByMiles!AE369,DataByMiles!$AT$5:$AU$6,2,FALSE)","v":0},{"$f":"DataByMiles!K369","v":0},{"$f":"DataByMiles!L369","v":0},null,null,{"$f":"(Y371/IF(Z371=0,$AD$1,Z371)*$AD$2)/IF(AA371=0,1,AA371)*VLOOKUP(DataByMiles!AE369,DataByMiles!$AT$5:$AU$6,2,FALSE)","v":0},"",0,0,{"$f":"(AF371+AG371)*VLOOKUP(DataByMiles!AE369,DataByMiles!$AT$5:$AU$6,2,FALSE)","v":0},0]
[null,{"$f":"DataByMiles!C370","v":"----366"},{"$f":"DataByMiles!E370*VLOOKUP(DataByMiles!AE370,DataByMiles!$AT$5:$AU$6,2,FALSE)","v":0},null,null,0,{"$f":"C372*$G$2*VLOOKUP(DataByMiles!AE370,DataByMiles!$AT$5:$AU$6,2,FALSE)","v":0},{"$f":"DataByMiles!F370*VLOOKUP(DataByMiles!AE370,DataByMiles!$AT$5:$AU$6,2,FALSE)","v":0},null,null,0,{"$f":"H372*$L$2*VLOOKUP(DataByMiles!AE370,DataByMiles!$AT$5:$AU$6,2,FALSE)","v":0},{"$f":"DataByMiles!G370*VLOOKUP(DataByMiles!AE370,DataByMiles!$AT$5:$AU$6,2,FALSE)","v":0},null,null,{"$f":"M372*$P$2*VLOOKUP(DataByMiles!AE370,DataByMiles!$AT$5:$AU$6,2,FALSE)","v":0},{"$f":"DataByMiles!H370*VLOOKUP(DataByMiles!AE370,DataByMiles!$AT$5:$AU$6,2,FALSE)","v":0},null,null,{"$f":"Q372*$T$2*VLOOKUP(DataByMiles!AE370,DataByMiles!$AT$5:$AU$6,2,FALSE)","v":0},{"$f":"DataByMiles!I370*VLOOKUP(DataByMiles!AE370,DataByMiles!$AT$5:$AU$6,2,FALSE)","v":0},null,null,{"$f":"U372*$X$2*VLOOKUP(DataByMiles!AE370,DataByMiles!$AT$5:$AU$6,2,FALSE)","v":0},{"$f":"DataByMiles!J370*VLOOKUP(DataByMiles!AE370,DataByMiles!$AT$5:$AU$6,2,FALSE)","v":0},{"$f":"DataByMiles!K370","v":0},{"$f":"DataByMiles!L370","v":0},null,null,{"$f":"(Y372/IF(Z372=0,$AD$1,Z372)*$AD$2)/IF(AA372=0,1,AA372)*VLOOKUP(DataByMiles!AE370,DataByMiles!$AT$5:$AU$6,2,FALSE)","v":0},"",0,0,{"$f":"(AF372+AG372)*VLOOKUP(DataByMiles!AE370,DataByMiles!$AT$5:$AU$6,2,FALSE)","v":0},0]
[null,{"$f":"DataByMiles!C371","v":"----367"},{"$f":"DataByMiles!E371*VLOOKUP(DataByMiles!AE371,DataByMiles!$AT$5:$AU$6,2,FALSE)","v":0},null,null,0,{"$f":"C373*$G$2*VLOOKUP(DataByMiles!AE371,DataByMiles!$AT$5:$AU$6,2,FALSE)","v":0},{"$f":"DataByMiles!F371*VLOOKUP(DataByMiles!AE371,DataByMiles!$AT$5:$AU$6,2,FALSE)","v":0},null,null,0,{"$f":"H373*$L$2*VLOOKUP(DataByMiles!AE371,DataByMiles!$AT$5:$AU$6,2,FALSE)","v":0},{"$f":"DataByMiles!G371*VLOOKUP(DataByMiles!AE371,DataByMiles!$AT$5:$AU$6,2,FALSE)","v":0},null,null,{"$f":"M373*$P$2*VLOOKUP(DataByMiles!AE371,DataByMiles!$AT$5:$AU$6,2,FALSE)","v":0},{"$f":"DataByMiles!H371*VLOOKUP(DataByMiles!AE371,DataByMiles!$AT$5:$AU$6,2,FALSE)","v":0},null,null,{"$f":"Q373*$T$2*VLOOKUP(DataByMiles!AE371,DataByMiles!$AT$5:$AU$6,2,FALSE)","v":0},{"$f":"DataByMiles!I371*VLOOKUP(DataByMiles!AE371,DataByMiles!$AT$5:$AU$6,2,FALSE)","v":0},null,null,{"$f":"U373*$X$2*VLOOKUP(DataByMiles!AE371,DataByMiles!$AT$5:$AU$6,2,FALSE)","v":0},{"$f":"DataByMiles!J371*VLOOKUP(DataByMiles!AE371,DataByMiles!$AT$5:$AU$6,2,FALSE)","v":0},{"$f":"DataByMiles!K371","v":0},{"$f":"DataByMiles!L371","v":0},null,null,{"$f":"(Y373/IF(Z373=0,$AD$1,Z373)*$AD$2)/IF(AA373=0,1,AA373)*VLOOKUP(DataByMiles!AE371,DataByMiles!$AT$5:$AU$6,2,FALSE)","v":0},"",0,0,{"$f":"(AF373+AG373)*VLOOKUP(DataByMiles!AE371,DataByMiles!$AT$5:$AU$6,2,FALSE)","v":0},0]
[null,{"$f":"DataByMiles!C372","v":"----368"},{"$f":"DataByMiles!E372*VLOOKUP(DataByMiles!AE372,DataByMiles!$AT$5:$AU$6,2,FALSE)","v":0},null,null,0,{"$f":"C374*$G$2*VLOOKUP(DataByMiles!AE372,DataByMiles!$AT$5:$AU$6,2,FALSE)","v":0},{"$f":"DataByMiles!F372*VLOOKUP(DataByMiles!AE372,DataByMiles!$AT$5:$AU$6,2,FALSE)","v":0},null,null,0,{"$f":"H374*$L$2*VLOOKUP(DataByMiles!AE372,DataByMiles!$AT$5:$AU$6,2,FALSE)","v":0},{"$f":"DataByMiles!G372*VLOOKUP(DataByMiles!AE372,DataByMiles!$AT$5:$AU$6,2,FALSE)","v":0},null,null,{"$f":"M374*$P$2*VLOOKUP(DataByMiles!AE372,DataByMiles!$AT$5:$AU$6,2,FALSE)","v":0},{"$f":"DataByMiles!H372*VLOOKUP(DataByMiles!AE372,DataByMiles!$AT$5:$AU$6,2,FALSE)","v":0},null,null,{"$f":"Q374*$T$2*VLOOKUP(DataByMiles!AE372,DataByMiles!$AT$5:$AU$6,2,FALSE)","v":0},{"$f":"DataByMiles!I372*VLOOKUP(DataByMiles!AE372,DataByMiles!$AT$5:$AU$6,2,FALSE)","v":0},null,null,{"$f":"U374*$X$2*VLOOKUP(DataByMiles!AE372,DataByMiles!$AT$5:$AU$6,2,FALSE)","v":0},{"$f":"DataByMiles!J372*VLOOKUP(DataByMiles!AE372,DataByMiles!$AT$5:$AU$6,2,FALSE)","v":0},{"$f":"DataByMiles!K372","v":0},{"$f":"DataByMiles!L372","v":0},null,null,{"$f":"(Y374/IF(Z374=0,$AD$1,Z374)*$AD$2)/IF(AA374=0,1,AA374)*VLOOKUP(DataByMiles!AE372,DataByMiles!$AT$5:$AU$6,2,FALSE)","v":0},"",0,0,{"$f":"(AF374+AG374)*VLOOKUP(DataByMiles!AE372,DataByMiles!$AT$5:$AU$6,2,FALSE)","v":0},0]
[null,{"$f":"DataByMiles!C373","v":"----369"},{"$f":"DataByMiles!E373*VLOOKUP(DataByMiles!AE373,DataByMiles!$AT$5:$AU$6,2,FALSE)","v":0},null,null,0,{"$f":"C375*$G$2*VLOOKUP(DataByMiles!AE373,DataByMiles!$AT$5:$AU$6,2,FALSE)","v":0},{"$f":"DataByMiles!F373*VLOOKUP(DataByMiles!AE373,DataByMiles!$AT$5:$AU$6,2,FALSE)","v":0},null,null,0,{"$f":"H375*$L$2*VLOOKUP(DataByMiles!AE373,DataByMiles!$AT$5:$AU$6,2,FALSE)","v":0},{"$f":"DataByMiles!G373*VLOOKUP(DataByMiles!AE373,DataByMiles!$AT$5:$AU$6,2,FALSE)","v":0},null,null,{"$f":"M375*$P$2*VLOOKUP(DataByMiles!AE373,DataByMiles!$AT$5:$AU$6,2,FALSE)","v":0},{"$f":"DataByMiles!H373*VLOOKUP(DataByMiles!AE373,DataByMiles!$AT$5:$AU$6,2,FALSE)","v":0},null,null,{"$f":"Q375*$T$2*VLOOKUP(DataByMiles!AE373,DataByMiles!$AT$5:$AU$6,2,FALSE)","v":0},{"$f":"DataByMiles!I373*VLOOKUP(DataByMiles!AE373,DataByMiles!$AT$5:$AU$6,2,FALSE)","v":0},null,null,{"$f":"U375*$X$2*VLOOKUP(DataByMiles!AE373,DataByMiles!$AT$5:$AU$6,2,FALSE)","v":0},{"$f":"DataByMiles!J373*VLOOKUP(DataByMiles!AE373,DataByMiles!$AT$5:$AU$6,2,FALSE)","v":0},{"$f":"DataByMiles!K373","v":0},{"$f":"DataByMiles!L373","v":0},null,null,{"$f":"(Y375/IF(Z375=0,$AD$1,Z375)*$AD$2)/IF(AA375=0,1,AA375)*VLOOKUP(DataByMiles!AE373,DataByMiles!$AT$5:$AU$6,2,FALSE)","v":0},"",0,0,{"$f":"(AF375+AG375)*VLOOKUP(DataByMiles!AE373,DataByMiles!$AT$5:$AU$6,2,FALSE)","v":0},0]
[null,{"$f":"DataByMiles!C374","v":"----370"},{"$f":"DataByMiles!E374*VLOOKUP(DataByMiles!AE374,DataByMiles!$AT$5:$AU$6,2,FALSE)","v":0},null,null,0,{"$f":"C376*$G$2*VLOOKUP(DataByMiles!AE374,DataByMiles!$AT$5:$AU$6,2,FALSE)","v":0},{"$f":"DataByMiles!F374*VLOOKUP(DataByMiles!AE374,DataByMiles!$AT$5:$AU$6,2,FALSE)","v":0},null,null,0,{"$f":"H376*$L$2*VLOOKUP(DataByMiles!AE374,DataByMiles!$AT$5:$AU$6,2,FALSE)","v":0},{"$f":"DataByMiles!G374*VLOOKUP(DataByMiles!AE374,DataByMiles!$AT$5:$AU$6,2,FALSE)","v":0},null,null,{"$f":"M376*$P$2*VLOOKUP(DataByMiles!AE374,DataByMiles!$AT$5:$AU$6,2,FALSE)","v":0},{"$f":"DataByMiles!H374*VLOOKUP(DataByMiles!AE374,DataByMiles!$AT$5:$AU$6,2,FALSE)","v":0},null,null,{"$f":"Q376*$T$2*VLOOKUP(DataByMiles!AE374,DataByMiles!$AT$5:$AU$6,2,FALSE)","v":0},{"$f":"DataByMiles!I374*VLOOKUP(DataByMiles!AE374,DataByMiles!$AT$5:$AU$6,2,FALSE)","v":0},null,null,{"$f":"U376*$X$2*VLOOKUP(DataByMiles!AE374,DataByMiles!$AT$5:$AU$6,2,FALSE)","v":0},{"$f":"DataByMiles!J374*VLOOKUP(DataByMiles!AE374,DataByMiles!$AT$5:$AU$6,2,FALSE)","v":0},{"$f":"DataByMiles!K374","v":0},{"$f":"DataByMiles!L374","v":0},null,null,{"$f":"(Y376/IF(Z376=0,$AD$1,Z376)*$AD$2)/IF(AA376=0,1,AA376)*VLOOKUP(DataByMiles!AE374,DataByMiles!$AT$5:$AU$6,2,FALSE)","v":0},"",0,0,{"$f":"(AF376+AG376)*VLOOKUP(DataByMiles!AE374,DataByMiles!$AT$5:$AU$6,2,FALSE)","v":0},0]
[null,{"$f":"DataByMiles!C375","v":"----371"},{"$f":"DataByMiles!E375*VLOOKUP(DataByMiles!AE375,DataByMiles!$AT$5:$AU$6,2,FALSE)","v":0},null,null,0,{"$f":"C377*$G$2*VLOOKUP(DataByMiles!AE375,DataByMiles!$AT$5:$AU$6,2,FALSE)","v":0},{"$f":"DataByMiles!F375*VLOOKUP(DataByMiles!AE375,DataByMiles!$AT$5:$AU$6,2,FALSE)","v":0},null,null,0,{"$f":"H377*$L$2*VLOOKUP(DataByMiles!AE375,DataByMiles!$AT$5:$AU$6,2,FALSE)","v":0},{"$f":"DataByMiles!G375*VLOOKUP(DataByMiles!AE375,DataByMiles!$AT$5:$AU$6,2,FALSE)","v":0},null,null,{"$f":"M377*$P$2*VLOOKUP(DataByMiles!AE375,DataByMiles!$AT$5:$AU$6,2,FALSE)","v":0},{"$f":"DataByMiles!H375*VLOOKUP(DataByMiles!AE375,DataByMiles!$AT$5:$AU$6,2,FALSE)","v":0},null,null,{"$f":"Q377*$T$2*VLOOKUP(DataByMiles!AE375,DataByMiles!$AT$5:$AU$6,2,FALSE)","v":0},{"$f":"DataByMiles!I375*VLOOKUP(DataByMiles!AE375,DataByMiles!$AT$5:$AU$6,2,FALSE)","v":0},null,null,{"$f":"U377*$X$2*VLOOKUP(DataByMiles!AE375,DataByMiles!$AT$5:$AU$6,2,FALSE)","v":0},{"$f":"DataByMiles!J375*VLOOKUP(DataByMiles!AE375,DataByMiles!$AT$5:$AU$6,2,FALSE)","v":0},{"$f":"DataByMiles!K375","v":0},{"$f":"DataByMiles!L375","v":0},null,null,{"$f":"(Y377/IF(Z377=0,$AD$1,Z377)*$AD$2)/IF(AA377=0,1,AA377)*VLOOKUP(DataByMiles!AE375,DataByMiles!$AT$5:$AU$6,2,FALSE)","v":0},"",0,0,{"$f":"(AF377+AG377)*VLOOKUP(DataByMiles!AE375,DataByMiles!$AT$5:$AU$6,2,FALSE)","v":0},0]
[null,{"$f":"DataByMiles!C376","v":"----372"},{"$f":"DataByMiles!E376*VLOOKUP(DataByMiles!AE376,DataByMiles!$AT$5:$AU$6,2,FALSE)","v":0},null,null,0,{"$f":"C378*$G$2*VLOOKUP(DataByMiles!AE376,DataByMiles!$AT$5:$AU$6,2,FALSE)","v":0},{"$f":"DataByMiles!F376*VLOOKUP(DataByMiles!AE376,DataByMiles!$AT$5:$AU$6,2,FALSE)","v":0},null,null,0,{"$f":"H378*$L$2*VLOOKUP(DataByMiles!AE376,DataByMiles!$AT$5:$AU$6,2,FALSE)","v":0},{"$f":"DataByMiles!G376*VLOOKUP(DataByMiles!AE376,DataByMiles!$AT$5:$AU$6,2,FALSE)","v":0},null,null,{"$f":"M378*$P$2*VLOOKUP(DataByMiles!AE376,DataByMiles!$AT$5:$AU$6,2,FALSE)","v":0},{"$f":"DataByMiles!H376*VLOOKUP(DataByMiles!AE376,DataByMiles!$AT$5:$AU$6,2,FALSE)","v":0},null,null,{"$f":"Q378*$T$2*VLOOKUP(DataByMiles!AE376,DataByMiles!$AT$5:$AU$6,2,FALSE)","v":0},{"$f":"DataByMiles!I376*VLOOKUP(DataByMiles!AE376,DataByMiles!$AT$5:$AU$6,2,FALSE)","v":0},null,null,{"$f":"U378*$X$2*VLOOKUP(DataByMiles!AE376,DataByMiles!$AT$5:$AU$6,2,FALSE)","v":0},{"$f":"DataByMiles!J376*VLOOKUP(DataByMiles!AE376,DataByMiles!$AT$5:$AU$6,2,FALSE)","v":0},{"$f":"DataByMiles!K376","v":0},{"$f":"DataByMiles!L376","v":0},null,null,{"$f":"(Y378/IF(Z378=0,$AD$1,Z378)*$AD$2)/IF(AA378=0,1,AA378)*VLOOKUP(DataByMiles!AE376,DataByMiles!$AT$5:$AU$6,2,FALSE)","v":0},"",0,0,{"$f":"(AF378+AG378)*VLOOKUP(DataByMiles!AE376,DataByMiles!$AT$5:$AU$6,2,FALSE)","v":0},0]
[null,{"$f":"DataByMiles!C377","v":"----373"},{"$f":"DataByMiles!E377*VLOOKUP(DataByMiles!AE377,DataByMiles!$AT$5:$AU$6,2,FALSE)","v":0},null,null,0,{"$f":"C379*$G$2*VLOOKUP(DataByMiles!AE377,DataByMiles!$AT$5:$AU$6,2,FALSE)","v":0},{"$f":"DataByMiles!F377*VLOOKUP(DataByMiles!AE377,DataByMiles!$AT$5:$AU$6,2,FALSE)","v":0},null,null,0,{"$f":"H379*$L$2*VLOOKUP(DataByMiles!AE377,DataByMiles!$AT$5:$AU$6,2,FALSE)","v":0},{"$f":"DataByMiles!G377*VLOOKUP(DataByMiles!AE377,DataByMiles!$AT$5:$AU$6,2,FALSE)","v":0},null,null,{"$f":"M379*$P$2*VLOOKUP(DataByMiles!AE377,DataByMiles!$AT$5:$AU$6,2,FALSE)","v":0},{"$f":"DataByMiles!H377*VLOOKUP(DataByMiles!AE377,DataByMiles!$AT$5:$AU$6,2,FALSE)","v":0},null,null,{"$f":"Q379*$T$2*VLOOKUP(DataByMiles!AE377,DataByMiles!$AT$5:$AU$6,2,FALSE)","v":0},{"$f":"DataByMiles!I377*VLOOKUP(DataByMiles!AE377,DataByMiles!$AT$5:$AU$6,2,FALSE)","v":0},null,null,{"$f":"U379*$X$2*VLOOKUP(DataByMiles!AE377,DataByMiles!$AT$5:$AU$6,2,FALSE)","v":0},{"$f":"DataByMiles!J377*VLOOKUP(DataByMiles!AE377,DataByMiles!$AT$5:$AU$6,2,FALSE)","v":0},{"$f":"DataByMiles!K377","v":0},{"$f":"DataByMiles!L377","v":0},null,null,{"$f":"(Y379/IF(Z379=0,$AD$1,Z379)*$AD$2)/IF(AA379=0,1,AA379)*VLOOKUP(DataByMiles!AE377,DataByMiles!$AT$5:$AU$6,2,FALSE)","v":0},"",0,0,{"$f":"(AF379+AG379)*VLOOKUP(DataByMiles!AE377,DataByMiles!$AT$5:$AU$6,2,FALSE)","v":0},0]
[null,{"$f":"DataByMiles!C378","v":"----374"},{"$f":"DataByMiles!E378*VLOOKUP(DataByMiles!AE378,DataByMiles!$AT$5:$AU$6,2,FALSE)","v":0},null,null,0,{"$f":"C380*$G$2*VLOOKUP(DataByMiles!AE378,DataByMiles!$AT$5:$AU$6,2,FALSE)","v":0},{"$f":"DataByMiles!F378*VLOOKUP(DataByMiles!AE378,DataByMiles!$AT$5:$AU$6,2,FALSE)","v":0},null,null,0,{"$f":"H380*$L$2*VLOOKUP(DataByMiles!AE378,DataByMiles!$AT$5:$AU$6,2,FALSE)","v":0},{"$f":"DataByMiles!G378*VLOOKUP(DataByMiles!AE378,DataByMiles!$AT$5:$AU$6,2,FALSE)","v":0},null,null,{"$f":"M380*$P$2*VLOOKUP(DataByMiles!AE378,DataByMiles!$AT$5:$AU$6,2,FALSE)","v":0},{"$f":"DataByMiles!H378*VLOOKUP(DataByMiles!AE378,DataByMiles!$AT$5:$AU$6,2,FALSE)","v":0},null,null,{"$f":"Q380*$T$2*VLOOKUP(DataByMiles!AE378,DataByMiles!$AT$5:$AU$6,2,FALSE)","v":0},{"$f":"DataByMiles!I378*VLOOKUP(DataByMiles!AE378,DataByMiles!$AT$5:$AU$6,2,FALSE)","v":0},null,null,{"$f":"U380*$X$2*VLOOKUP(DataByMiles!AE378,DataByMiles!$AT$5:$AU$6,2,FALSE)","v":0},{"$f":"DataByMiles!J378*VLOOKUP(DataByMiles!AE378,DataByMiles!$AT$5:$AU$6,2,FALSE)","v":0},{"$f":"DataByMiles!K378","v":0},{"$f":"DataByMiles!L378","v":0},null,null,{"$f":"(Y380/IF(Z380=0,$AD$1,Z380)*$AD$2)/IF(AA380=0,1,AA380)*VLOOKUP(DataByMiles!AE378,DataByMiles!$AT$5:$AU$6,2,FALSE)","v":0},"",0,0,{"$f":"(AF380+AG380)*VLOOKUP(DataByMiles!AE378,DataByMiles!$AT$5:$AU$6,2,FALSE)","v":0},0]
[null,{"$f":"DataByMiles!C379","v":"----375"},{"$f":"DataByMiles!E379*VLOOKUP(DataByMiles!AE379,DataByMiles!$AT$5:$AU$6,2,FALSE)","v":0},null,null,0,{"$f":"C381*$G$2*VLOOKUP(DataByMiles!AE379,DataByMiles!$AT$5:$AU$6,2,FALSE)","v":0},{"$f":"DataByMiles!F379*VLOOKUP(DataByMiles!AE379,DataByMiles!$AT$5:$AU$6,2,FALSE)","v":0},null,null,0,{"$f":"H381*$L$2*VLOOKUP(DataByMiles!AE379,DataByMiles!$AT$5:$AU$6,2,FALSE)","v":0},{"$f":"DataByMiles!G379*VLOOKUP(DataByMiles!AE379,DataByMiles!$AT$5:$AU$6,2,FALSE)","v":0},null,null,{"$f":"M381*$P$2*VLOOKUP(DataByMiles!AE379,DataByMiles!$AT$5:$AU$6,2,FALSE)","v":0},{"$f":"DataByMiles!H379*VLOOKUP(DataByMiles!AE379,DataByMiles!$AT$5:$AU$6,2,FALSE)","v":0},null,null,{"$f":"Q381*$T$2*VLOOKUP(DataByMiles!AE379,DataByMiles!$AT$5:$AU$6,2,FALSE)","v":0},{"$f":"DataByMiles!I379*VLOOKUP(DataByMiles!AE379,DataByMiles!$AT$5:$AU$6,2,FALSE)","v":0},null,null,{"$f":"U381*$X$2*VLOOKUP(DataByMiles!AE379,DataByMiles!$AT$5:$AU$6,2,FALSE)","v":0},{"$f":"DataByMiles!J379*VLOOKUP(DataByMiles!AE379,DataByMiles!$AT$5:$AU$6,2,FALSE)","v":0},{"$f":"DataByMiles!K379","v":0},{"$f":"DataByMiles!L379","v":0},null,null,{"$f":"(Y381/IF(Z381=0,$AD$1,Z381)*$AD$2)/IF(AA381=0,1,AA381)*VLOOKUP(DataByMiles!AE379,DataByMiles!$AT$5:$AU$6,2,FALSE)","v":0},"",0,0,{"$f":"(AF381+AG381)*VLOOKUP(DataByMiles!AE379,DataByMiles!$AT$5:$AU$6,2,FALSE)","v":0},0]
[null,{"$f":"DataByMiles!C380","v":"----376"},{"$f":"DataByMiles!E380*VLOOKUP(DataByMiles!AE380,DataByMiles!$AT$5:$AU$6,2,FALSE)","v":0},null,null,0,{"$f":"C382*$G$2*VLOOKUP(DataByMiles!AE380,DataByMiles!$AT$5:$AU$6,2,FALSE)","v":0},{"$f":"DataByMiles!F380*VLOOKUP(DataByMiles!AE380,DataByMiles!$AT$5:$AU$6,2,FALSE)","v":0},null,null,0,{"$f":"H382*$L$2*VLOOKUP(DataByMiles!AE380,DataByMiles!$AT$5:$AU$6,2,FALSE)","v":0},{"$f":"DataByMiles!G380*VLOOKUP(DataByMiles!AE380,DataByMiles!$AT$5:$AU$6,2,FALSE)","v":0},null,null,{"$f":"M382*$P$2*VLOOKUP(DataByMiles!AE380,DataByMiles!$AT$5:$AU$6,2,FALSE)","v":0},{"$f":"DataByMiles!H380*VLOOKUP(DataByMiles!AE380,DataByMiles!$AT$5:$AU$6,2,FALSE)","v":0},null,null,{"$f":"Q382*$T$2*VLOOKUP(DataByMiles!AE380,DataByMiles!$AT$5:$AU$6,2,FALSE)","v":0},{"$f":"DataByMiles!I380*VLOOKUP(DataByMiles!AE380,DataByMiles!$AT$5:$AU$6,2,FALSE)","v":0},null,null,{"$f":"U382*$X$2*VLOOKUP(DataByMiles!AE380,DataByMiles!$AT$5:$AU$6,2,FALSE)","v":0},{"$f":"DataByMiles!J380*VLOOKUP(DataByMiles!AE380,DataByMiles!$AT$5:$AU$6,2,FALSE)","v":0},{"$f":"DataByMiles!K380","v":0},{"$f":"DataByMiles!L380","v":0},null,null,{"$f":"(Y382/IF(Z382=0,$AD$1,Z382)*$AD$2)/IF(AA382=0,1,AA382)*VLOOKUP(DataByMiles!AE380,DataByMiles!$AT$5:$AU$6,2,FALSE)","v":0},"",0,0,{"$f":"(AF382+AG382)*VLOOKUP(DataByMiles!AE380,DataByMiles!$AT$5:$AU$6,2,FALSE)","v":0},0]
[null,{"$f":"DataByMiles!C381","v":"----377"},{"$f":"DataByMiles!E381*VLOOKUP(DataByMiles!AE381,DataByMiles!$AT$5:$AU$6,2,FALSE)","v":0},null,null,0,{"$f":"C383*$G$2*VLOOKUP(DataByMiles!AE381,DataByMiles!$AT$5:$AU$6,2,FALSE)","v":0},{"$f":"DataByMiles!F381*VLOOKUP(DataByMiles!AE381,DataByMiles!$AT$5:$AU$6,2,FALSE)","v":0},null,null,0,{"$f":"H383*$L$2*VLOOKUP(DataByMiles!AE381,DataByMiles!$AT$5:$AU$6,2,FALSE)","v":0},{"$f":"DataByMiles!G381*VLOOKUP(DataByMiles!AE381,DataByMiles!$AT$5:$AU$6,2,FALSE)","v":0},null,null,{"$f":"M383*$P$2*VLOOKUP(DataByMiles!AE381,DataByMiles!$AT$5:$AU$6,2,FALSE)","v":0},{"$f":"DataByMiles!H381*VLOOKUP(DataByMiles!AE381,DataByMiles!$AT$5:$AU$6,2,FALSE)","v":0},null,null,{"$f":"Q383*$T$2*VLOOKUP(DataByMiles!AE381,DataByMiles!$AT$5:$AU$6,2,FALSE)","v":0},{"$f":"DataByMiles!I381*VLOOKUP(DataByMiles!AE381,DataByMiles!$AT$5:$AU$6,2,FALSE)","v":0},null,null,{"$f":"U383*$X$2*VLOOKUP(DataByMiles!AE381,DataByMiles!$AT$5:$AU$6,2,FALSE)","v":0},{"$f":"DataByMiles!J381*VLOOKUP(DataByMiles!AE381,DataByMiles!$AT$5:$AU$6,2,FALSE)","v":0},{"$f":"DataByMiles!K381","v":0},{"$f":"DataByMiles!L381","v":0},null,null,{"$f":"(Y383/IF(Z383=0,$AD$1,Z383)*$AD$2)/IF(AA383=0,1,AA383)*VLOOKUP(DataByMiles!AE381,DataByMiles!$AT$5:$AU$6,2,FALSE)","v":0},"",0,0,{"$f":"(AF383+AG383)*VLOOKUP(DataByMiles!AE381,DataByMiles!$AT$5:$AU$6,2,FALSE)","v":0},0]
[null,{"$f":"DataByMiles!C382","v":"----378"},{"$f":"DataByMiles!E382*VLOOKUP(DataByMiles!AE382,DataByMiles!$AT$5:$AU$6,2,FALSE)","v":0},null,null,0,{"$f":"C384*$G$2*VLOOKUP(DataByMiles!AE382,DataByMiles!$AT$5:$AU$6,2,FALSE)","v":0},{"$f":"DataByMiles!F382*VLOOKUP(DataByMiles!AE382,DataByMiles!$AT$5:$AU$6,2,FALSE)","v":0},null,null,0,{"$f":"H384*$L$2*VLOOKUP(DataByMiles!AE382,DataByMiles!$AT$5:$AU$6,2,FALSE)","v":0},{"$f":"DataByMiles!G382*VLOOKUP(DataByMiles!AE382,DataByMiles!$AT$5:$AU$6,2,FALSE)","v":0},null,null,{"$f":"M384*$P$2*VLOOKUP(DataByMiles!AE382,DataByMiles!$AT$5:$AU$6,2,FALSE)","v":0},{"$f":"DataByMiles!H382*VLOOKUP(DataByMiles!AE382,DataByMiles!$AT$5:$AU$6,2,FALSE)","v":0},null,null,{"$f":"Q384*$T$2*VLOOKUP(DataByMiles!AE382,DataByMiles!$AT$5:$AU$6,2,FALSE)","v":0},{"$f":"DataByMiles!I382*VLOOKUP(DataByMiles!AE382,DataByMiles!$AT$5:$AU$6,2,FALSE)","v":0},null,null,{"$f":"U384*$X$2*VLOOKUP(DataByMiles!AE382,DataByMiles!$AT$5:$AU$6,2,FALSE)","v":0},{"$f":"DataByMiles!J382*VLOOKUP(DataByMiles!AE382,DataByMiles!$AT$5:$AU$6,2,FALSE)","v":0},{"$f":"DataByMiles!K382","v":0},{"$f":"DataByMiles!L382","v":0},null,null,{"$f":"(Y384/IF(Z384=0,$AD$1,Z384)*$AD$2)/IF(AA384=0,1,AA384)*VLOOKUP(DataByMiles!AE382,DataByMiles!$AT$5:$AU$6,2,FALSE)","v":0},"",0,0,{"$f":"(AF384+AG384)*VLOOKUP(DataByMiles!AE382,DataByMiles!$AT$5:$AU$6,2,FALSE)","v":0},0]
[null,{"$f":"DataByMiles!C383","v":"----379"},{"$f":"DataByMiles!E383*VLOOKUP(DataByMiles!AE383,DataByMiles!$AT$5:$AU$6,2,FALSE)","v":0},null,null,0,{"$f":"C385*$G$2*VLOOKUP(DataByMiles!AE383,DataByMiles!$AT$5:$AU$6,2,FALSE)","v":0},{"$f":"DataByMiles!F383*VLOOKUP(DataByMiles!AE383,DataByMiles!$AT$5:$AU$6,2,FALSE)","v":0},null,null,0,{"$f":"H385*$L$2*VLOOKUP(DataByMiles!AE383,DataByMiles!$AT$5:$AU$6,2,FALSE)","v":0},{"$f":"DataByMiles!G383*VLOOKUP(DataByMiles!AE383,DataByMiles!$AT$5:$AU$6,2,FALSE)","v":0},null,null,{"$f":"M385*$P$2*VLOOKUP(DataByMiles!AE383,DataByMiles!$AT$5:$AU$6,2,FALSE)","v":0},{"$f":"DataByMiles!H383*VLOOKUP(DataByMiles!AE383,DataByMiles!$AT$5:$AU$6,2,FALSE)","v":0},null,null,{"$f":"Q385*$T$2*VLOOKUP(DataByMiles!AE383,DataByMiles!$AT$5:$AU$6,2,FALSE)","v":0},{"$f":"DataByMiles!I383*VLOOKUP(DataByMiles!AE383,DataByMiles!$AT$5:$AU$6,2,FALSE)","v":0},null,null,{"$f":"U385*$X$2*VLOOKUP(DataByMiles!AE383,DataByMiles!$AT$5:$AU$6,2,FALSE)","v":0},{"$f":"DataByMiles!J383*VLOOKUP(DataByMiles!AE383,DataByMiles!$AT$5:$AU$6,2,FALSE)","v":0},{"$f":"DataByMiles!K383","v":0},{"$f":"DataByMiles!L383","v":0},null,null,{"$f":"(Y385/IF(Z385=0,$AD$1,Z385)*$AD$2)/IF(AA385=0,1,AA385)*VLOOKUP(DataByMiles!AE383,DataByMiles!$AT$5:$AU$6,2,FALSE)","v":0},"",0,0,{"$f":"(AF385+AG385)*VLOOKUP(DataByMiles!AE383,DataByMiles!$AT$5:$AU$6,2,FALSE)","v":0},0]
[null,{"$f":"DataByMiles!C384","v":"----380"},{"$f":"DataByMiles!E384*VLOOKUP(DataByMiles!AE384,DataByMiles!$AT$5:$AU$6,2,FALSE)","v":0},null,null,0,{"$f":"C386*$G$2*VLOOKUP(DataByMiles!AE384,DataByMiles!$AT$5:$AU$6,2,FALSE)","v":0},{"$f":"DataByMiles!F384*VLOOKUP(DataByMiles!AE384,DataByMiles!$AT$5:$AU$6,2,FALSE)","v":0},null,null,0,{"$f":"H386*$L$2*VLOOKUP(DataByMiles!AE384,DataByMiles!$AT$5:$AU$6,2,FALSE)","v":0},{"$f":"DataByMiles!G384*VLOOKUP(DataByMiles!AE384,DataByMiles!$AT$5:$AU$6,2,FALSE)","v":0},null,null,{"$f":"M386*$P$2*VLOOKUP(DataByMiles!AE384,DataByMiles!$AT$5:$AU$6,2,FALSE)","v":0},{"$f":"DataByMiles!H384*VLOOKUP(DataByMiles!AE384,DataByMiles!$AT$5:$AU$6,2,FALSE)","v":0},null,null,{"$f":"Q386*$T$2*VLOOKUP(DataByMiles!AE384,DataByMiles!$AT$5:$AU$6,2,FALSE)","v":0},{"$f":"DataByMiles!I384*VLOOKUP(DataByMiles!AE384,DataByMiles!$AT$5:$AU$6,2,FALSE)","v":0},null,null,{"$f":"U386*$X$2*VLOOKUP(DataByMiles!AE384,DataByMiles!$AT$5:$AU$6,2,FALSE)","v":0},{"$f":"DataByMiles!J384*VLOOKUP(DataByMiles!AE384,DataByMiles!$AT$5:$AU$6,2,FALSE)","v":0},{"$f":"DataByMiles!K384","v":0},{"$f":"DataByMiles!L384","v":0},null,null,{"$f":"(Y386/IF(Z386=0,$AD$1,Z386)*$AD$2)/IF(AA386=0,1,AA386)*VLOOKUP(DataByMiles!AE384,DataByMiles!$AT$5:$AU$6,2,FALSE)","v":0},"",0,0,{"$f":"(AF386+AG386)*VLOOKUP(DataByMiles!AE384,DataByMiles!$AT$5:$AU$6,2,FALSE)","v":0},0]
[null,{"$f":"DataByMiles!C385","v":"----381"},{"$f":"DataByMiles!E385*VLOOKUP(DataByMiles!AE385,DataByMiles!$AT$5:$AU$6,2,FALSE)","v":0},null,null,0,{"$f":"C387*$G$2*VLOOKUP(DataByMiles!AE385,DataByMiles!$AT$5:$AU$6,2,FALSE)","v":0},{"$f":"DataByMiles!F385*VLOOKUP(DataByMiles!AE385,DataByMiles!$AT$5:$AU$6,2,FALSE)","v":0},null,null,0,{"$f":"H387*$L$2*VLOOKUP(DataByMiles!AE385,DataByMiles!$AT$5:$AU$6,2,FALSE)","v":0},{"$f":"DataByMiles!G385*VLOOKUP(DataByMiles!AE385,DataByMiles!$AT$5:$AU$6,2,FALSE)","v":0},null,null,{"$f":"M387*$P$2*VLOOKUP(DataByMiles!AE385,DataByMiles!$AT$5:$AU$6,2,FALSE)","v":0},{"$f":"DataByMiles!H385*VLOOKUP(DataByMiles!AE385,DataByMiles!$AT$5:$AU$6,2,FALSE)","v":0},null,null,{"$f":"Q387*$T$2*VLOOKUP(DataByMiles!AE385,DataByMiles!$AT$5:$AU$6,2,FALSE)","v":0},{"$f":"DataByMiles!I385*VLOOKUP(DataByMiles!AE385,DataByMiles!$AT$5:$AU$6,2,FALSE)","v":0},null,null,{"$f":"U387*$X$2*VLOOKUP(DataByMiles!AE385,DataByMiles!$AT$5:$AU$6,2,FALSE)","v":0},{"$f":"DataByMiles!J385*VLOOKUP(DataByMiles!AE385,DataByMiles!$AT$5:$AU$6,2,FALSE)","v":0},{"$f":"DataByMiles!K385","v":0},{"$f":"DataByMiles!L385","v":0},null,null,{"$f":"(Y387/IF(Z387=0,$AD$1,Z387)*$AD$2)/IF(AA387=0,1,AA387)*VLOOKUP(DataByMiles!AE385,DataByMiles!$AT$5:$AU$6,2,FALSE)","v":0},"",0,0,{"$f":"(AF387+AG387)*VLOOKUP(DataByMiles!AE385,DataByMiles!$AT$5:$AU$6,2,FALSE)","v":0},0]
[null,{"$f":"DataByMiles!C386","v":"----382"},{"$f":"DataByMiles!E386*VLOOKUP(DataByMiles!AE386,DataByMiles!$AT$5:$AU$6,2,FALSE)","v":0},null,null,0,{"$f":"C388*$G$2*VLOOKUP(DataByMiles!AE386,DataByMiles!$AT$5:$AU$6,2,FALSE)","v":0},{"$f":"DataByMiles!F386*VLOOKUP(DataByMiles!AE386,DataByMiles!$AT$5:$AU$6,2,FALSE)","v":0},null,null,0,{"$f":"H388*$L$2*VLOOKUP(DataByMiles!AE386,DataByMiles!$AT$5:$AU$6,2,FALSE)","v":0},{"$f":"DataByMiles!G386*VLOOKUP(DataByMiles!AE386,DataByMiles!$AT$5:$AU$6,2,FALSE)","v":0},null,null,{"$f":"M388*$P$2*VLOOKUP(DataByMiles!AE386,DataByMiles!$AT$5:$AU$6,2,FALSE)","v":0},{"$f":"DataByMiles!H386*VLOOKUP(DataByMiles!AE386,DataByMiles!$AT$5:$AU$6,2,FALSE)","v":0},null,null,{"$f":"Q388*$T$2*VLOOKUP(DataByMiles!AE386,DataByMiles!$AT$5:$AU$6,2,FALSE)","v":0},{"$f":"DataByMiles!I386*VLOOKUP(DataByMiles!AE386,DataByMiles!$AT$5:$AU$6,2,FALSE)","v":0},null,null,{"$f":"U388*$X$2*VLOOKUP(DataByMiles!AE386,DataByMiles!$AT$5:$AU$6,2,FALSE)","v":0},{"$f":"DataByMiles!J386*VLOOKUP(DataByMiles!AE386,DataByMiles!$AT$5:$AU$6,2,FALSE)","v":0},{"$f":"DataByMiles!K386","v":0},{"$f":"DataByMiles!L386","v":0},null,null,{"$f":"(Y388/IF(Z388=0,$AD$1,Z388)*$AD$2)/IF(AA388=0,1,AA388)*VLOOKUP(DataByMiles!AE386,DataByMiles!$AT$5:$AU$6,2,FALSE)","v":0},"",0,0,{"$f":"(AF388+AG388)*VLOOKUP(DataByMiles!AE386,DataByMiles!$AT$5:$AU$6,2,FALSE)","v":0},0]
[null,{"$f":"DataByMiles!C387","v":"----383"},{"$f":"DataByMiles!E387*VLOOKUP(DataByMiles!AE387,DataByMiles!$AT$5:$AU$6,2,FALSE)","v":0},null,null,0,{"$f":"C389*$G$2*VLOOKUP(DataByMiles!AE387,DataByMiles!$AT$5:$AU$6,2,FALSE)","v":0},{"$f":"DataByMiles!F387*VLOOKUP(DataByMiles!AE387,DataByMiles!$AT$5:$AU$6,2,FALSE)","v":0},null,null,0,{"$f":"H389*$L$2*VLOOKUP(DataByMiles!AE387,DataByMiles!$AT$5:$AU$6,2,FALSE)","v":0},{"$f":"DataByMiles!G387*VLOOKUP(DataByMiles!AE387,DataByMiles!$AT$5:$AU$6,2,FALSE)","v":0},null,null,{"$f":"M389*$P$2*VLOOKUP(DataByMiles!AE387,DataByMiles!$AT$5:$AU$6,2,FALSE)","v":0},{"$f":"DataByMiles!H387*VLOOKUP(DataByMiles!AE387,DataByMiles!$AT$5:$AU$6,2,FALSE)","v":0},null,null,{"$f":"Q389*$T$2*VLOOKUP(DataByMiles!AE387,DataByMiles!$AT$5:$AU$6,2,FALSE)","v":0},{"$f":"DataByMiles!I387*VLOOKUP(DataByMiles!AE387,DataByMiles!$AT$5:$AU$6,2,FALSE)","v":0},null,null,{"$f":"U389*$X$2*VLOOKUP(DataByMiles!AE387,DataByMiles!$AT$5:$AU$6,2,FALSE)","v":0},{"$f":"DataByMiles!J387*VLOOKUP(DataByMiles!AE387,DataByMiles!$AT$5:$AU$6,2,FALSE)","v":0},{"$f":"DataByMiles!K387","v":0},{"$f":"DataByMiles!L387","v":0},null,null,{"$f":"(Y389/IF(Z389=0,$AD$1,Z389)*$AD$2)/IF(AA389=0,1,AA389)*VLOOKUP(DataByMiles!AE387,DataByMiles!$AT$5:$AU$6,2,FALSE)","v":0},"",0,0,{"$f":"(AF389+AG389)*VLOOKUP(DataByMiles!AE387,DataByMiles!$AT$5:$AU$6,2,FALSE)","v":0},0]
[null,{"$f":"DataByMiles!C388","v":"----384"},{"$f":"DataByMiles!E388*VLOOKUP(DataByMiles!AE388,DataByMiles!$AT$5:$AU$6,2,FALSE)","v":0},null,null,0,{"$f":"C390*$G$2*VLOOKUP(DataByMiles!AE388,DataByMiles!$AT$5:$AU$6,2,FALSE)","v":0},{"$f":"DataByMiles!F388*VLOOKUP(DataByMiles!AE388,DataByMiles!$AT$5:$AU$6,2,FALSE)","v":0},null,null,0,{"$f":"H390*$L$2*VLOOKUP(DataByMiles!AE388,DataByMiles!$AT$5:$AU$6,2,FALSE)","v":0},{"$f":"DataByMiles!G388*VLOOKUP(DataByMiles!AE388,DataByMiles!$AT$5:$AU$6,2,FALSE)","v":0},null,null,{"$f":"M390*$P$2*VLOOKUP(DataByMiles!AE388,DataByMiles!$AT$5:$AU$6,2,FALSE)","v":0},{"$f":"DataByMiles!H388*VLOOKUP(DataByMiles!AE388,DataByMiles!$AT$5:$AU$6,2,FALSE)","v":0},null,null,{"$f":"Q390*$T$2*VLOOKUP(DataByMiles!AE388,DataByMiles!$AT$5:$AU$6,2,FALSE)","v":0},{"$f":"DataByMiles!I388*VLOOKUP(DataByMiles!AE388,DataByMiles!$AT$5:$AU$6,2,FALSE)","v":0},null,null,{"$f":"U390*$X$2*VLOOKUP(DataByMiles!AE388,DataByMiles!$AT$5:$AU$6,2,FALSE)","v":0},{"$f":"DataByMiles!J388*VLOOKUP(DataByMiles!AE388,DataByMiles!$AT$5:$AU$6,2,FALSE)","v":0},{"$f":"DataByMiles!K388","v":0},{"$f":"DataByMiles!L388","v":0},null,null,{"$f":"(Y390/IF(Z390=0,$AD$1,Z390)*$AD$2)/IF(AA390=0,1,AA390)*VLOOKUP(DataByMiles!AE388,DataByMiles!$AT$5:$AU$6,2,FALSE)","v":0},"",0,0,{"$f":"(AF390+AG390)*VLOOKUP(DataByMiles!AE388,DataByMiles!$AT$5:$AU$6,2,FALSE)","v":0},0]
[null,{"$f":"DataByMiles!C389","v":"----385"},{"$f":"DataByMiles!E389*VLOOKUP(DataByMiles!AE389,DataByMiles!$AT$5:$AU$6,2,FALSE)","v":0},null,null,0,{"$f":"C391*$G$2*VLOOKUP(DataByMiles!AE389,DataByMiles!$AT$5:$AU$6,2,FALSE)","v":0},{"$f":"DataByMiles!F389*VLOOKUP(DataByMiles!AE389,DataByMiles!$AT$5:$AU$6,2,FALSE)","v":0},null,null,0,{"$f":"H391*$L$2*VLOOKUP(DataByMiles!AE389,DataByMiles!$AT$5:$AU$6,2,FALSE)","v":0},{"$f":"DataByMiles!G389*VLOOKUP(DataByMiles!AE389,DataByMiles!$AT$5:$AU$6,2,FALSE)","v":0},null,null,{"$f":"M391*$P$2*VLOOKUP(DataByMiles!AE389,DataByMiles!$AT$5:$AU$6,2,FALSE)","v":0},{"$f":"DataByMiles!H389*VLOOKUP(DataByMiles!AE389,DataByMiles!$AT$5:$AU$6,2,FALSE)","v":0},null,null,{"$f":"Q391*$T$2*VLOOKUP(DataByMiles!AE389,DataByMiles!$AT$5:$AU$6,2,FALSE)","v":0},{"$f":"DataByMiles!I389*VLOOKUP(DataByMiles!AE389,DataByMiles!$AT$5:$AU$6,2,FALSE)","v":0},null,null,{"$f":"U391*$X$2*VLOOKUP(DataByMiles!AE389,DataByMiles!$AT$5:$AU$6,2,FALSE)","v":0},{"$f":"DataByMiles!J389*VLOOKUP(DataByMiles!AE389,DataByMiles!$AT$5:$AU$6,2,FALSE)","v":0},{"$f":"DataByMiles!K389","v":0},{"$f":"DataByMiles!L389","v":0},null,null,{"$f":"(Y391/IF(Z391=0,$AD$1,Z391)*$AD$2)/IF(AA391=0,1,AA391)*VLOOKUP(DataByMiles!AE389,DataByMiles!$AT$5:$AU$6,2,FALSE)","v":0},"",0,0,{"$f":"(AF391+AG391)*VLOOKUP(DataByMiles!AE389,DataByMiles!$AT$5:$AU$6,2,FALSE)","v":0},0]
[null,{"$f":"DataByMiles!C390","v":"----386"},{"$f":"DataByMiles!E390*VLOOKUP(DataByMiles!AE390,DataByMiles!$AT$5:$AU$6,2,FALSE)","v":0},null,null,0,{"$f":"C392*$G$2*VLOOKUP(DataByMiles!AE390,DataByMiles!$AT$5:$AU$6,2,FALSE)","v":0},{"$f":"DataByMiles!F390*VLOOKUP(DataByMiles!AE390,DataByMiles!$AT$5:$AU$6,2,FALSE)","v":0},null,null,0,{"$f":"H392*$L$2*VLOOKUP(DataByMiles!AE390,DataByMiles!$AT$5:$AU$6,2,FALSE)","v":0},{"$f":"DataByMiles!G390*VLOOKUP(DataByMiles!AE390,DataByMiles!$AT$5:$AU$6,2,FALSE)","v":0},null,null,{"$f":"M392*$P$2*VLOOKUP(DataByMiles!AE390,DataByMiles!$AT$5:$AU$6,2,FALSE)","v":0},{"$f":"DataByMiles!H390*VLOOKUP(DataByMiles!AE390,DataByMiles!$AT$5:$AU$6,2,FALSE)","v":0},null,null,{"$f":"Q392*$T$2*VLOOKUP(DataByMiles!AE390,DataByMiles!$AT$5:$AU$6,2,FALSE)","v":0},{"$f":"DataByMiles!I390*VLOOKUP(DataByMiles!AE390,DataByMiles!$AT$5:$AU$6,2,FALSE)","v":0},null,null,{"$f":"U392*$X$2*VLOOKUP(DataByMiles!AE390,DataByMiles!$AT$5:$AU$6,2,FALSE)","v":0},{"$f":"DataByMiles!J390*VLOOKUP(DataByMiles!AE390,DataByMiles!$AT$5:$AU$6,2,FALSE)","v":0},{"$f":"DataByMiles!K390","v":0},{"$f":"DataByMiles!L390","v":0},null,null,{"$f":"(Y392/IF(Z392=0,$AD$1,Z392)*$AD$2)/IF(AA392=0,1,AA392)*VLOOKUP(DataByMiles!AE390,DataByMiles!$AT$5:$AU$6,2,FALSE)","v":0},"",0,0,{"$f":"(AF392+AG392)*VLOOKUP(DataByMiles!AE390,DataByMiles!$AT$5:$AU$6,2,FALSE)","v":0},0]
[null,{"$f":"DataByMiles!C391","v":"----387"},{"$f":"DataByMiles!E391*VLOOKUP(DataByMiles!AE391,DataByMiles!$AT$5:$AU$6,2,FALSE)","v":0},null,null,0,{"$f":"C393*$G$2*VLOOKUP(DataByMiles!AE391,DataByMiles!$AT$5:$AU$6,2,FALSE)","v":0},{"$f":"DataByMiles!F391*VLOOKUP(DataByMiles!AE391,DataByMiles!$AT$5:$AU$6,2,FALSE)","v":0},null,null,0,{"$f":"H393*$L$2*VLOOKUP(DataByMiles!AE391,DataByMiles!$AT$5:$AU$6,2,FALSE)","v":0},{"$f":"DataByMiles!G391*VLOOKUP(DataByMiles!AE391,DataByMiles!$AT$5:$AU$6,2,FALSE)","v":0},null,null,{"$f":"M393*$P$2*VLOOKUP(DataByMiles!AE391,DataByMiles!$AT$5:$AU$6,2,FALSE)","v":0},{"$f":"DataByMiles!H391*VLOOKUP(DataByMiles!AE391,DataByMiles!$AT$5:$AU$6,2,FALSE)","v":0},null,null,{"$f":"Q393*$T$2*VLOOKUP(DataByMiles!AE391,DataByMiles!$AT$5:$AU$6,2,FALSE)","v":0},{"$f":"DataByMiles!I391*VLOOKUP(DataByMiles!AE391,DataByMiles!$AT$5:$AU$6,2,FALSE)","v":0},null,null,{"$f":"U393*$X$2*VLOOKUP(DataByMiles!AE391,DataByMiles!$AT$5:$AU$6,2,FALSE)","v":0},{"$f":"DataByMiles!J391*VLOOKUP(DataByMiles!AE391,DataByMiles!$AT$5:$AU$6,2,FALSE)","v":0},{"$f":"DataByMiles!K391","v":0},{"$f":"DataByMiles!L391","v":0},null,null,{"$f":"(Y393/IF(Z393=0,$AD$1,Z393)*$AD$2)/IF(AA393=0,1,AA393)*VLOOKUP(DataByMiles!AE391,DataByMiles!$AT$5:$AU$6,2,FALSE)","v":0},"",0,0,{"$f":"(AF393+AG393)*VLOOKUP(DataByMiles!AE391,DataByMiles!$AT$5:$AU$6,2,FALSE)","v":0},0]
[null,{"$f":"DataByMiles!C392","v":"----388"},{"$f":"DataByMiles!E392*VLOOKUP(DataByMiles!AE392,DataByMiles!$AT$5:$AU$6,2,FALSE)","v":0},null,null,0,{"$f":"C394*$G$2*VLOOKUP(DataByMiles!AE392,DataByMiles!$AT$5:$AU$6,2,FALSE)","v":0},{"$f":"DataByMiles!F392*VLOOKUP(DataByMiles!AE392,DataByMiles!$AT$5:$AU$6,2,FALSE)","v":0},null,null,0,{"$f":"H394*$L$2*VLOOKUP(DataByMiles!AE392,DataByMiles!$AT$5:$AU$6,2,FALSE)","v":0},{"$f":"DataByMiles!G392*VLOOKUP(DataByMiles!AE392,DataByMiles!$AT$5:$AU$6,2,FALSE)","v":0},null,null,{"$f":"M394*$P$2*VLOOKUP(DataByMiles!AE392,DataByMiles!$AT$5:$AU$6,2,FALSE)","v":0},{"$f":"DataByMiles!H392*VLOOKUP(DataByMiles!AE392,DataByMiles!$AT$5:$AU$6,2,FALSE)","v":0},null,null,{"$f":"Q394*$T$2*VLOOKUP(DataByMiles!AE392,DataByMiles!$AT$5:$AU$6,2,FALSE)","v":0},{"$f":"DataByMiles!I392*VLOOKUP(DataByMiles!AE392,DataByMiles!$AT$5:$AU$6,2,FALSE)","v":0},null,null,{"$f":"U394*$X$2*VLOOKUP(DataByMiles!AE392,DataByMiles!$AT$5:$AU$6,2,FALSE)","v":0},{"$f":"DataByMiles!J392*VLOOKUP(DataByMiles!AE392,DataByMiles!$AT$5:$AU$6,2,FALSE)","v":0},{"$f":"DataByMiles!K392","v":0},{"$f":"DataByMiles!L392","v":0},null,null,{"$f":"(Y394/IF(Z394=0,$AD$1,Z394)*$AD$2)/IF(AA394=0,1,AA394)*VLOOKUP(DataByMiles!AE392,DataByMiles!$AT$5:$AU$6,2,FALSE)","v":0},"",0,0,{"$f":"(AF394+AG394)*VLOOKUP(DataByMiles!AE392,DataByMiles!$AT$5:$AU$6,2,FALSE)","v":0},0]
[null,{"$f":"DataByMiles!C393","v":"----389"},{"$f":"DataByMiles!E393*VLOOKUP(DataByMiles!AE393,DataByMiles!$AT$5:$AU$6,2,FALSE)","v":0},null,null,0,{"$f":"C395*$G$2*VLOOKUP(DataByMiles!AE393,DataByMiles!$AT$5:$AU$6,2,FALSE)","v":0},{"$f":"DataByMiles!F393*VLOOKUP(DataByMiles!AE393,DataByMiles!$AT$5:$AU$6,2,FALSE)","v":0},null,null,0,{"$f":"H395*$L$2*VLOOKUP(DataByMiles!AE393,DataByMiles!$AT$5:$AU$6,2,FALSE)","v":0},{"$f":"DataByMiles!G393*VLOOKUP(DataByMiles!AE393,DataByMiles!$AT$5:$AU$6,2,FALSE)","v":0},null,null,{"$f":"M395*$P$2*VLOOKUP(DataByMiles!AE393,DataByMiles!$AT$5:$AU$6,2,FALSE)","v":0},{"$f":"DataByMiles!H393*VLOOKUP(DataByMiles!AE393,DataByMiles!$AT$5:$AU$6,2,FALSE)","v":0},null,null,{"$f":"Q395*$T$2*VLOOKUP(DataByMiles!AE393,DataByMiles!$AT$5:$AU$6,2,FALSE)","v":0},{"$f":"DataByMiles!I393*VLOOKUP(DataByMiles!AE393,DataByMiles!$AT$5:$AU$6,2,FALSE)","v":0},null,null,{"$f":"U395*$X$2*VLOOKUP(DataByMiles!AE393,DataByMiles!$AT$5:$AU$6,2,FALSE)","v":0},{"$f":"DataByMiles!J393*VLOOKUP(DataByMiles!AE393,DataByMiles!$AT$5:$AU$6,2,FALSE)","v":0},{"$f":"DataByMiles!K393","v":0},{"$f":"DataByMiles!L393","v":0},null,null,{"$f":"(Y395/IF(Z395=0,$AD$1,Z395)*$AD$2)/IF(AA395=0,1,AA395)*VLOOKUP(DataByMiles!AE393,DataByMiles!$AT$5:$AU$6,2,FALSE)","v":0},"",0,0,{"$f":"(AF395+AG395)*VLOOKUP(DataByMiles!AE393,DataByMiles!$AT$5:$AU$6,2,FALSE)","v":0},0]
[null,{"$f":"DataByMiles!C394","v":"----390"},{"$f":"DataByMiles!E394*VLOOKUP(DataByMiles!AE394,DataByMiles!$AT$5:$AU$6,2,FALSE)","v":0},null,null,0,{"$f":"C396*$G$2*VLOOKUP(DataByMiles!AE394,DataByMiles!$AT$5:$AU$6,2,FALSE)","v":0},{"$f":"DataByMiles!F394*VLOOKUP(DataByMiles!AE394,DataByMiles!$AT$5:$AU$6,2,FALSE)","v":0},null,null,0,{"$f":"H396*$L$2*VLOOKUP(DataByMiles!AE394,DataByMiles!$AT$5:$AU$6,2,FALSE)","v":0},{"$f":"DataByMiles!G394*VLOOKUP(DataByMiles!AE394,DataByMiles!$AT$5:$AU$6,2,FALSE)","v":0},null,null,{"$f":"M396*$P$2*VLOOKUP(DataByMiles!AE394,DataByMiles!$AT$5:$AU$6,2,FALSE)","v":0},{"$f":"DataByMiles!H394*VLOOKUP(DataByMiles!AE394,DataByMiles!$AT$5:$AU$6,2,FALSE)","v":0},null,null,{"$f":"Q396*$T$2*VLOOKUP(DataByMiles!AE394,DataByMiles!$AT$5:$AU$6,2,FALSE)","v":0},{"$f":"DataByMiles!I394*VLOOKUP(DataByMiles!AE394,DataByMiles!$AT$5:$AU$6,2,FALSE)","v":0},null,null,{"$f":"U396*$X$2*VLOOKUP(DataByMiles!AE394,DataByMiles!$AT$5:$AU$6,2,FALSE)","v":0},{"$f":"DataByMiles!J394*VLOOKUP(DataByMiles!AE394,DataByMiles!$AT$5:$AU$6,2,FALSE)","v":0},{"$f":"DataByMiles!K394","v":0},{"$f":"DataByMiles!L394","v":0},null,null,{"$f":"(Y396/IF(Z396=0,$AD$1,Z396)*$AD$2)/IF(AA396=0,1,AA396)*VLOOKUP(DataByMiles!AE394,DataByMiles!$AT$5:$AU$6,2,FALSE)","v":0},"",0,0,{"$f":"(AF396+AG396)*VLOOKUP(DataByMiles!AE394,DataByMiles!$AT$5:$AU$6,2,FALSE)","v":0},0]
[null,{"$f":"DataByMiles!C395","v":"----391"},{"$f":"DataByMiles!E395*VLOOKUP(DataByMiles!AE395,DataByMiles!$AT$5:$AU$6,2,FALSE)","v":0},null,null,0,{"$f":"C397*$G$2*VLOOKUP(DataByMiles!AE395,DataByMiles!$AT$5:$AU$6,2,FALSE)","v":0},{"$f":"DataByMiles!F395*VLOOKUP(DataByMiles!AE395,DataByMiles!$AT$5:$AU$6,2,FALSE)","v":0},null,null,0,{"$f":"H397*$L$2*VLOOKUP(DataByMiles!AE395,DataByMiles!$AT$5:$AU$6,2,FALSE)","v":0},{"$f":"DataByMiles!G395*VLOOKUP(DataByMiles!AE395,DataByMiles!$AT$5:$AU$6,2,FALSE)","v":0},null,null,{"$f":"M397*$P$2*VLOOKUP(DataByMiles!AE395,DataByMiles!$AT$5:$AU$6,2,FALSE)","v":0},{"$f":"DataByMiles!H395*VLOOKUP(DataByMiles!AE395,DataByMiles!$AT$5:$AU$6,2,FALSE)","v":0},null,null,{"$f":"Q397*$T$2*VLOOKUP(DataByMiles!AE395,DataByMiles!$AT$5:$AU$6,2,FALSE)","v":0},{"$f":"DataByMiles!I395*VLOOKUP(DataByMiles!AE395,DataByMiles!$AT$5:$AU$6,2,FALSE)","v":0},null,null,{"$f":"U397*$X$2*VLOOKUP(DataByMiles!AE395,DataByMiles!$AT$5:$AU$6,2,FALSE)","v":0},{"$f":"DataByMiles!J395*VLOOKUP(DataByMiles!AE395,DataByMiles!$AT$5:$AU$6,2,FALSE)","v":0},{"$f":"DataByMiles!K395","v":0},{"$f":"DataByMiles!L395","v":0},null,null,{"$f":"(Y397/IF(Z397=0,$AD$1,Z397)*$AD$2)/IF(AA397=0,1,AA397)*VLOOKUP(DataByMiles!AE395,DataByMiles!$AT$5:$AU$6,2,FALSE)","v":0},"",0,0,{"$f":"(AF397+AG397)*VLOOKUP(DataByMiles!AE395,DataByMiles!$AT$5:$AU$6,2,FALSE)","v":0},0]
[null,{"$f":"DataByMiles!C396","v":"----392"},{"$f":"DataByMiles!E396*VLOOKUP(DataByMiles!AE396,DataByMiles!$AT$5:$AU$6,2,FALSE)","v":0},null,null,0,{"$f":"C398*$G$2*VLOOKUP(DataByMiles!AE396,DataByMiles!$AT$5:$AU$6,2,FALSE)","v":0},{"$f":"DataByMiles!F396*VLOOKUP(DataByMiles!AE396,DataByMiles!$AT$5:$AU$6,2,FALSE)","v":0},null,null,0,{"$f":"H398*$L$2*VLOOKUP(DataByMiles!AE396,DataByMiles!$AT$5:$AU$6,2,FALSE)","v":0},{"$f":"DataByMiles!G396*VLOOKUP(DataByMiles!AE396,DataByMiles!$AT$5:$AU$6,2,FALSE)","v":0},null,null,{"$f":"M398*$P$2*VLOOKUP(DataByMiles!AE396,DataByMiles!$AT$5:$AU$6,2,FALSE)","v":0},{"$f":"DataByMiles!H396*VLOOKUP(DataByMiles!AE396,DataByMiles!$AT$5:$AU$6,2,FALSE)","v":0},null,null,{"$f":"Q398*$T$2*VLOOKUP(DataByMiles!AE396,DataByMiles!$AT$5:$AU$6,2,FALSE)","v":0},{"$f":"DataByMiles!I396*VLOOKUP(DataByMiles!AE396,DataByMiles!$AT$5:$AU$6,2,FALSE)","v":0},null,null,{"$f":"U398*$X$2*VLOOKUP(DataByMiles!AE396,DataByMiles!$AT$5:$AU$6,2,FALSE)","v":0},{"$f":"DataByMiles!J396*VLOOKUP(DataByMiles!AE396,DataByMiles!$AT$5:$AU$6,2,FALSE)","v":0},{"$f":"DataByMiles!K396","v":0},{"$f":"DataByMiles!L396","v":0},null,null,{"$f":"(Y398/IF(Z398=0,$AD$1,Z398)*$AD$2)/IF(AA398=0,1,AA398)*VLOOKUP(DataByMiles!AE396,DataByMiles!$AT$5:$AU$6,2,FALSE)","v":0},"",0,0,{"$f":"(AF398+AG398)*VLOOKUP(DataByMiles!AE396,DataByMiles!$AT$5:$AU$6,2,FALSE)","v":0},0]
[null,{"$f":"DataByMiles!C397","v":"----393"},{"$f":"DataByMiles!E397*VLOOKUP(DataByMiles!AE397,DataByMiles!$AT$5:$AU$6,2,FALSE)","v":0},null,null,0,{"$f":"C399*$G$2*VLOOKUP(DataByMiles!AE397,DataByMiles!$AT$5:$AU$6,2,FALSE)","v":0},{"$f":"DataByMiles!F397*VLOOKUP(DataByMiles!AE397,DataByMiles!$AT$5:$AU$6,2,FALSE)","v":0},null,null,0,{"$f":"H399*$L$2*VLOOKUP(DataByMiles!AE397,DataByMiles!$AT$5:$AU$6,2,FALSE)","v":0},{"$f":"DataByMiles!G397*VLOOKUP(DataByMiles!AE397,DataByMiles!$AT$5:$AU$6,2,FALSE)","v":0},null,null,{"$f":"M399*$P$2*VLOOKUP(DataByMiles!AE397,DataByMiles!$AT$5:$AU$6,2,FALSE)","v":0},{"$f":"DataByMiles!H397*VLOOKUP(DataByMiles!AE397,DataByMiles!$AT$5:$AU$6,2,FALSE)","v":0},null,null,{"$f":"Q399*$T$2*VLOOKUP(DataByMiles!AE397,DataByMiles!$AT$5:$AU$6,2,FALSE)","v":0},{"$f":"DataByMiles!I397*VLOOKUP(DataByMiles!AE397,DataByMiles!$AT$5:$AU$6,2,FALSE)","v":0},null,null,{"$f":"U399*$X$2*VLOOKUP(DataByMiles!AE397,DataByMiles!$AT$5:$AU$6,2,FALSE)","v":0},{"$f":"DataByMiles!J397*VLOOKUP(DataByMiles!AE397,DataByMiles!$AT$5:$AU$6,2,FALSE)","v":0},{"$f":"DataByMiles!K397","v":0},{"$f":"DataByMiles!L397","v":0},null,null,{"$f":"(Y399/IF(Z399=0,$AD$1,Z399)*$AD$2)/IF(AA399=0,1,AA399)*VLOOKUP(DataByMiles!AE397,DataByMiles!$AT$5:$AU$6,2,FALSE)","v":0},"",0,0,{"$f":"(AF399+AG399)*VLOOKUP(DataByMiles!AE397,DataByMiles!$AT$5:$AU$6,2,FALSE)","v":0},0]
[null,{"$f":"DataByMiles!C398","v":"----394"},{"$f":"DataByMiles!E398*VLOOKUP(DataByMiles!AE398,DataByMiles!$AT$5:$AU$6,2,FALSE)","v":0},null,null,0,{"$f":"C400*$G$2*VLOOKUP(DataByMiles!AE398,DataByMiles!$AT$5:$AU$6,2,FALSE)","v":0},{"$f":"DataByMiles!F398*VLOOKUP(DataByMiles!AE398,DataByMiles!$AT$5:$AU$6,2,FALSE)","v":0},null,null,0,{"$f":"H400*$L$2*VLOOKUP(DataByMiles!AE398,DataByMiles!$AT$5:$AU$6,2,FALSE)","v":0},{"$f":"DataByMiles!G398*VLOOKUP(DataByMiles!AE398,DataByMiles!$AT$5:$AU$6,2,FALSE)","v":0},null,null,{"$f":"M400*$P$2*VLOOKUP(DataByMiles!AE398,DataByMiles!$AT$5:$AU$6,2,FALSE)","v":0},{"$f":"DataByMiles!H398*VLOOKUP(DataByMiles!AE398,DataByMiles!$AT$5:$AU$6,2,FALSE)","v":0},null,null,{"$f":"Q400*$T$2*VLOOKUP(DataByMiles!AE398,DataByMiles!$AT$5:$AU$6,2,FALSE)","v":0},{"$f":"DataByMiles!I398*VLOOKUP(DataByMiles!AE398,DataByMiles!$AT$5:$AU$6,2,FALSE)","v":0},null,null,{"$f":"U400*$X$2*VLOOKUP(DataByMiles!AE398,DataByMiles!$AT$5:$AU$6,2,FALSE)","v":0},{"$f":"DataByMiles!J398*VLOOKUP(DataByMiles!AE398,DataByMiles!$AT$5:$AU$6,2,FALSE)","v":0},{"$f":"DataByMiles!K398","v":0},{"$f":"DataByMiles!L398","v":0},null,null,{"$f":"(Y400/IF(Z400=0,$AD$1,Z400)*$AD$2)/IF(AA400=0,1,AA400)*VLOOKUP(DataByMiles!AE398,DataByMiles!$AT$5:$AU$6,2,FALSE)","v":0},"",0,0,{"$f":"(AF400+AG400)*VLOOKUP(DataByMiles!AE398,DataByMiles!$AT$5:$AU$6,2,FALSE)","v":0},0]
[null,{"$f":"DataByMiles!C399","v":"----395"},{"$f":"DataByMiles!E399*VLOOKUP(DataByMiles!AE399,DataByMiles!$AT$5:$AU$6,2,FALSE)","v":0},null,null,0,{"$f":"C401*$G$2*VLOOKUP(DataByMiles!AE399,DataByMiles!$AT$5:$AU$6,2,FALSE)","v":0},{"$f":"DataByMiles!F399*VLOOKUP(DataByMiles!AE399,DataByMiles!$AT$5:$AU$6,2,FALSE)","v":0},null,null,0,{"$f":"H401*$L$2*VLOOKUP(DataByMiles!AE399,DataByMiles!$AT$5:$AU$6,2,FALSE)","v":0},{"$f":"DataByMiles!G399*VLOOKUP(DataByMiles!AE399,DataByMiles!$AT$5:$AU$6,2,FALSE)","v":0},null,null,{"$f":"M401*$P$2*VLOOKUP(DataByMiles!AE399,DataByMiles!$AT$5:$AU$6,2,FALSE)","v":0},{"$f":"DataByMiles!H399*VLOOKUP(DataByMiles!AE399,DataByMiles!$AT$5:$AU$6,2,FALSE)","v":0},null,null,{"$f":"Q401*$T$2*VLOOKUP(DataByMiles!AE399,DataByMiles!$AT$5:$AU$6,2,FALSE)","v":0},{"$f":"DataByMiles!I399*VLOOKUP(DataByMiles!AE399,DataByMiles!$AT$5:$AU$6,2,FALSE)","v":0},null,null,{"$f":"U401*$X$2*VLOOKUP(DataByMiles!AE399,DataByMiles!$AT$5:$AU$6,2,FALSE)","v":0},{"$f":"DataByMiles!J399*VLOOKUP(DataByMiles!AE399,DataByMiles!$AT$5:$AU$6,2,FALSE)","v":0},{"$f":"DataByMiles!K399","v":0},{"$f":"DataByMiles!L399","v":0},null,null,{"$f":"(Y401/IF(Z401=0,$AD$1,Z401)*$AD$2)/IF(AA401=0,1,AA401)*VLOOKUP(DataByMiles!AE399,DataByMiles!$AT$5:$AU$6,2,FALSE)","v":0},"",0,0,{"$f":"(AF401+AG401)*VLOOKUP(DataByMiles!AE399,DataByMiles!$AT$5:$AU$6,2,FALSE)","v":0},0]
[null,{"$f":"DataByMiles!C400","v":"----396"},{"$f":"DataByMiles!E400*VLOOKUP(DataByMiles!AE400,DataByMiles!$AT$5:$AU$6,2,FALSE)","v":0},null,null,0,{"$f":"C402*$G$2*VLOOKUP(DataByMiles!AE400,DataByMiles!$AT$5:$AU$6,2,FALSE)","v":0},{"$f":"DataByMiles!F400*VLOOKUP(DataByMiles!AE400,DataByMiles!$AT$5:$AU$6,2,FALSE)","v":0},null,null,0,{"$f":"H402*$L$2*VLOOKUP(DataByMiles!AE400,DataByMiles!$AT$5:$AU$6,2,FALSE)","v":0},{"$f":"DataByMiles!G400*VLOOKUP(DataByMiles!AE400,DataByMiles!$AT$5:$AU$6,2,FALSE)","v":0},null,null,{"$f":"M402*$P$2*VLOOKUP(DataByMiles!AE400,DataByMiles!$AT$5:$AU$6,2,FALSE)","v":0},{"$f":"DataByMiles!H400*VLOOKUP(DataByMiles!AE400,DataByMiles!$AT$5:$AU$6,2,FALSE)","v":0},null,null,{"$f":"Q402*$T$2*VLOOKUP(DataByMiles!AE400,DataByMiles!$AT$5:$AU$6,2,FALSE)","v":0},{"$f":"DataByMiles!I400*VLOOKUP(DataByMiles!AE400,DataByMiles!$AT$5:$AU$6,2,FALSE)","v":0},null,null,{"$f":"U402*$X$2*VLOOKUP(DataByMiles!AE400,DataByMiles!$AT$5:$AU$6,2,FALSE)","v":0},{"$f":"DataByMiles!J400*VLOOKUP(DataByMiles!AE400,DataByMiles!$AT$5:$AU$6,2,FALSE)","v":0},{"$f":"DataByMiles!K400","v":0},{"$f":"DataByMiles!L400","v":0},null,null,{"$f":"(Y402/IF(Z402=0,$AD$1,Z402)*$AD$2)/IF(AA402=0,1,AA402)*VLOOKUP(DataByMiles!AE400,DataByMiles!$AT$5:$AU$6,2,FALSE)","v":0},"",0,0,{"$f":"(AF402+AG402)*VLOOKUP(DataByMiles!AE400,DataByMiles!$AT$5:$AU$6,2,FALSE)","v":0},0]
[null,{"$f":"DataByMiles!C401","v":"----397"},{"$f":"DataByMiles!E401*VLOOKUP(DataByMiles!AE401,DataByMiles!$AT$5:$AU$6,2,FALSE)","v":0},null,null,0,{"$f":"C403*$G$2*VLOOKUP(DataByMiles!AE401,DataByMiles!$AT$5:$AU$6,2,FALSE)","v":0},{"$f":"DataByMiles!F401*VLOOKUP(DataByMiles!AE401,DataByMiles!$AT$5:$AU$6,2,FALSE)","v":0},null,null,0,{"$f":"H403*$L$2*VLOOKUP(DataByMiles!AE401,DataByMiles!$AT$5:$AU$6,2,FALSE)","v":0},{"$f":"DataByMiles!G401*VLOOKUP(DataByMiles!AE401,DataByMiles!$AT$5:$AU$6,2,FALSE)","v":0},null,null,{"$f":"M403*$P$2*VLOOKUP(DataByMiles!AE401,DataByMiles!$AT$5:$AU$6,2,FALSE)","v":0},{"$f":"DataByMiles!H401*VLOOKUP(DataByMiles!AE401,DataByMiles!$AT$5:$AU$6,2,FALSE)","v":0},null,null,{"$f":"Q403*$T$2*VLOOKUP(DataByMiles!AE401,DataByMiles!$AT$5:$AU$6,2,FALSE)","v":0},{"$f":"DataByMiles!I401*VLOOKUP(DataByMiles!AE401,DataByMiles!$AT$5:$AU$6,2,FALSE)","v":0},null,null,{"$f":"U403*$X$2*VLOOKUP(DataByMiles!AE401,DataByMiles!$AT$5:$AU$6,2,FALSE)","v":0},{"$f":"DataByMiles!J401*VLOOKUP(DataByMiles!AE401,DataByMiles!$AT$5:$AU$6,2,FALSE)","v":0},{"$f":"DataByMiles!K401","v":0},{"$f":"DataByMiles!L401","v":0},null,null,{"$f":"(Y403/IF(Z403=0,$AD$1,Z403)*$AD$2)/IF(AA403=0,1,AA403)*VLOOKUP(DataByMiles!AE401,DataByMiles!$AT$5:$AU$6,2,FALSE)","v":0},"",0,0,{"$f":"(AF403+AG403)*VLOOKUP(DataByMiles!AE401,DataByMiles!$AT$5:$AU$6,2,FALSE)","v":0},0]
[null,{"$f":"DataByMiles!C402","v":"----398"},{"$f":"DataByMiles!E402*VLOOKUP(DataByMiles!AE402,DataByMiles!$AT$5:$AU$6,2,FALSE)","v":0},null,null,0,{"$f":"C404*$G$2*VLOOKUP(DataByMiles!AE402,DataByMiles!$AT$5:$AU$6,2,FALSE)","v":0},{"$f":"DataByMiles!F402*VLOOKUP(DataByMiles!AE402,DataByMiles!$AT$5:$AU$6,2,FALSE)","v":0},null,null,0,{"$f":"H404*$L$2*VLOOKUP(DataByMiles!AE402,DataByMiles!$AT$5:$AU$6,2,FALSE)","v":0},{"$f":"DataByMiles!G402*VLOOKUP(DataByMiles!AE402,DataByMiles!$AT$5:$AU$6,2,FALSE)","v":0},null,null,{"$f":"M404*$P$2*VLOOKUP(DataByMiles!AE402,DataByMiles!$AT$5:$AU$6,2,FALSE)","v":0},{"$f":"DataByMiles!H402*VLOOKUP(DataByMiles!AE402,DataByMiles!$AT$5:$AU$6,2,FALSE)","v":0},null,null,{"$f":"Q404*$T$2*VLOOKUP(DataByMiles!AE402,DataByMiles!$AT$5:$AU$6,2,FALSE)","v":0},{"$f":"DataByMiles!I402*VLOOKUP(DataByMiles!AE402,DataByMiles!$AT$5:$AU$6,2,FALSE)","v":0},null,null,{"$f":"U404*$X$2*VLOOKUP(DataByMiles!AE402,DataByMiles!$AT$5:$AU$6,2,FALSE)","v":0},{"$f":"DataByMiles!J402*VLOOKUP(DataByMiles!AE402,DataByMiles!$AT$5:$AU$6,2,FALSE)","v":0},{"$f":"DataByMiles!K402","v":0},{"$f":"DataByMiles!L402","v":0},null,null,{"$f":"(Y404/IF(Z404=0,$AD$1,Z404)*$AD$2)/IF(AA404=0,1,AA404)*VLOOKUP(DataByMiles!AE402,DataByMiles!$AT$5:$AU$6,2,FALSE)","v":0},"",0,0,{"$f":"(AF404+AG404)*VLOOKUP(DataByMiles!AE402,DataByMiles!$AT$5:$AU$6,2,FALSE)","v":0},0]
[null,{"$f":"DataByMiles!C403","v":"----399"},{"$f":"DataByMiles!E403*VLOOKUP(DataByMiles!AE403,DataByMiles!$AT$5:$AU$6,2,FALSE)","v":0},null,null,0,{"$f":"C405*$G$2*VLOOKUP(DataByMiles!AE403,DataByMiles!$AT$5:$AU$6,2,FALSE)","v":0},{"$f":"DataByMiles!F403*VLOOKUP(DataByMiles!AE403,DataByMiles!$AT$5:$AU$6,2,FALSE)","v":0},null,null,0,{"$f":"H405*$L$2*VLOOKUP(DataByMiles!AE403,DataByMiles!$AT$5:$AU$6,2,FALSE)","v":0},{"$f":"DataByMiles!G403*VLOOKUP(DataByMiles!AE403,DataByMiles!$AT$5:$AU$6,2,FALSE)","v":0},null,null,{"$f":"M405*$P$2*VLOOKUP(DataByMiles!AE403,DataByMiles!$AT$5:$AU$6,2,FALSE)","v":0},{"$f":"DataByMiles!H403*VLOOKUP(DataByMiles!AE403,DataByMiles!$AT$5:$AU$6,2,FALSE)","v":0},null,null,{"$f":"Q405*$T$2*VLOOKUP(DataByMiles!AE403,DataByMiles!$AT$5:$AU$6,2,FALSE)","v":0},{"$f":"DataByMiles!I403*VLOOKUP(DataByMiles!AE403,DataByMiles!$AT$5:$AU$6,2,FALSE)","v":0},null,null,{"$f":"U405*$X$2*VLOOKUP(DataByMiles!AE403,DataByMiles!$AT$5:$AU$6,2,FALSE)","v":0},{"$f":"DataByMiles!J403*VLOOKUP(DataByMiles!AE403,DataByMiles!$AT$5:$AU$6,2,FALSE)","v":0},{"$f":"DataByMiles!K403","v":0},{"$f":"DataByMiles!L403","v":0},null,null,{"$f":"(Y405/IF(Z405=0,$AD$1,Z405)*$AD$2)/IF(AA405=0,1,AA405)*VLOOKUP(DataByMiles!AE403,DataByMiles!$AT$5:$AU$6,2,FALSE)","v":0},"",0,0,{"$f":"(AF405+AG405)*VLOOKUP(DataByMiles!AE403,DataByMiles!$AT$5:$AU$6,2,FALSE)","v":0},0]
[null,{"$f":"DataByMiles!C404","v":"----400"},{"$f":"DataByMiles!E404*VLOOKUP(DataByMiles!AE404,DataByMiles!$AT$5:$AU$6,2,FALSE)","v":0},null,null,0,{"$f":"C406*$G$2*VLOOKUP(DataByMiles!AE404,DataByMiles!$AT$5:$AU$6,2,FALSE)","v":0},{"$f":"DataByMiles!F404*VLOOKUP(DataByMiles!AE404,DataByMiles!$AT$5:$AU$6,2,FALSE)","v":0},null,null,0,{"$f":"H406*$L$2*VLOOKUP(DataByMiles!AE404,DataByMiles!$AT$5:$AU$6,2,FALSE)","v":0},{"$f":"DataByMiles!G404*VLOOKUP(DataByMiles!AE404,DataByMiles!$AT$5:$AU$6,2,FALSE)","v":0},null,null,{"$f":"M406*$P$2*VLOOKUP(DataByMiles!AE404,DataByMiles!$AT$5:$AU$6,2,FALSE)","v":0},{"$f":"DataByMiles!H404*VLOOKUP(DataByMiles!AE404,DataByMiles!$AT$5:$AU$6,2,FALSE)","v":0},null,null,{"$f":"Q406*$T$2*VLOOKUP(DataByMiles!AE404,DataByMiles!$AT$5:$AU$6,2,FALSE)","v":0},{"$f":"DataByMiles!I404*VLOOKUP(DataByMiles!AE404,DataByMiles!$AT$5:$AU$6,2,FALSE)","v":0},null,null,{"$f":"U406*$X$2*VLOOKUP(DataByMiles!AE404,DataByMiles!$AT$5:$AU$6,2,FALSE)","v":0},{"$f":"DataByMiles!J404*VLOOKUP(DataByMiles!AE404,DataByMiles!$AT$5:$AU$6,2,FALSE)","v":0},{"$f":"DataByMiles!K404","v":0},{"$f":"DataByMiles!L404","v":0},null,null,{"$f":"(Y406/IF(Z406=0,$AD$1,Z406)*$AD$2)/IF(AA406=0,1,AA406)*VLOOKUP(DataByMiles!AE404,DataByMiles!$AT$5:$AU$6,2,FALSE)","v":0},"",0,0,{"$f":"(AF406+AG406)*VLOOKUP(DataByMiles!AE404,DataByMiles!$AT$5:$AU$6,2,FALSE)","v":0},0]
[null,{"$f":"DataByMiles!C405","v":"----401"},{"$f":"DataByMiles!E405*VLOOKUP(DataByMiles!AE405,DataByMiles!$AT$5:$AU$6,2,FALSE)","v":0},null,null,0,{"$f":"C407*$G$2*VLOOKUP(DataByMiles!AE405,DataByMiles!$AT$5:$AU$6,2,FALSE)","v":0},{"$f":"DataByMiles!F405*VLOOKUP(DataByMiles!AE405,DataByMiles!$AT$5:$AU$6,2,FALSE)","v":0},null,null,0,{"$f":"H407*$L$2*VLOOKUP(DataByMiles!AE405,DataByMiles!$AT$5:$AU$6,2,FALSE)","v":0},{"$f":"DataByMiles!G405*VLOOKUP(DataByMiles!AE405,DataByMiles!$AT$5:$AU$6,2,FALSE)","v":0},null,null,{"$f":"M407*$P$2*VLOOKUP(DataByMiles!AE405,DataByMiles!$AT$5:$AU$6,2,FALSE)","v":0},{"$f":"DataByMiles!H405*VLOOKUP(DataByMiles!AE405,DataByMiles!$AT$5:$AU$6,2,FALSE)","v":0},null,null,{"$f":"Q407*$T$2*VLOOKUP(DataByMiles!AE405,DataByMiles!$AT$5:$AU$6,2,FALSE)","v":0},{"$f":"DataByMiles!I405*VLOOKUP(DataByMiles!AE405,DataByMiles!$AT$5:$AU$6,2,FALSE)","v":0},null,null,{"$f":"U407*$X$2*VLOOKUP(DataByMiles!AE405,DataByMiles!$AT$5:$AU$6,2,FALSE)","v":0},{"$f":"DataByMiles!J405*VLOOKUP(DataByMiles!AE405,DataByMiles!$AT$5:$AU$6,2,FALSE)","v":0},{"$f":"DataByMiles!K405","v":0},{"$f":"DataByMiles!L405","v":0},null,null,{"$f":"(Y407/IF(Z407=0,$AD$1,Z407)*$AD$2)/IF(AA407=0,1,AA407)*VLOOKUP(DataByMiles!AE405,DataByMiles!$AT$5:$AU$6,2,FALSE)","v":0},"",0,0,{"$f":"(AF407+AG407)*VLOOKUP(DataByMiles!AE405,DataByMiles!$AT$5:$AU$6,2,FALSE)","v":0},0]
[null,{"$f":"DataByMiles!C406","v":"----402"},{"$f":"DataByMiles!E406*VLOOKUP(DataByMiles!AE406,DataByMiles!$AT$5:$AU$6,2,FALSE)","v":0},null,null,0,{"$f":"C408*$G$2*VLOOKUP(DataByMiles!AE406,DataByMiles!$AT$5:$AU$6,2,FALSE)","v":0},{"$f":"DataByMiles!F406*VLOOKUP(DataByMiles!AE406,DataByMiles!$AT$5:$AU$6,2,FALSE)","v":0},null,null,0,{"$f":"H408*$L$2*VLOOKUP(DataByMiles!AE406,DataByMiles!$AT$5:$AU$6,2,FALSE)","v":0},{"$f":"DataByMiles!G406*VLOOKUP(DataByMiles!AE406,DataByMiles!$AT$5:$AU$6,2,FALSE)","v":0},null,null,{"$f":"M408*$P$2*VLOOKUP(DataByMiles!AE406,DataByMiles!$AT$5:$AU$6,2,FALSE)","v":0},{"$f":"DataByMiles!H406*VLOOKUP(DataByMiles!AE406,DataByMiles!$AT$5:$AU$6,2,FALSE)","v":0},null,null,{"$f":"Q408*$T$2*VLOOKUP(DataByMiles!AE406,DataByMiles!$AT$5:$AU$6,2,FALSE)","v":0},{"$f":"DataByMiles!I406*VLOOKUP(DataByMiles!AE406,DataByMiles!$AT$5:$AU$6,2,FALSE)","v":0},null,null,{"$f":"U408*$X$2*VLOOKUP(DataByMiles!AE406,DataByMiles!$AT$5:$AU$6,2,FALSE)","v":0},{"$f":"DataByMiles!J406*VLOOKUP(DataByMiles!AE406,DataByMiles!$AT$5:$AU$6,2,FALSE)","v":0},{"$f":"DataByMiles!K406","v":0},{"$f":"DataByMiles!L406","v":0},null,null,{"$f":"(Y408/IF(Z408=0,$AD$1,Z408)*$AD$2)/IF(AA408=0,1,AA408)*VLOOKUP(DataByMiles!AE406,DataByMiles!$AT$5:$AU$6,2,FALSE)","v":0},"",0,0,{"$f":"(AF408+AG408)*VLOOKUP(DataByMiles!AE406,DataByMiles!$AT$5:$AU$6,2,FALSE)","v":0},0]
[null,{"$f":"DataByMiles!C407","v":"----403"},{"$f":"DataByMiles!E407*VLOOKUP(DataByMiles!AE407,DataByMiles!$AT$5:$AU$6,2,FALSE)","v":0},null,null,0,{"$f":"C409*$G$2*VLOOKUP(DataByMiles!AE407,DataByMiles!$AT$5:$AU$6,2,FALSE)","v":0},{"$f":"DataByMiles!F407*VLOOKUP(DataByMiles!AE407,DataByMiles!$AT$5:$AU$6,2,FALSE)","v":0},null,null,0,{"$f":"H409*$L$2*VLOOKUP(DataByMiles!AE407,DataByMiles!$AT$5:$AU$6,2,FALSE)","v":0},{"$f":"DataByMiles!G407*VLOOKUP(DataByMiles!AE407,DataByMiles!$AT$5:$AU$6,2,FALSE)","v":0},null,null,{"$f":"M409*$P$2*VLOOKUP(DataByMiles!AE407,DataByMiles!$AT$5:$AU$6,2,FALSE)","v":0},{"$f":"DataByMiles!H407*VLOOKUP(DataByMiles!AE407,DataByMiles!$AT$5:$AU$6,2,FALSE)","v":0},null,null,{"$f":"Q409*$T$2*VLOOKUP(DataByMiles!AE407,DataByMiles!$AT$5:$AU$6,2,FALSE)","v":0},{"$f":"DataByMiles!I407*VLOOKUP(DataByMiles!AE407,DataByMiles!$AT$5:$AU$6,2,FALSE)","v":0},null,null,{"$f":"U409*$X$2*VLOOKUP(DataByMiles!AE407,DataByMiles!$AT$5:$AU$6,2,FALSE)","v":0},{"$f":"DataByMiles!J407*VLOOKUP(DataByMiles!AE407,DataByMiles!$AT$5:$AU$6,2,FALSE)","v":0},{"$f":"DataByMiles!K407","v":0},{"$f":"DataByMiles!L407","v":0},null,null,{"$f":"(Y409/IF(Z409=0,$AD$1,Z409)*$AD$2)/IF(AA409=0,1,AA409)*VLOOKUP(DataByMiles!AE407,DataByMiles!$AT$5:$AU$6,2,FALSE)","v":0},"",0,0,{"$f":"(AF409+AG409)*VLOOKUP(DataByMiles!AE407,DataByMiles!$AT$5:$AU$6,2,FALSE)","v":0},0]
[null,{"$f":"DataByMiles!C408","v":"----404"},{"$f":"DataByMiles!E408*VLOOKUP(DataByMiles!AE408,DataByMiles!$AT$5:$AU$6,2,FALSE)","v":0},null,null,0,{"$f":"C410*$G$2*VLOOKUP(DataByMiles!AE408,DataByMiles!$AT$5:$AU$6,2,FALSE)","v":0},{"$f":"DataByMiles!F408*VLOOKUP(DataByMiles!AE408,DataByMiles!$AT$5:$AU$6,2,FALSE)","v":0},null,null,0,{"$f":"H410*$L$2*VLOOKUP(DataByMiles!AE408,DataByMiles!$AT$5:$AU$6,2,FALSE)","v":0},{"$f":"DataByMiles!G408*VLOOKUP(DataByMiles!AE408,DataByMiles!$AT$5:$AU$6,2,FALSE)","v":0},null,null,{"$f":"M410*$P$2*VLOOKUP(DataByMiles!AE408,DataByMiles!$AT$5:$AU$6,2,FALSE)","v":0},{"$f":"DataByMiles!H408*VLOOKUP(DataByMiles!AE408,DataByMiles!$AT$5:$AU$6,2,FALSE)","v":0},null,null,{"$f":"Q410*$T$2*VLOOKUP(DataByMiles!AE408,DataByMiles!$AT$5:$AU$6,2,FALSE)","v":0},{"$f":"DataByMiles!I408*VLOOKUP(DataByMiles!AE408,DataByMiles!$AT$5:$AU$6,2,FALSE)","v":0},null,null,{"$f":"U410*$X$2*VLOOKUP(DataByMiles!AE408,DataByMiles!$AT$5:$AU$6,2,FALSE)","v":0},{"$f":"DataByMiles!J408*VLOOKUP(DataByMiles!AE408,DataByMiles!$AT$5:$AU$6,2,FALSE)","v":0},{"$f":"DataByMiles!K408","v":0},{"$f":"DataByMiles!L408","v":0},null,null,{"$f":"(Y410/IF(Z410=0,$AD$1,Z410)*$AD$2)/IF(AA410=0,1,AA410)*VLOOKUP(DataByMiles!AE408,DataByMiles!$AT$5:$AU$6,2,FALSE)","v":0},"",0,0,{"$f":"(AF410+AG410)*VLOOKUP(DataByMiles!AE408,DataByMiles!$AT$5:$AU$6,2,FALSE)","v":0},0]
[null,{"$f":"DataByMiles!C409","v":"----405"},{"$f":"DataByMiles!E409*VLOOKUP(DataByMiles!AE409,DataByMiles!$AT$5:$AU$6,2,FALSE)","v":0},null,null,0,{"$f":"C411*$G$2*VLOOKUP(DataByMiles!AE409,DataByMiles!$AT$5:$AU$6,2,FALSE)","v":0},{"$f":"DataByMiles!F409*VLOOKUP(DataByMiles!AE409,DataByMiles!$AT$5:$AU$6,2,FALSE)","v":0},null,null,0,{"$f":"H411*$L$2*VLOOKUP(DataByMiles!AE409,DataByMiles!$AT$5:$AU$6,2,FALSE)","v":0},{"$f":"DataByMiles!G409*VLOOKUP(DataByMiles!AE409,DataByMiles!$AT$5:$AU$6,2,FALSE)","v":0},null,null,{"$f":"M411*$P$2*VLOOKUP(DataByMiles!AE409,DataByMiles!$AT$5:$AU$6,2,FALSE)","v":0},{"$f":"DataByMiles!H409*VLOOKUP(DataByMiles!AE409,DataByMiles!$AT$5:$AU$6,2,FALSE)","v":0},null,null,{"$f":"Q411*$T$2*VLOOKUP(DataByMiles!AE409,DataByMiles!$AT$5:$AU$6,2,FALSE)","v":0},{"$f":"DataByMiles!I409*VLOOKUP(DataByMiles!AE409,DataByMiles!$AT$5:$AU$6,2,FALSE)","v":0},null,null,{"$f":"U411*$X$2*VLOOKUP(DataByMiles!AE409,DataByMiles!$AT$5:$AU$6,2,FALSE)","v":0},{"$f":"DataByMiles!J409*VLOOKUP(DataByMiles!AE409,DataByMiles!$AT$5:$AU$6,2,FALSE)","v":0},{"$f":"DataByMiles!K409","v":0},{"$f":"DataByMiles!L409","v":0},null,null,{"$f":"(Y411/IF(Z411=0,$AD$1,Z411)*$AD$2)/IF(AA411=0,1,AA411)*VLOOKUP(DataByMiles!AE409,DataByMiles!$AT$5:$AU$6,2,FALSE)","v":0},"",0,0,{"$f":"(AF411+AG411)*VLOOKUP(DataByMiles!AE409,DataByMiles!$AT$5:$AU$6,2,FALSE)","v":0},0]
[null,{"$f":"DataByMiles!C410","v":"----406"},{"$f":"DataByMiles!E410*VLOOKUP(DataByMiles!AE410,DataByMiles!$AT$5:$AU$6,2,FALSE)","v":0},null,null,0,{"$f":"C412*$G$2*VLOOKUP(DataByMiles!AE410,DataByMiles!$AT$5:$AU$6,2,FALSE)","v":0},{"$f":"DataByMiles!F410*VLOOKUP(DataByMiles!AE410,DataByMiles!$AT$5:$AU$6,2,FALSE)","v":0},null,null,0,{"$f":"H412*$L$2*VLOOKUP(DataByMiles!AE410,DataByMiles!$AT$5:$AU$6,2,FALSE)","v":0},{"$f":"DataByMiles!G410*VLOOKUP(DataByMiles!AE410,DataByMiles!$AT$5:$AU$6,2,FALSE)","v":0},null,null,{"$f":"M412*$P$2*VLOOKUP(DataByMiles!AE410,DataByMiles!$AT$5:$AU$6,2,FALSE)","v":0},{"$f":"DataByMiles!H410*VLOOKUP(DataByMiles!AE410,DataByMiles!$AT$5:$AU$6,2,FALSE)","v":0},null,null,{"$f":"Q412*$T$2*VLOOKUP(DataByMiles!AE410,DataByMiles!$AT$5:$AU$6,2,FALSE)","v":0},{"$f":"DataByMiles!I410*VLOOKUP(DataByMiles!AE410,DataByMiles!$AT$5:$AU$6,2,FALSE)","v":0},null,null,{"$f":"U412*$X$2*VLOOKUP(DataByMiles!AE410,DataByMiles!$AT$5:$AU$6,2,FALSE)","v":0},{"$f":"DataByMiles!J410*VLOOKUP(DataByMiles!AE410,DataByMiles!$AT$5:$AU$6,2,FALSE)","v":0},{"$f":"DataByMiles!K410","v":0},{"$f":"DataByMiles!L410","v":0},null,null,{"$f":"(Y412/IF(Z412=0,$AD$1,Z412)*$AD$2)/IF(AA412=0,1,AA412)*VLOOKUP(DataByMiles!AE410,DataByMiles!$AT$5:$AU$6,2,FALSE)","v":0},"",0,0,{"$f":"(AF412+AG412)*VLOOKUP(DataByMiles!AE410,DataByMiles!$AT$5:$AU$6,2,FALSE)","v":0},0]
[null,{"$f":"DataByMiles!C411","v":"----407"},{"$f":"DataByMiles!E411*VLOOKUP(DataByMiles!AE411,DataByMiles!$AT$5:$AU$6,2,FALSE)","v":0},null,null,0,{"$f":"C413*$G$2*VLOOKUP(DataByMiles!AE411,DataByMiles!$AT$5:$AU$6,2,FALSE)","v":0},{"$f":"DataByMiles!F411*VLOOKUP(DataByMiles!AE411,DataByMiles!$AT$5:$AU$6,2,FALSE)","v":0},null,null,0,{"$f":"H413*$L$2*VLOOKUP(DataByMiles!AE411,DataByMiles!$AT$5:$AU$6,2,FALSE)","v":0},{"$f":"DataByMiles!G411*VLOOKUP(DataByMiles!AE411,DataByMiles!$AT$5:$AU$6,2,FALSE)","v":0},null,null,{"$f":"M413*$P$2*VLOOKUP(DataByMiles!AE411,DataByMiles!$AT$5:$AU$6,2,FALSE)","v":0},{"$f":"DataByMiles!H411*VLOOKUP(DataByMiles!AE411,DataByMiles!$AT$5:$AU$6,2,FALSE)","v":0},null,null,{"$f":"Q413*$T$2*VLOOKUP(DataByMiles!AE411,DataByMiles!$AT$5:$AU$6,2,FALSE)","v":0},{"$f":"DataByMiles!I411*VLOOKUP(DataByMiles!AE411,DataByMiles!$AT$5:$AU$6,2,FALSE)","v":0},null,null,{"$f":"U413*$X$2*VLOOKUP(DataByMiles!AE411,DataByMiles!$AT$5:$AU$6,2,FALSE)","v":0},{"$f":"DataByMiles!J411*VLOOKUP(DataByMiles!AE411,DataByMiles!$AT$5:$AU$6,2,FALSE)","v":0},{"$f":"DataByMiles!K411","v":0},{"$f":"DataByMiles!L411","v":0},null,null,{"$f":"(Y413/IF(Z413=0,$AD$1,Z413)*$AD$2)/IF(AA413=0,1,AA413)*VLOOKUP(DataByMiles!AE411,DataByMiles!$AT$5:$AU$6,2,FALSE)","v":0},"",0,0,{"$f":"(AF413+AG413)*VLOOKUP(DataByMiles!AE411,DataByMiles!$AT$5:$AU$6,2,FALSE)","v":0},0]
[null,{"$f":"DataByMiles!C412","v":"----408"},{"$f":"DataByMiles!E412*VLOOKUP(DataByMiles!AE412,DataByMiles!$AT$5:$AU$6,2,FALSE)","v":0},null,null,0,{"$f":"C414*$G$2*VLOOKUP(DataByMiles!AE412,DataByMiles!$AT$5:$AU$6,2,FALSE)","v":0},{"$f":"DataByMiles!F412*VLOOKUP(DataByMiles!AE412,DataByMiles!$AT$5:$AU$6,2,FALSE)","v":0},null,null,0,{"$f":"H414*$L$2*VLOOKUP(DataByMiles!AE412,DataByMiles!$AT$5:$AU$6,2,FALSE)","v":0},{"$f":"DataByMiles!G412*VLOOKUP(DataByMiles!AE412,DataByMiles!$AT$5:$AU$6,2,FALSE)","v":0},null,null,{"$f":"M414*$P$2*VLOOKUP(DataByMiles!AE412,DataByMiles!$AT$5:$AU$6,2,FALSE)","v":0},{"$f":"DataByMiles!H412*VLOOKUP(DataByMiles!AE412,DataByMiles!$AT$5:$AU$6,2,FALSE)","v":0},null,null,{"$f":"Q414*$T$2*VLOOKUP(DataByMiles!AE412,DataByMiles!$AT$5:$AU$6,2,FALSE)","v":0},{"$f":"DataByMiles!I412*VLOOKUP(DataByMiles!AE412,DataByMiles!$AT$5:$AU$6,2,FALSE)","v":0},null,null,{"$f":"U414*$X$2*VLOOKUP(DataByMiles!AE412,DataByMiles!$AT$5:$AU$6,2,FALSE)","v":0},{"$f":"DataByMiles!J412*VLOOKUP(DataByMiles!AE412,DataByMiles!$AT$5:$AU$6,2,FALSE)","v":0},{"$f":"DataByMiles!K412","v":0},{"$f":"DataByMiles!L412","v":0},null,null,{"$f":"(Y414/IF(Z414=0,$AD$1,Z414)*$AD$2)/IF(AA414=0,1,AA414)*VLOOKUP(DataByMiles!AE412,DataByMiles!$AT$5:$AU$6,2,FALSE)","v":0},"",0,0,{"$f":"(AF414+AG414)*VLOOKUP(DataByMiles!AE412,DataByMiles!$AT$5:$AU$6,2,FALSE)","v":0},0]
[null,{"$f":"DataByMiles!C413","v":"----409"},{"$f":"DataByMiles!E413*VLOOKUP(DataByMiles!AE413,DataByMiles!$AT$5:$AU$6,2,FALSE)","v":0},null,null,0,{"$f":"C415*$G$2*VLOOKUP(DataByMiles!AE413,DataByMiles!$AT$5:$AU$6,2,FALSE)","v":0},{"$f":"DataByMiles!F413*VLOOKUP(DataByMiles!AE413,DataByMiles!$AT$5:$AU$6,2,FALSE)","v":0},null,null,0,{"$f":"H415*$L$2*VLOOKUP(DataByMiles!AE413,DataByMiles!$AT$5:$AU$6,2,FALSE)","v":0},{"$f":"DataByMiles!G413*VLOOKUP(DataByMiles!AE413,DataByMiles!$AT$5:$AU$6,2,FALSE)","v":0},null,null,{"$f":"M415*$P$2*VLOOKUP(DataByMiles!AE413,DataByMiles!$AT$5:$AU$6,2,FALSE)","v":0},{"$f":"DataByMiles!H413*VLOOKUP(DataByMiles!AE413,DataByMiles!$AT$5:$AU$6,2,FALSE)","v":0},null,null,{"$f":"Q415*$T$2*VLOOKUP(DataByMiles!AE413,DataByMiles!$AT$5:$AU$6,2,FALSE)","v":0},{"$f":"DataByMiles!I413*VLOOKUP(DataByMiles!AE413,DataByMiles!$AT$5:$AU$6,2,FALSE)","v":0},null,null,{"$f":"U415*$X$2*VLOOKUP(DataByMiles!AE413,DataByMiles!$AT$5:$AU$6,2,FALSE)","v":0},{"$f":"DataByMiles!J413*VLOOKUP(DataByMiles!AE413,DataByMiles!$AT$5:$AU$6,2,FALSE)","v":0},{"$f":"DataByMiles!K413","v":0},{"$f":"DataByMiles!L413","v":0},null,null,{"$f":"(Y415/IF(Z415=0,$AD$1,Z415)*$AD$2)/IF(AA415=0,1,AA415)*VLOOKUP(DataByMiles!AE413,DataByMiles!$AT$5:$AU$6,2,FALSE)","v":0},"",0,0,{"$f":"(AF415+AG415)*VLOOKUP(DataByMiles!AE413,DataByMiles!$AT$5:$AU$6,2,FALSE)","v":0},0]
[null,{"$f":"DataByMiles!C414","v":"----410"},{"$f":"DataByMiles!E414*VLOOKUP(DataByMiles!AE414,DataByMiles!$AT$5:$AU$6,2,FALSE)","v":0},null,null,0,{"$f":"C416*$G$2*VLOOKUP(DataByMiles!AE414,DataByMiles!$AT$5:$AU$6,2,FALSE)","v":0},{"$f":"DataByMiles!F414*VLOOKUP(DataByMiles!AE414,DataByMiles!$AT$5:$AU$6,2,FALSE)","v":0},null,null,0,{"$f":"H416*$L$2*VLOOKUP(DataByMiles!AE414,DataByMiles!$AT$5:$AU$6,2,FALSE)","v":0},{"$f":"DataByMiles!G414*VLOOKUP(DataByMiles!AE414,DataByMiles!$AT$5:$AU$6,2,FALSE)","v":0},null,null,{"$f":"M416*$P$2*VLOOKUP(DataByMiles!AE414,DataByMiles!$AT$5:$AU$6,2,FALSE)","v":0},{"$f":"DataByMiles!H414*VLOOKUP(DataByMiles!AE414,DataByMiles!$AT$5:$AU$6,2,FALSE)","v":0},null,null,{"$f":"Q416*$T$2*VLOOKUP(DataByMiles!AE414,DataByMiles!$AT$5:$AU$6,2,FALSE)","v":0},{"$f":"DataByMiles!I414*VLOOKUP(DataByMiles!AE414,DataByMiles!$AT$5:$AU$6,2,FALSE)","v":0},null,null,{"$f":"U416*$X$2*VLOOKUP(DataByMiles!AE414,DataByMiles!$AT$5:$AU$6,2,FALSE)","v":0},{"$f":"DataByMiles!J414*VLOOKUP(DataByMiles!AE414,DataByMiles!$AT$5:$AU$6,2,FALSE)","v":0},{"$f":"DataByMiles!K414","v":0},{"$f":"DataByMiles!L414","v":0},null,null,{"$f":"(Y416/IF(Z416=0,$AD$1,Z416)*$AD$2)/IF(AA416=0,1,AA416)*VLOOKUP(DataByMiles!AE414,DataByMiles!$AT$5:$AU$6,2,FALSE)","v":0},"",0,0,{"$f":"(AF416+AG416)*VLOOKUP(DataByMiles!AE414,DataByMiles!$AT$5:$AU$6,2,FALSE)","v":0},0]
[null,{"$f":"DataByMiles!C415","v":"----411"},{"$f":"DataByMiles!E415*VLOOKUP(DataByMiles!AE415,DataByMiles!$AT$5:$AU$6,2,FALSE)","v":0},null,null,0,{"$f":"C417*$G$2*VLOOKUP(DataByMiles!AE415,DataByMiles!$AT$5:$AU$6,2,FALSE)","v":0},{"$f":"DataByMiles!F415*VLOOKUP(DataByMiles!AE415,DataByMiles!$AT$5:$AU$6,2,FALSE)","v":0},null,null,0,{"$f":"H417*$L$2*VLOOKUP(DataByMiles!AE415,DataByMiles!$AT$5:$AU$6,2,FALSE)","v":0},{"$f":"DataByMiles!G415*VLOOKUP(DataByMiles!AE415,DataByMiles!$AT$5:$AU$6,2,FALSE)","v":0},null,null,{"$f":"M417*$P$2*VLOOKUP(DataByMiles!AE415,DataByMiles!$AT$5:$AU$6,2,FALSE)","v":0},{"$f":"DataByMiles!H415*VLOOKUP(DataByMiles!AE415,DataByMiles!$AT$5:$AU$6,2,FALSE)","v":0},null,null,{"$f":"Q417*$T$2*VLOOKUP(DataByMiles!AE415,DataByMiles!$AT$5:$AU$6,2,FALSE)","v":0},{"$f":"DataByMiles!I415*VLOOKUP(DataByMiles!AE415,DataByMiles!$AT$5:$AU$6,2,FALSE)","v":0},null,null,{"$f":"U417*$X$2*VLOOKUP(DataByMiles!AE415,DataByMiles!$AT$5:$AU$6,2,FALSE)","v":0},{"$f":"DataByMiles!J415*VLOOKUP(DataByMiles!AE415,DataByMiles!$AT$5:$AU$6,2,FALSE)","v":0},{"$f":"DataByMiles!K415","v":0},{"$f":"DataByMiles!L415","v":0},null,null,{"$f":"(Y417/IF(Z417=0,$AD$1,Z417)*$AD$2)/IF(AA417=0,1,AA417)*VLOOKUP(DataByMiles!AE415,DataByMiles!$AT$5:$AU$6,2,FALSE)","v":0},"",0,0,{"$f":"(AF417+AG417)*VLOOKUP(DataByMiles!AE415,DataByMiles!$AT$5:$AU$6,2,FALSE)","v":0},0]
[null,{"$f":"DataByMiles!C416","v":"----412"},{"$f":"DataByMiles!E416*VLOOKUP(DataByMiles!AE416,DataByMiles!$AT$5:$AU$6,2,FALSE)","v":0},null,null,0,{"$f":"C418*$G$2*VLOOKUP(DataByMiles!AE416,DataByMiles!$AT$5:$AU$6,2,FALSE)","v":0},{"$f":"DataByMiles!F416*VLOOKUP(DataByMiles!AE416,DataByMiles!$AT$5:$AU$6,2,FALSE)","v":0},null,null,0,{"$f":"H418*$L$2*VLOOKUP(DataByMiles!AE416,DataByMiles!$AT$5:$AU$6,2,FALSE)","v":0},{"$f":"DataByMiles!G416*VLOOKUP(DataByMiles!AE416,DataByMiles!$AT$5:$AU$6,2,FALSE)","v":0},null,null,{"$f":"M418*$P$2*VLOOKUP(DataByMiles!AE416,DataByMiles!$AT$5:$AU$6,2,FALSE)","v":0},{"$f":"DataByMiles!H416*VLOOKUP(DataByMiles!AE416,DataByMiles!$AT$5:$AU$6,2,FALSE)","v":0},null,null,{"$f":"Q418*$T$2*VLOOKUP(DataByMiles!AE416,DataByMiles!$AT$5:$AU$6,2,FALSE)","v":0},{"$f":"DataByMiles!I416*VLOOKUP(DataByMiles!AE416,DataByMiles!$AT$5:$AU$6,2,FALSE)","v":0},null,null,{"$f":"U418*$X$2*VLOOKUP(DataByMiles!AE416,DataByMiles!$AT$5:$AU$6,2,FALSE)","v":0},{"$f":"DataByMiles!J416*VLOOKUP(DataByMiles!AE416,DataByMiles!$AT$5:$AU$6,2,FALSE)","v":0},{"$f":"DataByMiles!K416","v":0},{"$f":"DataByMiles!L416","v":0},null,null,{"$f":"(Y418/IF(Z418=0,$AD$1,Z418)*$AD$2)/IF(AA418=0,1,AA418)*VLOOKUP(DataByMiles!AE416,DataByMiles!$AT$5:$AU$6,2,FALSE)","v":0},"",0,0,{"$f":"(AF418+AG418)*VLOOKUP(DataByMiles!AE416,DataByMiles!$AT$5:$AU$6,2,FALSE)","v":0},0]
[null,{"$f":"DataByMiles!C417","v":"----413"},{"$f":"DataByMiles!E417*VLOOKUP(DataByMiles!AE417,DataByMiles!$AT$5:$AU$6,2,FALSE)","v":0},null,null,0,{"$f":"C419*$G$2*VLOOKUP(DataByMiles!AE417,DataByMiles!$AT$5:$AU$6,2,FALSE)","v":0},{"$f":"DataByMiles!F417*VLOOKUP(DataByMiles!AE417,DataByMiles!$AT$5:$AU$6,2,FALSE)","v":0},null,null,0,{"$f":"H419*$L$2*VLOOKUP(DataByMiles!AE417,DataByMiles!$AT$5:$AU$6,2,FALSE)","v":0},{"$f":"DataByMiles!G417*VLOOKUP(DataByMiles!AE417,DataByMiles!$AT$5:$AU$6,2,FALSE)","v":0},null,null,{"$f":"M419*$P$2*VLOOKUP(DataByMiles!AE417,DataByMiles!$AT$5:$AU$6,2,FALSE)","v":0},{"$f":"DataByMiles!H417*VLOOKUP(DataByMiles!AE417,DataByMiles!$AT$5:$AU$6,2,FALSE)","v":0},null,null,{"$f":"Q419*$T$2*VLOOKUP(DataByMiles!AE417,DataByMiles!$AT$5:$AU$6,2,FALSE)","v":0},{"$f":"DataByMiles!I417*VLOOKUP(DataByMiles!AE417,DataByMiles!$AT$5:$AU$6,2,FALSE)","v":0},null,null,{"$f":"U419*$X$2*VLOOKUP(DataByMiles!AE417,DataByMiles!$AT$5:$AU$6,2,FALSE)","v":0},{"$f":"DataByMiles!J417*VLOOKUP(DataByMiles!AE417,DataByMiles!$AT$5:$AU$6,2,FALSE)","v":0},{"$f":"DataByMiles!K417","v":0},{"$f":"DataByMiles!L417","v":0},null,null,{"$f":"(Y419/IF(Z419=0,$AD$1,Z419)*$AD$2)/IF(AA419=0,1,AA419)*VLOOKUP(DataByMiles!AE417,DataByMiles!$AT$5:$AU$6,2,FALSE)","v":0},"",0,0,{"$f":"(AF419+AG419)*VLOOKUP(DataByMiles!AE417,DataByMiles!$AT$5:$AU$6,2,FALSE)","v":0},0]
[null,{"$f":"DataByMiles!C418","v":"----414"},{"$f":"DataByMiles!E418*VLOOKUP(DataByMiles!AE418,DataByMiles!$AT$5:$AU$6,2,FALSE)","v":0},null,null,0,{"$f":"C420*$G$2*VLOOKUP(DataByMiles!AE418,DataByMiles!$AT$5:$AU$6,2,FALSE)","v":0},{"$f":"DataByMiles!F418*VLOOKUP(DataByMiles!AE418,DataByMiles!$AT$5:$AU$6,2,FALSE)","v":0},null,null,0,{"$f":"H420*$L$2*VLOOKUP(DataByMiles!AE418,DataByMiles!$AT$5:$AU$6,2,FALSE)","v":0},{"$f":"DataByMiles!G418*VLOOKUP(DataByMiles!AE418,DataByMiles!$AT$5:$AU$6,2,FALSE)","v":0},null,null,{"$f":"M420*$P$2*VLOOKUP(DataByMiles!AE418,DataByMiles!$AT$5:$AU$6,2,FALSE)","v":0},{"$f":"DataByMiles!H418*VLOOKUP(DataByMiles!AE418,DataByMiles!$AT$5:$AU$6,2,FALSE)","v":0},null,null,{"$f":"Q420*$T$2*VLOOKUP(DataByMiles!AE418,DataByMiles!$AT$5:$AU$6,2,FALSE)","v":0},{"$f":"DataByMiles!I418*VLOOKUP(DataByMiles!AE418,DataByMiles!$AT$5:$AU$6,2,FALSE)","v":0},null,null,{"$f":"U420*$X$2*VLOOKUP(DataByMiles!AE418,DataByMiles!$AT$5:$AU$6,2,FALSE)","v":0},{"$f":"DataByMiles!J418*VLOOKUP(DataByMiles!AE418,DataByMiles!$AT$5:$AU$6,2,FALSE)","v":0},{"$f":"DataByMiles!K418","v":0},{"$f":"DataByMiles!L418","v":0},null,null,{"$f":"(Y420/IF(Z420=0,$AD$1,Z420)*$AD$2)/IF(AA420=0,1,AA420)*VLOOKUP(DataByMiles!AE418,DataByMiles!$AT$5:$AU$6,2,FALSE)","v":0},"",0,0,{"$f":"(AF420+AG420)*VLOOKUP(DataByMiles!AE418,DataByMiles!$AT$5:$AU$6,2,FALSE)","v":0},0]
[null,{"$f":"DataByMiles!C419","v":"----415"},{"$f":"DataByMiles!E419*VLOOKUP(DataByMiles!AE419,DataByMiles!$AT$5:$AU$6,2,FALSE)","v":0},null,null,0,{"$f":"C421*$G$2*VLOOKUP(DataByMiles!AE419,DataByMiles!$AT$5:$AU$6,2,FALSE)","v":0},{"$f":"DataByMiles!F419*VLOOKUP(DataByMiles!AE419,DataByMiles!$AT$5:$AU$6,2,FALSE)","v":0},null,null,0,{"$f":"H421*$L$2*VLOOKUP(DataByMiles!AE419,DataByMiles!$AT$5:$AU$6,2,FALSE)","v":0},{"$f":"DataByMiles!G419*VLOOKUP(DataByMiles!AE419,DataByMiles!$AT$5:$AU$6,2,FALSE)","v":0},null,null,{"$f":"M421*$P$2*VLOOKUP(DataByMiles!AE419,DataByMiles!$AT$5:$AU$6,2,FALSE)","v":0},{"$f":"DataByMiles!H419*VLOOKUP(DataByMiles!AE419,DataByMiles!$AT$5:$AU$6,2,FALSE)","v":0},null,null,{"$f":"Q421*$T$2*VLOOKUP(DataByMiles!AE419,DataByMiles!$AT$5:$AU$6,2,FALSE)","v":0},{"$f":"DataByMiles!I419*VLOOKUP(DataByMiles!AE419,DataByMiles!$AT$5:$AU$6,2,FALSE)","v":0},null,null,{"$f":"U421*$X$2*VLOOKUP(DataByMiles!AE419,DataByMiles!$AT$5:$AU$6,2,FALSE)","v":0},{"$f":"DataByMiles!J419*VLOOKUP(DataByMiles!AE419,DataByMiles!$AT$5:$AU$6,2,FALSE)","v":0},{"$f":"DataByMiles!K419","v":0},{"$f":"DataByMiles!L419","v":0},null,null,{"$f":"(Y421/IF(Z421=0,$AD$1,Z421)*$AD$2)/IF(AA421=0,1,AA421)*VLOOKUP(DataByMiles!AE419,DataByMiles!$AT$5:$AU$6,2,FALSE)","v":0},"",0,0,{"$f":"(AF421+AG421)*VLOOKUP(DataByMiles!AE419,DataByMiles!$AT$5:$AU$6,2,FALSE)","v":0},0]
[null,{"$f":"DataByMiles!C420","v":"----416"},{"$f":"DataByMiles!E420*VLOOKUP(DataByMiles!AE420,DataByMiles!$AT$5:$AU$6,2,FALSE)","v":0},null,null,0,{"$f":"C422*$G$2*VLOOKUP(DataByMiles!AE420,DataByMiles!$AT$5:$AU$6,2,FALSE)","v":0},{"$f":"DataByMiles!F420*VLOOKUP(DataByMiles!AE420,DataByMiles!$AT$5:$AU$6,2,FALSE)","v":0},null,null,0,{"$f":"H422*$L$2*VLOOKUP(DataByMiles!AE420,DataByMiles!$AT$5:$AU$6,2,FALSE)","v":0},{"$f":"DataByMiles!G420*VLOOKUP(DataByMiles!AE420,DataByMiles!$AT$5:$AU$6,2,FALSE)","v":0},null,null,{"$f":"M422*$P$2*VLOOKUP(DataByMiles!AE420,DataByMiles!$AT$5:$AU$6,2,FALSE)","v":0},{"$f":"DataByMiles!H420*VLOOKUP(DataByMiles!AE420,DataByMiles!$AT$5:$AU$6,2,FALSE)","v":0},null,null,{"$f":"Q422*$T$2*VLOOKUP(DataByMiles!AE420,DataByMiles!$AT$5:$AU$6,2,FALSE)","v":0},{"$f":"DataByMiles!I420*VLOOKUP(DataByMiles!AE420,DataByMiles!$AT$5:$AU$6,2,FALSE)","v":0},null,null,{"$f":"U422*$X$2*VLOOKUP(DataByMiles!AE420,DataByMiles!$AT$5:$AU$6,2,FALSE)","v":0},{"$f":"DataByMiles!J420*VLOOKUP(DataByMiles!AE420,DataByMiles!$AT$5:$AU$6,2,FALSE)","v":0},{"$f":"DataByMiles!K420","v":0},{"$f":"DataByMiles!L420","v":0},null,null,{"$f":"(Y422/IF(Z422=0,$AD$1,Z422)*$AD$2)/IF(AA422=0,1,AA422)*VLOOKUP(DataByMiles!AE420,DataByMiles!$AT$5:$AU$6,2,FALSE)","v":0},"",0,0,{"$f":"(AF422+AG422)*VLOOKUP(DataByMiles!AE420,DataByMiles!$AT$5:$AU$6,2,FALSE)","v":0},0]
[null,{"$f":"DataByMiles!C421","v":"----417"},{"$f":"DataByMiles!E421*VLOOKUP(DataByMiles!AE421,DataByMiles!$AT$5:$AU$6,2,FALSE)","v":0},null,null,0,{"$f":"C423*$G$2*VLOOKUP(DataByMiles!AE421,DataByMiles!$AT$5:$AU$6,2,FALSE)","v":0},{"$f":"DataByMiles!F421*VLOOKUP(DataByMiles!AE421,DataByMiles!$AT$5:$AU$6,2,FALSE)","v":0},null,null,0,{"$f":"H423*$L$2*VLOOKUP(DataByMiles!AE421,DataByMiles!$AT$5:$AU$6,2,FALSE)","v":0},{"$f":"DataByMiles!G421*VLOOKUP(DataByMiles!AE421,DataByMiles!$AT$5:$AU$6,2,FALSE)","v":0},null,null,{"$f":"M423*$P$2*VLOOKUP(DataByMiles!AE421,DataByMiles!$AT$5:$AU$6,2,FALSE)","v":0},{"$f":"DataByMiles!H421*VLOOKUP(DataByMiles!AE421,DataByMiles!$AT$5:$AU$6,2,FALSE)","v":0},null,null,{"$f":"Q423*$T$2*VLOOKUP(DataByMiles!AE421,DataByMiles!$AT$5:$AU$6,2,FALSE)","v":0},{"$f":"DataByMiles!I421*VLOOKUP(DataByMiles!AE421,DataByMiles!$AT$5:$AU$6,2,FALSE)","v":0},null,null,{"$f":"U423*$X$2*VLOOKUP(DataByMiles!AE421,DataByMiles!$AT$5:$AU$6,2,FALSE)","v":0},{"$f":"DataByMiles!J421*VLOOKUP(DataByMiles!AE421,DataByMiles!$AT$5:$AU$6,2,FALSE)","v":0},{"$f":"DataByMiles!K421","v":0},{"$f":"DataByMiles!L421","v":0},null,null,{"$f":"(Y423/IF(Z423=0,$AD$1,Z423)*$AD$2)/IF(AA423=0,1,AA423)*VLOOKUP(DataByMiles!AE421,DataByMiles!$AT$5:$AU$6,2,FALSE)","v":0},"",0,0,{"$f":"(AF423+AG423)*VLOOKUP(DataByMiles!AE421,DataByMiles!$AT$5:$AU$6,2,FALSE)","v":0},0]
[null,{"$f":"DataByMiles!C422","v":"----418"},{"$f":"DataByMiles!E422*VLOOKUP(DataByMiles!AE422,DataByMiles!$AT$5:$AU$6,2,FALSE)","v":0},null,null,0,{"$f":"C424*$G$2*VLOOKUP(DataByMiles!AE422,DataByMiles!$AT$5:$AU$6,2,FALSE)","v":0},{"$f":"DataByMiles!F422*VLOOKUP(DataByMiles!AE422,DataByMiles!$AT$5:$AU$6,2,FALSE)","v":0},null,null,0,{"$f":"H424*$L$2*VLOOKUP(DataByMiles!AE422,DataByMiles!$AT$5:$AU$6,2,FALSE)","v":0},{"$f":"DataByMiles!G422*VLOOKUP(DataByMiles!AE422,DataByMiles!$AT$5:$AU$6,2,FALSE)","v":0},null,null,{"$f":"M424*$P$2*VLOOKUP(DataByMiles!AE422,DataByMiles!$AT$5:$AU$6,2,FALSE)","v":0},{"$f":"DataByMiles!H422*VLOOKUP(DataByMiles!AE422,DataByMiles!$AT$5:$AU$6,2,FALSE)","v":0},null,null,{"$f":"Q424*$T$2*VLOOKUP(DataByMiles!AE422,DataByMiles!$AT$5:$AU$6,2,FALSE)","v":0},{"$f":"DataByMiles!I422*VLOOKUP(DataByMiles!AE422,DataByMiles!$AT$5:$AU$6,2,FALSE)","v":0},null,null,{"$f":"U424*$X$2*VLOOKUP(DataByMiles!AE422,DataByMiles!$AT$5:$AU$6,2,FALSE)","v":0},{"$f":"DataByMiles!J422*VLOOKUP(DataByMiles!AE422,DataByMiles!$AT$5:$AU$6,2,FALSE)","v":0},{"$f":"DataByMiles!K422","v":0},{"$f":"DataByMiles!L422","v":0},null,null,{"$f":"(Y424/IF(Z424=0,$AD$1,Z424)*$AD$2)/IF(AA424=0,1,AA424)*VLOOKUP(DataByMiles!AE422,DataByMiles!$AT$5:$AU$6,2,FALSE)","v":0},"",0,0,{"$f":"(AF424+AG424)*VLOOKUP(DataByMiles!AE422,DataByMiles!$AT$5:$AU$6,2,FALSE)","v":0},0]
[null,{"$f":"DataByMiles!C423","v":"----419"},{"$f":"DataByMiles!E423*VLOOKUP(DataByMiles!AE423,DataByMiles!$AT$5:$AU$6,2,FALSE)","v":0},null,null,0,{"$f":"C425*$G$2*VLOOKUP(DataByMiles!AE423,DataByMiles!$AT$5:$AU$6,2,FALSE)","v":0},{"$f":"DataByMiles!F423*VLOOKUP(DataByMiles!AE423,DataByMiles!$AT$5:$AU$6,2,FALSE)","v":0},null,null,0,{"$f":"H425*$L$2*VLOOKUP(DataByMiles!AE423,DataByMiles!$AT$5:$AU$6,2,FALSE)","v":0},{"$f":"DataByMiles!G423*VLOOKUP(DataByMiles!AE423,DataByMiles!$AT$5:$AU$6,2,FALSE)","v":0},null,null,{"$f":"M425*$P$2*VLOOKUP(DataByMiles!AE423,DataByMiles!$AT$5:$AU$6,2,FALSE)","v":0},{"$f":"DataByMiles!H423*VLOOKUP(DataByMiles!AE423,DataByMiles!$AT$5:$AU$6,2,FALSE)","v":0},null,null,{"$f":"Q425*$T$2*VLOOKUP(DataByMiles!AE423,DataByMiles!$AT$5:$AU$6,2,FALSE)","v":0},{"$f":"DataByMiles!I423*VLOOKUP(DataByMiles!AE423,DataByMiles!$AT$5:$AU$6,2,FALSE)","v":0},null,null,{"$f":"U425*$X$2*VLOOKUP(DataByMiles!AE423,DataByMiles!$AT$5:$AU$6,2,FALSE)","v":0},{"$f":"DataByMiles!J423*VLOOKUP(DataByMiles!AE423,DataByMiles!$AT$5:$AU$6,2,FALSE)","v":0},{"$f":"DataByMiles!K423","v":0},{"$f":"DataByMiles!L423","v":0},null,null,{"$f":"(Y425/IF(Z425=0,$AD$1,Z425)*$AD$2)/IF(AA425=0,1,AA425)*VLOOKUP(DataByMiles!AE423,DataByMiles!$AT$5:$AU$6,2,FALSE)","v":0},"",0,0,{"$f":"(AF425+AG425)*VLOOKUP(DataByMiles!AE423,DataByMiles!$AT$5:$AU$6,2,FALSE)","v":0},0]
[null,{"$f":"DataByMiles!C424","v":"----420"},{"$f":"DataByMiles!E424*VLOOKUP(DataByMiles!AE424,DataByMiles!$AT$5:$AU$6,2,FALSE)","v":0},null,null,0,{"$f":"C426*$G$2*VLOOKUP(DataByMiles!AE424,DataByMiles!$AT$5:$AU$6,2,FALSE)","v":0},{"$f":"DataByMiles!F424*VLOOKUP(DataByMiles!AE424,DataByMiles!$AT$5:$AU$6,2,FALSE)","v":0},null,null,0,{"$f":"H426*$L$2*VLOOKUP(DataByMiles!AE424,DataByMiles!$AT$5:$AU$6,2,FALSE)","v":0},{"$f":"DataByMiles!G424*VLOOKUP(DataByMiles!AE424,DataByMiles!$AT$5:$AU$6,2,FALSE)","v":0},null,null,{"$f":"M426*$P$2*VLOOKUP(DataByMiles!AE424,DataByMiles!$AT$5:$AU$6,2,FALSE)","v":0},{"$f":"DataByMiles!H424*VLOOKUP(DataByMiles!AE424,DataByMiles!$AT$5:$AU$6,2,FALSE)","v":0},null,null,{"$f":"Q426*$T$2*VLOOKUP(DataByMiles!AE424,DataByMiles!$AT$5:$AU$6,2,FALSE)","v":0},{"$f":"DataByMiles!I424*VLOOKUP(DataByMiles!AE424,DataByMiles!$AT$5:$AU$6,2,FALSE)","v":0},null,null,{"$f":"U426*$X$2*VLOOKUP(DataByMiles!AE424,DataByMiles!$AT$5:$AU$6,2,FALSE)","v":0},{"$f":"DataByMiles!J424*VLOOKUP(DataByMiles!AE424,DataByMiles!$AT$5:$AU$6,2,FALSE)","v":0},{"$f":"DataByMiles!K424","v":0},{"$f":"DataByMiles!L424","v":0},null,null,{"$f":"(Y426/IF(Z426=0,$AD$1,Z426)*$AD$2)/IF(AA426=0,1,AA426)*VLOOKUP(DataByMiles!AE424,DataByMiles!$AT$5:$AU$6,2,FALSE)","v":0},"",0,0,{"$f":"(AF426+AG426)*VLOOKUP(DataByMiles!AE424,DataByMiles!$AT$5:$AU$6,2,FALSE)","v":0},0]
[null,{"$f":"DataByMiles!C425","v":"----421"},{"$f":"DataByMiles!E425*VLOOKUP(DataByMiles!AE425,DataByMiles!$AT$5:$AU$6,2,FALSE)","v":0},null,null,0,{"$f":"C427*$G$2*VLOOKUP(DataByMiles!AE425,DataByMiles!$AT$5:$AU$6,2,FALSE)","v":0},{"$f":"DataByMiles!F425*VLOOKUP(DataByMiles!AE425,DataByMiles!$AT$5:$AU$6,2,FALSE)","v":0},null,null,0,{"$f":"H427*$L$2*VLOOKUP(DataByMiles!AE425,DataByMiles!$AT$5:$AU$6,2,FALSE)","v":0},{"$f":"DataByMiles!G425*VLOOKUP(DataByMiles!AE425,DataByMiles!$AT$5:$AU$6,2,FALSE)","v":0},null,null,{"$f":"M427*$P$2*VLOOKUP(DataByMiles!AE425,DataByMiles!$AT$5:$AU$6,2,FALSE)","v":0},{"$f":"DataByMiles!H425*VLOOKUP(DataByMiles!AE425,DataByMiles!$AT$5:$AU$6,2,FALSE)","v":0},null,null,{"$f":"Q427*$T$2*VLOOKUP(DataByMiles!AE425,DataByMiles!$AT$5:$AU$6,2,FALSE)","v":0},{"$f":"DataByMiles!I425*VLOOKUP(DataByMiles!AE425,DataByMiles!$AT$5:$AU$6,2,FALSE)","v":0},null,null,{"$f":"U427*$X$2*VLOOKUP(DataByMiles!AE425,DataByMiles!$AT$5:$AU$6,2,FALSE)","v":0},{"$f":"DataByMiles!J425*VLOOKUP(DataByMiles!AE425,DataByMiles!$AT$5:$AU$6,2,FALSE)","v":0},{"$f":"DataByMiles!K425","v":0},{"$f":"DataByMiles!L425","v":0},null,null,{"$f":"(Y427/IF(Z427=0,$AD$1,Z427)*$AD$2)/IF(AA427=0,1,AA427)*VLOOKUP(DataByMiles!AE425,DataByMiles!$AT$5:$AU$6,2,FALSE)","v":0},"",0,0,{"$f":"(AF427+AG427)*VLOOKUP(DataByMiles!AE425,DataByMiles!$AT$5:$AU$6,2,FALSE)","v":0},0]
[null,{"$f":"DataByMiles!C426","v":"----422"},{"$f":"DataByMiles!E426*VLOOKUP(DataByMiles!AE426,DataByMiles!$AT$5:$AU$6,2,FALSE)","v":0},null,null,0,{"$f":"C428*$G$2*VLOOKUP(DataByMiles!AE426,DataByMiles!$AT$5:$AU$6,2,FALSE)","v":0},{"$f":"DataByMiles!F426*VLOOKUP(DataByMiles!AE426,DataByMiles!$AT$5:$AU$6,2,FALSE)","v":0},null,null,0,{"$f":"H428*$L$2*VLOOKUP(DataByMiles!AE426,DataByMiles!$AT$5:$AU$6,2,FALSE)","v":0},{"$f":"DataByMiles!G426*VLOOKUP(DataByMiles!AE426,DataByMiles!$AT$5:$AU$6,2,FALSE)","v":0},null,null,{"$f":"M428*$P$2*VLOOKUP(DataByMiles!AE426,DataByMiles!$AT$5:$AU$6,2,FALSE)","v":0},{"$f":"DataByMiles!H426*VLOOKUP(DataByMiles!AE426,DataByMiles!$AT$5:$AU$6,2,FALSE)","v":0},null,null,{"$f":"Q428*$T$2*VLOOKUP(DataByMiles!AE426,DataByMiles!$AT$5:$AU$6,2,FALSE)","v":0},{"$f":"DataByMiles!I426*VLOOKUP(DataByMiles!AE426,DataByMiles!$AT$5:$AU$6,2,FALSE)","v":0},null,null,{"$f":"U428*$X$2*VLOOKUP(DataByMiles!AE426,DataByMiles!$AT$5:$AU$6,2,FALSE)","v":0},{"$f":"DataByMiles!J426*VLOOKUP(DataByMiles!AE426,DataByMiles!$AT$5:$AU$6,2,FALSE)","v":0},{"$f":"DataByMiles!K426","v":0},{"$f":"DataByMiles!L426","v":0},null,null,{"$f":"(Y428/IF(Z428=0,$AD$1,Z428)*$AD$2)/IF(AA428=0,1,AA428)*VLOOKUP(DataByMiles!AE426,DataByMiles!$AT$5:$AU$6,2,FALSE)","v":0},"",0,0,{"$f":"(AF428+AG428)*VLOOKUP(DataByMiles!AE426,DataByMiles!$AT$5:$AU$6,2,FALSE)","v":0},0]
[null,{"$f":"DataByMiles!C427","v":"----423"},{"$f":"DataByMiles!E427*VLOOKUP(DataByMiles!AE427,DataByMiles!$AT$5:$AU$6,2,FALSE)","v":0},null,null,0,{"$f":"C429*$G$2*VLOOKUP(DataByMiles!AE427,DataByMiles!$AT$5:$AU$6,2,FALSE)","v":0},{"$f":"DataByMiles!F427*VLOOKUP(DataByMiles!AE427,DataByMiles!$AT$5:$AU$6,2,FALSE)","v":0},null,null,0,{"$f":"H429*$L$2*VLOOKUP(DataByMiles!AE427,DataByMiles!$AT$5:$AU$6,2,FALSE)","v":0},{"$f":"DataByMiles!G427*VLOOKUP(DataByMiles!AE427,DataByMiles!$AT$5:$AU$6,2,FALSE)","v":0},null,null,{"$f":"M429*$P$2*VLOOKUP(DataByMiles!AE427,DataByMiles!$AT$5:$AU$6,2,FALSE)","v":0},{"$f":"DataByMiles!H427*VLOOKUP(DataByMiles!AE427,DataByMiles!$AT$5:$AU$6,2,FALSE)","v":0},null,null,{"$f":"Q429*$T$2*VLOOKUP(DataByMiles!AE427,DataByMiles!$AT$5:$AU$6,2,FALSE)","v":0},{"$f":"DataByMiles!I427*VLOOKUP(DataByMiles!AE427,DataByMiles!$AT$5:$AU$6,2,FALSE)","v":0},null,null,{"$f":"U429*$X$2*VLOOKUP(DataByMiles!AE427,DataByMiles!$AT$5:$AU$6,2,FALSE)","v":0},{"$f":"DataByMiles!J427*VLOOKUP(DataByMiles!AE427,DataByMiles!$AT$5:$AU$6,2,FALSE)","v":0},{"$f":"DataByMiles!K427","v":0},{"$f":"DataByMiles!L427","v":0},null,null,{"$f":"(Y429/IF(Z429=0,$AD$1,Z429)*$AD$2)/IF(AA429=0,1,AA429)*VLOOKUP(DataByMiles!AE427,DataByMiles!$AT$5:$AU$6,2,FALSE)","v":0},"",0,0,{"$f":"(AF429+AG429)*VLOOKUP(DataByMiles!AE427,DataByMiles!$AT$5:$AU$6,2,FALSE)","v":0},0]
[null,{"$f":"DataByMiles!C428","v":"----424"},{"$f":"DataByMiles!E428*VLOOKUP(DataByMiles!AE428,DataByMiles!$AT$5:$AU$6,2,FALSE)","v":0},null,null,{"$f":"C430*$F$2","v":0},{"$f":"C430*$G$2*VLOOKUP(DataByMiles!AE428,DataByMiles!$AT$5:$AU$6,2,FALSE)","v":0},{"$f":"DataByMiles!F428*VLOOKUP(DataByMiles!AE428,DataByMiles!$AT$5:$AU$6,2,FALSE)","v":0},null,null,{"$f":"H430*$K$2","v":0},{"$f":"H430*$L$2*VLOOKUP(DataByMiles!AE428,DataByMiles!$AT$5:$AU$6,2,FALSE)","v":0},{"$f":"DataByMiles!G428*VLOOKUP(DataByMiles!AE428,DataByMiles!$AT$5:$AU$6,2,FALSE)","v":0},null,null,{"$f":"M430*$P$2*VLOOKUP(DataByMiles!AE428,DataByMiles!$AT$5:$AU$6,2,FALSE)","v":0},{"$f":"DataByMiles!H428*VLOOKUP(DataByMiles!AE428,DataByMiles!$AT$5:$AU$6,2,FALSE)","v":0},null,null,{"$f":"Q430*$T$2*VLOOKUP(DataByMiles!AE428,DataByMiles!$AT$5:$AU$6,2,FALSE)","v":0},{"$f":"DataByMiles!I428*VLOOKUP(DataByMiles!AE428,DataByMiles!$AT$5:$AU$6,2,FALSE)","v":0},null,null,{"$f":"U430*$X$2*VLOOKUP(DataByMiles!AE428,DataByMiles!$AT$5:$AU$6,2,FALSE)","v":0},{"$f":"DataByMiles!J428*VLOOKUP(DataByMiles!AE428,DataByMiles!$AT$5:$AU$6,2,FALSE)","v":0},{"$f":"DataByMiles!K428","v":0},{"$f":"DataByMiles!L428","v":0},null,null,{"$f":"(Y430/IF(Z430=0,$AD$1,Z430)*$AD$2)/IF(AA430=0,1,AA430)*VLOOKUP(DataByMiles!AE428,DataByMiles!$AT$5:$AU$6,2,FALSE)","v":0},{"$f":"IF(C430+H430+M430+Q430+U430+Y430>0,C430+H430+M430+Q430+U430+Y430,\"\")","v":""},{"$f":"F430+K430+P430+T430+X430+AD430","v":0},{"$f":"G430+L430","v":0},{"$f":"(AF430+AG430)*VLOOKUP(DataByMiles!AE428,DataByMiles!$AT$5:$AU$6,2,FALSE)","v":0},{"$f":"IFERROR(AH430/AE430,0)","v":0}]
[null,{"$f":"DataByMiles!C429","v":"----425"},{"$f":"DataByMiles!E429*VLOOKUP(DataByMiles!AE429,DataByMiles!$AT$5:$AU$6,2,FALSE)","v":0},null,null,0,{"$f":"C431*$G$2*VLOOKUP(DataByMiles!AE429,DataByMiles!$AT$5:$AU$6,2,FALSE)","v":0},{"$f":"DataByMiles!F429*VLOOKUP(DataByMiles!AE429,DataByMiles!$AT$5:$AU$6,2,FALSE)","v":0},null,null,0,{"$f":"H431*$L$2*VLOOKUP(DataByMiles!AE429,DataByMiles!$AT$5:$AU$6,2,FALSE)","v":0},{"$f":"DataByMiles!G429*VLOOKUP(DataByMiles!AE429,DataByMiles!$AT$5:$AU$6,2,FALSE)","v":0},null,null,{"$f":"M431*$P$2*VLOOKUP(DataByMiles!AE429,DataByMiles!$AT$5:$AU$6,2,FALSE)","v":0},{"$f":"DataByMiles!H429*VLOOKUP(DataByMiles!AE429,DataByMiles!$AT$5:$AU$6,2,FALSE)","v":0},null,null,{"$f":"Q431*$T$2*VLOOKUP(DataByMiles!AE429,DataByMiles!$AT$5:$AU$6,2,FALSE)","v":0},{"$f":"DataByMiles!I429*VLOOKUP(DataByMiles!AE429,DataByMiles!$AT$5:$AU$6,2,FALSE)","v":0},null,null,{"$f":"U431*$X$2*VLOOKUP(DataByMiles!AE429,DataByMiles!$AT$5:$AU$6,2,FALSE)","v":0},{"$f":"DataByMiles!J429*VLOOKUP(DataByMiles!AE429,DataByMiles!$AT$5:$AU$6,2,FALSE)","v":0},{"$f":"DataByMiles!K429","v":0},{"$f":"DataByMiles!L429","v":0},null,null,{"$f":"(Y431/IF(Z431=0,$AD$1,Z431)*$AD$2)/IF(AA431=0,1,AA431)*VLOOKUP(DataByMiles!AE429,DataByMiles!$AT$5:$AU$6,2,FALSE)","v":0},"",0,0,{"$f":"(AF431+AG431)*VLOOKUP(DataByMiles!AE429,DataByMiles!$AT$5:$AU$6,2,FALSE)","v":0},0]
[null,{"$f":"DataByMiles!C430","v":"----426"},{"$f":"DataByMiles!E430*VLOOKUP(DataByMiles!AE430,DataByMiles!$AT$5:$AU$6,2,FALSE)","v":0},null,null,0,{"$f":"C432*$G$2*VLOOKUP(DataByMiles!AE430,DataByMiles!$AT$5:$AU$6,2,FALSE)","v":0},{"$f":"DataByMiles!F430*VLOOKUP(DataByMiles!AE430,DataByMiles!$AT$5:$AU$6,2,FALSE)","v":0},null,null,0,{"$f":"H432*$L$2*VLOOKUP(DataByMiles!AE430,DataByMiles!$AT$5:$AU$6,2,FALSE)","v":0},{"$f":"DataByMiles!G430*VLOOKUP(DataByMiles!AE430,DataByMiles!$AT$5:$AU$6,2,FALSE)","v":0},null,null,{"$f":"M432*$P$2*VLOOKUP(DataByMiles!AE430,DataByMiles!$AT$5:$AU$6,2,FALSE)","v":0},{"$f":"DataByMiles!H430*VLOOKUP(DataByMiles!AE430,DataByMiles!$AT$5:$AU$6,2,FALSE)","v":0},null,null,{"$f":"Q432*$T$2*VLOOKUP(DataByMiles!AE430,DataByMiles!$AT$5:$AU$6,2,FALSE)","v":0},{"$f":"DataByMiles!I430*VLOOKUP(DataByMiles!AE430,DataByMiles!$AT$5:$AU$6,2,FALSE)","v":0},null,null,{"$f":"U432*$X$2*VLOOKUP(DataByMiles!AE430,DataByMiles!$AT$5:$AU$6,2,FALSE)","v":0},{"$f":"DataByMiles!J430*VLOOKUP(DataByMiles!AE430,DataByMiles!$AT$5:$AU$6,2,FALSE)","v":0},{"$f":"DataByMiles!K430","v":0},{"$f":"DataByMiles!L430","v":0},null,null,{"$f":"(Y432/IF(Z432=0,$AD$1,Z432)*$AD$2)/IF(AA432=0,1,AA432)*VLOOKUP(DataByMiles!AE430,DataByMiles!$AT$5:$AU$6,2,FALSE)","v":0},"",0,0,{"$f":"(AF432+AG432)*VLOOKUP(DataByMiles!AE430,DataByMiles!$AT$5:$AU$6,2,FALSE)","v":0},0]
[null,{"$f":"DataByMiles!C431","v":"----427"},{"$f":"DataByMiles!E431*VLOOKUP(DataByMiles!AE431,DataByMiles!$AT$5:$AU$6,2,FALSE)","v":0},null,null,0,{"$f":"C433*$G$2*VLOOKUP(DataByMiles!AE431,DataByMiles!$AT$5:$AU$6,2,FALSE)","v":0},{"$f":"DataByMiles!F431*VLOOKUP(DataByMiles!AE431,DataByMiles!$AT$5:$AU$6,2,FALSE)","v":0},null,null,0,{"$f":"H433*$L$2*VLOOKUP(DataByMiles!AE431,DataByMiles!$AT$5:$AU$6,2,FALSE)","v":0},{"$f":"DataByMiles!G431*VLOOKUP(DataByMiles!AE431,DataByMiles!$AT$5:$AU$6,2,FALSE)","v":0},null,null,{"$f":"M433*$P$2*VLOOKUP(DataByMiles!AE431,DataByMiles!$AT$5:$AU$6,2,FALSE)","v":0},{"$f":"DataByMiles!H431*VLOOKUP(DataByMiles!AE431,DataByMiles!$AT$5:$AU$6,2,FALSE)","v":0},null,null,{"$f":"Q433*$T$2*VLOOKUP(DataByMiles!AE431,DataByMiles!$AT$5:$AU$6,2,FALSE)","v":0},{"$f":"DataByMiles!I431*VLOOKUP(DataByMiles!AE431,DataByMiles!$AT$5:$AU$6,2,FALSE)","v":0},null,null,{"$f":"U433*$X$2*VLOOKUP(DataByMiles!AE431,DataByMiles!$AT$5:$AU$6,2,FALSE)","v":0},{"$f":"DataByMiles!J431*VLOOKUP(DataByMiles!AE431,DataByMiles!$AT$5:$AU$6,2,FALSE)","v":0},{"$f":"DataByMiles!K431","v":0},{"$f":"DataByMiles!L431","v":0},null,null,{"$f":"(Y433/IF(Z433=0,$AD$1,Z433)*$AD$2)/IF(AA433=0,1,AA433)*VLOOKUP(DataByMiles!AE431,DataByMiles!$AT$5:$AU$6,2,FALSE)","v":0},"",0,0,{"$f":"(AF433+AG433)*VLOOKUP(DataByMiles!AE431,DataByMiles!$AT$5:$AU$6,2,FALSE)","v":0},0]
[null,{"$f":"DataByMiles!C432","v":"----428"},{"$f":"DataByMiles!E432*VLOOKUP(DataByMiles!AE432,DataByMiles!$AT$5:$AU$6,2,FALSE)","v":0},null,null,0,{"$f":"C434*$G$2*VLOOKUP(DataByMiles!AE432,DataByMiles!$AT$5:$AU$6,2,FALSE)","v":0},{"$f":"DataByMiles!F432*VLOOKUP(DataByMiles!AE432,DataByMiles!$AT$5:$AU$6,2,FALSE)","v":0},null,null,0,{"$f":"H434*$L$2*VLOOKUP(DataByMiles!AE432,DataByMiles!$AT$5:$AU$6,2,FALSE)","v":0},{"$f":"DataByMiles!G432*VLOOKUP(DataByMiles!AE432,DataByMiles!$AT$5:$AU$6,2,FALSE)","v":0},null,null,{"$f":"M434*$P$2*VLOOKUP(DataByMiles!AE432,DataByMiles!$AT$5:$AU$6,2,FALSE)","v":0},{"$f":"DataByMiles!H432*VLOOKUP(DataByMiles!AE432,DataByMiles!$AT$5:$AU$6,2,FALSE)","v":0},null,null,{"$f":"Q434*$T$2*VLOOKUP(DataByMiles!AE432,DataByMiles!$AT$5:$AU$6,2,FALSE)","v":0},{"$f":"DataByMiles!I432*VLOOKUP(DataByMiles!AE432,DataByMiles!$AT$5:$AU$6,2,FALSE)","v":0},null,null,{"$f":"U434*$X$2*VLOOKUP(DataByMiles!AE432,DataByMiles!$AT$5:$AU$6,2,FALSE)","v":0},{"$f":"DataByMiles!J432*VLOOKUP(DataByMiles!AE432,DataByMiles!$AT$5:$AU$6,2,FALSE)","v":0},{"$f":"DataByMiles!K432","v":0},{"$f":"DataByMiles!L432","v":0},null,null,{"$f":"(Y434/IF(Z434=0,$AD$1,Z434)*$AD$2)/IF(AA434=0,1,AA434)*VLOOKUP(DataByMiles!AE432,DataByMiles!$AT$5:$AU$6,2,FALSE)","v":0},"",0,0,{"$f":"(AF434+AG434)*VLOOKUP(DataByMiles!AE432,DataByMiles!$AT$5:$AU$6,2,FALSE)","v":0},0]
[null,{"$f":"DataByMiles!C433","v":"----429"},{"$f":"DataByMiles!E433*VLOOKUP(DataByMiles!AE433,DataByMiles!$AT$5:$AU$6,2,FALSE)","v":0},null,null,0,{"$f":"C435*$G$2*VLOOKUP(DataByMiles!AE433,DataByMiles!$AT$5:$AU$6,2,FALSE)","v":0},{"$f":"DataByMiles!F433*VLOOKUP(DataByMiles!AE433,DataByMiles!$AT$5:$AU$6,2,FALSE)","v":0},null,null,0,{"$f":"H435*$L$2*VLOOKUP(DataByMiles!AE433,DataByMiles!$AT$5:$AU$6,2,FALSE)","v":0},{"$f":"DataByMiles!G433*VLOOKUP(DataByMiles!AE433,DataByMiles!$AT$5:$AU$6,2,FALSE)","v":0},null,null,{"$f":"M435*$P$2*VLOOKUP(DataByMiles!AE433,DataByMiles!$AT$5:$AU$6,2,FALSE)","v":0},{"$f":"DataByMiles!H433*VLOOKUP(DataByMiles!AE433,DataByMiles!$AT$5:$AU$6,2,FALSE)","v":0},null,null,{"$f":"Q435*$T$2*VLOOKUP(DataByMiles!AE433,DataByMiles!$AT$5:$AU$6,2,FALSE)","v":0},{"$f":"DataByMiles!I433*VLOOKUP(DataByMiles!AE433,DataByMiles!$AT$5:$AU$6,2,FALSE)","v":0},null,null,{"$f":"U435*$X$2*VLOOKUP(DataByMiles!AE433,DataByMiles!$AT$5:$AU$6,2,FALSE)","v":0},{"$f":"DataByMiles!J433*VLOOKUP(DataByMiles!AE433,DataByMiles!$AT$5:$AU$6,2,FALSE)","v":0},{"$f":"DataByMiles!K433","v":0},{"$f":"DataByMiles!L433","v":0},null,null,{"$f":"(Y435/IF(Z435=0,$AD$1,Z435)*$AD$2)/IF(AA435=0,1,AA435)*VLOOKUP(DataByMiles!AE433,DataByMiles!$AT$5:$AU$6,2,FALSE)","v":0},"",0,0,{"$f":"(AF435+AG435)*VLOOKUP(DataByMiles!AE433,DataByMiles!$AT$5:$AU$6,2,FALSE)","v":0},0]
[null,{"$f":"DataByMiles!C434","v":"----430"},{"$f":"DataByMiles!E434*VLOOKUP(DataByMiles!AE434,DataByMiles!$AT$5:$AU$6,2,FALSE)","v":0},null,null,0,{"$f":"C436*$G$2*VLOOKUP(DataByMiles!AE434,DataByMiles!$AT$5:$AU$6,2,FALSE)","v":0},{"$f":"DataByMiles!F434*VLOOKUP(DataByMiles!AE434,DataByMiles!$AT$5:$AU$6,2,FALSE)","v":0},null,null,0,{"$f":"H436*$L$2*VLOOKUP(DataByMiles!AE434,DataByMiles!$AT$5:$AU$6,2,FALSE)","v":0},{"$f":"DataByMiles!G434*VLOOKUP(DataByMiles!AE434,DataByMiles!$AT$5:$AU$6,2,FALSE)","v":0},null,null,{"$f":"M436*$P$2*VLOOKUP(DataByMiles!AE434,DataByMiles!$AT$5:$AU$6,2,FALSE)","v":0},{"$f":"DataByMiles!H434*VLOOKUP(DataByMiles!AE434,DataByMiles!$AT$5:$AU$6,2,FALSE)","v":0},null,null,{"$f":"Q436*$T$2*VLOOKUP(DataByMiles!AE434,DataByMiles!$AT$5:$AU$6,2,FALSE)","v":0},{"$f":"DataByMiles!I434*VLOOKUP(DataByMiles!AE434,DataByMiles!$AT$5:$AU$6,2,FALSE)","v":0},null,null,{"$f":"U436*$X$2*VLOOKUP(DataByMiles!AE434,DataByMiles!$AT$5:$AU$6,2,FALSE)","v":0},{"$f":"DataByMiles!J434*VLOOKUP(DataByMiles!AE434,DataByMiles!$AT$5:$AU$6,2,FALSE)","v":0},{"$f":"DataByMiles!K434","v":0},{"$f":"DataByMiles!L434","v":0},null,null,{"$f":"(Y436/IF(Z436=0,$AD$1,Z436)*$AD$2)/IF(AA436=0,1,AA436)*VLOOKUP(DataByMiles!AE434,DataByMiles!$AT$5:$AU$6,2,FALSE)","v":0},"",0,0,{"$f":"(AF436+AG436)*VLOOKUP(DataByMiles!AE434,DataByMiles!$AT$5:$AU$6,2,FALSE)","v":0},0]
[null,{"$f":"DataByMiles!C435","v":"----431"},{"$f":"DataByMiles!E435*VLOOKUP(DataByMiles!AE435,DataByMiles!$AT$5:$AU$6,2,FALSE)","v":0},null,null,0,{"$f":"C437*$G$2*VLOOKUP(DataByMiles!AE435,DataByMiles!$AT$5:$AU$6,2,FALSE)","v":0},{"$f":"DataByMiles!F435*VLOOKUP(DataByMiles!AE435,DataByMiles!$AT$5:$AU$6,2,FALSE)","v":0},null,null,0,{"$f":"H437*$L$2*VLOOKUP(DataByMiles!AE435,DataByMiles!$AT$5:$AU$6,2,FALSE)","v":0},{"$f":"DataByMiles!G435*VLOOKUP(DataByMiles!AE435,DataByMiles!$AT$5:$AU$6,2,FALSE)","v":0},null,null,{"$f":"M437*$P$2*VLOOKUP(DataByMiles!AE435,DataByMiles!$AT$5:$AU$6,2,FALSE)","v":0},{"$f":"DataByMiles!H435*VLOOKUP(DataByMiles!AE435,DataByMiles!$AT$5:$AU$6,2,FALSE)","v":0},null,null,{"$f":"Q437*$T$2*VLOOKUP(DataByMiles!AE435,DataByMiles!$AT$5:$AU$6,2,FALSE)","v":0},{"$f":"DataByMiles!I435*VLOOKUP(DataByMiles!AE435,DataByMiles!$AT$5:$AU$6,2,FALSE)","v":0},null,null,{"$f":"U437*$X$2*VLOOKUP(DataByMiles!AE435,DataByMiles!$AT$5:$AU$6,2,FALSE)","v":0},{"$f":"DataByMiles!J435*VLOOKUP(DataByMiles!AE435,DataByMiles!$AT$5:$AU$6,2,FALSE)","v":0},{"$f":"DataByMiles!K435","v":0},{"$f":"DataByMiles!L435","v":0},null,null,{"$f":"(Y437/IF(Z437=0,$AD$1,Z437)*$AD$2)/IF(AA437=0,1,AA437)*VLOOKUP(DataByMiles!AE435,DataByMiles!$AT$5:$AU$6,2,FALSE)","v":0},"",0,0,{"$f":"(AF437+AG437)*VLOOKUP(DataByMiles!AE435,DataByMiles!$AT$5:$AU$6,2,FALSE)","v":0},0]
[null,{"$f":"DataByMiles!C436","v":"----432"},{"$f":"DataByMiles!E436*VLOOKUP(DataByMiles!AE436,DataByMiles!$AT$5:$AU$6,2,FALSE)","v":0},null,null,0,{"$f":"C438*$G$2*VLOOKUP(DataByMiles!AE436,DataByMiles!$AT$5:$AU$6,2,FALSE)","v":0},{"$f":"DataByMiles!F436*VLOOKUP(DataByMiles!AE436,DataByMiles!$AT$5:$AU$6,2,FALSE)","v":0},null,null,0,{"$f":"H438*$L$2*VLOOKUP(DataByMiles!AE436,DataByMiles!$AT$5:$AU$6,2,FALSE)","v":0},{"$f":"DataByMiles!G436*VLOOKUP(DataByMiles!AE436,DataByMiles!$AT$5:$AU$6,2,FALSE)","v":0},null,null,{"$f":"M438*$P$2*VLOOKUP(DataByMiles!AE436,DataByMiles!$AT$5:$AU$6,2,FALSE)","v":0},{"$f":"DataByMiles!H436*VLOOKUP(DataByMiles!AE436,DataByMiles!$AT$5:$AU$6,2,FALSE)","v":0},null,null,{"$f":"Q438*$T$2*VLOOKUP(DataByMiles!AE436,DataByMiles!$AT$5:$AU$6,2,FALSE)","v":0},{"$f":"DataByMiles!I436*VLOOKUP(DataByMiles!AE436,DataByMiles!$AT$5:$AU$6,2,FALSE)","v":0},null,null,{"$f":"U438*$X$2*VLOOKUP(DataByMiles!AE436,DataByMiles!$AT$5:$AU$6,2,FALSE)","v":0},{"$f":"DataByMiles!J436*VLOOKUP(DataByMiles!AE436,DataByMiles!$AT$5:$AU$6,2,FALSE)","v":0},{"$f":"DataByMiles!K436","v":0},{"$f":"DataByMiles!L436","v":0},null,null,{"$f":"(Y438/IF(Z438=0,$AD$1,Z438)*$AD$2)/IF(AA438=0,1,AA438)*VLOOKUP(DataByMiles!AE436,DataByMiles!$AT$5:$AU$6,2,FALSE)","v":0},"",0,0,{"$f":"(AF438+AG438)*VLOOKUP(DataByMiles!AE436,DataByMiles!$AT$5:$AU$6,2,FALSE)","v":0},0]
[null,{"$f":"DataByMiles!C437","v":"----433"},{"$f":"DataByMiles!E437*VLOOKUP(DataByMiles!AE437,DataByMiles!$AT$5:$AU$6,2,FALSE)","v":0},null,null,0,{"$f":"C439*$G$2*VLOOKUP(DataByMiles!AE437,DataByMiles!$AT$5:$AU$6,2,FALSE)","v":0},{"$f":"DataByMiles!F437*VLOOKUP(DataByMiles!AE437,DataByMiles!$AT$5:$AU$6,2,FALSE)","v":0},null,null,0,{"$f":"H439*$L$2*VLOOKUP(DataByMiles!AE437,DataByMiles!$AT$5:$AU$6,2,FALSE)","v":0},{"$f":"DataByMiles!G437*VLOOKUP(DataByMiles!AE437,DataByMiles!$AT$5:$AU$6,2,FALSE)","v":0},null,null,{"$f":"M439*$P$2*VLOOKUP(DataByMiles!AE437,DataByMiles!$AT$5:$AU$6,2,FALSE)","v":0},{"$f":"DataByMiles!H437*VLOOKUP(DataByMiles!AE437,DataByMiles!$AT$5:$AU$6,2,FALSE)","v":0},null,null,{"$f":"Q439*$T$2*VLOOKUP(DataByMiles!AE437,DataByMiles!$AT$5:$AU$6,2,FALSE)","v":0},{"$f":"DataByMiles!I437*VLOOKUP(DataByMiles!AE437,DataByMiles!$AT$5:$AU$6,2,FALSE)","v":0},null,null,{"$f":"U439*$X$2*VLOOKUP(DataByMiles!AE437,DataByMiles!$AT$5:$AU$6,2,FALSE)","v":0},{"$f":"DataByMiles!J437*VLOOKUP(DataByMiles!AE437,DataByMiles!$AT$5:$AU$6,2,FALSE)","v":0},{"$f":"DataByMiles!K437","v":0},{"$f":"DataByMiles!L437","v":0},null,null,{"$f":"(Y439/IF(Z439=0,$AD$1,Z439)*$AD$2)/IF(AA439=0,1,AA439)*VLOOKUP(DataByMiles!AE437,DataByMiles!$AT$5:$AU$6,2,FALSE)","v":0},"",0,0,{"$f":"(AF439+AG439)*VLOOKUP(DataByMiles!AE437,DataByMiles!$AT$5:$AU$6,2,FALSE)","v":0},0]
[null,{"$f":"DataByMiles!C438","v":"----434"},{"$f":"DataByMiles!E438*VLOOKUP(DataByMiles!AE438,DataByMiles!$AT$5:$AU$6,2,FALSE)","v":0},null,null,0,{"$f":"C440*$G$2*VLOOKUP(DataByMiles!AE438,DataByMiles!$AT$5:$AU$6,2,FALSE)","v":0},{"$f":"DataByMiles!F438*VLOOKUP(DataByMiles!AE438,DataByMiles!$AT$5:$AU$6,2,FALSE)","v":0},null,null,0,{"$f":"H440*$L$2*VLOOKUP(DataByMiles!AE438,DataByMiles!$AT$5:$AU$6,2,FALSE)","v":0},{"$f":"DataByMiles!G438*VLOOKUP(DataByMiles!AE438,DataByMiles!$AT$5:$AU$6,2,FALSE)","v":0},null,null,{"$f":"M440*$P$2*VLOOKUP(DataByMiles!AE438,DataByMiles!$AT$5:$AU$6,2,FALSE)","v":0},{"$f":"DataByMiles!H438*VLOOKUP(DataByMiles!AE438,DataByMiles!$AT$5:$AU$6,2,FALSE)","v":0},null,null,{"$f":"Q440*$T$2*VLOOKUP(DataByMiles!AE438,DataByMiles!$AT$5:$AU$6,2,FALSE)","v":0},{"$f":"DataByMiles!I438*VLOOKUP(DataByMiles!AE438,DataByMiles!$AT$5:$AU$6,2,FALSE)","v":0},null,null,{"$f":"U440*$X$2*VLOOKUP(DataByMiles!AE438,DataByMiles!$AT$5:$AU$6,2,FALSE)","v":0},{"$f":"DataByMiles!J438*VLOOKUP(DataByMiles!AE438,DataByMiles!$AT$5:$AU$6,2,FALSE)","v":0},{"$f":"DataByMiles!K438","v":0},{"$f":"DataByMiles!L438","v":0},null,null,{"$f":"(Y440/IF(Z440=0,$AD$1,Z440)*$AD$2)/IF(AA440=0,1,AA440)*VLOOKUP(DataByMiles!AE438,DataByMiles!$AT$5:$AU$6,2,FALSE)","v":0},"",0,0,{"$f":"(AF440+AG440)*VLOOKUP(DataByMiles!AE438,DataByMiles!$AT$5:$AU$6,2,FALSE)","v":0},0]
[null,{"$f":"DataByMiles!C439","v":"----435"},{"$f":"DataByMiles!E439*VLOOKUP(DataByMiles!AE439,DataByMiles!$AT$5:$AU$6,2,FALSE)","v":0},null,null,0,{"$f":"C441*$G$2*VLOOKUP(DataByMiles!AE439,DataByMiles!$AT$5:$AU$6,2,FALSE)","v":0},{"$f":"DataByMiles!F439*VLOOKUP(DataByMiles!AE439,DataByMiles!$AT$5:$AU$6,2,FALSE)","v":0},null,null,0,{"$f":"H441*$L$2*VLOOKUP(DataByMiles!AE439,DataByMiles!$AT$5:$AU$6,2,FALSE)","v":0},{"$f":"DataByMiles!G439*VLOOKUP(DataByMiles!AE439,DataByMiles!$AT$5:$AU$6,2,FALSE)","v":0},null,null,{"$f":"M441*$P$2*VLOOKUP(DataByMiles!AE439,DataByMiles!$AT$5:$AU$6,2,FALSE)","v":0},{"$f":"DataByMiles!H439*VLOOKUP(DataByMiles!AE439,DataByMiles!$AT$5:$AU$6,2,FALSE)","v":0},null,null,{"$f":"Q441*$T$2*VLOOKUP(DataByMiles!AE439,DataByMiles!$AT$5:$AU$6,2,FALSE)","v":0},{"$f":"DataByMiles!I439*VLOOKUP(DataByMiles!AE439,DataByMiles!$AT$5:$AU$6,2,FALSE)","v":0},null,null,{"$f":"U441*$X$2*VLOOKUP(DataByMiles!AE439,DataByMiles!$AT$5:$AU$6,2,FALSE)","v":0},{"$f":"DataByMiles!J439*VLOOKUP(DataByMiles!AE439,DataByMiles!$AT$5:$AU$6,2,FALSE)","v":0},{"$f":"DataByMiles!K439","v":0},{"$f":"DataByMiles!L439","v":0},null,null,{"$f":"(Y441/IF(Z441=0,$AD$1,Z441)*$AD$2)/IF(AA441=0,1,AA441)*VLOOKUP(DataByMiles!AE439,DataByMiles!$AT$5:$AU$6,2,FALSE)","v":0},"",0,0,{"$f":"(AF441+AG441)*VLOOKUP(DataByMiles!AE439,DataByMiles!$AT$5:$AU$6,2,FALSE)","v":0},0]
[null,{"$f":"DataByMiles!C440","v":"----436"},{"$f":"DataByMiles!E440*VLOOKUP(DataByMiles!AE440,DataByMiles!$AT$5:$AU$6,2,FALSE)","v":0},null,null,0,{"$f":"C442*$G$2*VLOOKUP(DataByMiles!AE440,DataByMiles!$AT$5:$AU$6,2,FALSE)","v":0},{"$f":"DataByMiles!F440*VLOOKUP(DataByMiles!AE440,DataByMiles!$AT$5:$AU$6,2,FALSE)","v":0},null,null,0,{"$f":"H442*$L$2*VLOOKUP(DataByMiles!AE440,DataByMiles!$AT$5:$AU$6,2,FALSE)","v":0},{"$f":"DataByMiles!G440*VLOOKUP(DataByMiles!AE440,DataByMiles!$AT$5:$AU$6,2,FALSE)","v":0},null,null,{"$f":"M442*$P$2*VLOOKUP(DataByMiles!AE440,DataByMiles!$AT$5:$AU$6,2,FALSE)","v":0},{"$f":"DataByMiles!H440*VLOOKUP(DataByMiles!AE440,DataByMiles!$AT$5:$AU$6,2,FALSE)","v":0},null,null,{"$f":"Q442*$T$2*VLOOKUP(DataByMiles!AE440,DataByMiles!$AT$5:$AU$6,2,FALSE)","v":0},{"$f":"DataByMiles!I440*VLOOKUP(DataByMiles!AE440,DataByMiles!$AT$5:$AU$6,2,FALSE)","v":0},null,null,{"$f":"U442*$X$2*VLOOKUP(DataByMiles!AE440,DataByMiles!$AT$5:$AU$6,2,FALSE)","v":0},{"$f":"DataByMiles!J440*VLOOKUP(DataByMiles!AE440,DataByMiles!$AT$5:$AU$6,2,FALSE)","v":0},{"$f":"DataByMiles!K440","v":0},{"$f":"DataByMiles!L440","v":0},null,null,{"$f":"(Y442/IF(Z442=0,$AD$1,Z442)*$AD$2)/IF(AA442=0,1,AA442)*VLOOKUP(DataByMiles!AE440,DataByMiles!$AT$5:$AU$6,2,FALSE)","v":0},"",0,0,{"$f":"(AF442+AG442)*VLOOKUP(DataByMiles!AE440,DataByMiles!$AT$5:$AU$6,2,FALSE)","v":0},0]
[null,{"$f":"DataByMiles!C441","v":"----437"},{"$f":"DataByMiles!E441*VLOOKUP(DataByMiles!AE441,DataByMiles!$AT$5:$AU$6,2,FALSE)","v":0},null,null,0,{"$f":"C443*$G$2*VLOOKUP(DataByMiles!AE441,DataByMiles!$AT$5:$AU$6,2,FALSE)","v":0},{"$f":"DataByMiles!F441*VLOOKUP(DataByMiles!AE441,DataByMiles!$AT$5:$AU$6,2,FALSE)","v":0},null,null,0,{"$f":"H443*$L$2*VLOOKUP(DataByMiles!AE441,DataByMiles!$AT$5:$AU$6,2,FALSE)","v":0},{"$f":"DataByMiles!G441*VLOOKUP(DataByMiles!AE441,DataByMiles!$AT$5:$AU$6,2,FALSE)","v":0},null,null,{"$f":"M443*$P$2*VLOOKUP(DataByMiles!AE441,DataByMiles!$AT$5:$AU$6,2,FALSE)","v":0},{"$f":"DataByMiles!H441*VLOOKUP(DataByMiles!AE441,DataByMiles!$AT$5:$AU$6,2,FALSE)","v":0},null,null,{"$f":"Q443*$T$2*VLOOKUP(DataByMiles!AE441,DataByMiles!$AT$5:$AU$6,2,FALSE)","v":0},{"$f":"DataByMiles!I441*VLOOKUP(DataByMiles!AE441,DataByMiles!$AT$5:$AU$6,2,FALSE)","v":0},null,null,{"$f":"U443*$X$2*VLOOKUP(DataByMiles!AE441,DataByMiles!$AT$5:$AU$6,2,FALSE)","v":0},{"$f":"DataByMiles!J441*VLOOKUP(DataByMiles!AE441,DataByMiles!$AT$5:$AU$6,2,FALSE)","v":0},{"$f":"DataByMiles!K441","v":0},{"$f":"DataByMiles!L441","v":0},null,null,{"$f":"(Y443/IF(Z443=0,$AD$1,Z443)*$AD$2)/IF(AA443=0,1,AA443)*VLOOKUP(DataByMiles!AE441,DataByMiles!$AT$5:$AU$6,2,FALSE)","v":0},"",0,0,{"$f":"(AF443+AG443)*VLOOKUP(DataByMiles!AE441,DataByMiles!$AT$5:$AU$6,2,FALSE)","v":0},0]
[null,{"$f":"DataByMiles!C442","v":"----438"},{"$f":"DataByMiles!E442*VLOOKUP(DataByMiles!AE442,DataByMiles!$AT$5:$AU$6,2,FALSE)","v":0},null,null,0,{"$f":"C444*$G$2*VLOOKUP(DataByMiles!AE442,DataByMiles!$AT$5:$AU$6,2,FALSE)","v":0},{"$f":"DataByMiles!F442*VLOOKUP(DataByMiles!AE442,DataByMiles!$AT$5:$AU$6,2,FALSE)","v":0},null,null,0,{"$f":"H444*$L$2*VLOOKUP(DataByMiles!AE442,DataByMiles!$AT$5:$AU$6,2,FALSE)","v":0},{"$f":"DataByMiles!G442*VLOOKUP(DataByMiles!AE442,DataByMiles!$AT$5:$AU$6,2,FALSE)","v":0},null,null,{"$f":"M444*$P$2*VLOOKUP(DataByMiles!AE442,DataByMiles!$AT$5:$AU$6,2,FALSE)","v":0},{"$f":"DataByMiles!H442*VLOOKUP(DataByMiles!AE442,DataByMiles!$AT$5:$AU$6,2,FALSE)","v":0},null,null,{"$f":"Q444*$T$2*VLOOKUP(DataByMiles!AE442,DataByMiles!$AT$5:$AU$6,2,FALSE)","v":0},{"$f":"DataByMiles!I442*VLOOKUP(DataByMiles!AE442,DataByMiles!$AT$5:$AU$6,2,FALSE)","v":0},null,null,{"$f":"U444*$X$2*VLOOKUP(DataByMiles!AE442,DataByMiles!$AT$5:$AU$6,2,FALSE)","v":0},{"$f":"DataByMiles!J442*VLOOKUP(DataByMiles!AE442,DataByMiles!$AT$5:$AU$6,2,FALSE)","v":0},{"$f":"DataByMiles!K442","v":0},{"$f":"DataByMiles!L442","v":0},null,null,{"$f":"(Y444/IF(Z444=0,$AD$1,Z444)*$AD$2)/IF(AA444=0,1,AA444)*VLOOKUP(DataByMiles!AE442,DataByMiles!$AT$5:$AU$6,2,FALSE)","v":0},"",0,0,{"$f":"(AF444+AG444)*VLOOKUP(DataByMiles!AE442,DataByMiles!$AT$5:$AU$6,2,FALSE)","v":0},0]
[null,{"$f":"DataByMiles!C443","v":"----439"},{"$f":"DataByMiles!E443*VLOOKUP(DataByMiles!AE443,DataByMiles!$AT$5:$AU$6,2,FALSE)","v":0},null,null,0,{"$f":"C445*$G$2*VLOOKUP(DataByMiles!AE443,DataByMiles!$AT$5:$AU$6,2,FALSE)","v":0},{"$f":"DataByMiles!F443*VLOOKUP(DataByMiles!AE443,DataByMiles!$AT$5:$AU$6,2,FALSE)","v":0},null,null,0,{"$f":"H445*$L$2*VLOOKUP(DataByMiles!AE443,DataByMiles!$AT$5:$AU$6,2,FALSE)","v":0},{"$f":"DataByMiles!G443*VLOOKUP(DataByMiles!AE443,DataByMiles!$AT$5:$AU$6,2,FALSE)","v":0},null,null,{"$f":"M445*$P$2*VLOOKUP(DataByMiles!AE443,DataByMiles!$AT$5:$AU$6,2,FALSE)","v":0},{"$f":"DataByMiles!H443*VLOOKUP(DataByMiles!AE443,DataByMiles!$AT$5:$AU$6,2,FALSE)","v":0},null,null,{"$f":"Q445*$T$2*VLOOKUP(DataByMiles!AE443,DataByMiles!$AT$5:$AU$6,2,FALSE)","v":0},{"$f":"DataByMiles!I443*VLOOKUP(DataByMiles!AE443,DataByMiles!$AT$5:$AU$6,2,FALSE)","v":0},null,null,{"$f":"U445*$X$2*VLOOKUP(DataByMiles!AE443,DataByMiles!$AT$5:$AU$6,2,FALSE)","v":0},{"$f":"DataByMiles!J443*VLOOKUP(DataByMiles!AE443,DataByMiles!$AT$5:$AU$6,2,FALSE)","v":0},{"$f":"DataByMiles!K443","v":0},{"$f":"DataByMiles!L443","v":0},null,null,{"$f":"(Y445/IF(Z445=0,$AD$1,Z445)*$AD$2)/IF(AA445=0,1,AA445)*VLOOKUP(DataByMiles!AE443,DataByMiles!$AT$5:$AU$6,2,FALSE)","v":0},"",0,0,{"$f":"(AF445+AG445)*VLOOKUP(DataByMiles!AE443,DataByMiles!$AT$5:$AU$6,2,FALSE)","v":0},0]
[null,{"$f":"DataByMiles!C444","v":"----440"},{"$f":"DataByMiles!E444*VLOOKUP(DataByMiles!AE444,DataByMiles!$AT$5:$AU$6,2,FALSE)","v":0},null,null,0,{"$f":"C446*$G$2*VLOOKUP(DataByMiles!AE444,DataByMiles!$AT$5:$AU$6,2,FALSE)","v":0},{"$f":"DataByMiles!F444*VLOOKUP(DataByMiles!AE444,DataByMiles!$AT$5:$AU$6,2,FALSE)","v":0},null,null,0,{"$f":"H446*$L$2*VLOOKUP(DataByMiles!AE444,DataByMiles!$AT$5:$AU$6,2,FALSE)","v":0},{"$f":"DataByMiles!G444*VLOOKUP(DataByMiles!AE444,DataByMiles!$AT$5:$AU$6,2,FALSE)","v":0},null,null,{"$f":"M446*$P$2*VLOOKUP(DataByMiles!AE444,DataByMiles!$AT$5:$AU$6,2,FALSE)","v":0},{"$f":"DataByMiles!H444*VLOOKUP(DataByMiles!AE444,DataByMiles!$AT$5:$AU$6,2,FALSE)","v":0},null,null,{"$f":"Q446*$T$2*VLOOKUP(DataByMiles!AE444,DataByMiles!$AT$5:$AU$6,2,FALSE)","v":0},{"$f":"DataByMiles!I444*VLOOKUP(DataByMiles!AE444,DataByMiles!$AT$5:$AU$6,2,FALSE)","v":0},null,null,{"$f":"U446*$X$2*VLOOKUP(DataByMiles!AE444,DataByMiles!$AT$5:$AU$6,2,FALSE)","v":0},{"$f":"DataByMiles!J444*VLOOKUP(DataByMiles!AE444,DataByMiles!$AT$5:$AU$6,2,FALSE)","v":0},{"$f":"DataByMiles!K444","v":0},{"$f":"DataByMiles!L444","v":0},null,null,{"$f":"(Y446/IF(Z446=0,$AD$1,Z446)*$AD$2)/IF(AA446=0,1,AA446)*VLOOKUP(DataByMiles!AE444,DataByMiles!$AT$5:$AU$6,2,FALSE)","v":0},"",0,0,{"$f":"(AF446+AG446)*VLOOKUP(DataByMiles!AE444,DataByMiles!$AT$5:$AU$6,2,FALSE)","v":0},0]
[null,{"$f":"DataByMiles!C445","v":"----441"},{"$f":"DataByMiles!E445*VLOOKUP(DataByMiles!AE445,DataByMiles!$AT$5:$AU$6,2,FALSE)","v":0},null,null,0,{"$f":"C447*$G$2*VLOOKUP(DataByMiles!AE445,DataByMiles!$AT$5:$AU$6,2,FALSE)","v":0},{"$f":"DataByMiles!F445*VLOOKUP(DataByMiles!AE445,DataByMiles!$AT$5:$AU$6,2,FALSE)","v":0},null,null,0,{"$f":"H447*$L$2*VLOOKUP(DataByMiles!AE445,DataByMiles!$AT$5:$AU$6,2,FALSE)","v":0},{"$f":"DataByMiles!G445*VLOOKUP(DataByMiles!AE445,DataByMiles!$AT$5:$AU$6,2,FALSE)","v":0},null,null,{"$f":"M447*$P$2*VLOOKUP(DataByMiles!AE445,DataByMiles!$AT$5:$AU$6,2,FALSE)","v":0},{"$f":"DataByMiles!H445*VLOOKUP(DataByMiles!AE445,DataByMiles!$AT$5:$AU$6,2,FALSE)","v":0},null,null,{"$f":"Q447*$T$2*VLOOKUP(DataByMiles!AE445,DataByMiles!$AT$5:$AU$6,2,FALSE)","v":0},{"$f":"DataByMiles!I445*VLOOKUP(DataByMiles!AE445,DataByMiles!$AT$5:$AU$6,2,FALSE)","v":0},null,null,{"$f":"U447*$X$2*VLOOKUP(DataByMiles!AE445,DataByMiles!$AT$5:$AU$6,2,FALSE)","v":0},{"$f":"DataByMiles!J445*VLOOKUP(DataByMiles!AE445,DataByMiles!$AT$5:$AU$6,2,FALSE)","v":0},{"$f":"DataByMiles!K445","v":0},{"$f":"DataByMiles!L445","v":0},null,null,{"$f":"(Y447/IF(Z447=0,$AD$1,Z447)*$AD$2)/IF(AA447=0,1,AA447)*VLOOKUP(DataByMiles!AE445,DataByMiles!$AT$5:$AU$6,2,FALSE)","v":0},"",0,0,{"$f":"(AF447+AG447)*VLOOKUP(DataByMiles!AE445,DataByMiles!$AT$5:$AU$6,2,FALSE)","v":0},0]
[null,{"$f":"DataByMiles!C446","v":"----442"},{"$f":"DataByMiles!E446*VLOOKUP(DataByMiles!AE446,DataByMiles!$AT$5:$AU$6,2,FALSE)","v":0},null,null,0,{"$f":"C448*$G$2*VLOOKUP(DataByMiles!AE446,DataByMiles!$AT$5:$AU$6,2,FALSE)","v":0},{"$f":"DataByMiles!F446*VLOOKUP(DataByMiles!AE446,DataByMiles!$AT$5:$AU$6,2,FALSE)","v":0},null,null,0,{"$f":"H448*$L$2*VLOOKUP(DataByMiles!AE446,DataByMiles!$AT$5:$AU$6,2,FALSE)","v":0},{"$f":"DataByMiles!G446*VLOOKUP(DataByMiles!AE446,DataByMiles!$AT$5:$AU$6,2,FALSE)","v":0},null,null,{"$f":"M448*$P$2*VLOOKUP(DataByMiles!AE446,DataByMiles!$AT$5:$AU$6,2,FALSE)","v":0},{"$f":"DataByMiles!H446*VLOOKUP(DataByMiles!AE446,DataByMiles!$AT$5:$AU$6,2,FALSE)","v":0},null,null,{"$f":"Q448*$T$2*VLOOKUP(DataByMiles!AE446,DataByMiles!$AT$5:$AU$6,2,FALSE)","v":0},{"$f":"DataByMiles!I446*VLOOKUP(DataByMiles!AE446,DataByMiles!$AT$5:$AU$6,2,FALSE)","v":0},null,null,{"$f":"U448*$X$2*VLOOKUP(DataByMiles!AE446,DataByMiles!$AT$5:$AU$6,2,FALSE)","v":0},{"$f":"DataByMiles!J446*VLOOKUP(DataByMiles!AE446,DataByMiles!$AT$5:$AU$6,2,FALSE)","v":0},{"$f":"DataByMiles!K446","v":0},{"$f":"DataByMiles!L446","v":0},null,null,{"$f":"(Y448/IF(Z448=0,$AD$1,Z448)*$AD$2)/IF(AA448=0,1,AA448)*VLOOKUP(DataByMiles!AE446,DataByMiles!$AT$5:$AU$6,2,FALSE)","v":0},"",0,0,{"$f":"(AF448+AG448)*VLOOKUP(DataByMiles!AE446,DataByMiles!$AT$5:$AU$6,2,FALSE)","v":0},0]
[null,{"$f":"DataByMiles!C447","v":"----443"},{"$f":"DataByMiles!E447*VLOOKUP(DataByMiles!AE447,DataByMiles!$AT$5:$AU$6,2,FALSE)","v":0},null,null,0,{"$f":"C449*$G$2*VLOOKUP(DataByMiles!AE447,DataByMiles!$AT$5:$AU$6,2,FALSE)","v":0},{"$f":"DataByMiles!F447*VLOOKUP(DataByMiles!AE447,DataByMiles!$AT$5:$AU$6,2,FALSE)","v":0},null,null,0,{"$f":"H449*$L$2*VLOOKUP(DataByMiles!AE447,DataByMiles!$AT$5:$AU$6,2,FALSE)","v":0},{"$f":"DataByMiles!G447*VLOOKUP(DataByMiles!AE447,DataByMiles!$AT$5:$AU$6,2,FALSE)","v":0},null,null,{"$f":"M449*$P$2*VLOOKUP(DataByMiles!AE447,DataByMiles!$AT$5:$AU$6,2,FALSE)","v":0},{"$f":"DataByMiles!H447*VLOOKUP(DataByMiles!AE447,DataByMiles!$AT$5:$AU$6,2,FALSE)","v":0},null,null,{"$f":"Q449*$T$2*VLOOKUP(DataByMiles!AE447,DataByMiles!$AT$5:$AU$6,2,FALSE)","v":0},{"$f":"DataByMiles!I447*VLOOKUP(DataByMiles!AE447,DataByMiles!$AT$5:$AU$6,2,FALSE)","v":0},null,null,{"$f":"U449*$X$2*VLOOKUP(DataByMiles!AE447,DataByMiles!$AT$5:$AU$6,2,FALSE)","v":0},{"$f":"DataByMiles!J447*VLOOKUP(DataByMiles!AE447,DataByMiles!$AT$5:$AU$6,2,FALSE)","v":0},{"$f":"DataByMiles!K447","v":0},{"$f":"DataByMiles!L447","v":0},null,null,{"$f":"(Y449/IF(Z449=0,$AD$1,Z449)*$AD$2)/IF(AA449=0,1,AA449)*VLOOKUP(DataByMiles!AE447,DataByMiles!$AT$5:$AU$6,2,FALSE)","v":0},"",0,0,{"$f":"(AF449+AG449)*VLOOKUP(DataByMiles!AE447,DataByMiles!$AT$5:$AU$6,2,FALSE)","v":0},0]
[null,{"$f":"DataByMiles!C448","v":"----444"},{"$f":"DataByMiles!E448*VLOOKUP(DataByMiles!AE448,DataByMiles!$AT$5:$AU$6,2,FALSE)","v":0},null,null,0,{"$f":"C450*$G$2*VLOOKUP(DataByMiles!AE448,DataByMiles!$AT$5:$AU$6,2,FALSE)","v":0},{"$f":"DataByMiles!F448*VLOOKUP(DataByMiles!AE448,DataByMiles!$AT$5:$AU$6,2,FALSE)","v":0},null,null,0,{"$f":"H450*$L$2*VLOOKUP(DataByMiles!AE448,DataByMiles!$AT$5:$AU$6,2,FALSE)","v":0},{"$f":"DataByMiles!G448*VLOOKUP(DataByMiles!AE448,DataByMiles!$AT$5:$AU$6,2,FALSE)","v":0},null,null,{"$f":"M450*$P$2*VLOOKUP(DataByMiles!AE448,DataByMiles!$AT$5:$AU$6,2,FALSE)","v":0},{"$f":"DataByMiles!H448*VLOOKUP(DataByMiles!AE448,DataByMiles!$AT$5:$AU$6,2,FALSE)","v":0},null,null,{"$f":"Q450*$T$2*VLOOKUP(DataByMiles!AE448,DataByMiles!$AT$5:$AU$6,2,FALSE)","v":0},{"$f":"DataByMiles!I448*VLOOKUP(DataByMiles!AE448,DataByMiles!$AT$5:$AU$6,2,FALSE)","v":0},null,null,{"$f":"U450*$X$2*VLOOKUP(DataByMiles!AE448,DataByMiles!$AT$5:$AU$6,2,FALSE)","v":0},{"$f":"DataByMiles!J448*VLOOKUP(DataByMiles!AE448,DataByMiles!$AT$5:$AU$6,2,FALSE)","v":0},{"$f":"DataByMiles!K448","v":0},{"$f":"DataByMiles!L448","v":0},null,null,{"$f":"(Y450/IF(Z450=0,$AD$1,Z450)*$AD$2)/IF(AA450=0,1,AA450)*VLOOKUP(DataByMiles!AE448,DataByMiles!$AT$5:$AU$6,2,FALSE)","v":0},"",0,0,{"$f":"(AF450+AG450)*VLOOKUP(DataByMiles!AE448,DataByMiles!$AT$5:$AU$6,2,FALSE)","v":0},0]
[null,{"$f":"DataByMiles!C449","v":"----445"},{"$f":"DataByMiles!E449*VLOOKUP(DataByMiles!AE449,DataByMiles!$AT$5:$AU$6,2,FALSE)","v":0},null,null,0,{"$f":"C451*$G$2*VLOOKUP(DataByMiles!AE449,DataByMiles!$AT$5:$AU$6,2,FALSE)","v":0},{"$f":"DataByMiles!F449*VLOOKUP(DataByMiles!AE449,DataByMiles!$AT$5:$AU$6,2,FALSE)","v":0},null,null,0,{"$f":"H451*$L$2*VLOOKUP(DataByMiles!AE449,DataByMiles!$AT$5:$AU$6,2,FALSE)","v":0},{"$f":"DataByMiles!G449*VLOOKUP(DataByMiles!AE449,DataByMiles!$AT$5:$AU$6,2,FALSE)","v":0},null,null,{"$f":"M451*$P$2*VLOOKUP(DataByMiles!AE449,DataByMiles!$AT$5:$AU$6,2,FALSE)","v":0},{"$f":"DataByMiles!H449*VLOOKUP(DataByMiles!AE449,DataByMiles!$AT$5:$AU$6,2,FALSE)","v":0},null,null,{"$f":"Q451*$T$2*VLOOKUP(DataByMiles!AE449,DataByMiles!$AT$5:$AU$6,2,FALSE)","v":0},{"$f":"DataByMiles!I449*VLOOKUP(DataByMiles!AE449,DataByMiles!$AT$5:$AU$6,2,FALSE)","v":0},null,null,{"$f":"U451*$X$2*VLOOKUP(DataByMiles!AE449,DataByMiles!$AT$5:$AU$6,2,FALSE)","v":0},{"$f":"DataByMiles!J449*VLOOKUP(DataByMiles!AE449,DataByMiles!$AT$5:$AU$6,2,FALSE)","v":0},{"$f":"DataByMiles!K449","v":0},{"$f":"DataByMiles!L449","v":0},null,null,{"$f":"(Y451/IF(Z451=0,$AD$1,Z451)*$AD$2)/IF(AA451=0,1,AA451)*VLOOKUP(DataByMiles!AE449,DataByMiles!$AT$5:$AU$6,2,FALSE)","v":0},"",0,0,{"$f":"(AF451+AG451)*VLOOKUP(DataByMiles!AE449,DataByMiles!$AT$5:$AU$6,2,FALSE)","v":0},0]
[null,{"$f":"DataByMiles!C450","v":"----446"},{"$f":"DataByMiles!E450*VLOOKUP(DataByMiles!AE450,DataByMiles!$AT$5:$AU$6,2,FALSE)","v":0},null,null,0,{"$f":"C452*$G$2*VLOOKUP(DataByMiles!AE450,DataByMiles!$AT$5:$AU$6,2,FALSE)","v":0},{"$f":"DataByMiles!F450*VLOOKUP(DataByMiles!AE450,DataByMiles!$AT$5:$AU$6,2,FALSE)","v":0},null,null,0,{"$f":"H452*$L$2*VLOOKUP(DataByMiles!AE450,DataByMiles!$AT$5:$AU$6,2,FALSE)","v":0},{"$f":"DataByMiles!G450*VLOOKUP(DataByMiles!AE450,DataByMiles!$AT$5:$AU$6,2,FALSE)","v":0},null,null,{"$f":"M452*$P$2*VLOOKUP(DataByMiles!AE450,DataByMiles!$AT$5:$AU$6,2,FALSE)","v":0},{"$f":"DataByMiles!H450*VLOOKUP(DataByMiles!AE450,DataByMiles!$AT$5:$AU$6,2,FALSE)","v":0},null,null,{"$f":"Q452*$T$2*VLOOKUP(DataByMiles!AE450,DataByMiles!$AT$5:$AU$6,2,FALSE)","v":0},{"$f":"DataByMiles!I450*VLOOKUP(DataByMiles!AE450,DataByMiles!$AT$5:$AU$6,2,FALSE)","v":0},null,null,{"$f":"U452*$X$2*VLOOKUP(DataByMiles!AE450,DataByMiles!$AT$5:$AU$6,2,FALSE)","v":0},{"$f":"DataByMiles!J450*VLOOKUP(DataByMiles!AE450,DataByMiles!$AT$5:$AU$6,2,FALSE)","v":0},{"$f":"DataByMiles!K450","v":0},{"$f":"DataByMiles!L450","v":0},null,null,{"$f":"(Y452/IF(Z452=0,$AD$1,Z452)*$AD$2)/IF(AA452=0,1,AA452)*VLOOKUP(DataByMiles!AE450,DataByMiles!$AT$5:$AU$6,2,FALSE)","v":0},"",0,0,{"$f":"(AF452+AG452)*VLOOKUP(DataByMiles!AE450,DataByMiles!$AT$5:$AU$6,2,FALSE)","v":0},0]
[null,{"$f":"DataByMiles!C451","v":"----447"},{"$f":"DataByMiles!E451*VLOOKUP(DataByMiles!AE451,DataByMiles!$AT$5:$AU$6,2,FALSE)","v":0},null,null,0,{"$f":"C453*$G$2*VLOOKUP(DataByMiles!AE451,DataByMiles!$AT$5:$AU$6,2,FALSE)","v":0},{"$f":"DataByMiles!F451*VLOOKUP(DataByMiles!AE451,DataByMiles!$AT$5:$AU$6,2,FALSE)","v":0},null,null,0,{"$f":"H453*$L$2*VLOOKUP(DataByMiles!AE451,DataByMiles!$AT$5:$AU$6,2,FALSE)","v":0},{"$f":"DataByMiles!G451*VLOOKUP(DataByMiles!AE451,DataByMiles!$AT$5:$AU$6,2,FALSE)","v":0},null,null,{"$f":"M453*$P$2*VLOOKUP(DataByMiles!AE451,DataByMiles!$AT$5:$AU$6,2,FALSE)","v":0},{"$f":"DataByMiles!H451*VLOOKUP(DataByMiles!AE451,DataByMiles!$AT$5:$AU$6,2,FALSE)","v":0},null,null,{"$f":"Q453*$T$2*VLOOKUP(DataByMiles!AE451,DataByMiles!$AT$5:$AU$6,2,FALSE)","v":0},{"$f":"DataByMiles!I451*VLOOKUP(DataByMiles!AE451,DataByMiles!$AT$5:$AU$6,2,FALSE)","v":0},null,null,{"$f":"U453*$X$2*VLOOKUP(DataByMiles!AE451,DataByMiles!$AT$5:$AU$6,2,FALSE)","v":0},{"$f":"DataByMiles!J451*VLOOKUP(DataByMiles!AE451,DataByMiles!$AT$5:$AU$6,2,FALSE)","v":0},{"$f":"DataByMiles!K451","v":0},{"$f":"DataByMiles!L451","v":0},null,null,{"$f":"(Y453/IF(Z453=0,$AD$1,Z453)*$AD$2)/IF(AA453=0,1,AA453)*VLOOKUP(DataByMiles!AE451,DataByMiles!$AT$5:$AU$6,2,FALSE)","v":0},"",0,0,{"$f":"(AF453+AG453)*VLOOKUP(DataByMiles!AE451,DataByMiles!$AT$5:$AU$6,2,FALSE)","v":0},0]
[null,{"$f":"DataByMiles!C452","v":"----448"},{"$f":"DataByMiles!E452*VLOOKUP(DataByMiles!AE452,DataByMiles!$AT$5:$AU$6,2,FALSE)","v":0},null,null,0,{"$f":"C454*$G$2*VLOOKUP(DataByMiles!AE452,DataByMiles!$AT$5:$AU$6,2,FALSE)","v":0},{"$f":"DataByMiles!F452*VLOOKUP(DataByMiles!AE452,DataByMiles!$AT$5:$AU$6,2,FALSE)","v":0},null,null,0,{"$f":"H454*$L$2*VLOOKUP(DataByMiles!AE452,DataByMiles!$AT$5:$AU$6,2,FALSE)","v":0},{"$f":"DataByMiles!G452*VLOOKUP(DataByMiles!AE452,DataByMiles!$AT$5:$AU$6,2,FALSE)","v":0},null,null,{"$f":"M454*$P$2*VLOOKUP(DataByMiles!AE452,DataByMiles!$AT$5:$AU$6,2,FALSE)","v":0},{"$f":"DataByMiles!H452*VLOOKUP(DataByMiles!AE452,DataByMiles!$AT$5:$AU$6,2,FALSE)","v":0},null,null,{"$f":"Q454*$T$2*VLOOKUP(DataByMiles!AE452,DataByMiles!$AT$5:$AU$6,2,FALSE)","v":0},{"$f":"DataByMiles!I452*VLOOKUP(DataByMiles!AE452,DataByMiles!$AT$5:$AU$6,2,FALSE)","v":0},null,null,{"$f":"U454*$X$2*VLOOKUP(DataByMiles!AE452,DataByMiles!$AT$5:$AU$6,2,FALSE)","v":0},{"$f":"DataByMiles!J452*VLOOKUP(DataByMiles!AE452,DataByMiles!$AT$5:$AU$6,2,FALSE)","v":0},{"$f":"DataByMiles!K452","v":0},{"$f":"DataByMiles!L452","v":0},null,null,{"$f":"(Y454/IF(Z454=0,$AD$1,Z454)*$AD$2)/IF(AA454=0,1,AA454)*VLOOKUP(DataByMiles!AE452,DataByMiles!$AT$5:$AU$6,2,FALSE)","v":0},"",0,0,{"$f":"(AF454+AG454)*VLOOKUP(DataByMiles!AE452,DataByMiles!$AT$5:$AU$6,2,FALSE)","v":0},0]
[null,{"$f":"DataByMiles!C453","v":"----449"},{"$f":"DataByMiles!E453*VLOOKUP(DataByMiles!AE453,DataByMiles!$AT$5:$AU$6,2,FALSE)","v":0},null,null,0,{"$f":"C455*$G$2*VLOOKUP(DataByMiles!AE453,DataByMiles!$AT$5:$AU$6,2,FALSE)","v":0},{"$f":"DataByMiles!F453*VLOOKUP(DataByMiles!AE453,DataByMiles!$AT$5:$AU$6,2,FALSE)","v":0},null,null,0,{"$f":"H455*$L$2*VLOOKUP(DataByMiles!AE453,DataByMiles!$AT$5:$AU$6,2,FALSE)","v":0},{"$f":"DataByMiles!G453*VLOOKUP(DataByMiles!AE453,DataByMiles!$AT$5:$AU$6,2,FALSE)","v":0},null,null,{"$f":"M455*$P$2*VLOOKUP(DataByMiles!AE453,DataByMiles!$AT$5:$AU$6,2,FALSE)","v":0},{"$f":"DataByMiles!H453*VLOOKUP(DataByMiles!AE453,DataByMiles!$AT$5:$AU$6,2,FALSE)","v":0},null,null,{"$f":"Q455*$T$2*VLOOKUP(DataByMiles!AE453,DataByMiles!$AT$5:$AU$6,2,FALSE)","v":0},{"$f":"DataByMiles!I453*VLOOKUP(DataByMiles!AE453,DataByMiles!$AT$5:$AU$6,2,FALSE)","v":0},null,null,{"$f":"U455*$X$2*VLOOKUP(DataByMiles!AE453,DataByMiles!$AT$5:$AU$6,2,FALSE)","v":0},{"$f":"DataByMiles!J453*VLOOKUP(DataByMiles!AE453,DataByMiles!$AT$5:$AU$6,2,FALSE)","v":0},{"$f":"DataByMiles!K453","v":0},{"$f":"DataByMiles!L453","v":0},null,null,{"$f":"(Y455/IF(Z455=0,$AD$1,Z455)*$AD$2)/IF(AA455=0,1,AA455)*VLOOKUP(DataByMiles!AE453,DataByMiles!$AT$5:$AU$6,2,FALSE)","v":0},"",0,0,{"$f":"(AF455+AG455)*VLOOKUP(DataByMiles!AE453,DataByMiles!$AT$5:$AU$6,2,FALSE)","v":0},0]
[null,{"$f":"DataByMiles!C454","v":"----450"},{"$f":"DataByMiles!E454*VLOOKUP(DataByMiles!AE454,DataByMiles!$AT$5:$AU$6,2,FALSE)","v":0},null,null,0,{"$f":"C456*$G$2*VLOOKUP(DataByMiles!AE454,DataByMiles!$AT$5:$AU$6,2,FALSE)","v":0},{"$f":"DataByMiles!F454*VLOOKUP(DataByMiles!AE454,DataByMiles!$AT$5:$AU$6,2,FALSE)","v":0},null,null,0,{"$f":"H456*$L$2*VLOOKUP(DataByMiles!AE454,DataByMiles!$AT$5:$AU$6,2,FALSE)","v":0},{"$f":"DataByMiles!G454*VLOOKUP(DataByMiles!AE454,DataByMiles!$AT$5:$AU$6,2,FALSE)","v":0},null,null,{"$f":"M456*$P$2*VLOOKUP(DataByMiles!AE454,DataByMiles!$AT$5:$AU$6,2,FALSE)","v":0},{"$f":"DataByMiles!H454*VLOOKUP(DataByMiles!AE454,DataByMiles!$AT$5:$AU$6,2,FALSE)","v":0},null,null,{"$f":"Q456*$T$2*VLOOKUP(DataByMiles!AE454,DataByMiles!$AT$5:$AU$6,2,FALSE)","v":0},{"$f":"DataByMiles!I454*VLOOKUP(DataByMiles!AE454,DataByMiles!$AT$5:$AU$6,2,FALSE)","v":0},null,null,{"$f":"U456*$X$2*VLOOKUP(DataByMiles!AE454,DataByMiles!$AT$5:$AU$6,2,FALSE)","v":0},{"$f":"DataByMiles!J454*VLOOKUP(DataByMiles!AE454,DataByMiles!$AT$5:$AU$6,2,FALSE)","v":0},{"$f":"DataByMiles!K454","v":0},{"$f":"DataByMiles!L454","v":0},null,null,{"$f":"(Y456/IF(Z456=0,$AD$1,Z456)*$AD$2)/IF(AA456=0,1,AA456)*VLOOKUP(DataByMiles!AE454,DataByMiles!$AT$5:$AU$6,2,FALSE)","v":0},"",0,0,{"$f":"(AF456+AG456)*VLOOKUP(DataByMiles!AE454,DataByMiles!$AT$5:$AU$6,2,FALSE)","v":0},0]
[null,{"$f":"DataByMiles!C455","v":"----451"},{"$f":"DataByMiles!E455*VLOOKUP(DataByMiles!AE455,DataByMiles!$AT$5:$AU$6,2,FALSE)","v":0},null,null,0,{"$f":"C457*$G$2*VLOOKUP(DataByMiles!AE455,DataByMiles!$AT$5:$AU$6,2,FALSE)","v":0},{"$f":"DataByMiles!F455*VLOOKUP(DataByMiles!AE455,DataByMiles!$AT$5:$AU$6,2,FALSE)","v":0},null,null,0,{"$f":"H457*$L$2*VLOOKUP(DataByMiles!AE455,DataByMiles!$AT$5:$AU$6,2,FALSE)","v":0},{"$f":"DataByMiles!G455*VLOOKUP(DataByMiles!AE455,DataByMiles!$AT$5:$AU$6,2,FALSE)","v":0},null,null,{"$f":"M457*$P$2*VLOOKUP(DataByMiles!AE455,DataByMiles!$AT$5:$AU$6,2,FALSE)","v":0},{"$f":"DataByMiles!H455*VLOOKUP(DataByMiles!AE455,DataByMiles!$AT$5:$AU$6,2,FALSE)","v":0},null,null,{"$f":"Q457*$T$2*VLOOKUP(DataByMiles!AE455,DataByMiles!$AT$5:$AU$6,2,FALSE)","v":0},{"$f":"DataByMiles!I455*VLOOKUP(DataByMiles!AE455,DataByMiles!$AT$5:$AU$6,2,FALSE)","v":0},null,null,{"$f":"U457*$X$2*VLOOKUP(DataByMiles!AE455,DataByMiles!$AT$5:$AU$6,2,FALSE)","v":0},{"$f":"DataByMiles!J455*VLOOKUP(DataByMiles!AE455,DataByMiles!$AT$5:$AU$6,2,FALSE)","v":0},{"$f":"DataByMiles!K455","v":0},{"$f":"DataByMiles!L455","v":0},null,null,{"$f":"(Y457/IF(Z457=0,$AD$1,Z457)*$AD$2)/IF(AA457=0,1,AA457)*VLOOKUP(DataByMiles!AE455,DataByMiles!$AT$5:$AU$6,2,FALSE)","v":0},"",0,0,{"$f":"(AF457+AG457)*VLOOKUP(DataByMiles!AE455,DataByMiles!$AT$5:$AU$6,2,FALSE)","v":0},0]
[null,{"$f":"DataByMiles!C456","v":"----452"},{"$f":"DataByMiles!E456*VLOOKUP(DataByMiles!AE456,DataByMiles!$AT$5:$AU$6,2,FALSE)","v":0},null,null,0,{"$f":"C458*$G$2*VLOOKUP(DataByMiles!AE456,DataByMiles!$AT$5:$AU$6,2,FALSE)","v":0},{"$f":"DataByMiles!F456*VLOOKUP(DataByMiles!AE456,DataByMiles!$AT$5:$AU$6,2,FALSE)","v":0},null,null,0,{"$f":"H458*$L$2*VLOOKUP(DataByMiles!AE456,DataByMiles!$AT$5:$AU$6,2,FALSE)","v":0},{"$f":"DataByMiles!G456*VLOOKUP(DataByMiles!AE456,DataByMiles!$AT$5:$AU$6,2,FALSE)","v":0},null,null,{"$f":"M458*$P$2*VLOOKUP(DataByMiles!AE456,DataByMiles!$AT$5:$AU$6,2,FALSE)","v":0},{"$f":"DataByMiles!H456*VLOOKUP(DataByMiles!AE456,DataByMiles!$AT$5:$AU$6,2,FALSE)","v":0},null,null,{"$f":"Q458*$T$2*VLOOKUP(DataByMiles!AE456,DataByMiles!$AT$5:$AU$6,2,FALSE)","v":0},{"$f":"DataByMiles!I456*VLOOKUP(DataByMiles!AE456,DataByMiles!$AT$5:$AU$6,2,FALSE)","v":0},null,null,{"$f":"U458*$X$2*VLOOKUP(DataByMiles!AE456,DataByMiles!$AT$5:$AU$6,2,FALSE)","v":0},{"$f":"DataByMiles!J456*VLOOKUP(DataByMiles!AE456,DataByMiles!$AT$5:$AU$6,2,FALSE)","v":0},{"$f":"DataByMiles!K456","v":0},{"$f":"DataByMiles!L456","v":0},null,null,{"$f":"(Y458/IF(Z458=0,$AD$1,Z458)*$AD$2)/IF(AA458=0,1,AA458)*VLOOKUP(DataByMiles!AE456,DataByMiles!$AT$5:$AU$6,2,FALSE)","v":0},"",0,0,{"$f":"(AF458+AG458)*VLOOKUP(DataByMiles!AE456,DataByMiles!$AT$5:$AU$6,2,FALSE)","v":0},0]
[null,{"$f":"DataByMiles!C457","v":"----453"},{"$f":"DataByMiles!E457*VLOOKUP(DataByMiles!AE457,DataByMiles!$AT$5:$AU$6,2,FALSE)","v":0},null,null,0,{"$f":"C459*$G$2*VLOOKUP(DataByMiles!AE457,DataByMiles!$AT$5:$AU$6,2,FALSE)","v":0},{"$f":"DataByMiles!F457*VLOOKUP(DataByMiles!AE457,DataByMiles!$AT$5:$AU$6,2,FALSE)","v":0},null,null,0,{"$f":"H459*$L$2*VLOOKUP(DataByMiles!AE457,DataByMiles!$AT$5:$AU$6,2,FALSE)","v":0},{"$f":"DataByMiles!G457*VLOOKUP(DataByMiles!AE457,DataByMiles!$AT$5:$AU$6,2,FALSE)","v":0},null,null,{"$f":"M459*$P$2*VLOOKUP(DataByMiles!AE457,DataByMiles!$AT$5:$AU$6,2,FALSE)","v":0},{"$f":"DataByMiles!H457*VLOOKUP(DataByMiles!AE457,DataByMiles!$AT$5:$AU$6,2,FALSE)","v":0},null,null,{"$f":"Q459*$T$2*VLOOKUP(DataByMiles!AE457,DataByMiles!$AT$5:$AU$6,2,FALSE)","v":0},{"$f":"DataByMiles!I457*VLOOKUP(DataByMiles!AE457,DataByMiles!$AT$5:$AU$6,2,FALSE)","v":0},null,null,{"$f":"U459*$X$2*VLOOKUP(DataByMiles!AE457,DataByMiles!$AT$5:$AU$6,2,FALSE)","v":0},{"$f":"DataByMiles!J457*VLOOKUP(DataByMiles!AE457,DataByMiles!$AT$5:$AU$6,2,FALSE)","v":0},{"$f":"DataByMiles!K457","v":0},{"$f":"DataByMiles!L457","v":0},null,null,{"$f":"(Y459/IF(Z459=0,$AD$1,Z459)*$AD$2)/IF(AA459=0,1,AA459)*VLOOKUP(DataByMiles!AE457,DataByMiles!$AT$5:$AU$6,2,FALSE)","v":0},"",0,0,{"$f":"(AF459+AG459)*VLOOKUP(DataByMiles!AE457,DataByMiles!$AT$5:$AU$6,2,FALSE)","v":0},0]
[null,{"$f":"DataByMiles!C458","v":"----454"},{"$f":"DataByMiles!E458*VLOOKUP(DataByMiles!AE458,DataByMiles!$AT$5:$AU$6,2,FALSE)","v":0},null,null,0,{"$f":"C460*$G$2*VLOOKUP(DataByMiles!AE458,DataByMiles!$AT$5:$AU$6,2,FALSE)","v":0},{"$f":"DataByMiles!F458*VLOOKUP(DataByMiles!AE458,DataByMiles!$AT$5:$AU$6,2,FALSE)","v":0},null,null,0,{"$f":"H460*$L$2*VLOOKUP(DataByMiles!AE458,DataByMiles!$AT$5:$AU$6,2,FALSE)","v":0},{"$f":"DataByMiles!G458*VLOOKUP(DataByMiles!AE458,DataByMiles!$AT$5:$AU$6,2,FALSE)","v":0},null,null,{"$f":"M460*$P$2*VLOOKUP(DataByMiles!AE458,DataByMiles!$AT$5:$AU$6,2,FALSE)","v":0},{"$f":"DataByMiles!H458*VLOOKUP(DataByMiles!AE458,DataByMiles!$AT$5:$AU$6,2,FALSE)","v":0},null,null,{"$f":"Q460*$T$2*VLOOKUP(DataByMiles!AE458,DataByMiles!$AT$5:$AU$6,2,FALSE)","v":0},{"$f":"DataByMiles!I458*VLOOKUP(DataByMiles!AE458,DataByMiles!$AT$5:$AU$6,2,FALSE)","v":0},null,null,{"$f":"U460*$X$2*VLOOKUP(DataByMiles!AE458,DataByMiles!$AT$5:$AU$6,2,FALSE)","v":0},{"$f":"DataByMiles!J458*VLOOKUP(DataByMiles!AE458,DataByMiles!$AT$5:$AU$6,2,FALSE)","v":0},{"$f":"DataByMiles!K458","v":0},{"$f":"DataByMiles!L458","v":0},null,null,{"$f":"(Y460/IF(Z460=0,$AD$1,Z460)*$AD$2)/IF(AA460=0,1,AA460)*VLOOKUP(DataByMiles!AE458,DataByMiles!$AT$5:$AU$6,2,FALSE)","v":0},"",0,0,{"$f":"(AF460+AG460)*VLOOKUP(DataByMiles!AE458,DataByMiles!$AT$5:$AU$6,2,FALSE)","v":0},0]
[null,{"$f":"DataByMiles!C459","v":"----455"},{"$f":"DataByMiles!E459*VLOOKUP(DataByMiles!AE459,DataByMiles!$AT$5:$AU$6,2,FALSE)","v":0},null,null,0,{"$f":"C461*$G$2*VLOOKUP(DataByMiles!AE459,DataByMiles!$AT$5:$AU$6,2,FALSE)","v":0},{"$f":"DataByMiles!F459*VLOOKUP(DataByMiles!AE459,DataByMiles!$AT$5:$AU$6,2,FALSE)","v":0},null,null,0,{"$f":"H461*$L$2*VLOOKUP(DataByMiles!AE459,DataByMiles!$AT$5:$AU$6,2,FALSE)","v":0},{"$f":"DataByMiles!G459*VLOOKUP(DataByMiles!AE459,DataByMiles!$AT$5:$AU$6,2,FALSE)","v":0},null,null,{"$f":"M461*$P$2*VLOOKUP(DataByMiles!AE459,DataByMiles!$AT$5:$AU$6,2,FALSE)","v":0},{"$f":"DataByMiles!H459*VLOOKUP(DataByMiles!AE459,DataByMiles!$AT$5:$AU$6,2,FALSE)","v":0},null,null,{"$f":"Q461*$T$2*VLOOKUP(DataByMiles!AE459,DataByMiles!$AT$5:$AU$6,2,FALSE)","v":0},{"$f":"DataByMiles!I459*VLOOKUP(DataByMiles!AE459,DataByMiles!$AT$5:$AU$6,2,FALSE)","v":0},null,null,{"$f":"U461*$X$2*VLOOKUP(DataByMiles!AE459,DataByMiles!$AT$5:$AU$6,2,FALSE)","v":0},{"$f":"DataByMiles!J459*VLOOKUP(DataByMiles!AE459,DataByMiles!$AT$5:$AU$6,2,FALSE)","v":0},{"$f":"DataByMiles!K459","v":0},{"$f":"DataByMiles!L459","v":0},null,null,{"$f":"(Y461/IF(Z461=0,$AD$1,Z461)*$AD$2)/IF(AA461=0,1,AA461)*VLOOKUP(DataByMiles!AE459,DataByMiles!$AT$5:$AU$6,2,FALSE)","v":0},"",0,0,{"$f":"(AF461+AG461)*VLOOKUP(DataByMiles!AE459,DataByMiles!$AT$5:$AU$6,2,FALSE)","v":0},0]
[null,{"$f":"DataByMiles!C460","v":"----456"},{"$f":"DataByMiles!E460*VLOOKUP(DataByMiles!AE460,DataByMiles!$AT$5:$AU$6,2,FALSE)","v":0},null,null,0,{"$f":"C462*$G$2*VLOOKUP(DataByMiles!AE460,DataByMiles!$AT$5:$AU$6,2,FALSE)","v":0},{"$f":"DataByMiles!F460*VLOOKUP(DataByMiles!AE460,DataByMiles!$AT$5:$AU$6,2,FALSE)","v":0},null,null,0,{"$f":"H462*$L$2*VLOOKUP(DataByMiles!AE460,DataByMiles!$AT$5:$AU$6,2,FALSE)","v":0},{"$f":"DataByMiles!G460*VLOOKUP(DataByMiles!AE460,DataByMiles!$AT$5:$AU$6,2,FALSE)","v":0},null,null,{"$f":"M462*$P$2*VLOOKUP(DataByMiles!AE460,DataByMiles!$AT$5:$AU$6,2,FALSE)","v":0},{"$f":"DataByMiles!H460*VLOOKUP(DataByMiles!AE460,DataByMiles!$AT$5:$AU$6,2,FALSE)","v":0},null,null,{"$f":"Q462*$T$2*VLOOKUP(DataByMiles!AE460,DataByMiles!$AT$5:$AU$6,2,FALSE)","v":0},{"$f":"DataByMiles!I460*VLOOKUP(DataByMiles!AE460,DataByMiles!$AT$5:$AU$6,2,FALSE)","v":0},null,null,{"$f":"U462*$X$2*VLOOKUP(DataByMiles!AE460,DataByMiles!$AT$5:$AU$6,2,FALSE)","v":0},{"$f":"DataByMiles!J460*VLOOKUP(DataByMiles!AE460,DataByMiles!$AT$5:$AU$6,2,FALSE)","v":0},{"$f":"DataByMiles!K460","v":0},{"$f":"DataByMiles!L460","v":0},null,null,{"$f":"(Y462/IF(Z462=0,$AD$1,Z462)*$AD$2)/IF(AA462=0,1,AA462)*VLOOKUP(DataByMiles!AE460,DataByMiles!$AT$5:$AU$6,2,FALSE)","v":0},"",0,0,{"$f":"(AF462+AG462)*VLOOKUP(DataByMiles!AE460,DataByMiles!$AT$5:$AU$6,2,FALSE)","v":0},0]
[null,{"$f":"DataByMiles!C461","v":"----457"},{"$f":"DataByMiles!E461*VLOOKUP(DataByMiles!AE461,DataByMiles!$AT$5:$AU$6,2,FALSE)","v":0},null,null,0,{"$f":"C463*$G$2*VLOOKUP(DataByMiles!AE461,DataByMiles!$AT$5:$AU$6,2,FALSE)","v":0},{"$f":"DataByMiles!F461*VLOOKUP(DataByMiles!AE461,DataByMiles!$AT$5:$AU$6,2,FALSE)","v":0},null,null,0,{"$f":"H463*$L$2*VLOOKUP(DataByMiles!AE461,DataByMiles!$AT$5:$AU$6,2,FALSE)","v":0},{"$f":"DataByMiles!G461*VLOOKUP(DataByMiles!AE461,DataByMiles!$AT$5:$AU$6,2,FALSE)","v":0},null,null,{"$f":"M463*$P$2*VLOOKUP(DataByMiles!AE461,DataByMiles!$AT$5:$AU$6,2,FALSE)","v":0},{"$f":"DataByMiles!H461*VLOOKUP(DataByMiles!AE461,DataByMiles!$AT$5:$AU$6,2,FALSE)","v":0},null,null,{"$f":"Q463*$T$2*VLOOKUP(DataByMiles!AE461,DataByMiles!$AT$5:$AU$6,2,FALSE)","v":0},{"$f":"DataByMiles!I461*VLOOKUP(DataByMiles!AE461,DataByMiles!$AT$5:$AU$6,2,FALSE)","v":0},null,null,{"$f":"U463*$X$2*VLOOKUP(DataByMiles!AE461,DataByMiles!$AT$5:$AU$6,2,FALSE)","v":0},{"$f":"DataByMiles!J461*VLOOKUP(DataByMiles!AE461,DataByMiles!$AT$5:$AU$6,2,FALSE)","v":0},{"$f":"DataByMiles!K461","v":0},{"$f":"DataByMiles!L461","v":0},null,null,{"$f":"(Y463/IF(Z463=0,$AD$1,Z463)*$AD$2)/IF(AA463=0,1,AA463)*VLOOKUP(DataByMiles!AE461,DataByMiles!$AT$5:$AU$6,2,FALSE)","v":0},"",0,0,{"$f":"(AF463+AG463)*VLOOKUP(DataByMiles!AE461,DataByMiles!$AT$5:$AU$6,2,FALSE)","v":0},0]
[null,{"$f":"DataByMiles!C462","v":"----458"},{"$f":"DataByMiles!E462*VLOOKUP(DataByMiles!AE462,DataByMiles!$AT$5:$AU$6,2,FALSE)","v":0},null,null,0,{"$f":"C464*$G$2*VLOOKUP(DataByMiles!AE462,DataByMiles!$AT$5:$AU$6,2,FALSE)","v":0},{"$f":"DataByMiles!F462*VLOOKUP(DataByMiles!AE462,DataByMiles!$AT$5:$AU$6,2,FALSE)","v":0},null,null,0,{"$f":"H464*$L$2*VLOOKUP(DataByMiles!AE462,DataByMiles!$AT$5:$AU$6,2,FALSE)","v":0},{"$f":"DataByMiles!G462*VLOOKUP(DataByMiles!AE462,DataByMiles!$AT$5:$AU$6,2,FALSE)","v":0},null,null,{"$f":"M464*$P$2*VLOOKUP(DataByMiles!AE462,DataByMiles!$AT$5:$AU$6,2,FALSE)","v":0},{"$f":"DataByMiles!H462*VLOOKUP(DataByMiles!AE462,DataByMiles!$AT$5:$AU$6,2,FALSE)","v":0},null,null,{"$f":"Q464*$T$2*VLOOKUP(DataByMiles!AE462,DataByMiles!$AT$5:$AU$6,2,FALSE)","v":0},{"$f":"DataByMiles!I462*VLOOKUP(DataByMiles!AE462,DataByMiles!$AT$5:$AU$6,2,FALSE)","v":0},null,null,{"$f":"U464*$X$2*VLOOKUP(DataByMiles!AE462,DataByMiles!$AT$5:$AU$6,2,FALSE)","v":0},{"$f":"DataByMiles!J462*VLOOKUP(DataByMiles!AE462,DataByMiles!$AT$5:$AU$6,2,FALSE)","v":0},{"$f":"DataByMiles!K462","v":0},{"$f":"DataByMiles!L462","v":0},null,null,{"$f":"(Y464/IF(Z464=0,$AD$1,Z464)*$AD$2)/IF(AA464=0,1,AA464)*VLOOKUP(DataByMiles!AE462,DataByMiles!$AT$5:$AU$6,2,FALSE)","v":0},"",0,0,{"$f":"(AF464+AG464)*VLOOKUP(DataByMiles!AE462,DataByMiles!$AT$5:$AU$6,2,FALSE)","v":0},0]
[null,{"$f":"DataByMiles!C463","v":"----459"},{"$f":"DataByMiles!E463*VLOOKUP(DataByMiles!AE463,DataByMiles!$AT$5:$AU$6,2,FALSE)","v":0},null,null,0,{"$f":"C465*$G$2*VLOOKUP(DataByMiles!AE463,DataByMiles!$AT$5:$AU$6,2,FALSE)","v":0},{"$f":"DataByMiles!F463*VLOOKUP(DataByMiles!AE463,DataByMiles!$AT$5:$AU$6,2,FALSE)","v":0},null,null,0,{"$f":"H465*$L$2*VLOOKUP(DataByMiles!AE463,DataByMiles!$AT$5:$AU$6,2,FALSE)","v":0},{"$f":"DataByMiles!G463*VLOOKUP(DataByMiles!AE463,DataByMiles!$AT$5:$AU$6,2,FALSE)","v":0},null,null,{"$f":"M465*$P$2*VLOOKUP(DataByMiles!AE463,DataByMiles!$AT$5:$AU$6,2,FALSE)","v":0},{"$f":"DataByMiles!H463*VLOOKUP(DataByMiles!AE463,DataByMiles!$AT$5:$AU$6,2,FALSE)","v":0},null,null,{"$f":"Q465*$T$2*VLOOKUP(DataByMiles!AE463,DataByMiles!$AT$5:$AU$6,2,FALSE)","v":0},{"$f":"DataByMiles!I463*VLOOKUP(DataByMiles!AE463,DataByMiles!$AT$5:$AU$6,2,FALSE)","v":0},null,null,{"$f":"U465*$X$2*VLOOKUP(DataByMiles!AE463,DataByMiles!$AT$5:$AU$6,2,FALSE)","v":0},{"$f":"DataByMiles!J463*VLOOKUP(DataByMiles!AE463,DataByMiles!$AT$5:$AU$6,2,FALSE)","v":0},{"$f":"DataByMiles!K463","v":0},{"$f":"DataByMiles!L463","v":0},null,null,{"$f":"(Y465/IF(Z465=0,$AD$1,Z465)*$AD$2)/IF(AA465=0,1,AA465)*VLOOKUP(DataByMiles!AE463,DataByMiles!$AT$5:$AU$6,2,FALSE)","v":0},"",0,0,{"$f":"(AF465+AG465)*VLOOKUP(DataByMiles!AE463,DataByMiles!$AT$5:$AU$6,2,FALSE)","v":0},0]
[null,{"$f":"DataByMiles!C464","v":"----460"},{"$f":"DataByMiles!E464*VLOOKUP(DataByMiles!AE464,DataByMiles!$AT$5:$AU$6,2,FALSE)","v":0},null,null,0,{"$f":"C466*$G$2*VLOOKUP(DataByMiles!AE464,DataByMiles!$AT$5:$AU$6,2,FALSE)","v":0},{"$f":"DataByMiles!F464*VLOOKUP(DataByMiles!AE464,DataByMiles!$AT$5:$AU$6,2,FALSE)","v":0},null,null,0,{"$f":"H466*$L$2*VLOOKUP(DataByMiles!AE464,DataByMiles!$AT$5:$AU$6,2,FALSE)","v":0},{"$f":"DataByMiles!G464*VLOOKUP(DataByMiles!AE464,DataByMiles!$AT$5:$AU$6,2,FALSE)","v":0},null,null,{"$f":"M466*$P$2*VLOOKUP(DataByMiles!AE464,DataByMiles!$AT$5:$AU$6,2,FALSE)","v":0},{"$f":"DataByMiles!H464*VLOOKUP(DataByMiles!AE464,DataByMiles!$AT$5:$AU$6,2,FALSE)","v":0},null,null,{"$f":"Q466*$T$2*VLOOKUP(DataByMiles!AE464,DataByMiles!$AT$5:$AU$6,2,FALSE)","v":0},{"$f":"DataByMiles!I464*VLOOKUP(DataByMiles!AE464,DataByMiles!$AT$5:$AU$6,2,FALSE)","v":0},null,null,{"$f":"U466*$X$2*VLOOKUP(DataByMiles!AE464,DataByMiles!$AT$5:$AU$6,2,FALSE)","v":0},{"$f":"DataByMiles!J464*VLOOKUP(DataByMiles!AE464,DataByMiles!$AT$5:$AU$6,2,FALSE)","v":0},{"$f":"DataByMiles!K464","v":0},{"$f":"DataByMiles!L464","v":0},null,null,{"$f":"(Y466/IF(Z466=0,$AD$1,Z466)*$AD$2)/IF(AA466=0,1,AA466)*VLOOKUP(DataByMiles!AE464,DataByMiles!$AT$5:$AU$6,2,FALSE)","v":0},"",0,0,{"$f":"(AF466+AG466)*VLOOKUP(DataByMiles!AE464,DataByMiles!$AT$5:$AU$6,2,FALSE)","v":0},0]
[null,{"$f":"DataByMiles!C465","v":"----461"},{"$f":"DataByMiles!E465*VLOOKUP(DataByMiles!AE465,DataByMiles!$AT$5:$AU$6,2,FALSE)","v":0},null,null,0,{"$f":"C467*$G$2*VLOOKUP(DataByMiles!AE465,DataByMiles!$AT$5:$AU$6,2,FALSE)","v":0},{"$f":"DataByMiles!F465*VLOOKUP(DataByMiles!AE465,DataByMiles!$AT$5:$AU$6,2,FALSE)","v":0},null,null,0,{"$f":"H467*$L$2*VLOOKUP(DataByMiles!AE465,DataByMiles!$AT$5:$AU$6,2,FALSE)","v":0},{"$f":"DataByMiles!G465*VLOOKUP(DataByMiles!AE465,DataByMiles!$AT$5:$AU$6,2,FALSE)","v":0},null,null,{"$f":"M467*$P$2*VLOOKUP(DataByMiles!AE465,DataByMiles!$AT$5:$AU$6,2,FALSE)","v":0},{"$f":"DataByMiles!H465*VLOOKUP(DataByMiles!AE465,DataByMiles!$AT$5:$AU$6,2,FALSE)","v":0},null,null,{"$f":"Q467*$T$2*VLOOKUP(DataByMiles!AE465,DataByMiles!$AT$5:$AU$6,2,FALSE)","v":0},{"$f":"DataByMiles!I465*VLOOKUP(DataByMiles!AE465,DataByMiles!$AT$5:$AU$6,2,FALSE)","v":0},null,null,{"$f":"U467*$X$2*VLOOKUP(DataByMiles!AE465,DataByMiles!$AT$5:$AU$6,2,FALSE)","v":0},{"$f":"DataByMiles!J465*VLOOKUP(DataByMiles!AE465,DataByMiles!$AT$5:$AU$6,2,FALSE)","v":0},{"$f":"DataByMiles!K465","v":0},{"$f":"DataByMiles!L465","v":0},null,null,{"$f":"(Y467/IF(Z467=0,$AD$1,Z467)*$AD$2)/IF(AA467=0,1,AA467)*VLOOKUP(DataByMiles!AE465,DataByMiles!$AT$5:$AU$6,2,FALSE)","v":0},"",0,0,{"$f":"(AF467+AG467)*VLOOKUP(DataByMiles!AE465,DataByMiles!$AT$5:$AU$6,2,FALSE)","v":0},0]
[null,{"$f":"DataByMiles!C466","v":"----462"},{"$f":"DataByMiles!E466*VLOOKUP(DataByMiles!AE466,DataByMiles!$AT$5:$AU$6,2,FALSE)","v":0},null,null,0,{"$f":"C468*$G$2*VLOOKUP(DataByMiles!AE466,DataByMiles!$AT$5:$AU$6,2,FALSE)","v":0},{"$f":"DataByMiles!F466*VLOOKUP(DataByMiles!AE466,DataByMiles!$AT$5:$AU$6,2,FALSE)","v":0},null,null,0,{"$f":"H468*$L$2*VLOOKUP(DataByMiles!AE466,DataByMiles!$AT$5:$AU$6,2,FALSE)","v":0},{"$f":"DataByMiles!G466*VLOOKUP(DataByMiles!AE466,DataByMiles!$AT$5:$AU$6,2,FALSE)","v":0},null,null,{"$f":"M468*$P$2*VLOOKUP(DataByMiles!AE466,DataByMiles!$AT$5:$AU$6,2,FALSE)","v":0},{"$f":"DataByMiles!H466*VLOOKUP(DataByMiles!AE466,DataByMiles!$AT$5:$AU$6,2,FALSE)","v":0},null,null,{"$f":"Q468*$T$2*VLOOKUP(DataByMiles!AE466,DataByMiles!$AT$5:$AU$6,2,FALSE)","v":0},{"$f":"DataByMiles!I466*VLOOKUP(DataByMiles!AE466,DataByMiles!$AT$5:$AU$6,2,FALSE)","v":0},null,null,{"$f":"U468*$X$2*VLOOKUP(DataByMiles!AE466,DataByMiles!$AT$5:$AU$6,2,FALSE)","v":0},{"$f":"DataByMiles!J466*VLOOKUP(DataByMiles!AE466,DataByMiles!$AT$5:$AU$6,2,FALSE)","v":0},{"$f":"DataByMiles!K466","v":0},{"$f":"DataByMiles!L466","v":0},null,null,{"$f":"(Y468/IF(Z468=0,$AD$1,Z468)*$AD$2)/IF(AA468=0,1,AA468)*VLOOKUP(DataByMiles!AE466,DataByMiles!$AT$5:$AU$6,2,FALSE)","v":0},"",0,0,{"$f":"(AF468+AG468)*VLOOKUP(DataByMiles!AE466,DataByMiles!$AT$5:$AU$6,2,FALSE)","v":0},0]
[null,{"$f":"DataByMiles!C467","v":"----463"},{"$f":"DataByMiles!E467*VLOOKUP(DataByMiles!AE467,DataByMiles!$AT$5:$AU$6,2,FALSE)","v":0},null,null,0,{"$f":"C469*$G$2*VLOOKUP(DataByMiles!AE467,DataByMiles!$AT$5:$AU$6,2,FALSE)","v":0},{"$f":"DataByMiles!F467*VLOOKUP(DataByMiles!AE467,DataByMiles!$AT$5:$AU$6,2,FALSE)","v":0},null,null,0,{"$f":"H469*$L$2*VLOOKUP(DataByMiles!AE467,DataByMiles!$AT$5:$AU$6,2,FALSE)","v":0},{"$f":"DataByMiles!G467*VLOOKUP(DataByMiles!AE467,DataByMiles!$AT$5:$AU$6,2,FALSE)","v":0},null,null,{"$f":"M469*$P$2*VLOOKUP(DataByMiles!AE467,DataByMiles!$AT$5:$AU$6,2,FALSE)","v":0},{"$f":"DataByMiles!H467*VLOOKUP(DataByMiles!AE467,DataByMiles!$AT$5:$AU$6,2,FALSE)","v":0},null,null,{"$f":"Q469*$T$2*VLOOKUP(DataByMiles!AE467,DataByMiles!$AT$5:$AU$6,2,FALSE)","v":0},{"$f":"DataByMiles!I467*VLOOKUP(DataByMiles!AE467,DataByMiles!$AT$5:$AU$6,2,FALSE)","v":0},null,null,{"$f":"U469*$X$2*VLOOKUP(DataByMiles!AE467,DataByMiles!$AT$5:$AU$6,2,FALSE)","v":0},{"$f":"DataByMiles!J467*VLOOKUP(DataByMiles!AE467,DataByMiles!$AT$5:$AU$6,2,FALSE)","v":0},{"$f":"DataByMiles!K467","v":0},{"$f":"DataByMiles!L467","v":0},null,null,{"$f":"(Y469/IF(Z469=0,$AD$1,Z469)*$AD$2)/IF(AA469=0,1,AA469)*VLOOKUP(DataByMiles!AE467,DataByMiles!$AT$5:$AU$6,2,FALSE)","v":0},"",0,0,{"$f":"(AF469+AG469)*VLOOKUP(DataByMiles!AE467,DataByMiles!$AT$5:$AU$6,2,FALSE)","v":0},0]
[null,{"$f":"DataByMiles!C468","v":"----464"},{"$f":"DataByMiles!E468*VLOOKUP(DataByMiles!AE468,DataByMiles!$AT$5:$AU$6,2,FALSE)","v":0},null,null,0,{"$f":"C470*$G$2*VLOOKUP(DataByMiles!AE468,DataByMiles!$AT$5:$AU$6,2,FALSE)","v":0},{"$f":"DataByMiles!F468*VLOOKUP(DataByMiles!AE468,DataByMiles!$AT$5:$AU$6,2,FALSE)","v":0},null,null,0,{"$f":"H470*$L$2*VLOOKUP(DataByMiles!AE468,DataByMiles!$AT$5:$AU$6,2,FALSE)","v":0},{"$f":"DataByMiles!G468*VLOOKUP(DataByMiles!AE468,DataByMiles!$AT$5:$AU$6,2,FALSE)","v":0},null,null,{"$f":"M470*$P$2*VLOOKUP(DataByMiles!AE468,DataByMiles!$AT$5:$AU$6,2,FALSE)","v":0},{"$f":"DataByMiles!H468*VLOOKUP(DataByMiles!AE468,DataByMiles!$AT$5:$AU$6,2,FALSE)","v":0},null,null,{"$f":"Q470*$T$2*VLOOKUP(DataByMiles!AE468,DataByMiles!$AT$5:$AU$6,2,FALSE)","v":0},{"$f":"DataByMiles!I468*VLOOKUP(DataByMiles!AE468,DataByMiles!$AT$5:$AU$6,2,FALSE)","v":0},null,null,{"$f":"U470*$X$2*VLOOKUP(DataByMiles!AE468,DataByMiles!$AT$5:$AU$6,2,FALSE)","v":0},{"$f":"DataByMiles!J468*VLOOKUP(DataByMiles!AE468,DataByMiles!$AT$5:$AU$6,2,FALSE)","v":0},{"$f":"DataByMiles!K468","v":0},{"$f":"DataByMiles!L468","v":0},null,null,{"$f":"(Y470/IF(Z470=0,$AD$1,Z470)*$AD$2)/IF(AA470=0,1,AA470)*VLOOKUP(DataByMiles!AE468,DataByMiles!$AT$5:$AU$6,2,FALSE)","v":0},"",0,0,{"$f":"(AF470+AG470)*VLOOKUP(DataByMiles!AE468,DataByMiles!$AT$5:$AU$6,2,FALSE)","v":0},0]
[null,{"$f":"DataByMiles!C469","v":"----465"},{"$f":"DataByMiles!E469*VLOOKUP(DataByMiles!AE469,DataByMiles!$AT$5:$AU$6,2,FALSE)","v":0},null,null,0,{"$f":"C471*$G$2*VLOOKUP(DataByMiles!AE469,DataByMiles!$AT$5:$AU$6,2,FALSE)","v":0},{"$f":"DataByMiles!F469*VLOOKUP(DataByMiles!AE469,DataByMiles!$AT$5:$AU$6,2,FALSE)","v":0},null,null,0,{"$f":"H471*$L$2*VLOOKUP(DataByMiles!AE469,DataByMiles!$AT$5:$AU$6,2,FALSE)","v":0},{"$f":"DataByMiles!G469*VLOOKUP(DataByMiles!AE469,DataByMiles!$AT$5:$AU$6,2,FALSE)","v":0},null,null,{"$f":"M471*$P$2*VLOOKUP(DataByMiles!AE469,DataByMiles!$AT$5:$AU$6,2,FALSE)","v":0},{"$f":"DataByMiles!H469*VLOOKUP(DataByMiles!AE469,DataByMiles!$AT$5:$AU$6,2,FALSE)","v":0},null,null,{"$f":"Q471*$T$2*VLOOKUP(DataByMiles!AE469,DataByMiles!$AT$5:$AU$6,2,FALSE)","v":0},{"$f":"DataByMiles!I469*VLOOKUP(DataByMiles!AE469,DataByMiles!$AT$5:$AU$6,2,FALSE)","v":0},null,null,{"$f":"U471*$X$2*VLOOKUP(DataByMiles!AE469,DataByMiles!$AT$5:$AU$6,2,FALSE)","v":0},{"$f":"DataByMiles!J469*VLOOKUP(DataByMiles!AE469,DataByMiles!$AT$5:$AU$6,2,FALSE)","v":0},{"$f":"DataByMiles!K469","v":0},{"$f":"DataByMiles!L469","v":0},null,null,{"$f":"(Y471/IF(Z471=0,$AD$1,Z471)*$AD$2)/IF(AA471=0,1,AA471)*VLOOKUP(DataByMiles!AE469,DataByMiles!$AT$5:$AU$6,2,FALSE)","v":0},"",0,0,{"$f":"(AF471+AG471)*VLOOKUP(DataByMiles!AE469,DataByMiles!$AT$5:$AU$6,2,FALSE)","v":0},0]
[null,{"$f":"DataByMiles!C470","v":"----466"},{"$f":"DataByMiles!E470*VLOOKUP(DataByMiles!AE470,DataByMiles!$AT$5:$AU$6,2,FALSE)","v":0},null,null,0,{"$f":"C472*$G$2*VLOOKUP(DataByMiles!AE470,DataByMiles!$AT$5:$AU$6,2,FALSE)","v":0},{"$f":"DataByMiles!F470*VLOOKUP(DataByMiles!AE470,DataByMiles!$AT$5:$AU$6,2,FALSE)","v":0},null,null,0,{"$f":"H472*$L$2*VLOOKUP(DataByMiles!AE470,DataByMiles!$AT$5:$AU$6,2,FALSE)","v":0},{"$f":"DataByMiles!G470*VLOOKUP(DataByMiles!AE470,DataByMiles!$AT$5:$AU$6,2,FALSE)","v":0},null,null,{"$f":"M472*$P$2*VLOOKUP(DataByMiles!AE470,DataByMiles!$AT$5:$AU$6,2,FALSE)","v":0},{"$f":"DataByMiles!H470*VLOOKUP(DataByMiles!AE470,DataByMiles!$AT$5:$AU$6,2,FALSE)","v":0},null,null,{"$f":"Q472*$T$2*VLOOKUP(DataByMiles!AE470,DataByMiles!$AT$5:$AU$6,2,FALSE)","v":0},{"$f":"DataByMiles!I470*VLOOKUP(DataByMiles!AE470,DataByMiles!$AT$5:$AU$6,2,FALSE)","v":0},null,null,{"$f":"U472*$X$2*VLOOKUP(DataByMiles!AE470,DataByMiles!$AT$5:$AU$6,2,FALSE)","v":0},{"$f":"DataByMiles!J470*VLOOKUP(DataByMiles!AE470,DataByMiles!$AT$5:$AU$6,2,FALSE)","v":0},{"$f":"DataByMiles!K470","v":0},{"$f":"DataByMiles!L470","v":0},null,null,{"$f":"(Y472/IF(Z472=0,$AD$1,Z472)*$AD$2)/IF(AA472=0,1,AA472)*VLOOKUP(DataByMiles!AE470,DataByMiles!$AT$5:$AU$6,2,FALSE)","v":0},"",0,0,{"$f":"(AF472+AG472)*VLOOKUP(DataByMiles!AE470,DataByMiles!$AT$5:$AU$6,2,FALSE)","v":0},0]
[null,{"$f":"DataByMiles!C471","v":"----467"},{"$f":"DataByMiles!E471*VLOOKUP(DataByMiles!AE471,DataByMiles!$AT$5:$AU$6,2,FALSE)","v":0},null,null,0,{"$f":"C473*$G$2*VLOOKUP(DataByMiles!AE471,DataByMiles!$AT$5:$AU$6,2,FALSE)","v":0},{"$f":"DataByMiles!F471*VLOOKUP(DataByMiles!AE471,DataByMiles!$AT$5:$AU$6,2,FALSE)","v":0},null,null,0,{"$f":"H473*$L$2*VLOOKUP(DataByMiles!AE471,DataByMiles!$AT$5:$AU$6,2,FALSE)","v":0},{"$f":"DataByMiles!G471*VLOOKUP(DataByMiles!AE471,DataByMiles!$AT$5:$AU$6,2,FALSE)","v":0},null,null,{"$f":"M473*$P$2*VLOOKUP(DataByMiles!AE471,DataByMiles!$AT$5:$AU$6,2,FALSE)","v":0},{"$f":"DataByMiles!H471*VLOOKUP(DataByMiles!AE471,DataByMiles!$AT$5:$AU$6,2,FALSE)","v":0},null,null,{"$f":"Q473*$T$2*VLOOKUP(DataByMiles!AE471,DataByMiles!$AT$5:$AU$6,2,FALSE)","v":0},{"$f":"DataByMiles!I471*VLOOKUP(DataByMiles!AE471,DataByMiles!$AT$5:$AU$6,2,FALSE)","v":0},null,null,{"$f":"U473*$X$2*VLOOKUP(DataByMiles!AE471,DataByMiles!$AT$5:$AU$6,2,FALSE)","v":0},{"$f":"DataByMiles!J471*VLOOKUP(DataByMiles!AE471,DataByMiles!$AT$5:$AU$6,2,FALSE)","v":0},{"$f":"DataByMiles!K471","v":0},{"$f":"DataByMiles!L471","v":0},null,null,{"$f":"(Y473/IF(Z473=0,$AD$1,Z473)*$AD$2)/IF(AA473=0,1,AA473)*VLOOKUP(DataByMiles!AE471,DataByMiles!$AT$5:$AU$6,2,FALSE)","v":0},"",0,0,{"$f":"(AF473+AG473)*VLOOKUP(DataByMiles!AE471,DataByMiles!$AT$5:$AU$6,2,FALSE)","v":0},0]
[null,{"$f":"DataByMiles!C472","v":"----468"},{"$f":"DataByMiles!E472*VLOOKUP(DataByMiles!AE472,DataByMiles!$AT$5:$AU$6,2,FALSE)","v":0},null,null,0,{"$f":"C474*$G$2*VLOOKUP(DataByMiles!AE472,DataByMiles!$AT$5:$AU$6,2,FALSE)","v":0},{"$f":"DataByMiles!F472*VLOOKUP(DataByMiles!AE472,DataByMiles!$AT$5:$AU$6,2,FALSE)","v":0},null,null,0,{"$f":"H474*$L$2*VLOOKUP(DataByMiles!AE472,DataByMiles!$AT$5:$AU$6,2,FALSE)","v":0},{"$f":"DataByMiles!G472*VLOOKUP(DataByMiles!AE472,DataByMiles!$AT$5:$AU$6,2,FALSE)","v":0},null,null,{"$f":"M474*$P$2*VLOOKUP(DataByMiles!AE472,DataByMiles!$AT$5:$AU$6,2,FALSE)","v":0},{"$f":"DataByMiles!H472*VLOOKUP(DataByMiles!AE472,DataByMiles!$AT$5:$AU$6,2,FALSE)","v":0},null,null,{"$f":"Q474*$T$2*VLOOKUP(DataByMiles!AE472,DataByMiles!$AT$5:$AU$6,2,FALSE)","v":0},{"$f":"DataByMiles!I472*VLOOKUP(DataByMiles!AE472,DataByMiles!$AT$5:$AU$6,2,FALSE)","v":0},null,null,{"$f":"U474*$X$2*VLOOKUP(DataByMiles!AE472,DataByMiles!$AT$5:$AU$6,2,FALSE)","v":0},{"$f":"DataByMiles!J472*VLOOKUP(DataByMiles!AE472,DataByMiles!$AT$5:$AU$6,2,FALSE)","v":0},{"$f":"DataByMiles!K472","v":0},{"$f":"DataByMiles!L472","v":0},null,null,{"$f":"(Y474/IF(Z474=0,$AD$1,Z474)*$AD$2)/IF(AA474=0,1,AA474)*VLOOKUP(DataByMiles!AE472,DataByMiles!$AT$5:$AU$6,2,FALSE)","v":0},"",0,0,{"$f":"(AF474+AG474)*VLOOKUP(DataByMiles!AE472,DataByMiles!$AT$5:$AU$6,2,FALSE)","v":0},0]
[null,{"$f":"DataByMiles!C473","v":"----469"},{"$f":"DataByMiles!E473*VLOOKUP(DataByMiles!AE473,DataByMiles!$AT$5:$AU$6,2,FALSE)","v":0},null,null,0,{"$f":"C475*$G$2*VLOOKUP(DataByMiles!AE473,DataByMiles!$AT$5:$AU$6,2,FALSE)","v":0},{"$f":"DataByMiles!F473*VLOOKUP(DataByMiles!AE473,DataByMiles!$AT$5:$AU$6,2,FALSE)","v":0},null,null,0,{"$f":"H475*$L$2*VLOOKUP(DataByMiles!AE473,DataByMiles!$AT$5:$AU$6,2,FALSE)","v":0},{"$f":"DataByMiles!G473*VLOOKUP(DataByMiles!AE473,DataByMiles!$AT$5:$AU$6,2,FALSE)","v":0},null,null,{"$f":"M475*$P$2*VLOOKUP(DataByMiles!AE473,DataByMiles!$AT$5:$AU$6,2,FALSE)","v":0},{"$f":"DataByMiles!H473*VLOOKUP(DataByMiles!AE473,DataByMiles!$AT$5:$AU$6,2,FALSE)","v":0},null,null,{"$f":"Q475*$T$2*VLOOKUP(DataByMiles!AE473,DataByMiles!$AT$5:$AU$6,2,FALSE)","v":0},{"$f":"DataByMiles!I473*VLOOKUP(DataByMiles!AE473,DataByMiles!$AT$5:$AU$6,2,FALSE)","v":0},null,null,{"$f":"U475*$X$2*VLOOKUP(DataByMiles!AE473,DataByMiles!$AT$5:$AU$6,2,FALSE)","v":0},{"$f":"DataByMiles!J473*VLOOKUP(DataByMiles!AE473,DataByMiles!$AT$5:$AU$6,2,FALSE)","v":0},{"$f":"DataByMiles!K473","v":0},{"$f":"DataByMiles!L473","v":0},null,null,{"$f":"(Y475/IF(Z475=0,$AD$1,Z475)*$AD$2)/IF(AA475=0,1,AA475)*VLOOKUP(DataByMiles!AE473,DataByMiles!$AT$5:$AU$6,2,FALSE)","v":0},"",0,0,{"$f":"(AF475+AG475)*VLOOKUP(DataByMiles!AE473,DataByMiles!$AT$5:$AU$6,2,FALSE)","v":0},0]
[null,{"$f":"DataByMiles!C474","v":"----470"},{"$f":"DataByMiles!E474*VLOOKUP(DataByMiles!AE474,DataByMiles!$AT$5:$AU$6,2,FALSE)","v":0},null,null,0,{"$f":"C476*$G$2*VLOOKUP(DataByMiles!AE474,DataByMiles!$AT$5:$AU$6,2,FALSE)","v":0},{"$f":"DataByMiles!F474*VLOOKUP(DataByMiles!AE474,DataByMiles!$AT$5:$AU$6,2,FALSE)","v":0},null,null,0,{"$f":"H476*$L$2*VLOOKUP(DataByMiles!AE474,DataByMiles!$AT$5:$AU$6,2,FALSE)","v":0},{"$f":"DataByMiles!G474*VLOOKUP(DataByMiles!AE474,DataByMiles!$AT$5:$AU$6,2,FALSE)","v":0},null,null,{"$f":"M476*$P$2*VLOOKUP(DataByMiles!AE474,DataByMiles!$AT$5:$AU$6,2,FALSE)","v":0},{"$f":"DataByMiles!H474*VLOOKUP(DataByMiles!AE474,DataByMiles!$AT$5:$AU$6,2,FALSE)","v":0},null,null,{"$f":"Q476*$T$2*VLOOKUP(DataByMiles!AE474,DataByMiles!$AT$5:$AU$6,2,FALSE)","v":0},{"$f":"DataByMiles!I474*VLOOKUP(DataByMiles!AE474,DataByMiles!$AT$5:$AU$6,2,FALSE)","v":0},null,null,{"$f":"U476*$X$2*VLOOKUP(DataByMiles!AE474,DataByMiles!$AT$5:$AU$6,2,FALSE)","v":0},{"$f":"DataByMiles!J474*VLOOKUP(DataByMiles!AE474,DataByMiles!$AT$5:$AU$6,2,FALSE)","v":0},{"$f":"DataByMiles!K474","v":0},{"$f":"DataByMiles!L474","v":0},null,null,{"$f":"(Y476/IF(Z476=0,$AD$1,Z476)*$AD$2)/IF(AA476=0,1,AA476)*VLOOKUP(DataByMiles!AE474,DataByMiles!$AT$5:$AU$6,2,FALSE)","v":0},"",0,0,{"$f":"(AF476+AG476)*VLOOKUP(DataByMiles!AE474,DataByMiles!$AT$5:$AU$6,2,FALSE)","v":0},0]
[null,{"$f":"DataByMiles!C475","v":"----471"},{"$f":"DataByMiles!E475*VLOOKUP(DataByMiles!AE475,DataByMiles!$AT$5:$AU$6,2,FALSE)","v":0},null,null,0,{"$f":"C477*$G$2*VLOOKUP(DataByMiles!AE475,DataByMiles!$AT$5:$AU$6,2,FALSE)","v":0},{"$f":"DataByMiles!F475*VLOOKUP(DataByMiles!AE475,DataByMiles!$AT$5:$AU$6,2,FALSE)","v":0},null,null,0,{"$f":"H477*$L$2*VLOOKUP(DataByMiles!AE475,DataByMiles!$AT$5:$AU$6,2,FALSE)","v":0},{"$f":"DataByMiles!G475*VLOOKUP(DataByMiles!AE475,DataByMiles!$AT$5:$AU$6,2,FALSE)","v":0},null,null,{"$f":"M477*$P$2*VLOOKUP(DataByMiles!AE475,DataByMiles!$AT$5:$AU$6,2,FALSE)","v":0},{"$f":"DataByMiles!H475*VLOOKUP(DataByMiles!AE475,DataByMiles!$AT$5:$AU$6,2,FALSE)","v":0},null,null,{"$f":"Q477*$T$2*VLOOKUP(DataByMiles!AE475,DataByMiles!$AT$5:$AU$6,2,FALSE)","v":0},{"$f":"DataByMiles!I475*VLOOKUP(DataByMiles!AE475,DataByMiles!$AT$5:$AU$6,2,FALSE)","v":0},null,null,{"$f":"U477*$X$2*VLOOKUP(DataByMiles!AE475,DataByMiles!$AT$5:$AU$6,2,FALSE)","v":0},{"$f":"DataByMiles!J475*VLOOKUP(DataByMiles!AE475,DataByMiles!$AT$5:$AU$6,2,FALSE)","v":0},{"$f":"DataByMiles!K475","v":0},{"$f":"DataByMiles!L475","v":0},null,null,{"$f":"(Y477/IF(Z477=0,$AD$1,Z477)*$AD$2)/IF(AA477=0,1,AA477)*VLOOKUP(DataByMiles!AE475,DataByMiles!$AT$5:$AU$6,2,FALSE)","v":0},"",0,0,{"$f":"(AF477+AG477)*VLOOKUP(DataByMiles!AE475,DataByMiles!$AT$5:$AU$6,2,FALSE)","v":0},0]
[null,{"$f":"DataByMiles!C476","v":"----472"},{"$f":"DataByMiles!E476*VLOOKUP(DataByMiles!AE476,DataByMiles!$AT$5:$AU$6,2,FALSE)","v":0},null,null,0,{"$f":"C478*$G$2*VLOOKUP(DataByMiles!AE476,DataByMiles!$AT$5:$AU$6,2,FALSE)","v":0},{"$f":"DataByMiles!F476*VLOOKUP(DataByMiles!AE476,DataByMiles!$AT$5:$AU$6,2,FALSE)","v":0},null,null,0,{"$f":"H478*$L$2*VLOOKUP(DataByMiles!AE476,DataByMiles!$AT$5:$AU$6,2,FALSE)","v":0},{"$f":"DataByMiles!G476*VLOOKUP(DataByMiles!AE476,DataByMiles!$AT$5:$AU$6,2,FALSE)","v":0},null,null,{"$f":"M478*$P$2*VLOOKUP(DataByMiles!AE476,DataByMiles!$AT$5:$AU$6,2,FALSE)","v":0},{"$f":"DataByMiles!H476*VLOOKUP(DataByMiles!AE476,DataByMiles!$AT$5:$AU$6,2,FALSE)","v":0},null,null,{"$f":"Q478*$T$2*VLOOKUP(DataByMiles!AE476,DataByMiles!$AT$5:$AU$6,2,FALSE)","v":0},{"$f":"DataByMiles!I476*VLOOKUP(DataByMiles!AE476,DataByMiles!$AT$5:$AU$6,2,FALSE)","v":0},null,null,{"$f":"U478*$X$2*VLOOKUP(DataByMiles!AE476,DataByMiles!$AT$5:$AU$6,2,FALSE)","v":0},{"$f":"DataByMiles!J476*VLOOKUP(DataByMiles!AE476,DataByMiles!$AT$5:$AU$6,2,FALSE)","v":0},{"$f":"DataByMiles!K476","v":0},{"$f":"DataByMiles!L476","v":0},null,null,{"$f":"(Y478/IF(Z478=0,$AD$1,Z478)*$AD$2)/IF(AA478=0,1,AA478)*VLOOKUP(DataByMiles!AE476,DataByMiles!$AT$5:$AU$6,2,FALSE)","v":0},"",0,0,{"$f":"(AF478+AG478)*VLOOKUP(DataByMiles!AE476,DataByMiles!$AT$5:$AU$6,2,FALSE)","v":0},0]
[null,{"$f":"DataByMiles!C477","v":"----473"},{"$f":"DataByMiles!E477*VLOOKUP(DataByMiles!AE477,DataByMiles!$AT$5:$AU$6,2,FALSE)","v":0},null,null,0,{"$f":"C479*$G$2*VLOOKUP(DataByMiles!AE477,DataByMiles!$AT$5:$AU$6,2,FALSE)","v":0},{"$f":"DataByMiles!F477*VLOOKUP(DataByMiles!AE477,DataByMiles!$AT$5:$AU$6,2,FALSE)","v":0},null,null,0,{"$f":"H479*$L$2*VLOOKUP(DataByMiles!AE477,DataByMiles!$AT$5:$AU$6,2,FALSE)","v":0},{"$f":"DataByMiles!G477*VLOOKUP(DataByMiles!AE477,DataByMiles!$AT$5:$AU$6,2,FALSE)","v":0},null,null,{"$f":"M479*$P$2*VLOOKUP(DataByMiles!AE477,DataByMiles!$AT$5:$AU$6,2,FALSE)","v":0},{"$f":"DataByMiles!H477*VLOOKUP(DataByMiles!AE477,DataByMiles!$AT$5:$AU$6,2,FALSE)","v":0},null,null,{"$f":"Q479*$T$2*VLOOKUP(DataByMiles!AE477,DataByMiles!$AT$5:$AU$6,2,FALSE)","v":0},{"$f":"DataByMiles!I477*VLOOKUP(DataByMiles!AE477,DataByMiles!$AT$5:$AU$6,2,FALSE)","v":0},null,null,{"$f":"U479*$X$2*VLOOKUP(DataByMiles!AE477,DataByMiles!$AT$5:$AU$6,2,FALSE)","v":0},{"$f":"DataByMiles!J477*VLOOKUP(DataByMiles!AE477,DataByMiles!$AT$5:$AU$6,2,FALSE)","v":0},{"$f":"DataByMiles!K477","v":0},{"$f":"DataByMiles!L477","v":0},null,null,{"$f":"(Y479/IF(Z479=0,$AD$1,Z479)*$AD$2)/IF(AA479=0,1,AA479)*VLOOKUP(DataByMiles!AE477,DataByMiles!$AT$5:$AU$6,2,FALSE)","v":0},"",0,0,{"$f":"(AF479+AG479)*VLOOKUP(DataByMiles!AE477,DataByMiles!$AT$5:$AU$6,2,FALSE)","v":0},0]
[null,{"$f":"DataByMiles!C478","v":"----474"},{"$f":"DataByMiles!E478*VLOOKUP(DataByMiles!AE478,DataByMiles!$AT$5:$AU$6,2,FALSE)","v":0},null,null,0,{"$f":"C480*$G$2*VLOOKUP(DataByMiles!AE478,DataByMiles!$AT$5:$AU$6,2,FALSE)","v":0},{"$f":"DataByMiles!F478*VLOOKUP(DataByMiles!AE478,DataByMiles!$AT$5:$AU$6,2,FALSE)","v":0},null,null,0,{"$f":"H480*$L$2*VLOOKUP(DataByMiles!AE478,DataByMiles!$AT$5:$AU$6,2,FALSE)","v":0},{"$f":"DataByMiles!G478*VLOOKUP(DataByMiles!AE478,DataByMiles!$AT$5:$AU$6,2,FALSE)","v":0},null,null,{"$f":"M480*$P$2*VLOOKUP(DataByMiles!AE478,DataByMiles!$AT$5:$AU$6,2,FALSE)","v":0},{"$f":"DataByMiles!H478*VLOOKUP(DataByMiles!AE478,DataByMiles!$AT$5:$AU$6,2,FALSE)","v":0},null,null,{"$f":"Q480*$T$2*VLOOKUP(DataByMiles!AE478,DataByMiles!$AT$5:$AU$6,2,FALSE)","v":0},{"$f":"DataByMiles!I478*VLOOKUP(DataByMiles!AE478,DataByMiles!$AT$5:$AU$6,2,FALSE)","v":0},null,null,{"$f":"U480*$X$2*VLOOKUP(DataByMiles!AE478,DataByMiles!$AT$5:$AU$6,2,FALSE)","v":0},{"$f":"DataByMiles!J478*VLOOKUP(DataByMiles!AE478,DataByMiles!$AT$5:$AU$6,2,FALSE)","v":0},{"$f":"DataByMiles!K478","v":0},{"$f":"DataByMiles!L478","v":0},null,null,{"$f":"(Y480/IF(Z480=0,$AD$1,Z480)*$AD$2)/IF(AA480=0,1,AA480)*VLOOKUP(DataByMiles!AE478,DataByMiles!$AT$5:$AU$6,2,FALSE)","v":0},"",0,0,{"$f":"(AF480+AG480)*VLOOKUP(DataByMiles!AE478,DataByMiles!$AT$5:$AU$6,2,FALSE)","v":0},0]
[null,{"$f":"DataByMiles!C479","v":"----475"},{"$f":"DataByMiles!E479*VLOOKUP(DataByMiles!AE479,DataByMiles!$AT$5:$AU$6,2,FALSE)","v":0},null,null,0,{"$f":"C481*$G$2*VLOOKUP(DataByMiles!AE479,DataByMiles!$AT$5:$AU$6,2,FALSE)","v":0},{"$f":"DataByMiles!F479*VLOOKUP(DataByMiles!AE479,DataByMiles!$AT$5:$AU$6,2,FALSE)","v":0},null,null,0,{"$f":"H481*$L$2*VLOOKUP(DataByMiles!AE479,DataByMiles!$AT$5:$AU$6,2,FALSE)","v":0},{"$f":"DataByMiles!G479*VLOOKUP(DataByMiles!AE479,DataByMiles!$AT$5:$AU$6,2,FALSE)","v":0},null,null,{"$f":"M481*$P$2*VLOOKUP(DataByMiles!AE479,DataByMiles!$AT$5:$AU$6,2,FALSE)","v":0},{"$f":"DataByMiles!H479*VLOOKUP(DataByMiles!AE479,DataByMiles!$AT$5:$AU$6,2,FALSE)","v":0},null,null,{"$f":"Q481*$T$2*VLOOKUP(DataByMiles!AE479,DataByMiles!$AT$5:$AU$6,2,FALSE)","v":0},{"$f":"DataByMiles!I479*VLOOKUP(DataByMiles!AE479,DataByMiles!$AT$5:$AU$6,2,FALSE)","v":0},null,null,{"$f":"U481*$X$2*VLOOKUP(DataByMiles!AE479,DataByMiles!$AT$5:$AU$6,2,FALSE)","v":0},{"$f":"DataByMiles!J479*VLOOKUP(DataByMiles!AE479,DataByMiles!$AT$5:$AU$6,2,FALSE)","v":0},{"$f":"DataByMiles!K479","v":0},{"$f":"DataByMiles!L479","v":0},null,null,{"$f":"(Y481/IF(Z481=0,$AD$1,Z481)*$AD$2)/IF(AA481=0,1,AA481)*VLOOKUP(DataByMiles!AE479,DataByMiles!$AT$5:$AU$6,2,FALSE)","v":0},"",0,0,{"$f":"(AF481+AG481)*VLOOKUP(DataByMiles!AE479,DataByMiles!$AT$5:$AU$6,2,FALSE)","v":0},0]
[null,{"$f":"DataByMiles!C480","v":"----476"},{"$f":"DataByMiles!E480*VLOOKUP(DataByMiles!AE480,DataByMiles!$AT$5:$AU$6,2,FALSE)","v":0},null,null,0,{"$f":"C482*$G$2*VLOOKUP(DataByMiles!AE480,DataByMiles!$AT$5:$AU$6,2,FALSE)","v":0},{"$f":"DataByMiles!F480*VLOOKUP(DataByMiles!AE480,DataByMiles!$AT$5:$AU$6,2,FALSE)","v":0},null,null,0,{"$f":"H482*$L$2*VLOOKUP(DataByMiles!AE480,DataByMiles!$AT$5:$AU$6,2,FALSE)","v":0},{"$f":"DataByMiles!G480*VLOOKUP(DataByMiles!AE480,DataByMiles!$AT$5:$AU$6,2,FALSE)","v":0},null,null,{"$f":"M482*$P$2*VLOOKUP(DataByMiles!AE480,DataByMiles!$AT$5:$AU$6,2,FALSE)","v":0},{"$f":"DataByMiles!H480*VLOOKUP(DataByMiles!AE480,DataByMiles!$AT$5:$AU$6,2,FALSE)","v":0},null,null,{"$f":"Q482*$T$2*VLOOKUP(DataByMiles!AE480,DataByMiles!$AT$5:$AU$6,2,FALSE)","v":0},{"$f":"DataByMiles!I480*VLOOKUP(DataByMiles!AE480,DataByMiles!$AT$5:$AU$6,2,FALSE)","v":0},null,null,{"$f":"U482*$X$2*VLOOKUP(DataByMiles!AE480,DataByMiles!$AT$5:$AU$6,2,FALSE)","v":0},{"$f":"DataByMiles!J480*VLOOKUP(DataByMiles!AE480,DataByMiles!$AT$5:$AU$6,2,FALSE)","v":0},{"$f":"DataByMiles!K480","v":0},{"$f":"DataByMiles!L480","v":0},null,null,{"$f":"(Y482/IF(Z482=0,$AD$1,Z482)*$AD$2)/IF(AA482=0,1,AA482)*VLOOKUP(DataByMiles!AE480,DataByMiles!$AT$5:$AU$6,2,FALSE)","v":0},"",0,0,{"$f":"(AF482+AG482)*VLOOKUP(DataByMiles!AE480,DataByMiles!$AT$5:$AU$6,2,FALSE)","v":0},0]
[null,{"$f":"DataByMiles!C481","v":"----477"},{"$f":"DataByMiles!E481*VLOOKUP(DataByMiles!AE481,DataByMiles!$AT$5:$AU$6,2,FALSE)","v":0},null,null,0,{"$f":"C483*$G$2*VLOOKUP(DataByMiles!AE481,DataByMiles!$AT$5:$AU$6,2,FALSE)","v":0},{"$f":"DataByMiles!F481*VLOOKUP(DataByMiles!AE481,DataByMiles!$AT$5:$AU$6,2,FALSE)","v":0},null,null,0,{"$f":"H483*$L$2*VLOOKUP(DataByMiles!AE481,DataByMiles!$AT$5:$AU$6,2,FALSE)","v":0},{"$f":"DataByMiles!G481*VLOOKUP(DataByMiles!AE481,DataByMiles!$AT$5:$AU$6,2,FALSE)","v":0},null,null,{"$f":"M483*$P$2*VLOOKUP(DataByMiles!AE481,DataByMiles!$AT$5:$AU$6,2,FALSE)","v":0},{"$f":"DataByMiles!H481*VLOOKUP(DataByMiles!AE481,DataByMiles!$AT$5:$AU$6,2,FALSE)","v":0},null,null,{"$f":"Q483*$T$2*VLOOKUP(DataByMiles!AE481,DataByMiles!$AT$5:$AU$6,2,FALSE)","v":0},{"$f":"DataByMiles!I481*VLOOKUP(DataByMiles!AE481,DataByMiles!$AT$5:$AU$6,2,FALSE)","v":0},null,null,{"$f":"U483*$X$2*VLOOKUP(DataByMiles!AE481,DataByMiles!$AT$5:$AU$6,2,FALSE)","v":0},{"$f":"DataByMiles!J481*VLOOKUP(DataByMiles!AE481,DataByMiles!$AT$5:$AU$6,2,FALSE)","v":0},{"$f":"DataByMiles!K481","v":0},{"$f":"DataByMiles!L481","v":0},null,null,{"$f":"(Y483/IF(Z483=0,$AD$1,Z483)*$AD$2)/IF(AA483=0,1,AA483)*VLOOKUP(DataByMiles!AE481,DataByMiles!$AT$5:$AU$6,2,FALSE)","v":0},"",0,0,{"$f":"(AF483+AG483)*VLOOKUP(DataByMiles!AE481,DataByMiles!$AT$5:$AU$6,2,FALSE)","v":0},0]
[null,{"$f":"DataByMiles!C482","v":"----478"},{"$f":"DataByMiles!E482*VLOOKUP(DataByMiles!AE482,DataByMiles!$AT$5:$AU$6,2,FALSE)","v":0},null,null,0,{"$f":"C484*$G$2*VLOOKUP(DataByMiles!AE482,DataByMiles!$AT$5:$AU$6,2,FALSE)","v":0},{"$f":"DataByMiles!F482*VLOOKUP(DataByMiles!AE482,DataByMiles!$AT$5:$AU$6,2,FALSE)","v":0},null,null,0,{"$f":"H484*$L$2*VLOOKUP(DataByMiles!AE482,DataByMiles!$AT$5:$AU$6,2,FALSE)","v":0},{"$f":"DataByMiles!G482*VLOOKUP(DataByMiles!AE482,DataByMiles!$AT$5:$AU$6,2,FALSE)","v":0},null,null,{"$f":"M484*$P$2*VLOOKUP(DataByMiles!AE482,DataByMiles!$AT$5:$AU$6,2,FALSE)","v":0},{"$f":"DataByMiles!H482*VLOOKUP(DataByMiles!AE482,DataByMiles!$AT$5:$AU$6,2,FALSE)","v":0},null,null,{"$f":"Q484*$T$2*VLOOKUP(DataByMiles!AE482,DataByMiles!$AT$5:$AU$6,2,FALSE)","v":0},{"$f":"DataByMiles!I482*VLOOKUP(DataByMiles!AE482,DataByMiles!$AT$5:$AU$6,2,FALSE)","v":0},null,null,{"$f":"U484*$X$2*VLOOKUP(DataByMiles!AE482,DataByMiles!$AT$5:$AU$6,2,FALSE)","v":0},{"$f":"DataByMiles!J482*VLOOKUP(DataByMiles!AE482,DataByMiles!$AT$5:$AU$6,2,FALSE)","v":0},{"$f":"DataByMiles!K482","v":0},{"$f":"DataByMiles!L482","v":0},null,null,{"$f":"(Y484/IF(Z484=0,$AD$1,Z484)*$AD$2)/IF(AA484=0,1,AA484)*VLOOKUP(DataByMiles!AE482,DataByMiles!$AT$5:$AU$6,2,FALSE)","v":0},"",0,0,{"$f":"(AF484+AG484)*VLOOKUP(DataByMiles!AE482,DataByMiles!$AT$5:$AU$6,2,FALSE)","v":0},0]
[null,{"$f":"DataByMiles!C483","v":"----479"},{"$f":"DataByMiles!E483*VLOOKUP(DataByMiles!AE483,DataByMiles!$AT$5:$AU$6,2,FALSE)","v":0},null,null,0,{"$f":"C485*$G$2*VLOOKUP(DataByMiles!AE483,DataByMiles!$AT$5:$AU$6,2,FALSE)","v":0},{"$f":"DataByMiles!F483*VLOOKUP(DataByMiles!AE483,DataByMiles!$AT$5:$AU$6,2,FALSE)","v":0},null,null,0,{"$f":"H485*$L$2*VLOOKUP(DataByMiles!AE483,DataByMiles!$AT$5:$AU$6,2,FALSE)","v":0},{"$f":"DataByMiles!G483*VLOOKUP(DataByMiles!AE483,DataByMiles!$AT$5:$AU$6,2,FALSE)","v":0},null,null,{"$f":"M485*$P$2*VLOOKUP(DataByMiles!AE483,DataByMiles!$AT$5:$AU$6,2,FALSE)","v":0},{"$f":"DataByMiles!H483*VLOOKUP(DataByMiles!AE483,DataByMiles!$AT$5:$AU$6,2,FALSE)","v":0},null,null,{"$f":"Q485*$T$2*VLOOKUP(DataByMiles!AE483,DataByMiles!$AT$5:$AU$6,2,FALSE)","v":0},{"$f":"DataByMiles!I483*VLOOKUP(DataByMiles!AE483,DataByMiles!$AT$5:$AU$6,2,FALSE)","v":0},null,null,{"$f":"U485*$X$2*VLOOKUP(DataByMiles!AE483,DataByMiles!$AT$5:$AU$6,2,FALSE)","v":0},{"$f":"DataByMiles!J483*VLOOKUP(DataByMiles!AE483,DataByMiles!$AT$5:$AU$6,2,FALSE)","v":0},{"$f":"DataByMiles!K483","v":0},{"$f":"DataByMiles!L483","v":0},null,null,{"$f":"(Y485/IF(Z485=0,$AD$1,Z485)*$AD$2)/IF(AA485=0,1,AA485)*VLOOKUP(DataByMiles!AE483,DataByMiles!$AT$5:$AU$6,2,FALSE)","v":0},"",0,0,{"$f":"(AF485+AG485)*VLOOKUP(DataByMiles!AE483,DataByMiles!$AT$5:$AU$6,2,FALSE)","v":0},0]
[null,{"$f":"DataByMiles!C484","v":"----480"},{"$f":"DataByMiles!E484*VLOOKUP(DataByMiles!AE484,DataByMiles!$AT$5:$AU$6,2,FALSE)","v":0},null,null,0,{"$f":"C486*$G$2*VLOOKUP(DataByMiles!AE484,DataByMiles!$AT$5:$AU$6,2,FALSE)","v":0},{"$f":"DataByMiles!F484*VLOOKUP(DataByMiles!AE484,DataByMiles!$AT$5:$AU$6,2,FALSE)","v":0},null,null,0,{"$f":"H486*$L$2*VLOOKUP(DataByMiles!AE484,DataByMiles!$AT$5:$AU$6,2,FALSE)","v":0},{"$f":"DataByMiles!G484*VLOOKUP(DataByMiles!AE484,DataByMiles!$AT$5:$AU$6,2,FALSE)","v":0},null,null,{"$f":"M486*$P$2*VLOOKUP(DataByMiles!AE484,DataByMiles!$AT$5:$AU$6,2,FALSE)","v":0},{"$f":"DataByMiles!H484*VLOOKUP(DataByMiles!AE484,DataByMiles!$AT$5:$AU$6,2,FALSE)","v":0},null,null,{"$f":"Q486*$T$2*VLOOKUP(DataByMiles!AE484,DataByMiles!$AT$5:$AU$6,2,FALSE)","v":0},{"$f":"DataByMiles!I484*VLOOKUP(DataByMiles!AE484,DataByMiles!$AT$5:$AU$6,2,FALSE)","v":0},null,null,{"$f":"U486*$X$2*VLOOKUP(DataByMiles!AE484,DataByMiles!$AT$5:$AU$6,2,FALSE)","v":0},{"$f":"DataByMiles!J484*VLOOKUP(DataByMiles!AE484,DataByMiles!$AT$5:$AU$6,2,FALSE)","v":0},{"$f":"DataByMiles!K484","v":0},{"$f":"DataByMiles!L484","v":0},null,null,{"$f":"(Y486/IF(Z486=0,$AD$1,Z486)*$AD$2)/IF(AA486=0,1,AA486)*VLOOKUP(DataByMiles!AE484,DataByMiles!$AT$5:$AU$6,2,FALSE)","v":0},"",0,0,{"$f":"(AF486+AG486)*VLOOKUP(DataByMiles!AE484,DataByMiles!$AT$5:$AU$6,2,FALSE)","v":0},0]
[null,{"$f":"DataByMiles!C485","v":"----481"},{"$f":"DataByMiles!E485*VLOOKUP(DataByMiles!AE485,DataByMiles!$AT$5:$AU$6,2,FALSE)","v":0},null,null,0,{"$f":"C487*$G$2*VLOOKUP(DataByMiles!AE485,DataByMiles!$AT$5:$AU$6,2,FALSE)","v":0},{"$f":"DataByMiles!F485*VLOOKUP(DataByMiles!AE485,DataByMiles!$AT$5:$AU$6,2,FALSE)","v":0},null,null,0,{"$f":"H487*$L$2*VLOOKUP(DataByMiles!AE485,DataByMiles!$AT$5:$AU$6,2,FALSE)","v":0},{"$f":"DataByMiles!G485*VLOOKUP(DataByMiles!AE485,DataByMiles!$AT$5:$AU$6,2,FALSE)","v":0},null,null,{"$f":"M487*$P$2*VLOOKUP(DataByMiles!AE485,DataByMiles!$AT$5:$AU$6,2,FALSE)","v":0},{"$f":"DataByMiles!H485*VLOOKUP(DataByMiles!AE485,DataByMiles!$AT$5:$AU$6,2,FALSE)","v":0},null,null,{"$f":"Q487*$T$2*VLOOKUP(DataByMiles!AE485,DataByMiles!$AT$5:$AU$6,2,FALSE)","v":0},{"$f":"DataByMiles!I485*VLOOKUP(DataByMiles!AE485,DataByMiles!$AT$5:$AU$6,2,FALSE)","v":0},null,null,{"$f":"U487*$X$2*VLOOKUP(DataByMiles!AE485,DataByMiles!$AT$5:$AU$6,2,FALSE)","v":0},{"$f":"DataByMiles!J485*VLOOKUP(DataByMiles!AE485,DataByMiles!$AT$5:$AU$6,2,FALSE)","v":0},{"$f":"DataByMiles!K485","v":0},{"$f":"DataByMiles!L485","v":0},null,null,{"$f":"(Y487/IF(Z487=0,$AD$1,Z487)*$AD$2)/IF(AA487=0,1,AA487)*VLOOKUP(DataByMiles!AE485,DataByMiles!$AT$5:$AU$6,2,FALSE)","v":0},"",0,0,{"$f":"(AF487+AG487)*VLOOKUP(DataByMiles!AE485,DataByMiles!$AT$5:$AU$6,2,FALSE)","v":0},0]
[null,{"$f":"DataByMiles!C486","v":"----482"},{"$f":"DataByMiles!E486*VLOOKUP(DataByMiles!AE486,DataByMiles!$AT$5:$AU$6,2,FALSE)","v":0},null,null,0,{"$f":"C488*$G$2*VLOOKUP(DataByMiles!AE486,DataByMiles!$AT$5:$AU$6,2,FALSE)","v":0},{"$f":"DataByMiles!F486*VLOOKUP(DataByMiles!AE486,DataByMiles!$AT$5:$AU$6,2,FALSE)","v":0},null,null,0,{"$f":"H488*$L$2*VLOOKUP(DataByMiles!AE486,DataByMiles!$AT$5:$AU$6,2,FALSE)","v":0},{"$f":"DataByMiles!G486*VLOOKUP(DataByMiles!AE486,DataByMiles!$AT$5:$AU$6,2,FALSE)","v":0},null,null,{"$f":"M488*$P$2*VLOOKUP(DataByMiles!AE486,DataByMiles!$AT$5:$AU$6,2,FALSE)","v":0},{"$f":"DataByMiles!H486*VLOOKUP(DataByMiles!AE486,DataByMiles!$AT$5:$AU$6,2,FALSE)","v":0},null,null,{"$f":"Q488*$T$2*VLOOKUP(DataByMiles!AE486,DataByMiles!$AT$5:$AU$6,2,FALSE)","v":0},{"$f":"DataByMiles!I486*VLOOKUP(DataByMiles!AE486,DataByMiles!$AT$5:$AU$6,2,FALSE)","v":0},null,null,{"$f":"U488*$X$2*VLOOKUP(DataByMiles!AE486,DataByMiles!$AT$5:$AU$6,2,FALSE)","v":0},{"$f":"DataByMiles!J486*VLOOKUP(DataByMiles!AE486,DataByMiles!$AT$5:$AU$6,2,FALSE)","v":0},{"$f":"DataByMiles!K486","v":0},{"$f":"DataByMiles!L486","v":0},null,null,{"$f":"(Y488/IF(Z488=0,$AD$1,Z488)*$AD$2)/IF(AA488=0,1,AA488)*VLOOKUP(DataByMiles!AE486,DataByMiles!$AT$5:$AU$6,2,FALSE)","v":0},"",0,0,{"$f":"(AF488+AG488)*VLOOKUP(DataByMiles!AE486,DataByMiles!$AT$5:$AU$6,2,FALSE)","v":0},0]
[null,{"$f":"DataByMiles!C487","v":"----483"},{"$f":"DataByMiles!E487*VLOOKUP(DataByMiles!AE487,DataByMiles!$AT$5:$AU$6,2,FALSE)","v":0},null,null,0,{"$f":"C489*$G$2*VLOOKUP(DataByMiles!AE487,DataByMiles!$AT$5:$AU$6,2,FALSE)","v":0},{"$f":"DataByMiles!F487*VLOOKUP(DataByMiles!AE487,DataByMiles!$AT$5:$AU$6,2,FALSE)","v":0},null,null,0,{"$f":"H489*$L$2*VLOOKUP(DataByMiles!AE487,DataByMiles!$AT$5:$AU$6,2,FALSE)","v":0},{"$f":"DataByMiles!G487*VLOOKUP(DataByMiles!AE487,DataByMiles!$AT$5:$AU$6,2,FALSE)","v":0},null,null,{"$f":"M489*$P$2*VLOOKUP(DataByMiles!AE487,DataByMiles!$AT$5:$AU$6,2,FALSE)","v":0},{"$f":"DataByMiles!H487*VLOOKUP(DataByMiles!AE487,DataByMiles!$AT$5:$AU$6,2,FALSE)","v":0},null,null,{"$f":"Q489*$T$2*VLOOKUP(DataByMiles!AE487,DataByMiles!$AT$5:$AU$6,2,FALSE)","v":0},{"$f":"DataByMiles!I487*VLOOKUP(DataByMiles!AE487,DataByMiles!$AT$5:$AU$6,2,FALSE)","v":0},null,null,{"$f":"U489*$X$2*VLOOKUP(DataByMiles!AE487,DataByMiles!$AT$5:$AU$6,2,FALSE)","v":0},{"$f":"DataByMiles!J487*VLOOKUP(DataByMiles!AE487,DataByMiles!$AT$5:$AU$6,2,FALSE)","v":0},{"$f":"DataByMiles!K487","v":0},{"$f":"DataByMiles!L487","v":0},null,null,{"$f":"(Y489/IF(Z489=0,$AD$1,Z489)*$AD$2)/IF(AA489=0,1,AA489)*VLOOKUP(DataByMiles!AE487,DataByMiles!$AT$5:$AU$6,2,FALSE)","v":0},"",0,0,{"$f":"(AF489+AG489)*VLOOKUP(DataByMiles!AE487,DataByMiles!$AT$5:$AU$6,2,FALSE)","v":0},0]
[null,{"$f":"DataByMiles!C488","v":"----484"},{"$f":"DataByMiles!E488*VLOOKUP(DataByMiles!AE488,DataByMiles!$AT$5:$AU$6,2,FALSE)","v":0},null,null,0,{"$f":"C490*$G$2*VLOOKUP(DataByMiles!AE488,DataByMiles!$AT$5:$AU$6,2,FALSE)","v":0},{"$f":"DataByMiles!F488*VLOOKUP(DataByMiles!AE488,DataByMiles!$AT$5:$AU$6,2,FALSE)","v":0},null,null,0,{"$f":"H490*$L$2*VLOOKUP(DataByMiles!AE488,DataByMiles!$AT$5:$AU$6,2,FALSE)","v":0},{"$f":"DataByMiles!G488*VLOOKUP(DataByMiles!AE488,DataByMiles!$AT$5:$AU$6,2,FALSE)","v":0},null,null,{"$f":"M490*$P$2*VLOOKUP(DataByMiles!AE488,DataByMiles!$AT$5:$AU$6,2,FALSE)","v":0},{"$f":"DataByMiles!H488*VLOOKUP(DataByMiles!AE488,DataByMiles!$AT$5:$AU$6,2,FALSE)","v":0},null,null,{"$f":"Q490*$T$2*VLOOKUP(DataByMiles!AE488,DataByMiles!$AT$5:$AU$6,2,FALSE)","v":0},{"$f":"DataByMiles!I488*VLOOKUP(DataByMiles!AE488,DataByMiles!$AT$5:$AU$6,2,FALSE)","v":0},null,null,{"$f":"U490*$X$2*VLOOKUP(DataByMiles!AE488,DataByMiles!$AT$5:$AU$6,2,FALSE)","v":0},{"$f":"DataByMiles!J488*VLOOKUP(DataByMiles!AE488,DataByMiles!$AT$5:$AU$6,2,FALSE)","v":0},{"$f":"DataByMiles!K488","v":0},{"$f":"DataByMiles!L488","v":0},null,null,{"$f":"(Y490/IF(Z490=0,$AD$1,Z490)*$AD$2)/IF(AA490=0,1,AA490)*VLOOKUP(DataByMiles!AE488,DataByMiles!$AT$5:$AU$6,2,FALSE)","v":0},"",0,0,{"$f":"(AF490+AG490)*VLOOKUP(DataByMiles!AE488,DataByMiles!$AT$5:$AU$6,2,FALSE)","v":0},0]
[null,{"$f":"DataByMiles!C489","v":"----485"},{"$f":"DataByMiles!E489*VLOOKUP(DataByMiles!AE489,DataByMiles!$AT$5:$AU$6,2,FALSE)","v":0},null,null,0,{"$f":"C491*$G$2*VLOOKUP(DataByMiles!AE489,DataByMiles!$AT$5:$AU$6,2,FALSE)","v":0},{"$f":"DataByMiles!F489*VLOOKUP(DataByMiles!AE489,DataByMiles!$AT$5:$AU$6,2,FALSE)","v":0},null,null,0,{"$f":"H491*$L$2*VLOOKUP(DataByMiles!AE489,DataByMiles!$AT$5:$AU$6,2,FALSE)","v":0},{"$f":"DataByMiles!G489*VLOOKUP(DataByMiles!AE489,DataByMiles!$AT$5:$AU$6,2,FALSE)","v":0},null,null,{"$f":"M491*$P$2*VLOOKUP(DataByMiles!AE489,DataByMiles!$AT$5:$AU$6,2,FALSE)","v":0},{"$f":"DataByMiles!H489*VLOOKUP(DataByMiles!AE489,DataByMiles!$AT$5:$AU$6,2,FALSE)","v":0},null,null,{"$f":"Q491*$T$2*VLOOKUP(DataByMiles!AE489,DataByMiles!$AT$5:$AU$6,2,FALSE)","v":0},{"$f":"DataByMiles!I489*VLOOKUP(DataByMiles!AE489,DataByMiles!$AT$5:$AU$6,2,FALSE)","v":0},null,null,{"$f":"U491*$X$2*VLOOKUP(DataByMiles!AE489,DataByMiles!$AT$5:$AU$6,2,FALSE)","v":0},{"$f":"DataByMiles!J489*VLOOKUP(DataByMiles!AE489,DataByMiles!$AT$5:$AU$6,2,FALSE)","v":0},{"$f":"DataByMiles!K489","v":0},{"$f":"DataByMiles!L489","v":0},null,null,{"$f":"(Y491/IF(Z491=0,$AD$1,Z491)*$AD$2)/IF(AA491=0,1,AA491)*VLOOKUP(DataByMiles!AE489,DataByMiles!$AT$5:$AU$6,2,FALSE)","v":0},"",0,0,{"$f":"(AF491+AG491)*VLOOKUP(DataByMiles!AE489,DataByMiles!$AT$5:$AU$6,2,FALSE)","v":0},0]
[null,{"$f":"DataByMiles!C490","v":"----486"},{"$f":"DataByMiles!E490*VLOOKUP(DataByMiles!AE490,DataByMiles!$AT$5:$AU$6,2,FALSE)","v":0},null,null,0,{"$f":"C492*$G$2*VLOOKUP(DataByMiles!AE490,DataByMiles!$AT$5:$AU$6,2,FALSE)","v":0},{"$f":"DataByMiles!F490*VLOOKUP(DataByMiles!AE490,DataByMiles!$AT$5:$AU$6,2,FALSE)","v":0},null,null,0,{"$f":"H492*$L$2*VLOOKUP(DataByMiles!AE490,DataByMiles!$AT$5:$AU$6,2,FALSE)","v":0},{"$f":"DataByMiles!G490*VLOOKUP(DataByMiles!AE490,DataByMiles!$AT$5:$AU$6,2,FALSE)","v":0},null,null,{"$f":"M492*$P$2*VLOOKUP(DataByMiles!AE490,DataByMiles!$AT$5:$AU$6,2,FALSE)","v":0},{"$f":"DataByMiles!H490*VLOOKUP(DataByMiles!AE490,DataByMiles!$AT$5:$AU$6,2,FALSE)","v":0},null,null,{"$f":"Q492*$T$2*VLOOKUP(DataByMiles!AE490,DataByMiles!$AT$5:$AU$6,2,FALSE)","v":0},{"$f":"DataByMiles!I490*VLOOKUP(DataByMiles!AE490,DataByMiles!$AT$5:$AU$6,2,FALSE)","v":0},null,null,{"$f":"U492*$X$2*VLOOKUP(DataByMiles!AE490,DataByMiles!$AT$5:$AU$6,2,FALSE)","v":0},{"$f":"DataByMiles!J490*VLOOKUP(DataByMiles!AE490,DataByMiles!$AT$5:$AU$6,2,FALSE)","v":0},{"$f":"DataByMiles!K490","v":0},{"$f":"DataByMiles!L490","v":0},null,null,{"$f":"(Y492/IF(Z492=0,$AD$1,Z492)*$AD$2)/IF(AA492=0,1,AA492)*VLOOKUP(DataByMiles!AE490,DataByMiles!$AT$5:$AU$6,2,FALSE)","v":0},"",0,0,{"$f":"(AF492+AG492)*VLOOKUP(DataByMiles!AE490,DataByMiles!$AT$5:$AU$6,2,FALSE)","v":0},0]
[null,{"$f":"DataByMiles!C491","v":"----487"},{"$f":"DataByMiles!E491*VLOOKUP(DataByMiles!AE491,DataByMiles!$AT$5:$AU$6,2,FALSE)","v":0},null,null,0,{"$f":"C493*$G$2*VLOOKUP(DataByMiles!AE491,DataByMiles!$AT$5:$AU$6,2,FALSE)","v":0},{"$f":"DataByMiles!F491*VLOOKUP(DataByMiles!AE491,DataByMiles!$AT$5:$AU$6,2,FALSE)","v":0},null,null,0,{"$f":"H493*$L$2*VLOOKUP(DataByMiles!AE491,DataByMiles!$AT$5:$AU$6,2,FALSE)","v":0},{"$f":"DataByMiles!G491*VLOOKUP(DataByMiles!AE491,DataByMiles!$AT$5:$AU$6,2,FALSE)","v":0},null,null,{"$f":"M493*$P$2*VLOOKUP(DataByMiles!AE491,DataByMiles!$AT$5:$AU$6,2,FALSE)","v":0},{"$f":"DataByMiles!H491*VLOOKUP(DataByMiles!AE491,DataByMiles!$AT$5:$AU$6,2,FALSE)","v":0},null,null,{"$f":"Q493*$T$2*VLOOKUP(DataByMiles!AE491,DataByMiles!$AT$5:$AU$6,2,FALSE)","v":0},{"$f":"DataByMiles!I491*VLOOKUP(DataByMiles!AE491,DataByMiles!$AT$5:$AU$6,2,FALSE)","v":0},null,null,{"$f":"U493*$X$2*VLOOKUP(DataByMiles!AE491,DataByMiles!$AT$5:$AU$6,2,FALSE)","v":0},{"$f":"DataByMiles!J491*VLOOKUP(DataByMiles!AE491,DataByMiles!$AT$5:$AU$6,2,FALSE)","v":0},{"$f":"DataByMiles!K491","v":0},{"$f":"DataByMiles!L491","v":0},null,null,{"$f":"(Y493/IF(Z493=0,$AD$1,Z493)*$AD$2)/IF(AA493=0,1,AA493)*VLOOKUP(DataByMiles!AE491,DataByMiles!$AT$5:$AU$6,2,FALSE)","v":0},"",0,0,{"$f":"(AF493+AG493)*VLOOKUP(DataByMiles!AE491,DataByMiles!$AT$5:$AU$6,2,FALSE)","v":0},0]
[null,{"$f":"DataByMiles!C492","v":"----488"},{"$f":"DataByMiles!E492*VLOOKUP(DataByMiles!AE492,DataByMiles!$AT$5:$AU$6,2,FALSE)","v":0},null,null,{"$f":"C494*$F$2","v":0},{"$f":"C494*$G$2*VLOOKUP(DataByMiles!AE492,DataByMiles!$AT$5:$AU$6,2,FALSE)","v":0},{"$f":"DataByMiles!F492*VLOOKUP(DataByMiles!AE492,DataByMiles!$AT$5:$AU$6,2,FALSE)","v":0},null,null,{"$f":"H494*$K$2","v":0},{"$f":"H494*$L$2*VLOOKUP(DataByMiles!AE492,DataByMiles!$AT$5:$AU$6,2,FALSE)","v":0},{"$f":"DataByMiles!G492*VLOOKUP(DataByMiles!AE492,DataByMiles!$AT$5:$AU$6,2,FALSE)","v":0},null,null,{"$f":"M494*$P$2*VLOOKUP(DataByMiles!AE492,DataByMiles!$AT$5:$AU$6,2,FALSE)","v":0},{"$f":"DataByMiles!H492*VLOOKUP(DataByMiles!AE492,DataByMiles!$AT$5:$AU$6,2,FALSE)","v":0},null,null,{"$f":"Q494*$T$2*VLOOKUP(DataByMiles!AE492,DataByMiles!$AT$5:$AU$6,2,FALSE)","v":0},{"$f":"DataByMiles!I492*VLOOKUP(DataByMiles!AE492,DataByMiles!$AT$5:$AU$6,2,FALSE)","v":0},null,null,{"$f":"U494*$X$2*VLOOKUP(DataByMiles!AE492,DataByMiles!$AT$5:$AU$6,2,FALSE)","v":0},{"$f":"DataByMiles!J492*VLOOKUP(DataByMiles!AE492,DataByMiles!$AT$5:$AU$6,2,FALSE)","v":0},{"$f":"DataByMiles!K492","v":0},{"$f":"DataByMiles!L492","v":0},null,null,{"$f":"(Y494/IF(Z494=0,$AD$1,Z494)*$AD$2)/IF(AA494=0,1,AA494)*VLOOKUP(DataByMiles!AE492,DataByMiles!$AT$5:$AU$6,2,FALSE)","v":0},{"$f":"IF(C494+H494+M494+Q494+U494+Y494>0,C494+H494+M494+Q494+U494+Y494,\"\")","v":""},{"$f":"F494+K494+P494+T494+X494+AD494","v":0},{"$f":"G494+L494","v":0},{"$f":"(AF494+AG494)*VLOOKUP(DataByMiles!AE492,DataByMiles!$AT$5:$AU$6,2,FALSE)","v":0},{"$f":"IFERROR(AH494/AE494,0)","v":0}]
[null,{"$f":"DataByMiles!C493","v":"----489"},{"$f":"DataByMiles!E493*VLOOKUP(DataByMiles!AE493,DataByMiles!$AT$5:$AU$6,2,FALSE)","v":0},null,null,0,{"$f":"C495*$G$2*VLOOKUP(DataByMiles!AE493,DataByMiles!$AT$5:$AU$6,2,FALSE)","v":0},{"$f":"DataByMiles!F493*VLOOKUP(DataByMiles!AE493,DataByMiles!$AT$5:$AU$6,2,FALSE)","v":0},null,null,0,{"$f":"H495*$L$2*VLOOKUP(DataByMiles!AE493,DataByMiles!$AT$5:$AU$6,2,FALSE)","v":0},{"$f":"DataByMiles!G493*VLOOKUP(DataByMiles!AE493,DataByMiles!$AT$5:$AU$6,2,FALSE)","v":0},null,null,{"$f":"M495*$P$2*VLOOKUP(DataByMiles!AE493,DataByMiles!$AT$5:$AU$6,2,FALSE)","v":0},{"$f":"DataByMiles!H493*VLOOKUP(DataByMiles!AE493,DataByMiles!$AT$5:$AU$6,2,FALSE)","v":0},null,null,{"$f":"Q495*$T$2*VLOOKUP(DataByMiles!AE493,DataByMiles!$AT$5:$AU$6,2,FALSE)","v":0},{"$f":"DataByMiles!I493*VLOOKUP(DataByMiles!AE493,DataByMiles!$AT$5:$AU$6,2,FALSE)","v":0},null,null,{"$f":"U495*$X$2*VLOOKUP(DataByMiles!AE493,DataByMiles!$AT$5:$AU$6,2,FALSE)","v":0},{"$f":"DataByMiles!J493*VLOOKUP(DataByMiles!AE493,DataByMiles!$AT$5:$AU$6,2,FALSE)","v":0},{"$f":"DataByMiles!K493","v":0},{"$f":"DataByMiles!L493","v":0},null,null,{"$f":"(Y495/IF(Z495=0,$AD$1,Z495)*$AD$2)/IF(AA495=0,1,AA495)*VLOOKUP(DataByMiles!AE493,DataByMiles!$AT$5:$AU$6,2,FALSE)","v":0},"",0,0,{"$f":"(AF495+AG495)*VLOOKUP(DataByMiles!AE493,DataByMiles!$AT$5:$AU$6,2,FALSE)","v":0},0]
[null,{"$f":"DataByMiles!C494","v":"----490"},{"$f":"DataByMiles!E494*VLOOKUP(DataByMiles!AE494,DataByMiles!$AT$5:$AU$6,2,FALSE)","v":0},null,null,0,{"$f":"C496*$G$2*VLOOKUP(DataByMiles!AE494,DataByMiles!$AT$5:$AU$6,2,FALSE)","v":0},{"$f":"DataByMiles!F494*VLOOKUP(DataByMiles!AE494,DataByMiles!$AT$5:$AU$6,2,FALSE)","v":0},null,null,0,{"$f":"H496*$L$2*VLOOKUP(DataByMiles!AE494,DataByMiles!$AT$5:$AU$6,2,FALSE)","v":0},{"$f":"DataByMiles!G494*VLOOKUP(DataByMiles!AE494,DataByMiles!$AT$5:$AU$6,2,FALSE)","v":0},null,null,{"$f":"M496*$P$2*VLOOKUP(DataByMiles!AE494,DataByMiles!$AT$5:$AU$6,2,FALSE)","v":0},{"$f":"DataByMiles!H494*VLOOKUP(DataByMiles!AE494,DataByMiles!$AT$5:$AU$6,2,FALSE)","v":0},null,null,{"$f":"Q496*$T$2*VLOOKUP(DataByMiles!AE494,DataByMiles!$AT$5:$AU$6,2,FALSE)","v":0},{"$f":"DataByMiles!I494*VLOOKUP(DataByMiles!AE494,DataByMiles!$AT$5:$AU$6,2,FALSE)","v":0},null,null,{"$f":"U496*$X$2*VLOOKUP(DataByMiles!AE494,DataByMiles!$AT$5:$AU$6,2,FALSE)","v":0},{"$f":"DataByMiles!J494*VLOOKUP(DataByMiles!AE494,DataByMiles!$AT$5:$AU$6,2,FALSE)","v":0},{"$f":"DataByMiles!K494","v":0},{"$f":"DataByMiles!L494","v":0},null,null,{"$f":"(Y496/IF(Z496=0,$AD$1,Z496)*$AD$2)/IF(AA496=0,1,AA496)*VLOOKUP(DataByMiles!AE494,DataByMiles!$AT$5:$AU$6,2,FALSE)","v":0},"",0,0,{"$f":"(AF496+AG496)*VLOOKUP(DataByMiles!AE494,DataByMiles!$AT$5:$AU$6,2,FALSE)","v":0},0]
[null,{"$f":"DataByMiles!C495","v":"----491"},{"$f":"DataByMiles!E495*VLOOKUP(DataByMiles!AE495,DataByMiles!$AT$5:$AU$6,2,FALSE)","v":0},null,null,0,{"$f":"C497*$G$2*VLOOKUP(DataByMiles!AE495,DataByMiles!$AT$5:$AU$6,2,FALSE)","v":0},{"$f":"DataByMiles!F495*VLOOKUP(DataByMiles!AE495,DataByMiles!$AT$5:$AU$6,2,FALSE)","v":0},null,null,0,{"$f":"H497*$L$2*VLOOKUP(DataByMiles!AE495,DataByMiles!$AT$5:$AU$6,2,FALSE)","v":0},{"$f":"DataByMiles!G495*VLOOKUP(DataByMiles!AE495,DataByMiles!$AT$5:$AU$6,2,FALSE)","v":0},null,null,{"$f":"M497*$P$2*VLOOKUP(DataByMiles!AE495,DataByMiles!$AT$5:$AU$6,2,FALSE)","v":0},{"$f":"DataByMiles!H495*VLOOKUP(DataByMiles!AE495,DataByMiles!$AT$5:$AU$6,2,FALSE)","v":0},null,null,{"$f":"Q497*$T$2*VLOOKUP(DataByMiles!AE495,DataByMiles!$AT$5:$AU$6,2,FALSE)","v":0},{"$f":"DataByMiles!I495*VLOOKUP(DataByMiles!AE495,DataByMiles!$AT$5:$AU$6,2,FALSE)","v":0},null,null,{"$f":"U497*$X$2*VLOOKUP(DataByMiles!AE495,DataByMiles!$AT$5:$AU$6,2,FALSE)","v":0},{"$f":"DataByMiles!J495*VLOOKUP(DataByMiles!AE495,DataByMiles!$AT$5:$AU$6,2,FALSE)","v":0},{"$f":"DataByMiles!K495","v":0},{"$f":"DataByMiles!L495","v":0},null,null,{"$f":"(Y497/IF(Z497=0,$AD$1,Z497)*$AD$2)/IF(AA497=0,1,AA497)*VLOOKUP(DataByMiles!AE495,DataByMiles!$AT$5:$AU$6,2,FALSE)","v":0},"",0,0,{"$f":"(AF497+AG497)*VLOOKUP(DataByMiles!AE495,DataByMiles!$AT$5:$AU$6,2,FALSE)","v":0},0]
[null,{"$f":"DataByMiles!C496","v":"----492"},{"$f":"DataByMiles!E496*VLOOKUP(DataByMiles!AE496,DataByMiles!$AT$5:$AU$6,2,FALSE)","v":0},null,null,0,{"$f":"C498*$G$2*VLOOKUP(DataByMiles!AE496,DataByMiles!$AT$5:$AU$6,2,FALSE)","v":0},{"$f":"DataByMiles!F496*VLOOKUP(DataByMiles!AE496,DataByMiles!$AT$5:$AU$6,2,FALSE)","v":0},null,null,0,{"$f":"H498*$L$2*VLOOKUP(DataByMiles!AE496,DataByMiles!$AT$5:$AU$6,2,FALSE)","v":0},{"$f":"DataByMiles!G496*VLOOKUP(DataByMiles!AE496,DataByMiles!$AT$5:$AU$6,2,FALSE)","v":0},null,null,{"$f":"M498*$P$2*VLOOKUP(DataByMiles!AE496,DataByMiles!$AT$5:$AU$6,2,FALSE)","v":0},{"$f":"DataByMiles!H496*VLOOKUP(DataByMiles!AE496,DataByMiles!$AT$5:$AU$6,2,FALSE)","v":0},null,null,{"$f":"Q498*$T$2*VLOOKUP(DataByMiles!AE496,DataByMiles!$AT$5:$AU$6,2,FALSE)","v":0},{"$f":"DataByMiles!I496*VLOOKUP(DataByMiles!AE496,DataByMiles!$AT$5:$AU$6,2,FALSE)","v":0},null,null,{"$f":"U498*$X$2*VLOOKUP(DataByMiles!AE496,DataByMiles!$AT$5:$AU$6,2,FALSE)","v":0},{"$f":"DataByMiles!J496*VLOOKUP(DataByMiles!AE496,DataByMiles!$AT$5:$AU$6,2,FALSE)","v":0},{"$f":"DataByMiles!K496","v":0},{"$f":"DataByMiles!L496","v":0},null,null,{"$f":"(Y498/IF(Z498=0,$AD$1,Z498)*$AD$2)/IF(AA498=0,1,AA498)*VLOOKUP(DataByMiles!AE496,DataByMiles!$AT$5:$AU$6,2,FALSE)","v":0},"",0,0,{"$f":"(AF498+AG498)*VLOOKUP(DataByMiles!AE496,DataByMiles!$AT$5:$AU$6,2,FALSE)","v":0},0]
[null,{"$f":"DataByMiles!C497","v":"----493"},{"$f":"DataByMiles!E497*VLOOKUP(DataByMiles!AE497,DataByMiles!$AT$5:$AU$6,2,FALSE)","v":0},null,null,0,{"$f":"C499*$G$2*VLOOKUP(DataByMiles!AE497,DataByMiles!$AT$5:$AU$6,2,FALSE)","v":0},{"$f":"DataByMiles!F497*VLOOKUP(DataByMiles!AE497,DataByMiles!$AT$5:$AU$6,2,FALSE)","v":0},null,null,0,{"$f":"H499*$L$2*VLOOKUP(DataByMiles!AE497,DataByMiles!$AT$5:$AU$6,2,FALSE)","v":0},{"$f":"DataByMiles!G497*VLOOKUP(DataByMiles!AE497,DataByMiles!$AT$5:$AU$6,2,FALSE)","v":0},null,null,{"$f":"M499*$P$2*VLOOKUP(DataByMiles!AE497,DataByMiles!$AT$5:$AU$6,2,FALSE)","v":0},{"$f":"DataByMiles!H497*VLOOKUP(DataByMiles!AE497,DataByMiles!$AT$5:$AU$6,2,FALSE)","v":0},null,null,{"$f":"Q499*$T$2*VLOOKUP(DataByMiles!AE497,DataByMiles!$AT$5:$AU$6,2,FALSE)","v":0},{"$f":"DataByMiles!I497*VLOOKUP(DataByMiles!AE497,DataByMiles!$AT$5:$AU$6,2,FALSE)","v":0},null,null,{"$f":"U499*$X$2*VLOOKUP(DataByMiles!AE497,DataByMiles!$AT$5:$AU$6,2,FALSE)","v":0},{"$f":"DataByMiles!J497*VLOOKUP(DataByMiles!AE497,DataByMiles!$AT$5:$AU$6,2,FALSE)","v":0},{"$f":"DataByMiles!K497","v":0},{"$f":"DataByMiles!L497","v":0},null,null,{"$f":"(Y499/IF(Z499=0,$AD$1,Z499)*$AD$2)/IF(AA499=0,1,AA499)*VLOOKUP(DataByMiles!AE497,DataByMiles!$AT$5:$AU$6,2,FALSE)","v":0},"",0,0,{"$f":"(AF499+AG499)*VLOOKUP(DataByMiles!AE497,DataByMiles!$AT$5:$AU$6,2,FALSE)","v":0},0]
[null,{"$f":"DataByMiles!C498","v":"----494"},{"$f":"DataByMiles!E498*VLOOKUP(DataByMiles!AE498,DataByMiles!$AT$5:$AU$6,2,FALSE)","v":0},null,null,0,{"$f":"C500*$G$2*VLOOKUP(DataByMiles!AE498,DataByMiles!$AT$5:$AU$6,2,FALSE)","v":0},{"$f":"DataByMiles!F498*VLOOKUP(DataByMiles!AE498,DataByMiles!$AT$5:$AU$6,2,FALSE)","v":0},null,null,0,{"$f":"H500*$L$2*VLOOKUP(DataByMiles!AE498,DataByMiles!$AT$5:$AU$6,2,FALSE)","v":0},{"$f":"DataByMiles!G498*VLOOKUP(DataByMiles!AE498,DataByMiles!$AT$5:$AU$6,2,FALSE)","v":0},null,null,{"$f":"M500*$P$2*VLOOKUP(DataByMiles!AE498,DataByMiles!$AT$5:$AU$6,2,FALSE)","v":0},{"$f":"DataByMiles!H498*VLOOKUP(DataByMiles!AE498,DataByMiles!$AT$5:$AU$6,2,FALSE)","v":0},null,null,{"$f":"Q500*$T$2*VLOOKUP(DataByMiles!AE498,DataByMiles!$AT$5:$AU$6,2,FALSE)","v":0},{"$f":"DataByMiles!I498*VLOOKUP(DataByMiles!AE498,DataByMiles!$AT$5:$AU$6,2,FALSE)","v":0},null,null,{"$f":"U500*$X$2*VLOOKUP(DataByMiles!AE498,DataByMiles!$AT$5:$AU$6,2,FALSE)","v":0},{"$f":"DataByMiles!J498*VLOOKUP(DataByMiles!AE498,DataByMiles!$AT$5:$AU$6,2,FALSE)","v":0},{"$f":"DataByMiles!K498","v":0},{"$f":"DataByMiles!L498","v":0},null,null,{"$f":"(Y500/IF(Z500=0,$AD$1,Z500)*$AD$2)/IF(AA500=0,1,AA500)*VLOOKUP(DataByMiles!AE498,DataByMiles!$AT$5:$AU$6,2,FALSE)","v":0},"",0,0,{"$f":"(AF500+AG500)*VLOOKUP(DataByMiles!AE498,DataByMiles!$AT$5:$AU$6,2,FALSE)","v":0},0]
[null,{"$f":"DataByMiles!C499","v":"----495"},{"$f":"DataByMiles!E499*VLOOKUP(DataByMiles!AE499,DataByMiles!$AT$5:$AU$6,2,FALSE)","v":0},null,null,0,{"$f":"C501*$G$2*VLOOKUP(DataByMiles!AE499,DataByMiles!$AT$5:$AU$6,2,FALSE)","v":0},{"$f":"DataByMiles!F499*VLOOKUP(DataByMiles!AE499,DataByMiles!$AT$5:$AU$6,2,FALSE)","v":0},null,null,0,{"$f":"H501*$L$2*VLOOKUP(DataByMiles!AE499,DataByMiles!$AT$5:$AU$6,2,FALSE)","v":0},{"$f":"DataByMiles!G499*VLOOKUP(DataByMiles!AE499,DataByMiles!$AT$5:$AU$6,2,FALSE)","v":0},null,null,{"$f":"M501*$P$2*VLOOKUP(DataByMiles!AE499,DataByMiles!$AT$5:$AU$6,2,FALSE)","v":0},{"$f":"DataByMiles!H499*VLOOKUP(DataByMiles!AE499,DataByMiles!$AT$5:$AU$6,2,FALSE)","v":0},null,null,{"$f":"Q501*$T$2*VLOOKUP(DataByMiles!AE499,DataByMiles!$AT$5:$AU$6,2,FALSE)","v":0},{"$f":"DataByMiles!I499*VLOOKUP(DataByMiles!AE499,DataByMiles!$AT$5:$AU$6,2,FALSE)","v":0},null,null,{"$f":"U501*$X$2*VLOOKUP(DataByMiles!AE499,DataByMiles!$AT$5:$AU$6,2,FALSE)","v":0},{"$f":"DataByMiles!J499*VLOOKUP(DataByMiles!AE499,DataByMiles!$AT$5:$AU$6,2,FALSE)","v":0},{"$f":"DataByMiles!K499","v":0},{"$f":"DataByMiles!L499","v":0},null,null,{"$f":"(Y501/IF(Z501=0,$AD$1,Z501)*$AD$2)/IF(AA501=0,1,AA501)*VLOOKUP(DataByMiles!AE499,DataByMiles!$AT$5:$AU$6,2,FALSE)","v":0},"",0,0,{"$f":"(AF501+AG501)*VLOOKUP(DataByMiles!AE499,DataByMiles!$AT$5:$AU$6,2,FALSE)","v":0},0]
[null,{"$f":"DataByMiles!C500","v":"----496"},{"$f":"DataByMiles!E500*VLOOKUP(DataByMiles!AE500,DataByMiles!$AT$5:$AU$6,2,FALSE)","v":0},null,null,0,{"$f":"C502*$G$2*VLOOKUP(DataByMiles!AE500,DataByMiles!$AT$5:$AU$6,2,FALSE)","v":0},{"$f":"DataByMiles!F500*VLOOKUP(DataByMiles!AE500,DataByMiles!$AT$5:$AU$6,2,FALSE)","v":0},null,null,0,{"$f":"H502*$L$2*VLOOKUP(DataByMiles!AE500,DataByMiles!$AT$5:$AU$6,2,FALSE)","v":0},{"$f":"DataByMiles!G500*VLOOKUP(DataByMiles!AE500,DataByMiles!$AT$5:$AU$6,2,FALSE)","v":0},null,null,{"$f":"M502*$P$2*VLOOKUP(DataByMiles!AE500,DataByMiles!$AT$5:$AU$6,2,FALSE)","v":0},{"$f":"DataByMiles!H500*VLOOKUP(DataByMiles!AE500,DataByMiles!$AT$5:$AU$6,2,FALSE)","v":0},null,null,{"$f":"Q502*$T$2*VLOOKUP(DataByMiles!AE500,DataByMiles!$AT$5:$AU$6,2,FALSE)","v":0},{"$f":"DataByMiles!I500*VLOOKUP(DataByMiles!AE500,DataByMiles!$AT$5:$AU$6,2,FALSE)","v":0},null,null,{"$f":"U502*$X$2*VLOOKUP(DataByMiles!AE500,DataByMiles!$AT$5:$AU$6,2,FALSE)","v":0},{"$f":"DataByMiles!J500*VLOOKUP(DataByMiles!AE500,DataByMiles!$AT$5:$AU$6,2,FALSE)","v":0},{"$f":"DataByMiles!K500","v":0},{"$f":"DataByMiles!L500","v":0},null,null,{"$f":"(Y502/IF(Z502=0,$AD$1,Z502)*$AD$2)/IF(AA502=0,1,AA502)*VLOOKUP(DataByMiles!AE500,DataByMiles!$AT$5:$AU$6,2,FALSE)","v":0},"",0,0,{"$f":"(AF502+AG502)*VLOOKUP(DataByMiles!AE500,DataByMiles!$AT$5:$AU$6,2,FALSE)","v":0},0]
[null,{"$f":"DataByMiles!C501","v":"----497"},{"$f":"DataByMiles!E501*VLOOKUP(DataByMiles!AE501,DataByMiles!$AT$5:$AU$6,2,FALSE)","v":0},null,null,0,{"$f":"C503*$G$2*VLOOKUP(DataByMiles!AE501,DataByMiles!$AT$5:$AU$6,2,FALSE)","v":0},{"$f":"DataByMiles!F501*VLOOKUP(DataByMiles!AE501,DataByMiles!$AT$5:$AU$6,2,FALSE)","v":0},null,null,0,{"$f":"H503*$L$2*VLOOKUP(DataByMiles!AE501,DataByMiles!$AT$5:$AU$6,2,FALSE)","v":0},{"$f":"DataByMiles!G501*VLOOKUP(DataByMiles!AE501,DataByMiles!$AT$5:$AU$6,2,FALSE)","v":0},null,null,{"$f":"M503*$P$2*VLOOKUP(DataByMiles!AE501,DataByMiles!$AT$5:$AU$6,2,FALSE)","v":0},{"$f":"DataByMiles!H501*VLOOKUP(DataByMiles!AE501,DataByMiles!$AT$5:$AU$6,2,FALSE)","v":0},null,null,{"$f":"Q503*$T$2*VLOOKUP(DataByMiles!AE501,DataByMiles!$AT$5:$AU$6,2,FALSE)","v":0},{"$f":"DataByMiles!I501*VLOOKUP(DataByMiles!AE501,DataByMiles!$AT$5:$AU$6,2,FALSE)","v":0},null,null,{"$f":"U503*$X$2*VLOOKUP(DataByMiles!AE501,DataByMiles!$AT$5:$AU$6,2,FALSE)","v":0},{"$f":"DataByMiles!J501*VLOOKUP(DataByMiles!AE501,DataByMiles!$AT$5:$AU$6,2,FALSE)","v":0},{"$f":"DataByMiles!K501","v":0},{"$f":"DataByMiles!L501","v":0},null,null,{"$f":"(Y503/IF(Z503=0,$AD$1,Z503)*$AD$2)/IF(AA503=0,1,AA503)*VLOOKUP(DataByMiles!AE501,DataByMiles!$AT$5:$AU$6,2,FALSE)","v":0},"",0,0,{"$f":"(AF503+AG503)*VLOOKUP(DataByMiles!AE501,DataByMiles!$AT$5:$AU$6,2,FALSE)","v":0},0]
[null,{"$f":"DataByMiles!C502","v":"----498"},{"$f":"DataByMiles!E502*VLOOKUP(DataByMiles!AE502,DataByMiles!$AT$5:$AU$6,2,FALSE)","v":0},null,null,0,{"$f":"C504*$G$2*VLOOKUP(DataByMiles!AE502,DataByMiles!$AT$5:$AU$6,2,FALSE)","v":0},{"$f":"DataByMiles!F502*VLOOKUP(DataByMiles!AE502,DataByMiles!$AT$5:$AU$6,2,FALSE)","v":0},null,null,0,{"$f":"H504*$L$2*VLOOKUP(DataByMiles!AE502,DataByMiles!$AT$5:$AU$6,2,FALSE)","v":0},{"$f":"DataByMiles!G502*VLOOKUP(DataByMiles!AE502,DataByMiles!$AT$5:$AU$6,2,FALSE)","v":0},null,null,{"$f":"M504*$P$2*VLOOKUP(DataByMiles!AE502,DataByMiles!$AT$5:$AU$6,2,FALSE)","v":0},{"$f":"DataByMiles!H502*VLOOKUP(DataByMiles!AE502,DataByMiles!$AT$5:$AU$6,2,FALSE)","v":0},null,null,{"$f":"Q504*$T$2*VLOOKUP(DataByMiles!AE502,DataByMiles!$AT$5:$AU$6,2,FALSE)","v":0},{"$f":"DataByMiles!I502*VLOOKUP(DataByMiles!AE502,DataByMiles!$AT$5:$AU$6,2,FALSE)","v":0},null,null,{"$f":"U504*$X$2*VLOOKUP(DataByMiles!AE502,DataByMiles!$AT$5:$AU$6,2,FALSE)","v":0},{"$f":"DataByMiles!J502*VLOOKUP(DataByMiles!AE502,DataByMiles!$AT$5:$AU$6,2,FALSE)","v":0},{"$f":"DataByMiles!K502","v":0},{"$f":"DataByMiles!L502","v":0},null,null,{"$f":"(Y504/IF(Z504=0,$AD$1,Z504)*$AD$2)/IF(AA504=0,1,AA504)*VLOOKUP(DataByMiles!AE502,DataByMiles!$AT$5:$AU$6,2,FALSE)","v":0},"",0,0,{"$f":"(AF504+AG504)*VLOOKUP(DataByMiles!AE502,DataByMiles!$AT$5:$AU$6,2,FALSE)","v":0},0]
[null,{"$f":"DataByMiles!C503","v":"----499"},{"$f":"DataByMiles!E503*VLOOKUP(DataByMiles!AE503,DataByMiles!$AT$5:$AU$6,2,FALSE)","v":0},null,null,0,{"$f":"C505*$G$2*VLOOKUP(DataByMiles!AE503,DataByMiles!$AT$5:$AU$6,2,FALSE)","v":0},{"$f":"DataByMiles!F503*VLOOKUP(DataByMiles!AE503,DataByMiles!$AT$5:$AU$6,2,FALSE)","v":0},null,null,0,{"$f":"H505*$L$2*VLOOKUP(DataByMiles!AE503,DataByMiles!$AT$5:$AU$6,2,FALSE)","v":0},{"$f":"DataByMiles!G503*VLOOKUP(DataByMiles!AE503,DataByMiles!$AT$5:$AU$6,2,FALSE)","v":0},null,null,{"$f":"M505*$P$2*VLOOKUP(DataByMiles!AE503,DataByMiles!$AT$5:$AU$6,2,FALSE)","v":0},{"$f":"DataByMiles!H503*VLOOKUP(DataByMiles!AE503,DataByMiles!$AT$5:$AU$6,2,FALSE)","v":0},null,null,{"$f":"Q505*$T$2*VLOOKUP(DataByMiles!AE503,DataByMiles!$AT$5:$AU$6,2,FALSE)","v":0},{"$f":"DataByMiles!I503*VLOOKUP(DataByMiles!AE503,DataByMiles!$AT$5:$AU$6,2,FALSE)","v":0},null,null,{"$f":"U505*$X$2*VLOOKUP(DataByMiles!AE503,DataByMiles!$AT$5:$AU$6,2,FALSE)","v":0},{"$f":"DataByMiles!J503*VLOOKUP(DataByMiles!AE503,DataByMiles!$AT$5:$AU$6,2,FALSE)","v":0},{"$f":"DataByMiles!K503","v":0},{"$f":"DataByMiles!L503","v":0},null,null,{"$f":"(Y505/IF(Z505=0,$AD$1,Z505)*$AD$2)/IF(AA505=0,1,AA505)*VLOOKUP(DataByMiles!AE503,DataByMiles!$AT$5:$AU$6,2,FALSE)","v":0},"",0,0,{"$f":"(AF505+AG505)*VLOOKUP(DataByMiles!AE503,DataByMiles!$AT$5:$AU$6,2,FALSE)","v":0},0]
[null,{"$f":"DataByMiles!C504","v":"----500"},{"$f":"DataByMiles!E504*VLOOKUP(DataByMiles!AE504,DataByMiles!$AT$5:$AU$6,2,FALSE)","v":0},null,null,0,{"$f":"C506*$G$2*VLOOKUP(DataByMiles!AE504,DataByMiles!$AT$5:$AU$6,2,FALSE)","v":0},{"$f":"DataByMiles!F504*VLOOKUP(DataByMiles!AE504,DataByMiles!$AT$5:$AU$6,2,FALSE)","v":0},null,null,0,{"$f":"H506*$L$2*VLOOKUP(DataByMiles!AE504,DataByMiles!$AT$5:$AU$6,2,FALSE)","v":0},{"$f":"DataByMiles!G504*VLOOKUP(DataByMiles!AE504,DataByMiles!$AT$5:$AU$6,2,FALSE)","v":0},null,null,{"$f":"M506*$P$2*VLOOKUP(DataByMiles!AE504,DataByMiles!$AT$5:$AU$6,2,FALSE)","v":0},{"$f":"DataByMiles!H504*VLOOKUP(DataByMiles!AE504,DataByMiles!$AT$5:$AU$6,2,FALSE)","v":0},null,null,{"$f":"Q506*$T$2*VLOOKUP(DataByMiles!AE504,DataByMiles!$AT$5:$AU$6,2,FALSE)","v":0},{"$f":"DataByMiles!I504*VLOOKUP(DataByMiles!AE504,DataByMiles!$AT$5:$AU$6,2,FALSE)","v":0},null,null,{"$f":"U506*$X$2*VLOOKUP(DataByMiles!AE504,DataByMiles!$AT$5:$AU$6,2,FALSE)","v":0},{"$f":"DataByMiles!J504*VLOOKUP(DataByMiles!AE504,DataByMiles!$AT$5:$AU$6,2,FALSE)","v":0},{"$f":"DataByMiles!K504","v":0},{"$f":"DataByMiles!L504","v":0},null,null,{"$f":"(Y506/IF(Z506=0,$AD$1,Z506)*$AD$2)/IF(AA506=0,1,AA506)*VLOOKUP(DataByMiles!AE504,DataByMiles!$AT$5:$AU$6,2,FALSE)","v":0},"",0,0,{"$f":"(AF506+AG506)*VLOOKUP(DataByMiles!AE504,DataByMiles!$AT$5:$AU$6,2,FALSE)","v":0},0,null,"AR"]
[null,"Totals or Averages",{"$f":"SUM(C7:C506)","v":113},{"$f":"SUM(D7:D39)","v":0},0,0,26.475900000000003,{"$f":"SUM(H7:H506)","v":0},0,0,{"$f":"SUM(K7:K506)","v":0},0,{"$f":"SUM(M7:M506)","v":0},0,0,{"$f":"SUM(P7:P506)","v":0},{"$f":"SUM(Q7:Q506)","v":0},0,0,{"$f":"SUM(T7:T506)","v":0},{"$f":"SUM(U7:U506)","v":0},0,0,{"$f":"SUM(X7:X506)","v":0},{"$f":"SUM(Y7:Y506)","v":419},null,null,{"$f":"SUM(AB7:AB39)","v":0},{"$f":"SUM(AC7:AC39)","v":0},{"$f":"SUM(AD7:AD506)","v":138.78695506198346},{"$f":"SUM(AE7:AE506)","v":532},{"$f":"SUM(AF7:AF506)","v":138.78695506198346},{"$f":"SUM(AG7:AG506)","v":26.475900000000003},{"$f":"SUM(AH7:AH506)","v":165.26285506198346},{"$f":"IFERROR(AVERAGEIF(AI7:AI39,\">0\"),\"none\")","v":0.30783421979809755}]
[]
[]
[]
[]
[]
[]
[]
[]
[]
[]
[]
[]
[null,null,null,null,null,null,null,null,null,null,null,null,null,null,null,null,null,null,null,null,null,null,null,null,null,null,null,null,null,null,"Distance"]
[null,null,null,null,null,null,null,null,null,null,null,null,null,null,null,null,null,null,null,null,null,null,null,null,null,null,null,null,null,null,">0"]

{"sheet":"POST_Calculations","index":3,"n_rows":521,"n_cols":35,"rows_kept":521,"cut":false,"hidden":true,"merged":[[4,30,4,34],[3,2,3,11],[3,12,3,23],[3,24,3,29],[4,2,4,6],[4,7,4,11],[4,12,4,15],[4,16,4,19],[4,20,4,23],[4,24,4,29]]}
[null,null,null,null,null,null,null,null,null,null,null,null,null,null,null,null,null,null,null,null,null,null,null,null,null,null,null,null,null,22,"mpg"]
[null,"Default Factors:",null,null,null,0,0.23430000000000001,null,null,null,0,0.1653,null,null,null,0.22564102599999999,null,null,null,0.65786578699999998,null,null,null,0.13,null,null,null,null,null,19.592500000000001,"lbco2e/gal"]
[]
[null,null,"Human-Powered",null,null,null,null,null,null,null,null,null,"Mass Transit",null,null,null,null,null,null,null,null,null,null,null,"Private Vehicle"]
[null,null,"Walking",null,null,null,null,"Bike/Scooter",null,null,null,null,"School Bus",null,null,null,"Public Bus",null,null,null,"BART",null,null,null,"Car",null,null,null,null,null,"Total"]
[null,"Student Name","Distance","Time","Cost","FuelGHG","EffortGHG","Distance","Time","Cost","FuelGHG","EffortGHG","Distance","Time","Cost","FuelGHG","Distance","Time","Cost","FuelGHG","Distance","Time","Cost","FuelGHG","Distance","MPG","Riders","Time","Cost","FuelGHG","Distance","FuelGHG","EffortGHG","AllGHG","GHG/mi"]
[null,{"$f":"DataByMiles!C5","v":"Junior"},{"$f":"DataByMiles!T5*VLOOKUP(DataByMiles!AE5,DataByMiles!$AT$5:$AU$6,2,FALSE)","v":0},null,null,{"$f":"C7*$F$2","v":0},{"$f":"C7*$G$2*VLOOKUP(DataByMiles!AE5,DataByMiles!$AT$5:$AU$6,2,FALSE)","v":0},{"$f":"DataByMiles!U5*VLOOKUP(DataByMiles!AE5,DataByMiles!$AT$5:$AU$6,2,FALSE)","v":0},null,null,{"$f":"H7*$K$2","v":0},{"$f":"H7*$L$2*VLOOKUP(DataByMiles!AE5,DataByMiles!$AT$5:$AU$6,2,FALSE)","v":0},{"$f":"DataByMiles!V5*VLOOKUP(DataByMiles!AE5,DataByMiles!$AT$5:$AU$6,2,FALSE)","v":0},null,null,{"$f":"M7*$P$2*VLOOKUP(DataByMiles!AE5,DataByMiles!$AT$5:$AU$6,2,FALSE)","v":0},{"$f":"DataByMiles!W5*VLOOKUP(DataByMiles!AE5,DataByMiles!$AT$5:$AU$6,2,FALSE)","v":0},null,null,{"$f":"Q7*$T$2*VLOOKUP(DataByMiles!AE5,DataByMiles!$AT$5:$AU$6,2,FALSE)","v":0},{"$f":"DataByMiles!X5*VLOOKUP(DataByMiles!AE5,DataByMiles!$AT$5:$AU$6,2,FALSE)","v":0},null,null,{"$f":"U7*$X$2*VLOOKUP(DataByMiles!AE5,DataByMiles!$AT$5:$AU$6,2,FALSE)","v":0},{"$f":"DataByMiles!Y5*VLOOKUP(DataByMiles!AE5,DataByMiles!$AT$5:$AU$6,2,FALSE)","v":40},{"$f":"DataByMiles!Z5","v":0},{"$f":"DataByMiles!AA5","v":6},null,null,{"$f":"(Y7/IF(Z7=0,$AD$1,Z7)*$AD$2)/IF(AA7=0,1,AA7)*VLOOKUP(DataByMiles!AE5,DataByMiles!$AT$5:$AU$6,2,FALSE)","v":5.9371212121212125},{"$f":"IF(C7+H7+M7+Q7+U7+Y7>0,C7+H7+M7+Q7+U7+Y7,\"\")","v":40},{"$f":"F7+K7+P7+T7+X7+AD7","v":5.9371212121212125},{"$f":"G7+L7","v":0},{"$f":"(AF7+AG7)*VLOOKUP(DataByMiles!AE5,DataByMiles!$AT$5:$AU$6,2,FALSE)","v":5.9371212121212125},{"$f":"IFERROR(AH7/AE7,0)","v":0.14842803030303031}]
[null,{"$f":"DataByMiles!C6","v":"jessica"},{"$f":"DataByMiles!T6*VLOOKUP(DataByMiles!AE6,DataByMiles!$AT$5:$AU$6,2,FALSE)","v":1},null,null,{"$f":"C8*$F$2","v":0},{"$f":"C8*$G$2*VLOOKUP(DataByMiles!AE6,DataByMiles!$AT$5:$AU$6,2,FALSE)","v":0.23430000000000001},{"$f":"DataByMiles!U6*VLOOKUP(DataByMiles!AE6,DataByMiles!$AT$5:$AU$6,2,FALSE)","v":0},null,null,{"$f":"H8*$K$2","v":0},{"$f":"H8*$L$2*VLOOKUP(DataByMiles!AE6,DataByMiles!$AT$5:$AU$6,2,FALSE)","v":0},{"$f":"DataByMiles!V6*VLOOKUP(DataByMiles!AE6,DataByMiles!$AT$5:$AU$6,2,FALSE)","v":0},null,null,{"$f":"M8*$P$2*VLOOKUP(DataByMiles!AE6,DataByMiles!$AT$5:$AU$6,2,FALSE)","v":0},{"$f":"DataByMiles!W6*VLOOKUP(DataByMiles!AE6,DataByMiles!$AT$5:$AU$6,2,FALSE)","v":0},null,null,{"$f":"Q8*$T$2*VLOOKUP(DataByMiles!AE6,DataByMiles!$AT$5:$AU$6,2,FALSE)","v":0},{"$f":"DataByMiles!X6*VLOOKUP(DataByMiles!AE6,DataByMiles!$AT$5:$AU$6,2,FALSE)","v":0},null,null,{"$f":"U8*$X$2*VLOOKUP(DataByMiles!AE6,DataByMiles!$AT$5:$AU$6,2,FALSE)","v":0},{"$f":"DataByMiles!Y6*VLOOKUP(DataByMiles!AE6,DataByMiles!$AT$5:$AU$6,2,FALSE)","v":7},{"$f":"DataByMiles!Z6","v":0},{"$f":"DataByMiles!AA6","v":3},null,null,{"$f":"(Y8/IF(Z8=0,$AD$1,Z8)*$AD$2)/IF(AA8=0,1,AA8)*VLOOKUP(DataByMiles!AE6,DataByMiles!$AT$5:$AU$6,2,FALSE)","v":2.0779924242424244},{"$f":"IF(C8+H8+M8+Q8+U8+Y8>0,C8+H8+M8+Q8+U8+Y8,\"\")","v":8},{"$f":"F8+K8+P8+T8+X8+AD8","v":2.0779924242424244},{"$f":"G8+L8","v":0.23430000000000001},{"$f":"(AF8+AG8)*VLOOKUP(DataByMiles!AE6,DataByMiles!$AT$5:$AU$6,2,FALSE)","v":2.3122924242424245},{"$f":"IFERROR(AH8/AE8,0)","v":0.28903655303030307}]
[null,{"$f":"DataByMiles!C7","v":"Veda"},{"$f":"DataByMiles!T7*VLOOKUP(DataByMiles!AE7,DataByMiles!$AT$5:$AU$6,2,FALSE)","v":12},null,null,0,{"$f":"C9*$G$2*VLOOKUP(DataByMiles!AE7,DataByMiles!$AT$5:$AU$6,2,FALSE)","v":2.8116000000000003},{"$f":"DataByMiles!U7*VLOOKUP(DataByMiles!AE7,DataByMiles!$AT$5:$AU$6,2,FALSE)","v":0},null,null,0,{"$f":"H9*$L$2*VLOOKUP(DataByMiles!AE7,DataByMiles!$AT$5:$AU$6,2,FALSE)","v":0},{"$f":"DataByMiles!V7*VLOOKUP(DataByMiles!AE7,DataByMiles!$AT$5:$AU$6,2,FALSE)","v":0},null,null,{"$f":"M9*$P$2*VLOOKUP(DataByMiles!AE7,DataByMiles!$AT$5:$AU$6,2,FALSE)","v":0},{"$f":"DataByMiles!W7*VLOOKUP(DataByMiles!AE7,DataByMiles!$AT$5:$AU$6,2,FALSE)","v":0},null,null,{"$f":"Q9*$T$2*VLOOKUP(DataByMiles!AE7,DataByMiles!$AT$5:$AU$6,2,FALSE)","v":0},{"$f":"DataByMiles!X7*VLOOKUP(DataByMiles!AE7,DataByMiles!$AT$5:$AU$6,2,FALSE)","v":0},null,null,{"$f":"U9*$X$2*VLOOKUP(DataByMiles!AE7,DataByMiles!$AT$5:$AU$6,2,FALSE)","v":0},{"$f":"DataByMiles!Y7*VLOOKUP(DataByMiles!AE7,DataByMiles!$AT$5:$AU$6,2,FALSE)","v":4},{"$f":"DataByMiles!Z7","v":0},{"$f":"DataByMiles!AA7","v":4},null,null,{"$f":"(Y9/IF(Z9=0,$AD$1,Z9)*$AD$2)/IF(AA9=0,1,AA9)*VLOOKUP(DataByMiles!AE7,DataByMiles!$AT$5:$AU$6,2,FALSE)","v":0.89056818181818187},16,0.89056818181818187,2.8116000000000003,{"$f":"(AF9+AG9)*VLOOKUP(DataByMiles!AE7,DataByMiles!$AT$5:$AU$6,2,FALSE)","v":3.7021681818181822},0.23138551136363639]
[null,{"$f":"DataByMiles!C8","v":"Tiffany"},{"$f":"DataByMiles!T8*VLOOKUP(DataByMiles!AE8,DataByMiles!$AT$5:$AU$6,2,FALSE)","v":2},null,null,0,{"$f":"C10*$G$2*VLOOKUP(DataByMiles!AE8,DataByMiles!$AT$5:$AU$6,2,FALSE)","v":0.46860000000000002},{"$f":"DataByMiles!U8*VLOOKUP(DataByMiles!AE8,DataByMiles!$AT$5:$AU$6,2,FALSE)","v":0},null,null,0,{"$f":"H10*$L$2*VLOOKUP(DataByMiles!AE8,DataByMiles!$AT$5:$AU$6,2,FALSE)","v":0},{"$f":"DataByMiles!V8*VLOOKUP(DataByMiles!AE8,DataByMiles!$AT$5:$AU$6,2,FALSE)","v":0},null,null,{"$f":"M10*$P$2*VLOOKUP(DataByMiles!AE8,DataByMiles!$AT$5:$AU$6,2,FALSE)","v":0},{"$f":"DataByMiles!W8*VLOOKUP(DataByMiles!AE8,DataByMiles!$AT$5:$AU$6,2,FALSE)","v":0},null,null,{"$f":"Q10*$T$2*VLOOKUP(DataByMiles!AE8,DataByMiles!$AT$5:$AU$6,2,FALSE)","v":0},{"$f":"DataByMiles!X8*VLOOKUP(DataByMiles!AE8,DataByMiles!$AT$5:$AU$6,2,FALSE)","v":0},null,null,{"$f":"U10*$X$2*VLOOKUP(DataByMiles!AE8,DataByMiles!$AT$5:$AU$6,2,FALSE)","v":0},{"$f":"DataByMiles!Y8*VLOOKUP(DataByMiles!AE8,DataByMiles!$AT$5:$AU$6,2,FALSE)","v":16},{"$f":"DataByMiles!Z8","v":0},{"$f":"DataByMiles!AA8","v":3},null,null,{"$f":"(Y10/IF(Z10=0,$AD$1,Z10)*$AD$2)/IF(AA10=0,1,AA10)*VLOOKUP(DataByMiles!AE8,DataByMiles!$AT$5:$AU$6,2,FALSE)","v":4.74969696969697},18,4.74969696969697,0.46860000000000002,{"$f":"(AF10+AG10)*VLOOKUP(DataByMiles!AE8,DataByMiles!$AT$5:$AU$6,2,FALSE)","v":5.2182969696969703},0.28990538720538722]
[null,{"$f":"DataByMiles!C9","v":"Athena"},{"$f":"DataByMiles!T9*VLOOKUP(DataByMiles!AE9,DataByMiles!$AT$5:$AU$6,2,FALSE)","v":1},null,null,0,{"$f":"C11*$G$2*VLOOKUP(DataByMiles!AE9,DataByMiles!$AT$5:$AU$6,2,FALSE)","v":0.23430000000000001},{"$f":"DataByMiles!U9*VLOOKUP(DataByMiles!AE9,DataByMiles!$AT$5:$AU$6,2,FALSE)","v":0},null,null,0,{"$f":"H11*$L$2*VLOOKUP(DataByMiles!AE9,DataByMiles!$AT$5:$AU$6,2,FALSE)","v":0},{"$f":"DataByMiles!V9*VLOOKUP(DataByMiles!AE9,DataByMiles!$AT$5:$AU$6,2,FALSE)","v":0},null,null,{"$f":"M11*$P$2*VLOOKUP(DataByMiles!AE9,DataByMiles!$AT$5:$AU$6,2,FALSE)","v":0},{"$f":"DataByMiles!W9*VLOOKUP(DataByMiles!AE9,DataByMiles!$AT$5:$AU$6,2,FALSE)","v":0},null,null,{"$f":"Q11*$T$2*VLOOKUP(DataByMiles!AE9,DataByMiles!$AT$5:$AU$6,2,FALSE)","v":0},{"$f":"DataByMiles!X9*VLOOKUP(DataByMiles!AE9,DataByMiles!$AT$5:$AU$6,2,FALSE)","v":0},null,null,{"$f":"U11*$X$2*VLOOKUP(DataByMiles!AE9,DataByMiles!$AT$5:$AU$6,2,FALSE)","v":0},{"$f":"DataByMiles!Y9*VLOOKUP(DataByMiles!AE9,DataByMiles!$AT$5:$AU$6,2,FALSE)","v":9},{"$f":"DataByMiles!Z9","v":0},{"$f":"DataByMiles!AA9","v":3},null,null,{"$f":"(Y11/IF(Z11=0,$AD$1,Z11)*$AD$2)/IF(AA11=0,1,AA11)*VLOOKUP(DataByMiles!AE9,DataByMiles!$AT$5:$AU$6,2,FALSE)","v":2.6717045454545456},10,2.6717045454545456,0.23430000000000001,{"$f":"(AF11+AG11)*VLOOKUP(DataByMiles!AE9,DataByMiles!$AT$5:$AU$6,2,FALSE)","v":2.9060045454545458},0.29060045454545458]
[null,{"$f":"DataByMiles!C10","v":"Denise"},{"$f":"DataByMiles!T10*VLOOKUP(DataByMiles!AE10,DataByMiles!$AT$5:$AU$6,2,FALSE)","v":0},null,null,0,{"$f":"C12*$G$2*VLOOKUP(DataByMiles!AE10,DataByMiles!$AT$5:$AU$6,2,FALSE)","v":0},{"$f":"DataByMiles!U10*VLOOKUP(DataByMiles!AE10,DataByMiles!$AT$5:$AU$6,2,FALSE)","v":0},null,null,0,{"$f":"H12*$L$2*VLOOKUP(DataByMiles!AE10,DataByMiles!$AT$5:$AU$6,2,FALSE)","v":0},{"$f":"DataByMiles!V10*VLOOKUP(DataByMiles!AE10,DataByMiles!$AT$5:$AU$6,2,FALSE)","v":0},null,null,{"$f":"M12*$P$2*VLOOKUP(DataByMiles!AE10,DataByMiles!$AT$5:$AU$6,2,FALSE)","v":0},{"$f":"DataByMiles!W10*VLOOKUP(DataByMiles!AE10,DataByMiles!$AT$5:$AU$6,2,FALSE)","v":0},null,null,{"$f":"Q12*$T$2*VLOOKUP(DataByMiles!AE10,DataByMiles!$AT$5:$AU$6,2,FALSE)","v":0},{"$f":"DataByMiles!X10*VLOOKUP(DataByMiles!AE10,DataByMiles!$AT$5:$AU$6,2,FALSE)","v":0},null,null,{"$f":"U12*$X$2*VLOOKUP(DataByMiles!AE10,DataByMiles!$AT$5:$AU$6,2,FALSE)","v":0},{"$f":"DataByMiles!Y10*VLOOKUP(DataByMiles!AE10,DataByMiles!$AT$5:$AU$6,2,FALSE)","v":15},{"$f":"DataByMiles!Z10","v":0},{"$f":"DataByMiles!AA10","v":3},null,null,{"$f":"(Y12/IF(Z12=0,$AD$1,Z12)*$AD$2)/IF(AA12=0,1,AA12)*VLOOKUP(DataByMiles!AE10,DataByMiles!$AT$5:$AU$6,2,FALSE)","v":4.4528409090909085},15,4.4528409090909085,0,{"$f":"(AF12+AG12)*VLOOKUP(DataByMiles!AE10,DataByMiles!$AT$5:$AU$6,2,FALSE)","v":4.4528409090909085},0.29685606060606057]
[null,{"$f":"DataByMiles!C11","v":"Maha"},{"$f":"DataByMiles!T11*VLOOKUP(DataByMiles!AE11,DataByMiles!$AT$5:$AU$6,2,FALSE)","v":0},null,null,0,{"$f":"C13*$G$2*VLOOKUP(DataByMiles!AE11,DataByMiles!$AT$5:$AU$6,2,FALSE)","v":0},{"$f":"DataByMiles!U11*VLOOKUP(DataByMiles!AE11,DataByMiles!$AT$5:$AU$6,2,FALSE)","v":0},null,null,0,{"$f":"H13*$L$2*VLOOKUP(DataByMiles!AE11,DataByMiles!$AT$5:$AU$6,2,FALSE)","v":0},{"$f":"DataByMiles!V11*VLOOKUP(DataByMiles!AE11,DataByMiles!$AT$5:$AU$6,2,FALSE)","v":0},null,null,{"$f":"M13*$P$2*VLOOKUP(DataByMiles!AE11,DataByMiles!$AT$5:$AU$6,2,FALSE)","v":0},{"$f":"DataByMiles!W11*VLOOKUP(DataByMiles!AE11,DataByMiles!$AT$5:$AU$6,2,FALSE)","v":0},null,null,{"$f":"Q13*$T$2*VLOOKUP(DataByMiles!AE11,DataByMiles!$AT$5:$AU$6,2,FALSE)","v":0},{"$f":"DataByMiles!X11*VLOOKUP(DataByMiles!AE11,DataByMiles!$AT$5:$AU$6,2,FALSE)","v":0},null,null,{"$f":"U13*$X$2*VLOOKUP(DataByMiles!AE11,DataByMiles!$AT$5:$AU$6,2,FALSE)","v":0},{"$f":"DataByMiles!Y11*VLOOKUP(DataByMiles!AE11,DataByMiles!$AT$5:$AU$6,2,FALSE)","v":10},{"$f":"DataByMiles!Z11","v":0},{"$f":"DataByMiles!AA11","v":7},null,null,{"$f":"(Y13/IF(Z13=0,$AD$1,Z13)*$AD$2)/IF(AA13=0,1,AA13)*VLOOKUP(DataByMiles!AE11,DataByMiles!$AT$5:$AU$6,2,FALSE)","v":1.2722402597402598},10,1.2722402597402598,0,{"$f":"(AF13+AG13)*VLOOKUP(DataByMiles!AE11,DataByMiles!$AT$5:$AU$6,2,FALSE)","v":1.2722402597402598},0.12722402597402599]
[null,{"$f":"DataByMiles!C12","v":"Allyn"},{"$f":"DataByMiles!T12*VLOOKUP(DataByMiles!AE12,DataByMiles!$AT$5:$AU$6,2,FALSE)","v":5},null,null,0,{"$f":"C14*$G$2*VLOOKUP(DataByMiles!AE12,DataByMiles!$AT$5:$AU$6,2,FALSE)","v":1.1715},{"$f":"DataByMiles!U12*VLOOKUP(DataByMiles!AE12,DataByMiles!$AT$5:$AU$6,2,FALSE)","v":0},null,null,0,{"$f":"H14*$L$2*VLOOKUP(DataByMiles!AE12,DataByMiles!$AT$5:$AU$6,2,FALSE)","v":0},{"$f":"DataByMiles!V12*VLOOKUP(DataByMiles!AE12,DataByMiles!$AT$5:$AU$6,2,FALSE)","v":0},null,null,{"$f":"M14*$P$2*VLOOKUP(DataByMiles!AE12,DataByMiles!$AT$5:$AU$6,2,FALSE)","v":0},{"$f":"DataByMiles!W12*VLOOKUP(DataByMiles!AE12,DataByMiles!$AT$5:$AU$6,2,FALSE)","v":0},null,null,{"$f":"Q14*$T$2*VLOOKUP(DataByMiles!AE12,DataByMiles!$AT$5:$AU$6,2,FALSE)","v":0},{"$f":"DataByMiles!X12*VLOOKUP(DataByMiles!AE12,DataByMiles!$AT$5:$AU$6,2,FALSE)","v":0},null,null,{"$f":"U14*$X$2*VLOOKUP(DataByMiles!AE12,DataByMiles!$AT$5:$AU$6,2,FALSE)","v":0},{"$f":"DataByMiles!Y12*VLOOKUP(DataByMiles!AE12,DataByMiles!$AT$5:$AU$6,2,FALSE)","v":5},{"$f":"DataByMiles!Z12","v":0},{"$f":"DataByMiles!AA12","v":3},null,null,{"$f":"(Y14/IF(Z14=0,$AD$1,Z14)*$AD$2)/IF(AA14=0,1,AA14)*VLOOKUP(DataByMiles!AE12,DataByMiles!$AT$5:$AU$6,2,FALSE)","v":1.4842803030303031},10,1.4842803030303031,1.1715,{"$f":"(AF14+AG14)*VLOOKUP(DataByMiles!AE12,DataByMiles!$AT$5:$AU$6,2,FALSE)","v":2.6557803030303031},0.26557803030303029]
[null,{"$f":"DataByMiles!C13","v":"Elaha"},{"$f":"DataByMiles!T13*VLOOKUP(DataByMiles!AE13,DataByMiles!$AT$5:$AU$6,2,FALSE)","v":0},null,null,0,{"$f":"C15*$G$2*VLOOKUP(DataByMiles!AE13,DataByMiles!$AT$5:$AU$6,2,FALSE)","v":0},{"$f":"DataByMiles!U13*VLOOKUP(DataByMiles!AE13,DataByMiles!$AT$5:$AU$6,2,FALSE)","v":0},null,null,0,{"$f":"H15*$L$2*VLOOKUP(DataByMiles!AE13,DataByMiles!$AT$5:$AU$6,2,FALSE)","v":0},{"$f":"DataByMiles!V13*VLOOKUP(DataByMiles!AE13,DataByMiles!$AT$5:$AU$6,2,FALSE)","v":0},null,null,{"$f":"M15*$P$2*VLOOKUP(DataByMiles!AE13,DataByMiles!$AT$5:$AU$6,2,FALSE)","v":0},{"$f":"DataByMiles!W13*VLOOKUP(DataByMiles!AE13,DataByMiles!$AT$5:$AU$6,2,FALSE)","v":0},null,null,{"$f":"Q15*$T$2*VLOOKUP(DataByMiles!AE13,DataByMiles!$AT$5:$AU$6,2,FALSE)","v":0},{"$f":"DataByMiles!X13*VLOOKUP(DataByMiles!AE13,DataByMiles!$AT$5:$AU$6,2,FALSE)","v":0},null,null,{"$f":"U15*$X$2*VLOOKUP(DataByMiles!AE13,DataByMiles!$AT$5:$AU$6,2,FALSE)","v":0},{"$f":"DataByMiles!Y13*VLOOKUP(DataByMiles!AE13,DataByMiles!$AT$5:$AU$6,2,FALSE)","v":57},{"$f":"DataByMiles!Z13","v":0},{"$f":"DataByMiles!AA13","v":3},null,null,{"$f":"(Y15/IF(Z15=0,$AD$1,Z15)*$AD$2)/IF(AA15=0,1,AA15)*VLOOKUP(DataByMiles!AE13,DataByMiles!$AT$5:$AU$6,2,FALSE)","v":16.920795454545456},57,16.920795454545456,0,{"$f":"(AF15+AG15)*VLOOKUP(DataByMiles!AE13,DataByMiles!$AT$5:$AU$6,2,FALSE)","v":16.920795454545456},0.29685606060606062]
[null,{"$f":"DataByMiles!C14","v":"Sharon"},{"$f":"DataByMiles!T14*VLOOKUP(DataByMiles!AE14,DataByMiles!$AT$5:$AU$6,2,FALSE)","v":0},null,null,0,{"$f":"C16*$G$2*VLOOKUP(DataByMiles!AE14,DataByMiles!$AT$5:$AU$6,2,FALSE)","v":0},{"$f":"DataByMiles!U14*VLOOKUP(DataByMiles!AE14,DataByMiles!$AT$5:$AU$6,2,FALSE)","v":0},null,null,0,{"$f":"H16*$L$2*VLOOKUP(DataByMiles!AE14,DataByMiles!$AT$5:$AU$6,2,FALSE)","v":0},{"$f":"DataByMiles!V14*VLOOKUP(DataByMiles!AE14,DataByMiles!$AT$5:$AU$6,2,FALSE)","v":0},null,null,{"$f":"M16*$P$2*VLOOKUP(DataByMiles!AE14,DataByMiles!$AT$5:$AU$6,2,FALSE)","v":0},{"$f":"DataByMiles!W14*VLOOKUP(DataByMiles!AE14,DataByMiles!$AT$5:$AU$6,2,FALSE)","v":0},null,null,{"$f":"Q16*$T$2*VLOOKUP(DataByMiles!AE14,DataByMiles!$AT$5:$AU$6,2,FALSE)","v":0},{"$f":"DataByMiles!X14*VLOOKUP(DataByMiles!AE14,DataByMiles!$AT$5:$AU$6,2,FALSE)","v":0},null,null,{"$f":"U16*$X$2*VLOOKUP(DataByMiles!AE14,DataByMiles!$AT$5:$AU$6,2,FALSE)","v":0},{"$f":"DataByMiles!Y14*VLOOKUP(DataByMiles!AE14,DataByMiles!$AT$5:$AU$6,2,FALSE)","v":9},{"$f":"DataByMiles!Z14","v":0},{"$f":"DataByMiles!AA14","v":1.6},null,null,{"$f":"(Y16/IF(Z16=0,$AD$1,Z16)*$AD$2)/IF(AA16=0,1,AA16)*VLOOKUP(DataByMiles!AE14,DataByMiles!$AT$5:$AU$6,2,FALSE)","v":5.009446022727273},9,5.009446022727273,0,{"$f":"(AF16+AG16)*VLOOKUP(DataByMiles!AE14,DataByMiles!$AT$5:$AU$6,2,FALSE)","v":5.009446022727273},0.55660511363636367]
[null,{"$f":"DataByMiles!C15","v":"Bryce"},{"$f":"DataByMiles!T15*VLOOKUP(DataByMiles!AE15,DataByMiles!$AT$5:$AU$6,2,FALSE)","v":4},null,null,0,{"$f":"C17*$G$2*VLOOKUP(DataByMiles!AE15,DataByMiles!$AT$5:$AU$6,2,FALSE)","v":0.93720000000000003},{"$f":"DataByMiles!U15*VLOOKUP(DataByMiles!AE15,DataByMiles!$AT$5:$AU$6,2,FALSE)","v":1},null,null,0,{"$f":"H17*$L$2*VLOOKUP(DataByMiles!AE15,DataByMiles!$AT$5:$AU$6,2,FALSE)","v":0.1653},{"$f":"DataByMiles!V15*VLOOKUP(DataByMiles!AE15,DataByMiles!$AT$5:$AU$6,2,FALSE)","v":0},null,null,{"$f":"M17*$P$2*VLOOKUP(DataByMiles!AE15,DataByMiles!$AT$5:$AU$6,2,FALSE)","v":0},{"$f":"DataByMiles!W15*VLOOKUP(DataByMiles!AE15,DataByMiles!$AT$5:$AU$6,2,FALSE)","v":0},null,null,{"$f":"Q17*$T$2*VLOOKUP(DataByMiles!AE15,DataByMiles!$AT$5:$AU$6,2,FALSE)","v":0},{"$f":"DataByMiles!X15*VLOOKUP(DataByMiles!AE15,DataByMiles!$AT$5:$AU$6,2,FALSE)","v":0},null,null,{"$f":"U17*$X$2*VLOOKUP(DataByMiles!AE15,DataByMiles!$AT$5:$AU$6,2,FALSE)","v":0},{"$f":"DataByMiles!Y15*VLOOKUP(DataByMiles!AE15,DataByMiles!$AT$5:$AU$6,2,FALSE)","v":5},{"$f":"DataByMiles!Z15","v":0},{"$f":"DataByMiles!AA15","v":2},null,null,{"$f":"(Y17/IF(Z17=0,$AD$1,Z17)*$AD$2)/IF(AA17=0,1,AA17)*VLOOKUP(DataByMiles!AE15,DataByMiles!$AT$5:$AU$6,2,FALSE)","v":2.2264204545454547},10,2.2264204545454547,1.1025,{"$f":"(AF17+AG17)*VLOOKUP(DataByMiles!AE15,DataByMiles!$AT$5:$AU$6,2,FALSE)","v":3.3289204545454547},0.33289204545454548]
[null,{"$f":"DataByMiles!C16","v":"Marlene"},{"$f":"DataByMiles!T16*VLOOKUP(DataByMiles!AE16,DataByMiles!$AT$5:$AU$6,2,FALSE)","v":0},null,null,0,{"$f":"C18*$G$2*VLOOKUP(DataByMiles!AE16,DataByMiles!$AT$5:$AU$6,2,FALSE)","v":0},{"$f":"DataByMiles!U16*VLOOKUP(DataByMiles!AE16,DataByMiles!$AT$5:$AU$6,2,FALSE)","v":0},null,null,0,{"$f":"H18*$L$2*VLOOKUP(DataByMiles!AE16,DataByMiles!$AT$5:$AU$6,2,FALSE)","v":0},{"$f":"DataByMiles!V16*VLOOKUP(DataByMiles!AE16,DataByMiles!$AT$5:$AU$6,2,FALSE)","v":0},null,null,{"$f":"M18*$P$2*VLOOKUP(DataByMiles!AE16,DataByMiles!$AT$5:$AU$6,2,FALSE)","v":0},{"$f":"DataByMiles!W16*VLOOKUP(DataByMiles!AE16,DataByMiles!$AT$5:$AU$6,2,FALSE)","v":0},null,null,{"$f":"Q18*$T$2*VLOOKUP(DataByMiles!AE16,DataByMiles!$AT$5:$AU$6,2,FALSE)","v":0},{"$f":"DataByMiles!X16*VLOOKUP(DataByMiles!AE16,DataByMiles!$AT$5:$AU$6,2,FALSE)","v":0},null,null,{"$f":"U18*$X$2*VLOOKUP(DataByMiles!AE16,DataByMiles!$AT$5:$AU$6,2,FALSE)","v":0},{"$f":"DataByMiles!Y16*VLOOKUP(DataByMiles!AE16,DataByMiles!$AT$5:$AU$6,2,FALSE)","v":14},{"$f":"DataByMiles!Z16","v":0},{"$f":"DataByMiles!AA16","v":6},null,null,{"$f":"(Y18/IF(Z18=0,$AD$1,Z18)*$AD$2)/IF(AA18=0,1,AA18)*VLOOKUP(DataByMiles!AE16,DataByMiles!$AT$5:$AU$6,2,FALSE)","v":2.0779924242424244},14,2.0779924242424244,0,{"$f":"(AF18+AG18)*VLOOKUP(DataByMiles!AE16,DataByMiles!$AT$5:$AU$6,2,FALSE)","v":2.0779924242424244},0.14842803030303031]
[null,{"$f":"DataByMiles!C17","v":"Christyn"},{"$f":"DataByMiles!T17*VLOOKUP(DataByMiles!AE17,DataByMiles!$AT$5:$AU$6,2,FALSE)","v":0},null,null,0,{"$f":"C19*$G$2*VLOOKUP(DataByMiles!AE17,DataByMiles!$AT$5:$AU$6,2,FALSE)","v":0},{"$f":"DataByMiles!U17*VLOOKUP(DataByMiles!AE17,DataByMiles!$AT$5:$AU$6,2,FALSE)","v":0},null,null,0,{"$f":"H19*$L$2*VLOOKUP(DataByMiles!AE17,DataByMiles!$AT$5:$AU$6,2,FALSE)","v":0},{"$f":"DataByMiles!V17*VLOOKUP(DataByMiles!AE17,DataByMiles!$AT$5:$AU$6,2,FALSE)","v":0},null,null,{"$f":"M19*$P$2*VLOOKUP(DataByMiles!AE17,DataByMiles!$AT$5:$AU$6,2,FALSE)","v":0},{"$f":"DataByMiles!W17*VLOOKUP(DataByMiles!AE17,DataByMiles!$AT$5:$AU$6,2,FALSE)","v":0},null,null,{"$f":"Q19*$T$2*VLOOKUP(DataByMiles!AE17,DataByMiles!$AT$5:$AU$6,2,FALSE)","v":0},{"$f":"DataByMiles!X17*VLOOKUP(DataByMiles!AE17,DataByMiles!$AT$5:$AU$6,2,FALSE)","v":0},null,null,{"$f":"U19*$X$2*VLOOKUP(DataByMiles!AE17,DataByMiles!$AT$5:$AU$6,2,FALSE)","v":0},{"$f":"DataByMiles!Y17*VLOOKUP(DataByMiles!AE17,DataByMiles!$AT$5:$AU$6,2,FALSE)","v":150},{"$f":"DataByMiles!Z17","v":0},{"$f":"DataByMiles!AA17","v":5},null,null,{"$f":"(Y19/IF(Z19=0,$AD$1,Z19)*$AD$2)/IF(AA19=0,1,AA19)*VLOOKUP(DataByMiles!AE17,DataByMiles!$AT$5:$AU$6,2,FALSE)","v":26.717045454545456},150,26.717045454545456,0,{"$f":"(AF19+AG19)*VLOOKUP(DataByMiles!AE17,DataByMiles!$AT$5:$AU$6,2,FALSE)","v":26.717045454545456},0.17811363636363636]
[null,{"$f":"DataByMiles!C18","v":"emmy"},{"$f":"DataByMiles!T18*VLOOKUP(DataByMiles!AE18,DataByMiles!$AT$5:$AU$6,2,FALSE)","v":2},null,null,0,{"$f":"C20*$G$2*VLOOKUP(DataByMiles!AE18,DataByMiles!$AT$5:$AU$6,2,FALSE)","v":0.46860000000000002},{"$f":"DataByMiles!U18*VLOOKUP(DataByMiles!AE18,DataByMiles!$AT$5:$AU$6,2,FALSE)","v":0},null,null,0,{"$f":"H20*$L$2*VLOOKUP(DataByMiles!AE18,DataByMiles!$AT$5:$AU$6,2,FALSE)","v":0},{"$f":"DataByMiles!V18*VLOOKUP(DataByMiles!AE18,DataByMiles!$AT$5:$AU$6,2,FALSE)","v":0},null,null,{"$f":"M20*$P$2*VLOOKUP(DataByMiles!AE18,DataByMiles!$AT$5:$AU$6,2,FALSE)","v":0},{"$f":"DataByMiles!W18*VLOOKUP(DataByMiles!AE18,DataByMiles!$AT$5:$AU$6,2,FALSE)","v":0},null,null,{"$f":"Q20*$T$2*VLOOKUP(DataByMiles!AE18,DataByMiles!$AT$5:$AU$6,2,FALSE)","v":0},{"$f":"DataByMiles!X18*VLOOKUP(DataByMiles!AE18,DataByMiles!$AT$5:$AU$6,2,FALSE)","v":0},null,null,{"$f":"U20*$X$2*VLOOKUP(DataByMiles!AE18,DataByMiles!$AT$5:$AU$6,2,FALSE)","v":0},{"$f":"DataByMiles!Y18*VLOOKUP(DataByMiles!AE18,DataByMiles!$AT$5:$AU$6,2,FALSE)","v":16},{"$f":"DataByMiles!Z18","v":0},{"$f":"DataByMiles!AA18","v":2.25},null,null,{"$f":"(Y20/IF(Z20=0,$AD$1,Z20)*$AD$2)/IF(AA20=0,1,AA20)*VLOOKUP(DataByMiles!AE18,DataByMiles!$AT$5:$AU$6,2,FALSE)","v":6.3329292929292933},18,6.3329292929292933,0.46860000000000002,{"$f":"(AF20+AG20)*VLOOKUP(DataByMiles!AE18,DataByMiles!$AT$5:$AU$6,2,FALSE)","v":6.8015292929292936},0.37786273849607188]
[null,{"$f":"DataByMiles!C19","v":"Abby"},{"$f":"DataByMiles!T19*VLOOKUP(DataByMiles!AE19,DataByMiles!$AT$5:$AU$6,2,FALSE)","v":2},null,null,0,{"$f":"C21*$G$2*VLOOKUP(DataByMiles!AE19,DataByMiles!$AT$5:$AU$6,2,FALSE)","v":0.46860000000000002},{"$f":"DataByMiles!U19*VLOOKUP(DataByMiles!AE19,DataByMiles!$AT$5:$AU$6,2,FALSE)","v":0},null,null,0,{"$f":"H21*$L$2*VLOOKUP(DataByMiles!AE19,DataByMiles!$AT$5:$AU$6,2,FALSE)","v":0},{"$f":"DataByMiles!V19*VLOOKUP(DataByMiles!AE19,DataByMiles!$AT$5:$AU$6,2,FALSE)","v":0},null,null,{"$f":"M21*$P$2*VLOOKUP(DataByMiles!AE19,DataByMiles!$AT$5:$AU$6,2,FALSE)","v":0},{"$f":"DataByMiles!W19*VLOOKUP(DataByMiles!AE19,DataByMiles!$AT$5:$AU$6,2,FALSE)","v":0},null,null,{"$f":"Q21*$T$2*VLOOKUP(DataByMiles!AE19,DataByMiles!$AT$5:$AU$6,2,FALSE)","v":0},{"$f":"DataByMiles!X19*VLOOKUP(DataByMiles!AE19,DataByMiles!$AT$5:$AU$6,2,FALSE)","v":0},null,null,{"$f":"U21*$X$2*VLOOKUP(DataByMiles!AE19,DataByMiles!$AT$5:$AU$6,2,FALSE)","v":0},{"$f":"DataByMiles!Y19*VLOOKUP(DataByMiles!AE19,DataByMiles!$AT$5:$AU$6,2,FALSE)","v":10},{"$f":"DataByMiles!Z19","v":0},{"$f":"DataByMiles!AA19","v":3},null,null,{"$f":"(Y21/IF(Z21=0,$AD$1,Z21)*$AD$2)/IF(AA21=0,1,AA21)*VLOOKUP(DataByMiles!AE19,DataByMiles!$AT$5:$AU$6,2,FALSE)","v":2.9685606060606062},12,2.9685606060606062,0.46860000000000002,{"$f":"(AF21+AG21)*VLOOKUP(DataByMiles!AE19,DataByMiles!$AT$5:$AU$6,2,FALSE)","v":3.4371606060606061},0.28643005050505049]
[null,{"$f":"DataByMiles!C20","v":"Dinika"},{"$f":"DataByMiles!T20*VLOOKUP(DataByMiles!AE20,DataByMiles!$AT$5:$AU$6,2,FALSE)","v":0},null,null,0,{"$f":"C22*$G$2*VLOOKUP(DataByMiles!AE20,DataByMiles!$AT$5:$AU$6,2,FALSE)","v":0},{"$f":"DataByMiles!U20*VLOOKUP(DataByMiles!AE20,DataByMiles!$AT$5:$AU$6,2,FALSE)","v":0},null,null,0,{"$f":"H22*$L$2*VLOOKUP(DataByMiles!AE20,DataByMiles!$AT$5:$AU$6,2,FALSE)","v":0},{"$f":"DataByMiles!V20*VLOOKUP(DataByMiles!AE20,DataByMiles!$AT$5:$AU$6,2,FALSE)","v":0},null,null,{"$f":"M22*$P$2*VLOOKUP(DataByMiles!AE20,DataByMiles!$AT$5:$AU$6,2,FALSE)","v":0},{"$f":"DataByMiles!W20*VLOOKUP(DataByMiles!AE20,DataByMiles!$AT$5:$AU$6,2,FALSE)","v":0},null,null,{"$f":"Q22*$T$2*VLOOKUP(DataByMiles!AE20,DataByMiles!$AT$5:$AU$6,2,FALSE)","v":0},{"$f":"DataByMiles!X20*VLOOKUP(DataByMiles!AE20,DataByMiles!$AT$5:$AU$6,2,FALSE)","v":0},null,null,{"$f":"U22*$X$2*VLOOKUP(DataByMiles!AE20,DataByMiles!$AT$5:$AU$6,2,FALSE)","v":0},{"$f":"DataByMiles!Y20*VLOOKUP(DataByMiles!AE20,DataByMiles!$AT$5:$AU$6,2,FALSE)","v":14},{"$f":"DataByMiles!Z20","v":0},{"$f":"DataByMiles!AA20","v":6},null,null,{"$f":"(Y22/IF(Z22=0,$AD$1,Z22)*$AD$2)/IF(AA22=0,1,AA22)*VLOOKUP(DataByMiles!AE20,DataByMiles!$AT$5:$AU$6,2,FALSE)","v":2.0779924242424244},14,2.0779924242424244,0,{"$f":"(AF22+AG22)*VLOOKUP(DataByMiles!AE20,DataByMiles!$AT$5:$AU$6,2,FALSE)","v":2.0779924242424244},0.14842803030303031]
[null,{"$f":"DataByMiles!C21","v":"Ashley"},{"$f":"DataByMiles!T21*VLOOKUP(DataByMiles!AE21,DataByMiles!$AT$5:$AU$6,2,FALSE)","v":0},null,null,0,{"$f":"C23*$G$2*VLOOKUP(DataByMiles!AE21,DataByMiles!$AT$5:$AU$6,2,FALSE)","v":0},{"$f":"DataByMiles!U21*VLOOKUP(DataByMiles!AE21,DataByMiles!$AT$5:$AU$6,2,FALSE)","v":0},null,null,0,{"$f":"H23*$L$2*VLOOKUP(DataByMiles!AE21,DataByMiles!$AT$5:$AU$6,2,FALSE)","v":0},{"$f":"DataByMiles!V21*VLOOKUP(DataByMiles!AE21,DataByMiles!$AT$5:$AU$6,2,FALSE)","v":0},null,null,{"$f":"M23*$P$2*VLOOKUP(DataByMiles!AE21,DataByMiles!$AT$5:$AU$6,2,FALSE)","v":0},{"$f":"DataByMiles!W21*VLOOKUP(DataByMiles!AE21,DataByMiles!$AT$5:$AU$6,2,FALSE)","v":0},null,null,{"$f":"Q23*$T$2*VLOOKUP(DataByMiles!AE21,DataByMiles!$AT$5:$AU$6,2,FALSE)","v":0},{"$f":"DataByMiles!X21*VLOOKUP(DataByMiles!AE21,DataByMiles!$AT$5:$AU$6,2,FALSE)","v":0},null,null,{"$f":"U23*$X$2*VLOOKUP(DataByMiles!AE21,DataByMiles!$AT$5:$AU$6,2,FALSE)","v":0},{"$f":"DataByMiles!Y21*VLOOKUP(DataByMiles!AE21,DataByMiles!$AT$5:$AU$6,2,FALSE)","v":20},{"$f":"DataByMiles!Z21","v":0},{"$f":"DataByMiles!AA21","v":4},null,null,{"$f":"(Y23/IF(Z23=0,$AD$1,Z23)*$AD$2)/IF(AA23=0,1,AA23)*VLOOKUP(DataByMiles!AE21,DataByMiles!$AT$5:$AU$6,2,FALSE)","v":4.4528409090909093},20,4.4528409090909093,0,{"$f":"(AF23+AG23)*VLOOKUP(DataByMiles!AE21,DataByMiles!$AT$5:$AU$6,2,FALSE)","v":4.4528409090909093},0.22264204545454547]
[null,{"$f":"DataByMiles!C22","v":"Adelene"},{"$f":"DataByMiles!T22*VLOOKUP(DataByMiles!AE22,DataByMiles!$AT$5:$AU$6,2,FALSE)","v":0},null,null,0,{"$f":"C24*$G$2*VLOOKUP(DataByMiles!AE22,DataByMiles!$AT$5:$AU$6,2,FALSE)","v":0},{"$f":"DataByMiles!U22*VLOOKUP(DataByMiles!AE22,DataByMiles!$AT$5:$AU$6,2,FALSE)","v":0},null,null,0,{"$f":"H24*$L$2*VLOOKUP(DataByMiles!AE22,DataByMiles!$AT$5:$AU$6,2,FALSE)","v":0},{"$f":"DataByMiles!V22*VLOOKUP(DataByMiles!AE22,DataByMiles!$AT$5:$AU$6,2,FALSE)","v":0},null,null,{"$f":"M24*$P$2*VLOOKUP(DataByMiles!AE22,DataByMiles!$AT$5:$AU$6,2,FALSE)","v":0},{"$f":"DataByMiles!W22*VLOOKUP(DataByMiles!AE22,DataByMiles!$AT$5:$AU$6,2,FALSE)","v":0},null,null,{"$f":"Q24*$T$2*VLOOKUP(DataByMiles!AE22,DataByMiles!$AT$5:$AU$6,2,FALSE)","v":0},{"$f":"DataByMiles!X22*VLOOKUP(DataByMiles!AE22,DataByMiles!$AT$5:$AU$6,2,FALSE)","v":0},null,null,{"$f":"U24*$X$2*VLOOKUP(DataByMiles!AE22,DataByMiles!$AT$5:$AU$6,2,FALSE)","v":0},{"$f":"DataByMiles!Y22*VLOOKUP(DataByMiles!AE22,DataByMiles!$AT$5:$AU$6,2,FALSE)","v":23.2},{"$f":"DataByMiles!Z22","v":0},{"$f":"DataByMiles!AA22","v":5.5},null,null,{"$f":"(Y24/IF(Z24=0,$AD$1,Z24)*$AD$2)/IF(AA24=0,1,AA24)*VLOOKUP(DataByMiles!AE22,DataByMiles!$AT$5:$AU$6,2,FALSE)","v":3.7565785123966937},23.2,3.7565785123966937,0,{"$f":"(AF24+AG24)*VLOOKUP(DataByMiles!AE22,DataByMiles!$AT$5:$AU$6,2,FALSE)","v":3.7565785123966937},0.16192148760330577]
[null,{"$f":"DataByMiles!C23","v":"Rialyn"},{"$f":"DataByMiles!T23*VLOOKUP(DataByMiles!AE23,DataByMiles!$AT$5:$AU$6,2,FALSE)","v":9.5},null,null,0,{"$f":"C25*$G$2*VLOOKUP(DataByMiles!AE23,DataByMiles!$AT$5:$AU$6,2,FALSE)","v":2.2258499999999999},{"$f":"DataByMiles!U23*VLOOKUP(DataByMiles!AE23,DataByMiles!$AT$5:$AU$6,2,FALSE)","v":0},null,null,0,{"$f":"H25*$L$2*VLOOKUP(DataByMiles!AE23,DataByMiles!$AT$5:$AU$6,2,FALSE)","v":0},{"$f":"DataByMiles!V23*VLOOKUP(DataByMiles!AE23,DataByMiles!$AT$5:$AU$6,2,FALSE)","v":0},null,null,{"$f":"M25*$P$2*VLOOKUP(DataByMiles!AE23,DataByMiles!$AT$5:$AU$6,2,FALSE)","v":0},{"$f":"DataByMiles!W23*VLOOKUP(DataByMiles!AE23,DataByMiles!$AT$5:$AU$6,2,FALSE)","v":0},null,null,{"$f":"Q25*$T$2*VLOOKUP(DataByMiles!AE23,DataByMiles!$AT$5:$AU$6,2,FALSE)","v":0},{"$f":"DataByMiles!X23*VLOOKUP(DataByMiles!AE23,DataByMiles!$AT$5:$AU$6,2,FALSE)","v":0},null,null,{"$f":"U25*$X$2*VLOOKUP(DataByMiles!AE23,DataByMiles!$AT$5:$AU$6,2,FALSE)","v":0},{"$f":"DataByMiles!Y23*VLOOKUP(DataByMiles!AE23,DataByMiles!$AT$5:$AU$6,2,FALSE)","v":0},{"$f":"DataByMiles!Z23","v":0},{"$f":"DataByMiles!AA23","v":0},null,null,{"$f":"(Y25/IF(Z25=0,$AD$1,Z25)*$AD$2)/IF(AA25=0,1,AA25)*VLOOKUP(DataByMiles!AE23,DataByMiles!$AT$5:$AU$6,2,FALSE)","v":0},9.5,0,2.2258499999999999,{"$f":"(AF25+AG25)*VLOOKUP(DataByMiles!AE23,DataByMiles!$AT$5:$AU$6,2,FALSE)","v":2.2258499999999999},0.23429999999999998]
[null,{"$f":"DataByMiles!C24","v":"Michael"},{"$f":"DataByMiles!T24*VLOOKUP(DataByMiles!AE24,DataByMiles!$AT$5:$AU$6,2,FALSE)","v":10},null,null,0,{"$f":"C26*$G$2*VLOOKUP(DataByMiles!AE24,DataByMiles!$AT$5:$AU$6,2,FALSE)","v":2.343},{"$f":"DataByMiles!U24*VLOOKUP(DataByMiles!AE24,DataByMiles!$AT$5:$AU$6,2,FALSE)","v":0},null,null,0,{"$f":"H26*$L$2*VLOOKUP(DataByMiles!AE24,DataByMiles!$AT$5:$AU$6,2,FALSE)","v":0},{"$f":"DataByMiles!V24*VLOOKUP(DataByMiles!AE24,DataByMiles!$AT$5:$AU$6,2,FALSE)","v":0},null,null,{"$f":"M26*$P$2*VLOOKUP(DataByMiles!AE24,DataByMiles!$AT$5:$AU$6,2,FALSE)","v":0},{"$f":"DataByMiles!W24*VLOOKUP(DataByMiles!AE24,DataByMiles!$AT$5:$AU$6,2,FALSE)","v":0},null,null,{"$f":"Q26*$T$2*VLOOKUP(DataByMiles!AE24,DataByMiles!$AT$5:$AU$6,2,FALSE)","v":0},{"$f":"DataByMiles!X24*VLOOKUP(DataByMiles!AE24,DataByMiles!$AT$5:$AU$6,2,FALSE)","v":0},null,null,{"$f":"U26*$X$2*VLOOKUP(DataByMiles!AE24,DataByMiles!$AT$5:$AU$6,2,FALSE)","v":0},{"$f":"DataByMiles!Y24*VLOOKUP(DataByMiles!AE24,DataByMiles!$AT$5:$AU$6,2,FALSE)","v":15},{"$f":"DataByMiles!Z24","v":0},{"$f":"DataByMiles!AA24","v":2},null,null,{"$f":"(Y26/IF(Z26=0,$AD$1,Z26)*$AD$2)/IF(AA26=0,1,AA26)*VLOOKUP(DataByMiles!AE24,DataByMiles!$AT$5:$AU$6,2,FALSE)","v":6.6792613636363631},25,6.6792613636363631,2.343,{"$f":"(AF26+AG26)*VLOOKUP(DataByMiles!AE24,DataByMiles!$AT$5:$AU$6,2,FALSE)","v":9.022261363636364},0.36089045454545454]
[null,{"$f":"DataByMiles!C25","v":"Kevin"},{"$f":"DataByMiles!T25*VLOOKUP(DataByMiles!AE25,DataByMiles!$AT$5:$AU$6,2,FALSE)","v":0},null,null,0,{"$f":"C27*$G$2*VLOOKUP(DataByMiles!AE25,DataByMiles!$AT$5:$AU$6,2,FALSE)","v":0},{"$f":"DataByMiles!U25*VLOOKUP(DataByMiles!AE25,DataByMiles!$AT$5:$AU$6,2,FALSE)","v":0},null,null,0,{"$f":"H27*$L$2*VLOOKUP(DataByMiles!AE25,DataByMiles!$AT$5:$AU$6,2,FALSE)","v":0},{"$f":"DataByMiles!V25*VLOOKUP(DataByMiles!AE25,DataByMiles!$AT$5:$AU$6,2,FALSE)","v":0},null,null,{"$f":"M27*$P$2*VLOOKUP(DataByMiles!AE25,DataByMiles!$AT$5:$AU$6,2,FALSE)","v":0},{"$f":"DataByMiles!W25*VLOOKUP(DataByMiles!AE25,DataByMiles!$AT$5:$AU$6,2,FALSE)","v":0},null,null,{"$f":"Q27*$T$2*VLOOKUP(DataByMiles!AE25,DataByMiles!$AT$5:$AU$6,2,FALSE)","v":0},{"$f":"DataByMiles!X25*VLOOKUP(DataByMiles!AE25,DataByMiles!$AT$5:$AU$6,2,FALSE)","v":0},null,null,{"$f":"U27*$X$2*VLOOKUP(DataByMiles!AE25,DataByMiles!$AT$5:$AU$6,2,FALSE)","v":0},{"$f":"DataByMiles!Y25*VLOOKUP(DataByMiles!AE25,DataByMiles!$AT$5:$AU$6,2,FALSE)","v":15},{"$f":"DataByMiles!Z25","v":0},{"$f":"DataByMiles!AA25","v":4},null,null,{"$f":"(Y27/IF(Z27=0,$AD$1,Z27)*$AD$2)/IF(AA27=0,1,AA27)*VLOOKUP(DataByMiles!AE25,DataByMiles!$AT$5:$AU$6,2,FALSE)","v":3.3396306818181816},15,3.3396306818181816,0,{"$f":"(AF27+AG27)*VLOOKUP(DataByMiles!AE25,DataByMiles!$AT$5:$AU$6,2,FALSE)","v":3.3396306818181816},0.22264204545454544]
[null,{"$f":"DataByMiles!C26","v":"Khang"},{"$f":"DataByMiles!T26*VLOOKUP(DataByMiles!AE26,DataByMiles!$AT$5:$AU$6,2,FALSE)","v":0},null,null,0,{"$f":"C28*$G$2*VLOOKUP(DataByMiles!AE26,DataByMiles!$AT$5:$AU$6,2,FALSE)","v":0},{"$f":"DataByMiles!U26*VLOOKUP(DataByMiles!AE26,DataByMiles!$AT$5:$AU$6,2,FALSE)","v":20},null,null,0,{"$f":"H28*$L$2*VLOOKUP(DataByMiles!AE26,DataByMiles!$AT$5:$AU$6,2,FALSE)","v":3.306},{"$f":"DataByMiles!V26*VLOOKUP(DataByMiles!AE26,DataByMiles!$AT$5:$AU$6,2,FALSE)","v":0},null,null,{"$f":"M28*$P$2*VLOOKUP(DataByMiles!AE26,DataByMiles!$AT$5:$AU$6,2,FALSE)","v":0},{"$f":"DataByMiles!W26*VLOOKUP(DataByMiles!AE26,DataByMiles!$AT$5:$AU$6,2,FALSE)","v":0},null,null,{"$f":"Q28*$T$2*VLOOKUP(DataByMiles!AE26,DataByMiles!$AT$5:$AU$6,2,FALSE)","v":0},{"$f":"DataByMiles!X26*VLOOKUP(DataByMiles!AE26,DataByMiles!$AT$5:$AU$6,2,FALSE)","v":0},null,null,{"$f":"U28*$X$2*VLOOKUP(DataByMiles!AE26,DataByMiles!$AT$5:$AU$6,2,FALSE)","v":0},{"$f":"DataByMiles!Y26*VLOOKUP(DataByMiles!AE26,DataByMiles!$AT$5:$AU$6,2,FALSE)","v":0},{"$f":"DataByMiles!Z26","v":0},{"$f":"DataByMiles!AA26","v":0},null,null,{"$f":"(Y28/IF(Z28=0,$AD$1,Z28)*$AD$2)/IF(AA28=0,1,AA28)*VLOOKUP(DataByMiles!AE26,DataByMiles!$AT$5:$AU$6,2,FALSE)","v":0},20,0,3.306,{"$f":"(AF28+AG28)*VLOOKUP(DataByMiles!AE26,DataByMiles!$AT$5:$AU$6,2,FALSE)","v":3.306},0.1653]
[null,{"$f":"DataByMiles!C27","v":"Riley"},{"$f":"DataByMiles!T27*VLOOKUP(DataByMiles!AE27,DataByMiles!$AT$5:$AU$6,2,FALSE)","v":5},null,null,0,{"$f":"C29*$G$2*VLOOKUP(DataByMiles!AE27,DataByMiles!$AT$5:$AU$6,2,FALSE)","v":1.1715},{"$f":"DataByMiles!U27*VLOOKUP(DataByMiles!AE27,DataByMiles!$AT$5:$AU$6,2,FALSE)","v":0},null,null,0,{"$f":"H29*$L$2*VLOOKUP(DataByMiles!AE27,DataByMiles!$AT$5:$AU$6,2,FALSE)","v":0},{"$f":"DataByMiles!V27*VLOOKUP(DataByMiles!AE27,DataByMiles!$AT$5:$AU$6,2,FALSE)","v":0},null,null,{"$f":"M29*$P$2*VLOOKUP(DataByMiles!AE27,DataByMiles!$AT$5:$AU$6,2,FALSE)","v":0},{"$f":"DataByMiles!W27*VLOOKUP(DataByMiles!AE27,DataByMiles!$AT$5:$AU$6,2,FALSE)","v":0},null,null,{"$f":"Q29*$T$2*VLOOKUP(DataByMiles!AE27,DataByMiles!$AT$5:$AU$6,2,FALSE)","v":0},{"$f":"DataByMiles!X27*VLOOKUP(DataByMiles!AE27,DataByMiles!$AT$5:$AU$6,2,FALSE)","v":0},null,null,{"$f":"U29*$X$2*VLOOKUP(DataByMiles!AE27,DataByMiles!$AT$5:$AU$6,2,FALSE)","v":0},{"$f":"DataByMiles!Y27*VLOOKUP(DataByMiles!AE27,DataByMiles!$AT$5:$AU$6,2,FALSE)","v":5},{"$f":"DataByMiles!Z27","v":0},{"$f":"DataByMiles!AA27","v":4},null,null,{"$f":"(Y29/IF(Z29=0,$AD$1,Z29)*$AD$2)/IF(AA29=0,1,AA29)*VLOOKUP(DataByMiles!AE27,DataByMiles!$AT$5:$AU$6,2,FALSE)","v":1.1132102272727273},10,1.1132102272727273,1.1715,{"$f":"(AF29+AG29)*VLOOKUP(DataByMiles!AE27,DataByMiles!$AT$5:$AU$6,2,FALSE)","v":2.2847102272727273},0.22847102272727274]
[null,{"$f":"DataByMiles!C28","v":"Justin"},{"$f":"DataByMiles!T28*VLOOKUP(DataByMiles!AE28,DataByMiles!$AT$5:$AU$6,2,FALSE)","v":2},null,null,0,{"$f":"C30*$G$2*VLOOKUP(DataByMiles!AE28,DataByMiles!$AT$5:$AU$6,2,FALSE)","v":0.46860000000000002},{"$f":"DataByMiles!U28*VLOOKUP(DataByMiles!AE28,DataByMiles!$AT$5:$AU$6,2,FALSE)","v":8},null,null,0,{"$f":"H30*$L$2*VLOOKUP(DataByMiles!AE28,DataByMiles!$AT$5:$AU$6,2,FALSE)","v":1.3224},{"$f":"DataByMiles!V28*VLOOKUP(DataByMiles!AE28,DataByMiles!$AT$5:$AU$6,2,FALSE)","v":0},null,null,{"$f":"M30*$P$2*VLOOKUP(DataByMiles!AE28,DataByMiles!$AT$5:$AU$6,2,FALSE)","v":0},{"$f":"DataByMiles!W28*VLOOKUP(DataByMiles!AE28,DataByMiles!$AT$5:$AU$6,2,FALSE)","v":0},null,null,{"$f":"Q30*$T$2*VLOOKUP(DataByMiles!AE28,DataByMiles!$AT$5:$AU$6,2,FALSE)","v":0},{"$f":"DataByMiles!X28*VLOOKUP(DataByMiles!AE28,DataByMiles!$AT$5:$AU$6,2,FALSE)","v":0},null,null,{"$f":"U30*$X$2*VLOOKUP(DataByMiles!AE28,DataByMiles!$AT$5:$AU$6,2,FALSE)","v":0},{"$f":"DataByMiles!Y28*VLOOKUP(DataByMiles!AE28,DataByMiles!$AT$5:$AU$6,2,FALSE)","v":0},{"$f":"DataByMiles!Z28","v":0},{"$f":"DataByMiles!AA28","v":0},null,null,{"$f":"(Y30/IF(Z30=0,$AD$1,Z30)*$AD$2)/IF(AA30=0,1,AA30)*VLOOKUP(DataByMiles!AE28,DataByMiles!$AT$5:$AU$6,2,FALSE)","v":0},10,0,1.7909999999999999,{"$f":"(AF30+AG30)*VLOOKUP(DataByMiles!AE28,DataByMiles!$AT$5:$AU$6,2,FALSE)","v":1.7909999999999999},0.17909999999999998]
[null,{"$f":"DataByMiles!C29","v":"Shawn"},{"$f":"DataByMiles!T29*VLOOKUP(DataByMiles!AE29,DataByMiles!$AT$5:$AU$6,2,FALSE)","v":10},null,null,0,{"$f":"C31*$G$2*VLOOKUP(DataByMiles!AE29,DataByMiles!$AT$5:$AU$6,2,FALSE)","v":2.343},{"$f":"DataByMiles!U29*VLOOKUP(DataByMiles!AE29,DataByMiles!$AT$5:$AU$6,2,FALSE)","v":0},null,null,0,{"$f":"H31*$L$2*VLOOKUP(DataByMiles!AE29,DataByMiles!$AT$5:$AU$6,2,FALSE)","v":0},{"$f":"DataByMiles!V29*VLOOKUP(DataByMiles!AE29,DataByMiles!$AT$5:$AU$6,2,FALSE)","v":0},null,null,{"$f":"M31*$P$2*VLOOKUP(DataByMiles!AE29,DataByMiles!$AT$5:$AU$6,2,FALSE)","v":0},{"$f":"DataByMiles!W29*VLOOKUP(DataByMiles!AE29,DataByMiles!$AT$5:$AU$6,2,FALSE)","v":0},null,null,{"$f":"Q31*$T$2*VLOOKUP(DataByMiles!AE29,DataByMiles!$AT$5:$AU$6,2,FALSE)","v":0},{"$f":"DataByMiles!X29*VLOOKUP(DataByMiles!AE29,DataByMiles!$AT$5:$AU$6,2,FALSE)","v":0},null,null,{"$f":"U31*$X$2*VLOOKUP(DataByMiles!AE29,DataByMiles!$AT$5:$AU$6,2,FALSE)","v":0},{"$f":"DataByMiles!Y29*VLOOKUP(DataByMiles!AE29,DataByMiles!$AT$5:$AU$6,2,FALSE)","v":0},{"$f":"DataByMiles!Z29","v":0},{"$f":"DataByMiles!AA29","v":0},null,null,{"$f":"(Y31/IF(Z31=0,$AD$1,Z31)*$AD$2)/IF(AA31=0,1,AA31)*VLOOKUP(DataByMiles!AE29,DataByMiles!$AT$5:$AU$6,2,FALSE)","v":0},10,0,2.343,{"$f":"(AF31+AG31)*VLOOKUP(DataByMiles!AE29,DataByMiles!$AT$5:$AU$6,2,FALSE)","v":2.343},0.23430000000000001]
[null,{"$f":"DataByMiles!C30","v":"Angelique"},{"$f":"DataByMiles!T30*VLOOKUP(DataByMiles!AE30,DataByMiles!$AT$5:$AU$6,2,FALSE)","v":2.8},null,null,0,{"$f":"C32*$G$2*VLOOKUP(DataByMiles!AE30,DataByMiles!$AT$5:$AU$6,2,FALSE)","v":0.65603999999999996},{"$f":"DataByMiles!U30*VLOOKUP(DataByMiles!AE30,DataByMiles!$AT$5:$AU$6,2,FALSE)","v":0},null,null,0,{"$f":"H32*$L$2*VLOOKUP(DataByMiles!AE30,DataByMiles!$AT$5:$AU$6,2,FALSE)","v":0},{"$f":"DataByMiles!V30*VLOOKUP(DataByMiles!AE30,DataByMiles!$AT$5:$AU$6,2,FALSE)","v":0},null,null,{"$f":"M32*$P$2*VLOOKUP(DataByMiles!AE30,DataByMiles!$AT$5:$AU$6,2,FALSE)","v":0},{"$f":"DataByMiles!W30*VLOOKUP(DataByMiles!AE30,DataByMiles!$AT$5:$AU$6,2,FALSE)","v":0},null,null,{"$f":"Q32*$T$2*VLOOKUP(DataByMiles!AE30,DataByMiles!$AT$5:$AU$6,2,FALSE)","v":0},{"$f":"DataByMiles!X30*VLOOKUP(DataByMiles!AE30,DataByMiles!$AT$5:$AU$6,2,FALSE)","v":0},null,null,{"$f":"U32*$X$2*VLOOKUP(DataByMiles!AE30,DataByMiles!$AT$5:$AU$6,2,FALSE)","v":0},{"$f":"DataByMiles!Y30*VLOOKUP(DataByMiles!AE30,DataByMiles!$AT$5:$AU$6,2,FALSE)","v":0},{"$f":"DataByMiles!Z30","v":0},{"$f":"DataByMiles!AA30","v":0},null,null,{"$f":"(Y32/IF(Z32=0,$AD$1,Z32)*$AD$2)/IF(AA32=0,1,AA32)*VLOOKUP(DataByMiles!AE30,DataByMiles!$AT$5:$AU$6,2,FALSE)","v":0},2.8,0,0.65603999999999996,{"$f":"(AF32+AG32)*VLOOKUP(DataByMiles!AE30,DataByMiles!$AT$5:$AU$6,2,FALSE)","v":0.65603999999999996},0.23430000000000001]
[null,{"$f":"DataByMiles!C31","v":"Reema"},{"$f":"DataByMiles!T31*VLOOKUP(DataByMiles!AE31,DataByMiles!$AT$5:$AU$6,2,FALSE)","v":10},null,null,0,{"$f":"C33*$G$2*VLOOKUP(DataByMiles!AE31,DataByMiles!$AT$5:$AU$6,2,FALSE)","v":2.343},{"$f":"DataByMiles!U31*VLOOKUP(DataByMiles!AE31,DataByMiles!$AT$5:$AU$6,2,FALSE)","v":0},null,null,0,{"$f":"H33*$L$2*VLOOKUP(DataByMiles!AE31,DataByMiles!$AT$5:$AU$6,2,FALSE)","v":0},{"$f":"DataByMiles!V31*VLOOKUP(DataByMiles!AE31,DataByMiles!$AT$5:$AU$6,2,FALSE)","v":0},null,null,{"$f":"M33*$P$2*VLOOKUP(DataByMiles!AE31,DataByMiles!$AT$5:$AU$6,2,FALSE)","v":0},{"$f":"DataByMiles!W31*VLOOKUP(DataByMiles!AE31,DataByMiles!$AT$5:$AU$6,2,FALSE)","v":0},null,null,{"$f":"Q33*$T$2*VLOOKUP(DataByMiles!AE31,DataByMiles!$AT$5:$AU$6,2,FALSE)","v":0},{"$f":"DataByMiles!X31*VLOOKUP(DataByMiles!AE31,DataByMiles!$AT$5:$AU$6,2,FALSE)","v":0},null,null,{"$f":"U33*$X$2*VLOOKUP(DataByMiles!AE31,DataByMiles!$AT$5:$AU$6,2,FALSE)","v":0},{"$f":"DataByMiles!Y31*VLOOKUP(DataByMiles!AE31,DataByMiles!$AT$5:$AU$6,2,FALSE)","v":0},{"$f":"DataByMiles!Z31","v":0},{"$f":"DataByMiles!AA31","v":0},null,null,{"$f":"(Y33/IF(Z33=0,$AD$1,Z33)*$AD$2)/IF(AA33=0,1,AA33)*VLOOKUP(DataByMiles!AE31,DataByMiles!$AT$5:$AU$6,2,FALSE)","v":0},10,0,2.343,{"$f":"(AF33+AG33)*VLOOKUP(DataByMiles!AE31,DataByMiles!$AT$5:$AU$6,2,FALSE)","v":2.343},0.23430000000000001]
[null,{"$f":"DataByMiles!C32","v":"Alexis"},{"$f":"DataByMiles!T32*VLOOKUP(DataByMiles!AE32,DataByMiles!$AT$5:$AU$6,2,FALSE)","v":3},null,null,0,{"$f":"C34*$G$2*VLOOKUP(DataByMiles!AE32,DataByMiles!$AT$5:$AU$6,2,FALSE)","v":0.70290000000000008},{"$f":"DataByMiles!U32*VLOOKUP(DataByMiles!AE32,DataByMiles!$AT$5:$AU$6,2,FALSE)","v":0},null,null,0,{"$f":"H34*$L$2*VLOOKUP(DataByMiles!AE32,DataByMiles!$AT$5:$AU$6,2,FALSE)","v":0},{"$f":"DataByMiles!V32*VLOOKUP(DataByMiles!AE32,DataByMiles!$AT$5:$AU$6,2,FALSE)","v":0},null,null,{"$f":"M34*$P$2*VLOOKUP(DataByMiles!AE32,DataByMiles!$AT$5:$AU$6,2,FALSE)","v":0},{"$f":"DataByMiles!W32*VLOOKUP(DataByMiles!AE32,DataByMiles!$AT$5:$AU$6,2,FALSE)","v":0},null,null,{"$f":"Q34*$T$2*VLOOKUP(DataByMiles!AE32,DataByMiles!$AT$5:$AU$6,2,FALSE)","v":0},{"$f":"DataByMiles!X32*VLOOKUP(DataByMiles!AE32,DataByMiles!$AT$5:$AU$6,2,FALSE)","v":0},null,null,{"$f":"U34*$X$2*VLOOKUP(DataByMiles!AE32,DataByMiles!$AT$5:$AU$6,2,FALSE)","v":0},{"$f":"DataByMiles!Y32*VLOOKUP(DataByMiles!AE32,DataByMiles!$AT$5:$AU$6,2,FALSE)","v":14},{"$f":"DataByMiles!Z32","v":0},{"$f":"DataByMiles!AA32","v":3},null,null,{"$f":"(Y34/IF(Z34=0,$AD$1,Z34)*$AD$2)/IF(AA34=0,1,AA34)*VLOOKUP(DataByMiles!AE32,DataByMiles!$AT$5:$AU$6,2,FALSE)","v":4.1559848484848487},17,4.1559848484848487,0.70290000000000008,{"$f":"(AF34+AG34)*VLOOKUP(DataByMiles!AE32,DataByMiles!$AT$5:$AU$6,2,FALSE)","v":4.8588848484848484},0.28581675579322635]
[null,{"$f":"DataByMiles!C33","v":"Gursewak"},{"$f":"DataByMiles!T33*VLOOKUP(DataByMiles!AE33,DataByMiles!$AT$5:$AU$6,2,FALSE)","v":4},null,null,0,{"$f":"C35*$G$2*VLOOKUP(DataByMiles!AE33,DataByMiles!$AT$5:$AU$6,2,FALSE)","v":0.93720000000000003},{"$f":"DataByMiles!U33*VLOOKUP(DataByMiles!AE33,DataByMiles!$AT$5:$AU$6,2,FALSE)","v":0},null,null,0,{"$f":"H35*$L$2*VLOOKUP(DataByMiles!AE33,DataByMiles!$AT$5:$AU$6,2,FALSE)","v":0},{"$f":"DataByMiles!V33*VLOOKUP(DataByMiles!AE33,DataByMiles!$AT$5:$AU$6,2,FALSE)","v":0},null,null,{"$f":"M35*$P$2*VLOOKUP(DataByMiles!AE33,DataByMiles!$AT$5:$AU$6,2,FALSE)","v":0},{"$f":"DataByMiles!W33*VLOOKUP(DataByMiles!AE33,DataByMiles!$AT$5:$AU$6,2,FALSE)","v":0},null,null,{"$f":"Q35*$T$2*VLOOKUP(DataByMiles!AE33,DataByMiles!$AT$5:$AU$6,2,FALSE)","v":0},{"$f":"DataByMiles!X33*VLOOKUP(DataByMiles!AE33,DataByMiles!$AT$5:$AU$6,2,FALSE)","v":0},null,null,{"$f":"U35*$X$2*VLOOKUP(DataByMiles!AE33,DataByMiles!$AT$5:$AU$6,2,FALSE)","v":0},{"$f":"DataByMiles!Y33*VLOOKUP(DataByMiles!AE33,DataByMiles!$AT$5:$AU$6,2,FALSE)","v":0},{"$f":"DataByMiles!Z33","v":0},{"$f":"DataByMiles!AA33","v":0},null,null,{"$f":"(Y35/IF(Z35=0,$AD$1,Z35)*$AD$2)/IF(AA35=0,1,AA35)*VLOOKUP(DataByMiles!AE33,DataByMiles!$AT$5:$AU$6,2,FALSE)","v":0},4,0,0.93720000000000003,{"$f":"(AF35+AG35)*VLOOKUP(DataByMiles!AE33,DataByMiles!$AT$5:$AU$6,2,FALSE)","v":0.93720000000000003},0.23430000000000001]
[null,{"$f":"DataByMiles!C34","v":"Zach"},{"$f":"DataByMiles!T34*VLOOKUP(DataByMiles!AE34,DataByMiles!$AT$5:$AU$6,2,FALSE)","v":0},null,null,0,{"$f":"C36*$G$2*VLOOKUP(DataByMiles!AE34,DataByMiles!$AT$5:$AU$6,2,FALSE)","v":0},{"$f":"DataByMiles!U34*VLOOKUP(DataByMiles!AE34,DataByMiles!$AT$5:$AU$6,2,FALSE)","v":0},null,null,0,{"$f":"H36*$L$2*VLOOKUP(DataByMiles!AE34,DataByMiles!$AT$5:$AU$6,2,FALSE)","v":0},{"$f":"DataByMiles!V34*VLOOKUP(DataByMiles!AE34,DataByMiles!$AT$5:$AU$6,2,FALSE)","v":0},null,null,{"$f":"M36*$P$2*VLOOKUP(DataByMiles!AE34,DataByMiles!$AT$5:$AU$6,2,FALSE)","v":0},{"$f":"DataByMiles!W34*VLOOKUP(DataByMiles!AE34,DataByMiles!$AT$5:$AU$6,2,FALSE)","v":0},null,null,{"$f":"Q36*$T$2*VLOOKUP(DataByMiles!AE34,DataByMiles!$AT$5:$AU$6,2,FALSE)","v":0},{"$f":"DataByMiles!X34*VLOOKUP(DataByMiles!AE34,DataByMiles!$AT$5:$AU$6,2,FALSE)","v":0},null,null,{"$f":"U36*$X$2*VLOOKUP(DataByMiles!AE34,DataByMiles!$AT$5:$AU$6,2,FALSE)","v":0},{"$f":"DataByMiles!Y34*VLOOKUP(DataByMiles!AE34,DataByMiles!$AT$5:$AU$6,2,FALSE)","v":40},{"$f":"DataByMiles!Z34","v":0},{"$f":"DataByMiles!AA34","v":2},null,null,{"$f":"(Y36/IF(Z36=0,$AD$1,Z36)*$AD$2)/IF(AA36=0,1,AA36)*VLOOKUP(DataByMiles!AE34,DataByMiles!$AT$5:$AU$6,2,FALSE)","v":17.811363636363637},40,17.811363636363637,0,{"$f":"(AF36+AG36)*VLOOKUP(DataByMiles!AE34,DataByMiles!$AT$5:$AU$6,2,FALSE)","v":17.811363636363637},0.44528409090909093]
[null,{"$f":"DataByMiles!C35","v":"Dakota"},{"$f":"DataByMiles!T35*VLOOKUP(DataByMiles!AE35,DataByMiles!$AT$5:$AU$6,2,FALSE)","v":7},null,null,0,{"$f":"C37*$G$2*VLOOKUP(DataByMiles!AE35,DataByMiles!$AT$5:$AU$6,2,FALSE)","v":1.6401000000000001},{"$f":"DataByMiles!U35*VLOOKUP(DataByMiles!AE35,DataByMiles!$AT$5:$AU$6,2,FALSE)","v":0},null,null,0,{"$f":"H37*$L$2*VLOOKUP(DataByMiles!AE35,DataByMiles!$AT$5:$AU$6,2,FALSE)","v":0},{"$f":"DataByMiles!V35*VLOOKUP(DataByMiles!AE35,DataByMiles!$AT$5:$AU$6,2,FALSE)","v":0},null,null,{"$f":"M37*$P$2*VLOOKUP(DataByMiles!AE35,DataByMiles!$AT$5:$AU$6,2,FALSE)","v":0},{"$f":"DataByMiles!W35*VLOOKUP(DataByMiles!AE35,DataByMiles!$AT$5:$AU$6,2,FALSE)","v":0},null,null,{"$f":"Q37*$T$2*VLOOKUP(DataByMiles!AE35,DataByMiles!$AT$5:$AU$6,2,FALSE)","v":0},{"$f":"DataByMiles!X35*VLOOKUP(DataByMiles!AE35,DataByMiles!$AT$5:$AU$6,2,FALSE)","v":0},null,null,{"$f":"U37*$X$2*VLOOKUP(DataByMiles!AE35,DataByMiles!$AT$5:$AU$6,2,FALSE)","v":0},{"$f":"DataByMiles!Y35*VLOOKUP(DataByMiles!AE35,DataByMiles!$AT$5:$AU$6,2,FALSE)","v":60},{"$f":"DataByMiles!Z35","v":0},{"$f":"DataByMiles!AA35","v":2},null,null,{"$f":"(Y37/IF(Z37=0,$AD$1,Z37)*$AD$2)/IF(AA37=0,1,AA37)*VLOOKUP(DataByMiles!AE35,DataByMiles!$AT$5:$AU$6,2,FALSE)","v":26.717045454545453},67,26.717045454545453,1.6401000000000001,{"$f":"(AF37+AG37)*VLOOKUP(DataByMiles!AE35,DataByMiles!$AT$5:$AU$6,2,FALSE)","v":28.357145454545453},0.4232409769335142]
[null,{"$f":"DataByMiles!C36","v":"Fernando"},{"$f":"DataByMiles!T36*VLOOKUP(DataByMiles!AE36,DataByMiles!$AT$5:$AU$6,2,FALSE)","v":10},null,null,0,{"$f":"C38*$G$2*VLOOKUP(DataByMiles!AE36,DataByMiles!$AT$5:$AU$6,2,FALSE)","v":2.343},{"$f":"DataByMiles!U36*VLOOKUP(DataByMiles!AE36,DataByMiles!$AT$5:$AU$6,2,FALSE)","v":0},null,null,0,{"$f":"H38*$L$2*VLOOKUP(DataByMiles!AE36,DataByMiles!$AT$5:$AU$6,2,FALSE)","v":0},{"$f":"DataByMiles!V36*VLOOKUP(DataByMiles!AE36,DataByMiles!$AT$5:$AU$6,2,FALSE)","v":0},null,null,{"$f":"M38*$P$2*VLOOKUP(DataByMiles!AE36,DataByMiles!$AT$5:$AU$6,2,FALSE)","v":0},{"$f":"DataByMiles!W36*VLOOKUP(DataByMiles!AE36,DataByMiles!$AT$5:$AU$6,2,FALSE)","v":0},null,null,{"$f":"Q38*$T$2*VLOOKUP(DataByMiles!AE36,DataByMiles!$AT$5:$AU$6,2,FALSE)","v":0},{"$f":"DataByMiles!X36*VLOOKUP(DataByMiles!AE36,DataByMiles!$AT$5:$AU$6,2,FALSE)","v":0},null,null,{"$f":"U38*$X$2*VLOOKUP(DataByMiles!AE36,DataByMiles!$AT$5:$AU$6,2,FALSE)","v":0},{"$f":"DataByMiles!Y36*VLOOKUP(DataByMiles!AE36,DataByMiles!$AT$5:$AU$6,2,FALSE)","v":0},{"$f":"DataByMiles!Z36","v":0},{"$f":"DataByMiles!AA36","v":0},null,null,{"$f":"(Y38/IF(Z38=0,$AD$1,Z38)*$AD$2)/IF(AA38=0,1,AA38)*VLOOKUP(DataByMiles!AE36,DataByMiles!$AT$5:$AU$6,2,FALSE)","v":0},10,0,2.343,{"$f":"(AF38+AG38)*VLOOKUP(DataByMiles!AE36,DataByMiles!$AT$5:$AU$6,2,FALSE)","v":2.343},0.23430000000000001]
[null,{"$f":"DataByMiles!C37","v":"Matt"},{"$f":"DataByMiles!T37*VLOOKUP(DataByMiles!AE37,DataByMiles!$AT$5:$AU$6,2,FALSE)","v":20},null,null,0,{"$f":"C39*$G$2*VLOOKUP(DataByMiles!AE37,DataByMiles!$AT$5:$AU$6,2,FALSE)","v":4.6859999999999999},{"$f":"DataByMiles!U37*VLOOKUP(DataByMiles!AE37,DataByMiles!$AT$5:$AU$6,2,FALSE)","v":0},null,null,0,{"$f":"H39*$L$2*VLOOKUP(DataByMiles!AE37,DataByMiles!$AT$5:$AU$6,2,FALSE)","v":0},{"$f":"DataByMiles!V37*VLOOKUP(DataByMiles!AE37,DataByMiles!$AT$5:$AU$6,2,FALSE)","v":0},null,null,{"$f":"M39*$P$2*VLOOKUP(DataByMiles!AE37,DataByMiles!$AT$5:$AU$6,2,FALSE)","v":0},{"$f":"DataByMiles!W37*VLOOKUP(DataByMiles!AE37,DataByMiles!$AT$5:$AU$6,2,FALSE)","v":0},null,null,{"$f":"Q39*$T$2*VLOOKUP(DataByMiles!AE37,DataByMiles!$AT$5:$AU$6,2,FALSE)","v":0},{"$f":"DataByMiles!X37*VLOOKUP(DataByMiles!AE37,DataByMiles!$AT$5:$AU$6,2,FALSE)","v":0},null,null,{"$f":"U39*$X$2*VLOOKUP(DataByMiles!AE37,DataByMiles!$AT$5:$AU$6,2,FALSE)","v":0},{"$f":"DataByMiles!Y37*VLOOKUP(DataByMiles!AE37,DataByMiles!$AT$5:$AU$6,2,FALSE)","v":0},{"$f":"DataByMiles!Z37","v":0},{"$f":"DataByMiles!AA37","v":0},null,null,{"$f":"(Y39/IF(Z39=0,$AD$1,Z39)*$AD$2)/IF(AA39=0,1,AA39)*VLOOKUP(DataByMiles!AE37,DataByMiles!$AT$5:$AU$6,2,FALSE)","v":0},20,0,4.6859999999999999,{"$f":"(AF39+AG39)*VLOOKUP(DataByMiles!AE37,DataByMiles!$AT$5:$AU$6,2,FALSE)","v":4.6859999999999999},0.23430000000000001]
[null,{"$f":"DataByMiles!C38","v":"----34"},{"$f":"DataByMiles!T38*VLOOKUP(DataByMiles!AE38,DataByMiles!$AT$5:$AU$6,2,FALSE)","v":0},null,null,0,{"$f":"C40*$G$2*VLOOKUP(DataByMiles!AE38,DataByMiles!$AT$5:$AU$6,2,FALSE)","v":0},{"$f":"DataByMiles!U38*VLOOKUP(DataByMiles!AE38,DataByMiles!$AT$5:$AU$6,2,FALSE)","v":0},null,null,0,{"$f":"H40*$L$2*VLOOKUP(DataByMiles!AE38,DataByMiles!$AT$5:$AU$6,2,FALSE)","v":0},{"$f":"DataByMiles!V38*VLOOKUP(DataByMiles!AE38,DataByMiles!$AT$5:$AU$6,2,FALSE)","v":0},null,null,{"$f":"M40*$P$2*VLOOKUP(DataByMiles!AE38,DataByMiles!$AT$5:$AU$6,2,FALSE)","v":0},{"$f":"DataByMiles!W38*VLOOKUP(DataByMiles!AE38,DataByMiles!$AT$5:$AU$6,2,FALSE)","v":0},null,null,{"$f":"Q40*$T$2*VLOOKUP(DataByMiles!AE38,DataByMiles!$AT$5:$AU$6,2,FALSE)","v":0},{"$f":"DataByMiles!X38*VLOOKUP(DataByMiles!AE38,DataByMiles!$AT$5:$AU$6,2,FALSE)","v":0},null,null,{"$f":"U40*$X$2*VLOOKUP(DataByMiles!AE38,DataByMiles!$AT$5:$AU$6,2,FALSE)","v":0},{"$f":"DataByMiles!Y38*VLOOKUP(DataByMiles!AE38,DataByMiles!$AT$5:$AU$6,2,FALSE)","v":0},{"$f":"DataByMiles!Z38","v":0},{"$f":"DataByMiles!AA38","v":0},null,null,{"$f":"(Y40/IF(Z40=0,$AD$1,Z40)*$AD$2)/IF(AA40=0,1,AA40)*VLOOKUP(DataByMiles!AE38,DataByMiles!$AT$5:$AU$6,2,FALSE)","v":0},"",0,0,{"$f":"(AF40+AG40)*VLOOKUP(DataByMiles!AE38,DataByMiles!$AT$5:$AU$6,2,FALSE)","v":0},0]
[null,{"$f":"DataByMiles!C39","v":"----35"},{"$f":"DataByMiles!T39*VLOOKUP(DataByMiles!AE39,DataByMiles!$AT$5:$AU$6,2,FALSE)","v":0},null,null,0,{"$f":"C41*$G$2*VLOOKUP(DataByMiles!AE39,DataByMiles!$AT$5:$AU$6,2,FALSE)","v":0},{"$f":"DataByMiles!U39*VLOOKUP(DataByMiles!AE39,DataByMiles!$AT$5:$AU$6,2,FALSE)","v":0},null,null,0,{"$f":"H41*$L$2*VLOOKUP(DataByMiles!AE39,DataByMiles!$AT$5:$AU$6,2,FALSE)","v":0},{"$f":"DataByMiles!V39*VLOOKUP(DataByMiles!AE39,DataByMiles!$AT$5:$AU$6,2,FALSE)","v":0},null,null,{"$f":"M41*$P$2*VLOOKUP(DataByMiles!AE39,DataByMiles!$AT$5:$AU$6,2,FALSE)","v":0},{"$f":"DataByMiles!W39*VLOOKUP(DataByMiles!AE39,DataByMiles!$AT$5:$AU$6,2,FALSE)","v":0},null,null,{"$f":"Q41*$T$2*VLOOKUP(DataByMiles!AE39,DataByMiles!$AT$5:$AU$6,2,FALSE)","v":0},{"$f":"DataByMiles!X39*VLOOKUP(DataByMiles!AE39,DataByMiles!$AT$5:$AU$6,2,FALSE)","v":0},null,null,{"$f":"U41*$X$2*VLOOKUP(DataByMiles!AE39,DataByMiles!$AT$5:$AU$6,2,FALSE)","v":0},{"$f":"DataByMiles!Y39*VLOOKUP(DataByMiles!AE39,DataByMiles!$AT$5:$AU$6,2,FALSE)","v":0},{"$f":"DataByMiles!Z39","v":0},{"$f":"DataByMiles!AA39","v":0},null,null,{"$f":"(Y41/IF(Z41=0,$AD$1,Z41)*$AD$2)/IF(AA41=0,1,AA41)*VLOOKUP(DataByMiles!AE39,DataByMiles!$AT$5:$AU$6,2,FALSE)","v":0},"",0,0,{"$f":"(AF41+AG41)*VLOOKUP(DataByMiles!AE39,DataByMiles!$AT$5:$AU$6,2,FALSE)","v":0},0]
[null,{"$f":"DataByMiles!C40","v":"----36"},{"$f":"DataByMiles!T40*VLOOKUP(DataByMiles!AE40,DataByMiles!$AT$5:$AU$6,2,FALSE)","v":0},null,null,0,{"$f":"C42*$G$2*VLOOKUP(DataByMiles!AE40,DataByMiles!$AT$5:$AU$6,2,FALSE)","v":0},{"$f":"DataByMiles!U40*VLOOKUP(DataByMiles!AE40,DataByMiles!$AT$5:$AU$6,2,FALSE)","v":0},null,null,0,{"$f":"H42*$L$2*VLOOKUP(DataByMiles!AE40,DataByMiles!$AT$5:$AU$6,2,FALSE)","v":0},{"$f":"DataByMiles!V40*VLOOKUP(DataByMiles!AE40,DataByMiles!$AT$5:$AU$6,2,FALSE)","v":0},null,null,{"$f":"M42*$P$2*VLOOKUP(DataByMiles!AE40,DataByMiles!$AT$5:$AU$6,2,FALSE)","v":0},{"$f":"DataByMiles!W40*VLOOKUP(DataByMiles!AE40,DataByMiles!$AT$5:$AU$6,2,FALSE)","v":0},null,null,{"$f":"Q42*$T$2*VLOOKUP(DataByMiles!AE40,DataByMiles!$AT$5:$AU$6,2,FALSE)","v":0},{"$f":"DataByMiles!X40*VLOOKUP(DataByMiles!AE40,DataByMiles!$AT$5:$AU$6,2,FALSE)","v":0},null,null,{"$f":"U42*$X$2*VLOOKUP(DataByMiles!AE40,DataByMiles!$AT$5:$AU$6,2,FALSE)","v":0},{"$f":"DataByMiles!Y40*VLOOKUP(DataByMiles!AE40,DataByMiles!$AT$5:$AU$6,2,FALSE)","v":0},{"$f":"DataByMiles!Z40","v":0},{"$f":"DataByMiles!AA40","v":0},null,null,{"$f":"(Y42/IF(Z42=0,$AD$1,Z42)*$AD$2)/IF(AA42=0,1,AA42)*VLOOKUP(DataByMiles!AE40,DataByMiles!$AT$5:$AU$6,2,FALSE)","v":0},"",0,0,{"$f":"(AF42+AG42)*VLOOKUP(DataByMiles!AE40,DataByMiles!$AT$5:$AU$6,2,FALSE)","v":0},0]
[null,{"$f":"DataByMiles!C41","v":"----37"},{"$f":"DataByMiles!T41*VLOOKUP(DataByMiles!AE41,DataByMiles!$AT$5:$AU$6,2,FALSE)","v":0},null,null,0,{"$f":"C43*$G$2*VLOOKUP(DataByMiles!AE41,DataByMiles!$AT$5:$AU$6,2,FALSE)","v":0},{"$f":"DataByMiles!U41*VLOOKUP(DataByMiles!AE41,DataByMiles!$AT$5:$AU$6,2,FALSE)","v":0},null,null,0,{"$f":"H43*$L$2*VLOOKUP(DataByMiles!AE41,DataByMiles!$AT$5:$AU$6,2,FALSE)","v":0},{"$f":"DataByMiles!V41*VLOOKUP(DataByMiles!AE41,DataByMiles!$AT$5:$AU$6,2,FALSE)","v":0},null,null,{"$f":"M43*$P$2*VLOOKUP(DataByMiles!AE41,DataByMiles!$AT$5:$AU$6,2,FALSE)","v":0},{"$f":"DataByMiles!W41*VLOOKUP(DataByMiles!AE41,DataByMiles!$AT$5:$AU$6,2,FALSE)","v":0},null,null,{"$f":"Q43*$T$2*VLOOKUP(DataByMiles!AE41,DataByMiles!$AT$5:$AU$6,2,FALSE)","v":0},{"$f":"DataByMiles!X41*VLOOKUP(DataByMiles!AE41,DataByMiles!$AT$5:$AU$6,2,FALSE)","v":0},null,null,{"$f":"U43*$X$2*VLOOKUP(DataByMiles!AE41,DataByMiles!$AT$5:$AU$6,2,FALSE)","v":0},{"$f":"DataByMiles!Y41*VLOOKUP(DataByMiles!AE41,DataByMiles!$AT$5:$AU$6,2,FALSE)","v":0},{"$f":"DataByMiles!Z41","v":0},{"$f":"DataByMiles!AA41","v":0},null,null,{"$f":"(Y43/IF(Z43=0,$AD$1,Z43)*$AD$2)/IF(AA43=0,1,AA43)*VLOOKUP(DataByMiles!AE41,DataByMiles!$AT$5:$AU$6,2,FALSE)","v":0},"",0,0,{"$f":"(AF43+AG43)*VLOOKUP(DataByMiles!AE41,DataByMiles!$AT$5:$AU$6,2,FALSE)","v":0},0]
[null,{"$f":"DataByMiles!C42","v":"----38"},{"$f":"DataByMiles!T42*VLOOKUP(DataByMiles!AE42,DataByMiles!$AT$5:$AU$6,2,FALSE)","v":0},null,null,0,{"$f":"C44*$G$2*VLOOKUP(DataByMiles!AE42,DataByMiles!$AT$5:$AU$6,2,FALSE)","v":0},{"$f":"DataByMiles!U42*VLOOKUP(DataByMiles!AE42,DataByMiles!$AT$5:$AU$6,2,FALSE)","v":0},null,null,0,{"$f":"H44*$L$2*VLOOKUP(DataByMiles!AE42,DataByMiles!$AT$5:$AU$6,2,FALSE)","v":0},{"$f":"DataByMiles!V42*VLOOKUP(DataByMiles!AE42,DataByMiles!$AT$5:$AU$6,2,FALSE)","v":0},null,null,{"$f":"M44*$P$2*VLOOKUP(DataByMiles!AE42,DataByMiles!$AT$5:$AU$6,2,FALSE)","v":0},{"$f":"DataByMiles!W42*VLOOKUP(DataByMiles!AE42,DataByMiles!$AT$5:$AU$6,2,FALSE)","v":0},null,null,{"$f":"Q44*$T$2*VLOOKUP(DataByMiles!AE42,DataByMiles!$AT$5:$AU$6,2,FALSE)","v":0},{"$f":"DataByMiles!X42*VLOOKUP(DataByMiles!AE42,DataByMiles!$AT$5:$AU$6,2,FALSE)","v":0},null,null,{"$f":"U44*$X$2*VLOOKUP(DataByMiles!AE42,DataByMiles!$AT$5:$AU$6,2,FALSE)","v":0},{"$f":"DataByMiles!Y42*VLOOKUP(DataByMiles!AE42,DataByMiles!$AT$5:$AU$6,2,FALSE)","v":0},{"$f":"DataByMiles!Z42","v":0},{"$f":"DataByMiles!AA42","v":0},null,null,{"$f":"(Y44/IF(Z44=0,$AD$1,Z44)*$AD$2)/IF(AA44=0,1,AA44)*VLOOKUP(DataByMiles!AE42,DataByMiles!$AT$5:$AU$6,2,FALSE)","v":0},"",0,0,{"$f":"(AF44+AG44)*VLOOKUP(DataByMiles!AE42,DataByMiles!$AT$5:$AU$6,2,FALSE)","v":0},0]
[null,{"$f":"DataByMiles!C43","v":"----39"},{"$f":"DataByMiles!T43*VLOOKUP(DataByMiles!AE43,DataByMiles!$AT$5:$AU$6,2,FALSE)","v":0},null,null,0,{"$f":"C45*$G$2*VLOOKUP(DataByMiles!AE43,DataByMiles!$AT$5:$AU$6,2,FALSE)","v":0},{"$f":"DataByMiles!U43*VLOOKUP(DataByMiles!AE43,DataByMiles!$AT$5:$AU$6,2,FALSE)","v":0},null,null,0,{"$f":"H45*$L$2*VLOOKUP(DataByMiles!AE43,DataByMiles!$AT$5:$AU$6,2,FALSE)","v":0},{"$f":"DataByMiles!V43*VLOOKUP(DataByMiles!AE43,DataByMiles!$AT$5:$AU$6,2,FALSE)","v":0},null,null,{"$f":"M45*$P$2*VLOOKUP(DataByMiles!AE43,DataByMiles!$AT$5:$AU$6,2,FALSE)","v":0},{"$f":"DataByMiles!W43*VLOOKUP(DataByMiles!AE43,DataByMiles!$AT$5:$AU$6,2,FALSE)","v":0},null,null,{"$f":"Q45*$T$2*VLOOKUP(DataByMiles!AE43,DataByMiles!$AT$5:$AU$6,2,FALSE)","v":0},{"$f":"DataByMiles!X43*VLOOKUP(DataByMiles!AE43,DataByMiles!$AT$5:$AU$6,2,FALSE)","v":0},null,null,{"$f":"U45*$X$2*VLOOKUP(DataByMiles!AE43,DataByMiles!$AT$5:$AU$6,2,FALSE)","v":0},{"$f":"DataByMiles!Y43*VLOOKUP(DataByMiles!AE43,DataByMiles!$AT$5:$AU$6,2,FALSE)","v":0},{"$f":"DataByMiles!Z43","v":0},{"$f":"DataByMiles!AA43","v":0},null,null,{"$f":"(Y45/IF(Z45=0,$AD$1,Z45)*$AD$2)/IF(AA45=0,1,AA45)*VLOOKUP(DataByMiles!AE43,DataByMiles!$AT$5:$AU$6,2,FALSE)","v":0},"",0,0,{"$f":"(AF45+AG45)*VLOOKUP(DataByMiles!AE43,DataByMiles!$AT$5:$AU$6,2,FALSE)","v":0},0]
[null,{"$f":"DataByMiles!C44","v":"----40"},{"$f":"DataByMiles!T44*VLOOKUP(DataByMiles!AE44,DataByMiles!$AT$5:$AU$6,2,FALSE)","v":0},null,null,{"$f":"C46*$F$2","v":0},{"$f":"C46*$G$2*VLOOKUP(DataByMiles!AE44,DataByMiles!$AT$5:$AU$6,2,FALSE)","v":0},{"$f":"DataByMiles!U44*VLOOKUP(DataByMiles!AE44,DataByMiles!$AT$5:$AU$6,2,FALSE)","v":0},null,null,{"$f":"H46*$K$2","v":0},{"$f":"H46*$L$2*VLOOKUP(DataByMiles!AE44,DataByMiles!$AT$5:$AU$6,2,FALSE)","v":0},{"$f":"DataByMiles!V44*VLOOKUP(DataByMiles!AE44,DataByMiles!$AT$5:$AU$6,2,FALSE)","v":0},null,null,{"$f":"M46*$P$2*VLOOKUP(DataByMiles!AE44,DataByMiles!$AT$5:$AU$6,2,FALSE)","v":0},{"$f":"DataByMiles!W44*VLOOKUP(DataByMiles!AE44,DataByMiles!$AT$5:$AU$6,2,FALSE)","v":0},null,null,{"$f":"Q46*$T$2*VLOOKUP(DataByMiles!AE44,DataByMiles!$AT$5:$AU$6,2,FALSE)","v":0},{"$f":"DataByMiles!X44*VLOOKUP(DataByMiles!AE44,DataByMiles!$AT$5:$AU$6,2,FALSE)","v":0},null,null,{"$f":"U46*$X$2*VLOOKUP(DataByMiles!AE44,DataByMiles!$AT$5:$AU$6,2,FALSE)","v":0},{"$f":"DataByMiles!Y44*VLOOKUP(DataByMiles!AE44,DataByMiles!$AT$5:$AU$6,2,FALSE)","v":0},{"$f":"DataByMiles!Z44","v":0},{"$f":"DataByMiles!AA44","v":0},null,null,{"$f":"(Y46/IF(Z46=0,$AD$1,Z46)*$AD$2)/IF(AA46=0,1,AA46)*VLOOKUP(DataByMiles!AE44,DataByMiles!$AT$5:$AU$6,2,FALSE)","v":0},{"$f":"IF(C46+H46+M46+Q46+U46+Y46>0,C46+H46+M46+Q46+U46+Y46,\"\")","v":""},{"$f":"F46+K46+P46+T46+X46+AD46","v":0},{"$f":"G46+L46","v":0},{"$f":"(AF46+AG46)*VLOOKUP(DataByMiles!AE44,DataByMiles!$AT$5:$AU$6,2,FALSE)","v":0},{"$f":"IFERROR(AH46/AE46,0)","v":0}]
[null,{"$f":"DataByMiles!C45","v":"----41"},{"$f":"DataByMiles!T45*VLOOKUP(DataByMiles!AE45,DataByMiles!$AT$5:$AU$6,2,FALSE)","v":0},null,null,0,{"$f":"C47*$G$2*VLOOKUP(DataByMiles!AE45,DataByMiles!$AT$5:$AU$6,2,FALSE)","v":0},{"$f":"DataByMiles!U45*VLOOKUP(DataByMiles!AE45,DataByMiles!$AT$5:$AU$6,2,FALSE)","v":0},null,null,0,{"$f":"H47*$L$2*VLOOKUP(DataByMiles!AE45,DataByMiles!$AT$5:$AU$6,2,FALSE)","v":0},{"$f":"DataByMiles!V45*VLOOKUP(DataByMiles!AE45,DataByMiles!$AT$5:$AU$6,2,FALSE)","v":0},null,null,{"$f":"M47*$P$2*VLOOKUP(DataByMiles!AE45,DataByMiles!$AT$5:$AU$6,2,FALSE)","v":0},{"$f":"DataByMiles!W45*VLOOKUP(DataByMiles!AE45,DataByMiles!$AT$5:$AU$6,2,FALSE)","v":0},null,null,{"$f":"Q47*$T$2*VLOOKUP(DataByMiles!AE45,DataByMiles!$AT$5:$AU$6,2,FALSE)","v":0},{"$f":"DataByMiles!X45*VLOOKUP(DataByMiles!AE45,DataByMiles!$AT$5:$AU$6,2,FALSE)","v":0},null,null,{"$f":"U47*$X$2*VLOOKUP(DataByMiles!AE45,DataByMiles!$AT$5:$AU$6,2,FALSE)","v":0},{"$f":"DataByMiles!Y45*VLOOKUP(DataByMiles!AE45,DataByMiles!$AT$5:$AU$6,2,FALSE)","v":0},{"$f":"DataByMiles!Z45","v":0},{"$f":"DataByMiles!AA45","v":0},null,null,{"$f":"(Y47/IF(Z47=0,$AD$1,Z47)*$AD$2)/IF(AA47=0,1,AA47)*VLOOKUP(DataByMiles!AE45,DataByMiles!$AT$5:$AU$6,2,FALSE)","v":0},"",0,0,{"$f":"(AF47+AG47)*VLOOKUP(DataByMiles!AE45,DataByMiles!$AT$5:$AU$6,2,FALSE)","v":0},0]
[null,{"$f":"DataByMiles!C46","v":"----42"},{"$f":"DataByMiles!T46*VLOOKUP(DataByMiles!AE46,DataByMiles!$AT$5:$AU$6,2,FALSE)","v":0},null,null,0,{"$f":"C48*$G$2*VLOOKUP(DataByMiles!AE46,DataByMiles!$AT$5:$AU$6,2,FALSE)","v":0},{"$f":"DataByMiles!U46*VLOOKUP(DataByMiles!AE46,DataByMiles!$AT$5:$AU$6,2,FALSE)","v":0},null,null,0,{"$f":"H48*$L$2*VLOOKUP(DataByMiles!AE46,DataByMiles!$AT$5:$AU$6,2,FALSE)","v":0},{"$f":"DataByMiles!V46*VLOOKUP(DataByMiles!AE46,DataByMiles!$AT$5:$AU$6,2,FALSE)","v":0},null,null,{"$f":"M48*$P$2*VLOOKUP(DataByMiles!AE46,DataByMiles!$AT$5:$AU$6,2,FALSE)","v":0},{"$f":"DataByMiles!W46*VLOOKUP(DataByMiles!AE46,DataByMiles!$AT$5:$AU$6,2,FALSE)","v":0},null,null,{"$f":"Q48*$T$2*VLOOKUP(DataByMiles!AE46,DataByMiles!$AT$5:$AU$6,2,FALSE)","v":0},{"$f":"DataByMiles!X46*VLOOKUP(DataByMiles!AE46,DataByMiles!$AT$5:$AU$6,2,FALSE)","v":0},null,null,{"$f":"U48*$X$2*VLOOKUP(DataByMiles!AE46,DataByMiles!$AT$5:$AU$6,2,FALSE)","v":0},{"$f":"DataByMiles!Y46*VLOOKUP(DataByMiles!AE46,DataByMiles!$AT$5:$AU$6,2,FALSE)","v":0},{"$f":"DataByMiles!Z46","v":0},{"$f":"DataByMiles!AA46","v":0},null,null,{"$f":"(Y48/IF(Z48=0,$AD$1,Z48)*$AD$2)/IF(AA48=0,1,AA48)*VLOOKUP(DataByMiles!AE46,DataByMiles!$AT$5:$AU$6,2,FALSE)","v":0},"",0,0,{"$f":"(AF48+AG48)*VLOOKUP(DataByMiles!AE46,DataByMiles!$AT$5:$AU$6,2,FALSE)","v":0},0]
[null,{"$f":"DataByMiles!C47","v":"----43"},{"$f":"DataByMiles!T47*VLOOKUP(DataByMiles!AE47,DataByMiles!$AT$5:$AU$6,2,FALSE)","v":0},null,null,0,{"$f":"C49*$G$2*VLOOKUP(DataByMiles!AE47,DataByMiles!$AT$5:$AU$6,2,FALSE)","v":0},{"$f":"DataByMiles!U47*VLOOKUP(DataByMiles!AE47,DataByMiles!$AT$5:$AU$6,2,FALSE)","v":0},null,null,0,{"$f":"H49*$L$2*VLOOKUP(DataByMiles!AE47,DataByMiles!$AT$5:$AU$6,2,FALSE)","v":0},{"$f":"DataByMiles!V47*VLOOKUP(DataByMiles!AE47,DataByMiles!$AT$5:$AU$6,2,FALSE)","v":0},null,null,{"$f":"M49*$P$2*VLOOKUP(DataByMiles!AE47,DataByMiles!$AT$5:$AU$6,2,FALSE)","v":0},{"$f":"DataByMiles!W47*VLOOKUP(DataByMiles!AE47,DataByMiles!$AT$5:$AU$6,2,FALSE)","v":0},null,null,{"$f":"Q49*$T$2*VLOOKUP(DataByMiles!AE47,DataByMiles!$AT$5:$AU$6,2,FALSE)","v":0},{"$f":"DataByMiles!X47*VLOOKUP(DataByMiles!AE47,DataByMiles!$AT$5:$AU$6,2,FALSE)","v":0},null,null,{"$f":"U49*$X$2*VLOOKUP(DataByMiles!AE47,DataByMiles!$AT$5:$AU$6,2,FALSE)","v":0},{"$f":"DataByMiles!Y47*VLOOKUP(DataByMiles!AE47,DataByMiles!$AT$5:$AU$6,2,FALSE)","v":0},{"$f":"DataByMiles!Z47","v":0},{"$f":"DataByMiles!AA47","v":0},null,null,{"$f":"(Y49/IF(Z49=0,$AD$1,Z49)*$AD$2)/IF(AA49=0,1,AA49)*VLOOKUP(DataByMiles!AE47,DataByMiles!$AT$5:$AU$6,2,FALSE)","v":0},"",0,0,{"$f":"(AF49+AG49)*VLOOKUP(DataByMiles!AE47,DataByMiles!$AT$5:$AU$6,2,FALSE)","v":0},0]
[null,{"$f":"DataByMiles!C48","v":"----44"},{"$f":"DataByMiles!T48*VLOOKUP(DataByMiles!AE48,DataByMiles!$AT$5:$AU$6,2,FALSE)","v":0},null,null,0,{"$f":"C50*$G$2*VLOOKUP(DataByMiles!AE48,DataByMiles!$AT$5:$AU$6,2,FALSE)","v":0},{"$f":"DataByMiles!U48*VLOOKUP(DataByMiles!AE48,DataByMiles!$AT$5:$AU$6,2,FALSE)","v":0},null,null,0,{"$f":"H50*$L$2*VLOOKUP(DataByMiles!AE48,DataByMiles!$AT$5:$AU$6,2,FALSE)","v":0},{"$f":"DataByMiles!V48*VLOOKUP(DataByMiles!AE48,DataByMiles!$AT$5:$AU$6,2,FALSE)","v":0},null,null,{"$f":"M50*$P$2*VLOOKUP(DataByMiles!AE48,DataByMiles!$AT$5:$AU$6,2,FALSE)","v":0},{"$f":"DataByMiles!W48*VLOOKUP(DataByMiles!AE48,DataByMiles!$AT$5:$AU$6,2,FALSE)","v":0},null,null,{"$f":"Q50*$T$2*VLOOKUP(DataByMiles!AE48,DataByMiles!$AT$5:$AU$6,2,FALSE)","v":0},{"$f":"DataByMiles!X48*VLOOKUP(DataByMiles!AE48,DataByMiles!$AT$5:$AU$6,2,FALSE)","v":0},null,null,{"$f":"U50*$X$2*VLOOKUP(DataByMiles!AE48,DataByMiles!$AT$5:$AU$6,2,FALSE)","v":0},{"$f":"DataByMiles!Y48*VLOOKUP(DataByMiles!AE48,DataByMiles!$AT$5:$AU$6,2,FALSE)","v":0},{"$f":"DataByMiles!Z48","v":0},{"$f":"DataByMiles!AA48","v":0},null,null,{"$f":"(Y50/IF(Z50=0,$AD$1,Z50)*$AD$2)/IF(AA50=0,1,AA50)*VLOOKUP(DataByMiles!AE48,DataByMiles!$AT$5:$AU$6,2,FALSE)","v":0},"",0,0,{"$f":"(AF50+AG50)*VLOOKUP(DataByMiles!AE48,DataByMiles!$AT$5:$AU$6,2,FALSE)","v":0},0]
[null,{"$f":"DataByMiles!C49","v":"----45"},{"$f":"DataByMiles!T49*VLOOKUP(DataByMiles!AE49,DataByMiles!$AT$5:$AU$6,2,FALSE)","v":0},null,null,0,{"$f":"C51*$G$2*VLOOKUP(DataByMiles!AE49,DataByMiles!$AT$5:$AU$6,2,FALSE)","v":0},{"$f":"DataByMiles!U49*VLOOKUP(DataByMiles!AE49,DataByMiles!$AT$5:$AU$6,2,FALSE)","v":0},null,null,0,{"$f":"H51*$L$2*VLOOKUP(DataByMiles!AE49,DataByMiles!$AT$5:$AU$6,2,FALSE)","v":0},{"$f":"DataByMiles!V49*VLOOKUP(DataByMiles!AE49,DataByMiles!$AT$5:$AU$6,2,FALSE)","v":0},null,null,{"$f":"M51*$P$2*VLOOKUP(DataByMiles!AE49,DataByMiles!$AT$5:$AU$6,2,FALSE)","v":0},{"$f":"DataByMiles!W49*VLOOKUP(DataByMiles!AE49,DataByMiles!$AT$5:$AU$6,2,FALSE)","v":0},null,null,{"$f":"Q51*$T$2*VLOOKUP(DataByMiles!AE49,DataByMiles!$AT$5:$AU$6,2,FALSE)","v":0},{"$f":"DataByMiles!X49*VLOOKUP(DataByMiles!AE49,DataByMiles!$AT$5:$AU$6,2,FALSE)","v":0},null,null,{"$f":"U51*$X$2*VLOOKUP(DataByMiles!AE49,DataByMiles!$AT$5:$AU$6,2,FALSE)","v":0},{"$f":"DataByMiles!Y49*VLOOKUP(DataByMiles!AE49,DataByMiles!$AT$5:$AU$6,2,FALSE)","v":0},{"$f":"DataByMiles!Z49","v":0},{"$f":"DataByMiles!AA49","v":0},null,null,{"$f":"(Y51/IF(Z51=0,$AD$1,Z51)*$AD$2)/IF(AA51=0,1,AA51)*VLOOKUP(DataByMiles!AE49,DataByMiles!$AT$5:$AU$6,2,FALSE)","v":0},"",0,0,{"$f":"(AF51+AG51)*VLOOKUP(DataByMiles!AE49,DataByMiles!$AT$5:$AU$6,2,FALSE)","v":0},0]
[null,{"$f":"DataByMiles!C50","v":"----46"},{"$f":"DataByMiles!T50*VLOOKUP(DataByMiles!AE50,DataByMiles!$AT$5:$AU$6,2,FALSE)","v":0},null,null,0,{"$f":"C52*$G$2*VLOOKUP(DataByMiles!AE50,DataByMiles!$AT$5:$AU$6,2,FALSE)","v":0},{"$f":"DataByMiles!U50*VLOOKUP(DataByMiles!AE50,DataByMiles!$AT$5:$AU$6,2,FALSE)","v":0},null,null,0,{"$f":"H52*$L$2*VLOOKUP(DataByMiles!AE50,DataByMiles!$AT$5:$AU$6,2,FALSE)","v":0},{"$f":"DataByMiles!V50*VLOOKUP(DataByMiles!AE50,DataByMiles!$AT$5:$AU$6,2,FALSE)","v":0},null,null,{"$f":"M52*$P$2*VLOOKUP(DataByMiles!AE50,DataByMiles!$AT$5:$AU$6,2,FALSE)","v":0},{"$f":"DataByMiles!W50*VLOOKUP(DataByMiles!AE50,DataByMiles!$AT$5:$AU$6,2,FALSE)","v":0},null,null,{"$f":"Q52*$T$2*VLOOKUP(DataByMiles!AE50,DataByMiles!$AT$5:$AU$6,2,FALSE)","v":0},{"$f":"DataByMiles!X50*VLOOKUP(DataByMiles!AE50,DataByMiles!$AT$5:$AU$6,2,FALSE)","v":0},null,null,{"$f":"U52*$X$2*VLOOKUP(DataByMiles!AE50,DataByMiles!$AT$5:$AU$6,2,FALSE)","v":0},{"$f":"DataByMiles!Y50*VLOOKUP(DataByMiles!AE50,DataByMiles!$AT$5:$AU$6,2,FALSE)","v":0},{"$f":"DataByMiles!Z50","v":0},{"$f":"DataByMiles!AA50","v":0},null,null,{"$f":"(Y52/IF(Z52=0,$AD$1,Z52)*$AD$2)/IF(AA52=0,1,AA52)*VLOOKUP(DataByMiles!AE50,DataByMiles!$AT$5:$AU$6,2,FALSE)","v":0},"",0,0,{"$f":"(AF52+AG52)*VLOOKUP(DataByMiles!AE50,DataByMiles!$AT$5:$AU$6,2,FALSE)","v":0},0]
[null,{"$f":"DataByMiles!C51","v":"----47"},{"$f":"DataByMiles!T51*VLOOKUP(DataByMiles!AE51,DataByMiles!$AT$5:$AU$6,2,FALSE)","v":0},null,null,0,{"$f":"C53*$G$2*VLOOKUP(DataByMiles!AE51,DataByMiles!$AT$5:$AU$6,2,FALSE)","v":0},{"$f":"DataByMiles!U51*VLOOKUP(DataByMiles!AE51,DataByMiles!$AT$5:$AU$6,2,FALSE)","v":0},null,null,0,{"$f":"H53*$L$2*VLOOKUP(DataByMiles!AE51,DataByMiles!$AT$5:$AU$6,2,FALSE)","v":0},{"$f":"DataByMiles!V51*VLOOKUP(DataByMiles!AE51,DataByMiles!$AT$5:$AU$6,2,FALSE)","v":0},null,null,{"$f":"M53*$P$2*VLOOKUP(DataByMiles!AE51,DataByMiles!$AT$5:$AU$6,2,FALSE)","v":0},{"$f":"DataByMiles!W51*VLOOKUP(DataByMiles!AE51,DataByMiles!$AT$5:$AU$6,2,FALSE)","v":0},null,null,{"$f":"Q53*$T$2*VLOOKUP(DataByMiles!AE51,DataByMiles!$AT$5:$AU$6,2,FALSE)","v":0},{"$f":"DataByMiles!X51*VLOOKUP(DataByMiles!AE51,DataByMiles!$AT$5:$AU$6,2,FALSE)","v":0},null,null,{"$f":"U53*$X$2*VLOOKUP(DataByMiles!AE51,DataByMiles!$AT$5:$AU$6,2,FALSE)","v":0},{"$f":"DataByMiles!Y51*VLOOKUP(DataByMiles!AE51,DataByMiles!$AT$5:$AU$6,2,FALSE)","v":0},{"$f":"DataByMiles!Z51","v":0},{"$f":"DataByMiles!AA51","v":0},null,null,{"$f":"(Y53/IF(Z53=0,$AD$1,Z53)*$AD$2)/IF(AA53=0,1,AA53)*VLOOKUP(DataByMiles!AE51,DataByMiles!$AT$5:$AU$6,2,FALSE)","v":0},"",0,0,{"$f":"(AF53+AG53)*VLOOKUP(DataByMiles!AE51,DataByMiles!$AT$5:$AU$6,2,FALSE)","v":0},0]
[null,{"$f":"DataByMiles!C52","v":"----48"},{"$f":"DataByMiles!T52*VLOOKUP(DataByMiles!AE52,DataByMiles!$AT$5:$AU$6,2,FALSE)","v":0},null,null,0,{"$f":"C54*$G$2*VLOOKUP(DataByMiles!AE52,DataByMiles!$AT$5:$AU$6,2,FALSE)","v":0},{"$f":"DataByMiles!U52*VLOOKUP(DataByMiles!AE52,DataByMiles!$AT$5:$AU$6,2,FALSE)","v":0},null,null,0,{"$f":"H54*$L$2*VLOOKUP(DataByMiles!AE52,DataByMiles!$AT$5:$AU$6,2,FALSE)","v":0},{"$f":"DataByMiles!V52*VLOOKUP(DataByMiles!AE52,DataByMiles!$AT$5:$AU$6,2,FALSE)","v":0},null,null,{"$f":"M54*$P$2*VLOOKUP(DataByMiles!AE52,DataByMiles!$AT$5:$AU$6,2,FALSE)","v":0},{"$f":"DataByMiles!W52*VLOOKUP(DataByMiles!AE52,DataByMiles!$AT$5:$AU$6,2,FALSE)","v":0},null,null,{"$f":"Q54*$T$2*VLOOKUP(DataByMiles!AE52,DataByMiles!$AT$5:$AU$6,2,FALSE)","v":0},{"$f":"DataByMiles!X52*VLOOKUP(DataByMiles!AE52,DataByMiles!$AT$5:$AU$6,2,FALSE)","v":0},null,null,{"$f":"U54*$X$2*VLOOKUP(DataByMiles!AE52,DataByMiles!$AT$5:$AU$6,2,FALSE)","v":0},{"$f":"DataByMiles!Y52*VLOOKUP(DataByMiles!AE52,DataByMiles!$AT$5:$AU$6,2,FALSE)","v":0},{"$f":"DataByMiles!Z52","v":0},{"$f":"DataByMiles!AA52","v":0},null,null,{"$f":"(Y54/IF(Z54=0,$AD$1,Z54)*$AD$2)/IF(AA54=0,1,AA54)*VLOOKUP(DataByMiles!AE52,DataByMiles!$AT$5:$AU$6,2,FALSE)","v":0},"",0,0,{"$f":"(AF54+AG54)*VLOOKUP(DataByMiles!AE52,DataByMiles!$AT$5:$AU$6,2,FALSE)","v":0},0]
[null,{"$f":"DataByMiles!C53","v":"----49"},{"$f":"DataByMiles!T53*VLOOKUP(DataByMiles!AE53,DataByMiles!$AT$5:$AU$6,2,FALSE)","v":0},null,null,0,{"$f":"C55*$G$2*VLOOKUP(DataByMiles!AE53,DataByMiles!$AT$5:$AU$6,2,FALSE)","v":0},{"$f":"DataByMiles!U53*VLOOKUP(DataByMiles!AE53,DataByMiles!$AT$5:$AU$6,2,FALSE)","v":0},null,null,0,{"$f":"H55*$L$2*VLOOKUP(DataByMiles!AE53,DataByMiles!$AT$5:$AU$6,2,FALSE)","v":0},{"$f":"DataByMiles!V53*VLOOKUP(DataByMiles!AE53,DataByMiles!$AT$5:$AU$6,2,FALSE)","v":0},null,null,{"$f":"M55*$P$2*VLOOKUP(DataByMiles!AE53,DataByMiles!$AT$5:$AU$6,2,FALSE)","v":0},{"$f":"DataByMiles!W53*VLOOKUP(DataByMiles!AE53,DataByMiles!$AT$5:$AU$6,2,FALSE)","v":0},null,null,{"$f":"Q55*$T$2*VLOOKUP(DataByMiles!AE53,DataByMiles!$AT$5:$AU$6,2,FALSE)","v":0},{"$f":"DataByMiles!X53*VLOOKUP(DataByMiles!AE53,DataByMiles!$AT$5:$AU$6,2,FALSE)","v":0},null,null,{"$f":"U55*$X$2*VLOOKUP(DataByMiles!AE53,DataByMiles!$AT$5:$AU$6,2,FALSE)","v":0},{"$f":"DataByMiles!Y53*VLOOKUP(DataByMiles!AE53,DataByMiles!$AT$5:$AU$6,2,FALSE)","v":0},{"$f":"DataByMiles!Z53","v":0},{"$f":"DataByMiles!AA53","v":0},null,null,{"$f":"(Y55/IF(Z55=0,$AD$1,Z55)*$AD$2)/IF(AA55=0,1,AA55)*VLOOKUP(DataByMiles!AE53,DataByMiles!$AT$5:$AU$6,2,FALSE)","v":0},"",0,0,{"$f":"(AF55+AG55)*VLOOKUP(DataByMiles!AE53,DataByMiles!$AT$5:$AU$6,2,FALSE)","v":0},0]
[null,{"$f":"DataByMiles!C54","v":"----50"},{"$f":"DataByMiles!T54*VLOOKUP(DataByMiles!AE54,DataByMiles!$AT$5:$AU$6,2,FALSE)","v":0},null,null,0,{"$f":"C56*$G$2*VLOOKUP(DataByMiles!AE54,DataByMiles!$AT$5:$AU$6,2,FALSE)","v":0},{"$f":"DataByMiles!U54*VLOOKUP(DataByMiles!AE54,DataByMiles!$AT$5:$AU$6,2,FALSE)","v":0},null,null,0,{"$f":"H56*$L$2*VLOOKUP(DataByMiles!AE54,DataByMiles!$AT$5:$AU$6,2,FALSE)","v":0},{"$f":"DataByMiles!V54*VLOOKUP(DataByMiles!AE54,DataByMiles!$AT$5:$AU$6,2,FALSE)","v":0},null,null,{"$f":"M56*$P$2*VLOOKUP(DataByMiles!AE54,DataByMiles!$AT$5:$AU$6,2,FALSE)","v":0},{"$f":"DataByMiles!W54*VLOOKUP(DataByMiles!AE54,DataByMiles!$AT$5:$AU$6,2,FALSE)","v":0},null,null,{"$f":"Q56*$T$2*VLOOKUP(DataByMiles!AE54,DataByMiles!$AT$5:$AU$6,2,FALSE)","v":0},{"$f":"DataByMiles!X54*VLOOKUP(DataByMiles!AE54,DataByMiles!$AT$5:$AU$6,2,FALSE)","v":0},null,null,{"$f":"U56*$X$2*VLOOKUP(DataByMiles!AE54,DataByMiles!$AT$5:$AU$6,2,FALSE)","v":0},{"$f":"DataByMiles!Y54*VLOOKUP(DataByMiles!AE54,DataByMiles!$AT$5:$AU$6,2,FALSE)","v":0},{"$f":"DataByMiles!Z54","v":0},{"$f":"DataByMiles!AA54","v":0},null,null,{"$f":"(Y56/IF(Z56=0,$AD$1,Z56)*$AD$2)/IF(AA56=0,1,AA56)*VLOOKUP(DataByMiles!AE54,DataByMiles!$AT$5:$AU$6,2,FALSE)","v":0},"",0,0,{"$f":"(AF56+AG56)*VLOOKUP(DataByMiles!AE54,DataByMiles!$AT$5:$AU$6,2,FALSE)","v":0},0]
[null,{"$f":"DataByMiles!C55","v":"----51"},{"$f":"DataByMiles!T55*VLOOKUP(DataByMiles!AE55,DataByMiles!$AT$5:$AU$6,2,FALSE)","v":0},null,null,0,{"$f":"C57*$G$2*VLOOKUP(DataByMiles!AE55,DataByMiles!$AT$5:$AU$6,2,FALSE)","v":0},{"$f":"DataByMiles!U55*VLOOKUP(DataByMiles!AE55,DataByMiles!$AT$5:$AU$6,2,FALSE)","v":0},null,null,0,{"$f":"H57*$L$2*VLOOKUP(DataByMiles!AE55,DataByMiles!$AT$5:$AU$6,2,FALSE)","v":0},{"$f":"DataByMiles!V55*VLOOKUP(DataByMiles!AE55,DataByMiles!$AT$5:$AU$6,2,FALSE)","v":0},null,null,{"$f":"M57*$P$2*VLOOKUP(DataByMiles!AE55,DataByMiles!$AT$5:$AU$6,2,FALSE)","v":0},{"$f":"DataByMiles!W55*VLOOKUP(DataByMiles!AE55,DataByMiles!$AT$5:$AU$6,2,FALSE)","v":0},null,null,{"$f":"Q57*$T$2*VLOOKUP(DataByMiles!AE55,DataByMiles!$AT$5:$AU$6,2,FALSE)","v":0},{"$f":"DataByMiles!X55*VLOOKUP(DataByMiles!AE55,DataByMiles!$AT$5:$AU$6,2,FALSE)","v":0},null,null,{"$f":"U57*$X$2*VLOOKUP(DataByMiles!AE55,DataByMiles!$AT$5:$AU$6,2,FALSE)","v":0},{"$f":"DataByMiles!Y55*VLOOKUP(DataByMiles!AE55,DataByMiles!$AT$5:$AU$6,2,FALSE)","v":0},{"$f":"DataByMiles!Z55","v":0},{"$f":"DataByMiles!AA55","v":0},null,null,{"$f":"(Y57/IF(Z57=0,$AD$1,Z57)*$AD$2)/IF(AA57=0,1,AA57)*VLOOKUP(DataByMiles!AE55,DataByMiles!$AT$5:$AU$6,2,FALSE)","v":0},"",0,0,{"$f":"(AF57+AG57)*VLOOKUP(DataByMiles!AE55,DataByMiles!$AT$5:$AU$6,2,FALSE)","v":0},0]
[null,{"$f":"DataByMiles!C56","v":"----52"},{"$f":"DataByMiles!T56*VLOOKUP(DataByMiles!AE56,DataByMiles!$AT$5:$AU$6,2,FALSE)","v":0},null,null,0,{"$f":"C58*$G$2*VLOOKUP(DataByMiles!AE56,DataByMiles!$AT$5:$AU$6,2,FALSE)","v":0},{"$f":"DataByMiles!U56*VLOOKUP(DataByMiles!AE56,DataByMiles!$AT$5:$AU$6,2,FALSE)","v":0},null,null,0,{"$f":"H58*$L$2*VLOOKUP(DataByMiles!AE56,DataByMiles!$AT$5:$AU$6,2,FALSE)","v":0},{"$f":"DataByMiles!V56*VLOOKUP(DataByMiles!AE56,DataByMiles!$AT$5:$AU$6,2,FALSE)","v":0},null,null,{"$f":"M58*$P$2*VLOOKUP(DataByMiles!AE56,DataByMiles!$AT$5:$AU$6,2,FALSE)","v":0},{"$f":"DataByMiles!W56*VLOOKUP(DataByMiles!AE56,DataByMiles!$AT$5:$AU$6,2,FALSE)","v":0},null,null,{"$f":"Q58*$T$2*VLOOKUP(DataByMiles!AE56,DataByMiles!$AT$5:$AU$6,2,FALSE)","v":0},{"$f":"DataByMiles!X56*VLOOKUP(DataByMiles!AE56,DataByMiles!$AT$5:$AU$6,2,FALSE)","v":0},null,null,{"$f":"U58*$X$2*VLOOKUP(DataByMiles!AE56,DataByMiles!$AT$5:$AU$6,2,FALSE)","v":0},{"$f":"DataByMiles!Y56*VLOOKUP(DataByMiles!AE56,DataByMiles!$AT$5:$AU$6,2,FALSE)","v":0},{"$f":"DataByMiles!Z56","v":0},{"$f":"DataByMiles!AA56","v":0},null,null,{"$f":"(Y58/IF(Z58=0,$AD$1,Z58)*$AD$2)/IF(AA58=0,1,AA58)*VLOOKUP(DataByMiles!AE56,DataByMiles!$AT$5:$AU$6,2,FALSE)","v":0},"",0,0,{"$f":"(AF58+AG58)*VLOOKUP(DataByMiles!AE56,DataByMiles!$AT$5:$AU$6,2,FALSE)","v":0},0]
[null,{"$f":"DataByMiles!C57","v":"----53"},{"$f":"DataByMiles!T57*VLOOKUP(DataByMiles!AE57,DataByMiles!$AT$5:$AU$6,2,FALSE)","v":0},null,null,0,{"$f":"C59*$G$2*VLOOKUP(DataByMiles!AE57,DataByMiles!$AT$5:$AU$6,2,FALSE)","v":0},{"$f":"DataByMiles!U57*VLOOKUP(DataByMiles!AE57,DataByMiles!$AT$5:$AU$6,2,FALSE)","v":0},null,null,0,{"$f":"H59*$L$2*VLOOKUP(DataByMiles!AE57,DataByMiles!$AT$5:$AU$6,2,FALSE)","v":0},{"$f":"DataByMiles!V57*VLOOKUP(DataByMiles!AE57,DataByMiles!$AT$5:$AU$6,2,FALSE)","v":0},null,null,{"$f":"M59*$P$2*VLOOKUP(DataByMiles!AE57,DataByMiles!$AT$5:$AU$6,2,FALSE)","v":0},{"$f":"DataByMiles!W57*VLOOKUP(DataByMiles!AE57,DataByMiles!$AT$5:$AU$6,2,FALSE)","v":0},null,null,{"$f":"Q59*$T$2*VLOOKUP(DataByMiles!AE57,DataByMiles!$AT$5:$AU$6,2,FALSE)","v":0},{"$f":"DataByMiles!X57*VLOOKUP(DataByMiles!AE57,DataByMiles!$AT$5:$AU$6,2,FALSE)","v":0},null,null,{"$f":"U59*$X$2*VLOOKUP(DataByMiles!AE57,DataByMiles!$AT$5:$AU$6,2,FALSE)","v":0},{"$f":"DataByMiles!Y57*VLOOKUP(DataByMiles!AE57,DataByMiles!$AT$5:$AU$6,2,FALSE)","v":0},{"$f":"DataByMiles!Z57","v":0},{"$f":"DataByMiles!AA57","v":0},null,null,{"$f":"(Y59/IF(Z59=0,$AD$1,Z59)*$AD$2)/IF(AA59=0,1,AA59)*VLOOKUP(DataByMiles!AE57,DataByMiles!$AT$5:$AU$6,2,FALSE)","v":0},"",0,0,{"$f":"(AF59+AG59)*VLOOKUP(DataByMiles!AE57,DataByMiles!$AT$5:$AU$6,2,FALSE)","v":0},0]
[null,{"$f":"DataByMiles!C58","v":"----54"},{"$f":"DataByMiles!T58*VLOOKUP(DataByMiles!AE58,DataByMiles!$AT$5:$AU$6,2,FALSE)","v":0},null,null,0,{"$f":"C60*$G$2*VLOOKUP(DataByMiles!AE58,DataByMiles!$AT$5:$AU$6,2,FALSE)","v":0},{"$f":"DataByMiles!U58*VLOOKUP(DataByMiles!AE58,DataByMiles!$AT$5:$AU$6,2,FALSE)","v":0},null,null,0,{"$f":"H60*$L$2*VLOOKUP(DataByMiles!AE58,DataByMiles!$AT$5:$AU$6,2,FALSE)","v":0},{"$f":"DataByMiles!V58*VLOOKUP(DataByMiles!AE58,DataByMiles!$AT$5:$AU$6,2,FALSE)","v":0},null,null,{"$f":"M60*$P$2*VLOOKUP(DataByMiles!AE58,DataByMiles!$AT$5:$AU$6,2,FALSE)","v":0},{"$f":"DataByMiles!W58*VLOOKUP(DataByMiles!AE58,DataByMiles!$AT$5:$AU$6,2,FALSE)","v":0},null,null,{"$f":"Q60*$T$2*VLOOKUP(DataByMiles!AE58,DataByMiles!$AT$5:$AU$6,2,FALSE)","v":0},{"$f":"DataByMiles!X58*VLOOKUP(DataByMiles!AE58,DataByMiles!$AT$5:$AU$6,2,FALSE)","v":0},null,null,{"$f":"U60*$X$2*VLOOKUP(DataByMiles!AE58,DataByMiles!$AT$5:$AU$6,2,FALSE)","v":0},{"$f":"DataByMiles!Y58*VLOOKUP(DataByMiles!AE58,DataByMiles!$AT$5:$AU$6,2,FALSE)","v":0},{"$f":"DataByMiles!Z58","v":0},{"$f":"DataByMiles!AA58","v":0},null,null,{"$f":"(Y60/IF(Z60=0,$AD$1,Z60)*$AD$2)/IF(AA60=0,1,AA60)*VLOOKUP(DataByMiles!AE58,DataByMiles!$AT$5:$AU$6,2,FALSE)","v":0},"",0,0,{"$f":"(AF60+AG60)*VLOOKUP(DataByMiles!AE58,DataByMiles!$AT$5:$AU$6,2,FALSE)","v":0},0]
[null,{"$f":"DataByMiles!C59","v":"----55"},{"$f":"DataByMiles!T59*VLOOKUP(DataByMiles!AE59,DataByMiles!$AT$5:$AU$6,2,FALSE)","v":0},null,null,0,{"$f":"C61*$G$2*VLOOKUP(DataByMiles!AE59,DataByMiles!$AT$5:$AU$6,2,FALSE)","v":0},{"$f":"DataByMiles!U59*VLOOKUP(DataByMiles!AE59,DataByMiles!$AT$5:$AU$6,2,FALSE)","v":0},null,null,0,{"$f":"H61*$L$2*VLOOKUP(DataByMiles!AE59,DataByMiles!$AT$5:$AU$6,2,FALSE)","v":0},{"$f":"DataByMiles!V59*VLOOKUP(DataByMiles!AE59,DataByMiles!$AT$5:$AU$6,2,FALSE)","v":0},null,null,{"$f":"M61*$P$2*VLOOKUP(DataByMiles!AE59,DataByMiles!$AT$5:$AU$6,2,FALSE)","v":0},{"$f":"DataByMiles!W59*VLOOKUP(DataByMiles!AE59,DataByMiles!$AT$5:$AU$6,2,FALSE)","v":0},null,null,{"$f":"Q61*$T$2*VLOOKUP(DataByMiles!AE59,DataByMiles!$AT$5:$AU$6,2,FALSE)","v":0},{"$f":"DataByMiles!X59*VLOOKUP(DataByMiles!AE59,DataByMiles!$AT$5:$AU$6,2,FALSE)","v":0},null,null,{"$f":"U61*$X$2*VLOOKUP(DataByMiles!AE59,DataByMiles!$AT$5:$AU$6,2,FALSE)","v":0},{"$f":"DataByMiles!Y59*VLOOKUP(DataByMiles!AE59,DataByMiles!$AT$5:$AU$6,2,FALSE)","v":0},{"$f":"DataByMiles!Z59","v":0},{"$f":"DataByMiles!AA59","v":0},null,null,{"$f":"(Y61/IF(Z61=0,$AD$1,Z61)*$AD$2)/IF(AA61=0,1,AA61)*VLOOKUP(DataByMiles!AE59,DataByMiles!$AT$5:$AU$6,2,FALSE)","v":0},"",0,0,{"$f":"(AF61+AG61)*VLOOKUP(DataByMiles!AE59,DataByMiles!$AT$5:$AU$6,2,FALSE)","v":0},0]
[null,{"$f":"DataByMiles!C60","v":"----56"},{"$f":"DataByMiles!T60*VLOOKUP(DataByMiles!AE60,DataByMiles!$AT$5:$AU$6,2,FALSE)","v":0},null,null,0,{"$f":"C62*$G$2*VLOOKUP(DataByMiles!AE60,DataByMiles!$AT$5:$AU$6,2,FALSE)","v":0},{"$f":"DataByMiles!U60*VLOOKUP(DataByMiles!AE60,DataByMiles!$AT$5:$AU$6,2,FALSE)","v":0},null,null,0,{"$f":"H62*$L$2*VLOOKUP(DataByMiles!AE60,DataByMiles!$AT$5:$AU$6,2,FALSE)","v":0},{"$f":"DataByMiles!V60*VLOOKUP(DataByMiles!AE60,DataByMiles!$AT$5:$AU$6,2,FALSE)","v":0},null,null,{"$f":"M62*$P$2*VLOOKUP(DataByMiles!AE60,DataByMiles!$AT$5:$AU$6,2,FALSE)","v":0},{"$f":"DataByMiles!W60*VLOOKUP(DataByMiles!AE60,DataByMiles!$AT$5:$AU$6,2,FALSE)","v":0},null,null,{"$f":"Q62*$T$2*VLOOKUP(DataByMiles!AE60,DataByMiles!$AT$5:$AU$6,2,FALSE)","v":0},{"$f":"DataByMiles!X60*VLOOKUP(DataByMiles!AE60,DataByMiles!$AT$5:$AU$6,2,FALSE)","v":0},null,null,{"$f":"U62*$X$2*VLOOKUP(DataByMiles!AE60,DataByMiles!$AT$5:$AU$6,2,FALSE)","v":0},{"$f":"DataByMiles!Y60*VLOOKUP(DataByMiles!AE60,DataByMiles!$AT$5:$AU$6,2,FALSE)","v":0},{"$f":"DataByMiles!Z60","v":0},{"$f":"DataByMiles!AA60","v":0},null,null,{"$f":"(Y62/IF(Z62=0,$AD$1,Z62)*$AD$2)/IF(AA62=0,1,AA62)*VLOOKUP(DataByMiles!AE60,DataByMiles!$AT$5:$AU$6,2,FALSE)","v":0},"",0,0,{"$f":"(AF62+AG62)*VLOOKUP(DataByMiles!AE60,DataByMiles!$AT$5:$AU$6,2,FALSE)","v":0},0]
[null,{"$f":"DataByMiles!C61","v":"----57"},{"$f":"DataByMiles!T61*VLOOKUP(DataByMiles!AE61,DataByMiles!$AT$5:$AU$6,2,FALSE)","v":0},null,null,0,{"$f":"C63*$G$2*VLOOKUP(DataByMiles!AE61,DataByMiles!$AT$5:$AU$6,2,FALSE)","v":0},{"$f":"DataByMiles!U61*VLOOKUP(DataByMiles!AE61,DataByMiles!$AT$5:$AU$6,2,FALSE)","v":0},null,null,0,{"$f":"H63*$L$2*VLOOKUP(DataByMiles!AE61,DataByMiles!$AT$5:$AU$6,2,FALSE)","v":0},{"$f":"DataByMiles!V61*VLOOKUP(DataByMiles!AE61,DataByMiles!$AT$5:$AU$6,2,FALSE)","v":0},null,null,{"$f":"M63*$P$2*VLOOKUP(DataByMiles!AE61,DataByMiles!$AT$5:$AU$6,2,FALSE)","v":0},{"$f":"DataByMiles!W61*VLOOKUP(DataByMiles!AE61,DataByMiles!$AT$5:$AU$6,2,FALSE)","v":0},null,null,{"$f":"Q63*$T$2*VLOOKUP(DataByMiles!AE61,DataByMiles!$AT$5:$AU$6,2,FALSE)","v":0},{"$f":"DataByMiles!X61*VLOOKUP(DataByMiles!AE61,DataByMiles!$AT$5:$AU$6,2,FALSE)","v":0},null,null,{"$f":"U63*$X$2*VLOOKUP(DataByMiles!AE61,DataByMiles!$AT$5:$AU$6,2,FALSE)","v":0},{"$f":"DataByMiles!Y61*VLOOKUP(DataByMiles!AE61,DataByMiles!$AT$5:$AU$6,2,FALSE)","v":0},{"$f":"DataByMiles!Z61","v":0},{"$f":"DataByMiles!AA61","v":0},null,null,{"$f":"(Y63/IF(Z63=0,$AD$1,Z63)*$AD$2)/IF(AA63=0,1,AA63)*VLOOKUP(DataByMiles!AE61,DataByMiles!$AT$5:$AU$6,2,FALSE)","v":0},"",0,0,{"$f":"(AF63+AG63)*VLOOKUP(DataByMiles!AE61,DataByMiles!$AT$5:$AU$6,2,FALSE)","v":0},0]
[null,{"$f":"DataByMiles!C62","v":"----58"},{"$f":"DataByMiles!T62*VLOOKUP(DataByMiles!AE62,DataByMiles!$AT$5:$AU$6,2,FALSE)","v":0},null,null,0,{"$f":"C64*$G$2*VLOOKUP(DataByMiles!AE62,DataByMiles!$AT$5:$AU$6,2,FALSE)","v":0},{"$f":"DataByMiles!U62*VLOOKUP(DataByMiles!AE62,DataByMiles!$AT$5:$AU$6,2,FALSE)","v":0},null,null,0,{"$f":"H64*$L$2*VLOOKUP(DataByMiles!AE62,DataByMiles!$AT$5:$AU$6,2,FALSE)","v":0},{"$f":"DataByMiles!V62*VLOOKUP(DataByMiles!AE62,DataByMiles!$AT$5:$AU$6,2,FALSE)","v":0},null,null,{"$f":"M64*$P$2*VLOOKUP(DataByMiles!AE62,DataByMiles!$AT$5:$AU$6,2,FALSE)","v":0},{"$f":"DataByMiles!W62*VLOOKUP(DataByMiles!AE62,DataByMiles!$AT$5:$AU$6,2,FALSE)","v":0},null,null,{"$f":"Q64*$T$2*VLOOKUP(DataByMiles!AE62,DataByMiles!$AT$5:$AU$6,2,FALSE)","v":0},{"$f":"DataByMiles!X62*VLOOKUP(DataByMiles!AE62,DataByMiles!$AT$5:$AU$6,2,FALSE)","v":0},null,null,{"$f":"U64*$X$2*VLOOKUP(DataByMiles!AE62,DataByMiles!$AT$5:$AU$6,2,FALSE)","v":0},{"$f":"DataByMiles!Y62*VLOOKUP(DataByMiles!AE62,DataByMiles!$AT$5:$AU$6,2,FALSE)","v":0},{"$f":"DataByMiles!Z62","v":0},{"$f":"DataByMiles!AA62","v":0},null,null,{"$f":"(Y64/IF(Z64=0,$AD$1,Z64)*$AD$2)/IF(AA64=0,1,AA64)*VLOOKUP(DataByMiles!AE62,DataByMiles!$AT$5:$AU$6,2,FALSE)","v":0},"",0,0,{"$f":"(AF64+AG64)*VLOOKUP(DataByMiles!AE62,DataByMiles!$AT$5:$AU$6,2,FALSE)","v":0},0]
[null,{"$f":"DataByMiles!C63","v":"----59"},{"$f":"DataByMiles!T63*VLOOKUP(DataByMiles!AE63,DataByMiles!$AT$5:$AU$6,2,FALSE)","v":0},null,null,0,{"$f":"C65*$G$2*VLOOKUP(DataByMiles!AE63,DataByMiles!$AT$5:$AU$6,2,FALSE)","v":0},{"$f":"DataByMiles!U63*VLOOKUP(DataByMiles!AE63,DataByMiles!$AT$5:$AU$6,2,FALSE)","v":0},null,null,0,{"$f":"H65*$L$2*VLOOKUP(DataByMiles!AE63,DataByMiles!$AT$5:$AU$6,2,FALSE)","v":0},{"$f":"DataByMiles!V63*VLOOKUP(DataByMiles!AE63,DataByMiles!$AT$5:$AU$6,2,FALSE)","v":0},null,null,{"$f":"M65*$P$2*VLOOKUP(DataByMiles!AE63,DataByMiles!$AT$5:$AU$6,2,FALSE)","v":0},{"$f":"DataByMiles!W63*VLOOKUP(DataByMiles!AE63,DataByMiles!$AT$5:$AU$6,2,FALSE)","v":0},null,null,{"$f":"Q65*$T$2*VLOOKUP(DataByMiles!AE63,DataByMiles!$AT$5:$AU$6,2,FALSE)","v":0},{"$f":"DataByMiles!X63*VLOOKUP(DataByMiles!AE63,DataByMiles!$AT$5:$AU$6,2,FALSE)","v":0},null,null,{"$f":"U65*$X$2*VLOOKUP(DataByMiles!AE63,DataByMiles!$AT$5:$AU$6,2,FALSE)","v":0},{"$f":"DataByMiles!Y63*VLOOKUP(DataByMiles!AE63,DataByMiles!$AT$5:$AU$6,2,FALSE)","v":0},{"$f":"DataByMiles!Z63","v":0},{"$f":"DataByMiles!AA63","v":0},null,null,{"$f":"(Y65/IF(Z65=0,$AD$1,Z65)*$AD$2)/IF(AA65=0,1,AA65)*VLOOKUP(DataByMiles!AE63,DataByMiles!$AT$5:$AU$6,2,FALSE)","v":0},"",0,0,{"$f":"(AF65+AG65)*VLOOKUP(DataByMiles!AE63,DataByMiles!$AT$5:$AU$6,2,FALSE)","v":0},0]
[null,{"$f":"DataByMiles!C64","v":"----60"},{"$f":"DataByMiles!T64*VLOOKUP(DataByMiles!AE64,DataByMiles!$AT$5:$AU$6,2,FALSE)","v":0},null,null,0,{"$f":"C66*$G$2*VLOOKUP(DataByMiles!AE64,DataByMiles!$AT$5:$AU$6,2,FALSE)","v":0},{"$f":"DataByMiles!U64*VLOOKUP(DataByMiles!AE64,DataByMiles!$AT$5:$AU$6,2,FALSE)","v":0},null,null,0,{"$f":"H66*$L$2*VLOOKUP(DataByMiles!AE64,DataByMiles!$AT$5:$AU$6,2,FALSE)","v":0},{"$f":"DataByMiles!V64*VLOOKUP(DataByMiles!AE64,DataByMiles!$AT$5:$AU$6,2,FALSE)","v":0},null,null,{"$f":"M66*$P$2*VLOOKUP(DataByMiles!AE64,DataByMiles!$AT$5:$AU$6,2,FALSE)","v":0},{"$f":"DataByMiles!W64*VLOOKUP(DataByMiles!AE64,DataByMiles!$AT$5:$AU$6,2,FALSE)","v":0},null,null,{"$f":"Q66*$T$2*VLOOKUP(DataByMiles!AE64,DataByMiles!$AT$5:$AU$6,2,FALSE)","v":0},{"$f":"DataByMiles!X64*VLOOKUP(DataByMiles!AE64,DataByMiles!$AT$5:$AU$6,2,FALSE)","v":0},null,null,{"$f":"U66*$X$2*VLOOKUP(DataByMiles!AE64,DataByMiles!$AT$5:$AU$6,2,FALSE)","v":0},{"$f":"DataByMiles!Y64*VLOOKUP(DataByMiles!AE64,DataByMiles!$AT$5:$AU$6,2,FALSE)","v":0},{"$f":"DataByMiles!Z64","v":0},{"$f":"DataByMiles!AA64","v":0},null,null,{"$f":"(Y66/IF(Z66=0,$AD$1,Z66)*$AD$2)/IF(AA66=0,1,AA66)*VLOOKUP(DataByMiles!AE64,DataByMiles!$AT$5:$AU$6,2,FALSE)","v":0},"",0,0,{"$f":"(AF66+AG66)*VLOOKUP(DataByMiles!AE64,DataByMiles!$AT$5:$AU$6,2,FALSE)","v":0},0]
[null,{"$f":"DataByMiles!C65","v":"----61"},{"$f":"DataByMiles!T65*VLOOKUP(DataByMiles!AE65,DataByMiles!$AT$5:$AU$6,2,FALSE)","v":0},null,null,0,{"$f":"C67*$G$2*VLOOKUP(DataByMiles!AE65,DataByMiles!$AT$5:$AU$6,2,FALSE)","v":0},{"$f":"DataByMiles!U65*VLOOKUP(DataByMiles!AE65,DataByMiles!$AT$5:$AU$6,2,FALSE)","v":0},null,null,0,{"$f":"H67*$L$2*VLOOKUP(DataByMiles!AE65,DataByMiles!$AT$5:$AU$6,2,FALSE)","v":0},{"$f":"DataByMiles!V65*VLOOKUP(DataByMiles!AE65,DataByMiles!$AT$5:$AU$6,2,FALSE)","v":0},null,null,{"$f":"M67*$P$2*VLOOKUP(DataByMiles!AE65,DataByMiles!$AT$5:$AU$6,2,FALSE)","v":0},{"$f":"DataByMiles!W65*VLOOKUP(DataByMiles!AE65,DataByMiles!$AT$5:$AU$6,2,FALSE)","v":0},null,null,{"$f":"Q67*$T$2*VLOOKUP(DataByMiles!AE65,DataByMiles!$AT$5:$AU$6,2,FALSE)","v":0},{"$f":"DataByMiles!X65*VLOOKUP(DataByMiles!AE65,DataByMiles!$AT$5:$AU$6,2,FALSE)","v":0},null,null,{"$f":"U67*$X$2*VLOOKUP(DataByMiles!AE65,DataByMiles!$AT$5:$AU$6,2,FALSE)","v":0},{"$f":"DataByMiles!Y65*VLOOKUP(DataByMiles!AE65,DataByMiles!$AT$5:$AU$6,2,FALSE)","v":0},{"$f":"DataByMiles!Z65","v":0},{"$f":"DataByMiles!AA65","v":0},null,null,{"$f":"(Y67/IF(Z67=0,$AD$1,Z67)*$AD$2)/IF(AA67=0,1,AA67)*VLOOKUP(DataByMiles!AE65,DataByMiles!$AT$5:$AU$6,2,FALSE)","v":0},"",0,0,{"$f":"(AF67+AG67)*VLOOKUP(DataByMiles!AE65,DataByMiles!$AT$5:$AU$6,2,FALSE)","v":0},0]
[null,{"$f":"DataByMiles!C66","v":"----62"},{"$f":"DataByMiles!T66*VLOOKUP(DataByMiles!AE66,DataByMiles!$AT$5:$AU$6,2,FALSE)","v":0},null,null,0,{"$f":"C68*$G$2*VLOOKUP(DataByMiles!AE66,DataByMiles!$AT$5:$AU$6,2,FALSE)","v":0},{"$f":"DataByMiles!U66*VLOOKUP(DataByMiles!AE66,DataByMiles!$AT$5:$AU$6,2,FALSE)","v":0},null,null,0,{"$f":"H68*$L$2*VLOOKUP(DataByMiles!AE66,DataByMiles!$AT$5:$AU$6,2,FALSE)","v":0},{"$f":"DataByMiles!V66*VLOOKUP(DataByMiles!AE66,DataByMiles!$AT$5:$AU$6,2,FALSE)","v":0},null,null,{"$f":"M68*$P$2*VLOOKUP(DataByMiles!AE66,DataByMiles!$AT$5:$AU$6,2,FALSE)","v":0},{"$f":"DataByMiles!W66*VLOOKUP(DataByMiles!AE66,DataByMiles!$AT$5:$AU$6,2,FALSE)","v":0},null,null,{"$f":"Q68*$T$2*VLOOKUP(DataByMiles!AE66,DataByMiles!$AT$5:$AU$6,2,FALSE)","v":0},{"$f":"DataByMiles!X66*VLOOKUP(DataByMiles!AE66,DataByMiles!$AT$5:$AU$6,2,FALSE)","v":0},null,null,{"$f":"U68*$X$2*VLOOKUP(DataByMiles!AE66,DataByMiles!$AT$5:$AU$6,2,FALSE)","v":0},{"$f":"DataByMiles!Y66*VLOOKUP(DataByMiles!AE66,DataByMiles!$AT$5:$AU$6,2,FALSE)","v":0},{"$f":"DataByMiles!Z66","v":0},{"$f":"DataByMiles!AA66","v":0},null,null,{"$f":"(Y68/IF(Z68=0,$AD$1,Z68)*$AD$2)/IF(AA68=0,1,AA68)*VLOOKUP(DataByMiles!AE66,DataByMiles!$AT$5:$AU$6,2,FALSE)","v":0},"",0,0,{"$f":"(AF68+AG68)*VLOOKUP(DataByMiles!AE66,DataByMiles!$AT$5:$AU$6,2,FALSE)","v":0},0]
[null,{"$f":"DataByMiles!C67","v":"----63"},{"$f":"DataByMiles!T67*VLOOKUP(DataByMiles!AE67,DataByMiles!$AT$5:$AU$6,2,FALSE)","v":0},null,null,0,{"$f":"C69*$G$2*VLOOKUP(DataByMiles!AE67,DataByMiles!$AT$5:$AU$6,2,FALSE)","v":0},{"$f":"DataByMiles!U67*VLOOKUP(DataByMiles!AE67,DataByMiles!$AT$5:$AU$6,2,FALSE)","v":0},null,null,0,{"$f":"H69*$L$2*VLOOKUP(DataByMiles!AE67,DataByMiles!$AT$5:$AU$6,2,FALSE)","v":0},{"$f":"DataByMiles!V67*VLOOKUP(DataByMiles!AE67,DataByMiles!$AT$5:$AU$6,2,FALSE)","v":0},null,null,{"$f":"M69*$P$2*VLOOKUP(DataByMiles!AE67,DataByMiles!$AT$5:$AU$6,2,FALSE)","v":0},{"$f":"DataByMiles!W67*VLOOKUP(DataByMiles!AE67,DataByMiles!$AT$5:$AU$6,2,FALSE)","v":0},null,null,{"$f":"Q69*$T$2*VLOOKUP(DataByMiles!AE67,DataByMiles!$AT$5:$AU$6,2,FALSE)","v":0},{"$f":"DataByMiles!X67*VLOOKUP(DataByMiles!AE67,DataByMiles!$AT$5:$AU$6,2,FALSE)","v":0},null,null,{"$f":"U69*$X$2*VLOOKUP(DataByMiles!AE67,DataByMiles!$AT$5:$AU$6,2,FALSE)","v":0},{"$f":"DataByMiles!Y67*VLOOKUP(DataByMiles!AE67,DataByMiles!$AT$5:$AU$6,2,FALSE)","v":0},{"$f":"DataByMiles!Z67","v":0},{"$f":"DataByMiles!AA67","v":0},null,null,{"$f":"(Y69/IF(Z69=0,$AD$1,Z69)*$AD$2)/IF(AA69=0,1,AA69)*VLOOKUP(DataByMiles!AE67,DataByMiles!$AT$5:$AU$6,2,FALSE)","v":0},"",0,0,{"$f":"(AF69+AG69)*VLOOKUP(DataByMiles!AE67,DataByMiles!$AT$5:$AU$6,2,FALSE)","v":0},0]
[null,{"$f":"DataByMiles!C68","v":"----64"},{"$f":"DataByMiles!T68*VLOOKUP(DataByMiles!AE68,DataByMiles!$AT$5:$AU$6,2,FALSE)","v":0},null,null,0,{"$f":"C70*$G$2*VLOOKUP(DataByMiles!AE68,DataByMiles!$AT$5:$AU$6,2,FALSE)","v":0},{"$f":"DataByMiles!U68*VLOOKUP(DataByMiles!AE68,DataByMiles!$AT$5:$AU$6,2,FALSE)","v":0},null,null,0,{"$f":"H70*$L$2*VLOOKUP(DataByMiles!AE68,DataByMiles!$AT$5:$AU$6,2,FALSE)","v":0},{"$f":"DataByMiles!V68*VLOOKUP(DataByMiles!AE68,DataByMiles!$AT$5:$AU$6,2,FALSE)","v":0},null,null,{"$f":"M70*$P$2*VLOOKUP(DataByMiles!AE68,DataByMiles!$AT$5:$AU$6,2,FALSE)","v":0},{"$f":"DataByMiles!W68*VLOOKUP(DataByMiles!AE68,DataByMiles!$AT$5:$AU$6,2,FALSE)","v":0},null,null,{"$f":"Q70*$T$2*VLOOKUP(DataByMiles!AE68,DataByMiles!$AT$5:$AU$6,2,FALSE)","v":0},{"$f":"DataByMiles!X68*VLOOKUP(DataByMiles!AE68,DataByMiles!$AT$5:$AU$6,2,FALSE)","v":0},null,null,{"$f":"U70*$X$2*VLOOKUP(DataByMiles!AE68,DataByMiles!$AT$5:$AU$6,2,FALSE)","v":0},{"$f":"DataByMiles!Y68*VLOOKUP(DataByMiles!AE68,DataByMiles!$AT$5:$AU$6,2,FALSE)","v":0},{"$f":"DataByMiles!Z68","v":0},{"$f":"DataByMiles!AA68","v":0},null,null,{"$f":"(Y70/IF(Z70=0,$AD$1,Z70)*$AD$2)/IF(AA70=0,1,AA70)*VLOOKUP(DataByMiles!AE68,DataByMiles!$AT$5:$AU$6,2,FALSE)","v":0},"",0,0,{"$f":"(AF70+AG70)*VLOOKUP(DataByMiles!AE68,DataByMiles!$AT$5:$AU$6,2,FALSE)","v":0},0]
[null,{"$f":"DataByMiles!C69","v":"----65"},{"$f":"DataByMiles!T69*VLOOKUP(DataByMiles!AE69,DataByMiles!$AT$5:$AU$6,2,FALSE)","v":0},null,null,0,{"$f":"C71*$G$2*VLOOKUP(DataByMiles!AE69,DataByMiles!$AT$5:$AU$6,2,FALSE)","v":0},{"$f":"DataByMiles!U69*VLOOKUP(DataByMiles!AE69,DataByMiles!$AT$5:$AU$6,2,FALSE)","v":0},null,null,0,{"$f":"H71*$L$2*VLOOKUP(DataByMiles!AE69,DataByMiles!$AT$5:$AU$6,2,FALSE)","v":0},{"$f":"DataByMiles!V69*VLOOKUP(DataByMiles!AE69,DataByMiles!$AT$5:$AU$6,2,FALSE)","v":0},null,null,{"$f":"M71*$P$2*VLOOKUP(DataByMiles!AE69,DataByMiles!$AT$5:$AU$6,2,FALSE)","v":0},{"$f":"DataByMiles!W69*VLOOKUP(DataByMiles!AE69,DataByMiles!$AT$5:$AU$6,2,FALSE)","v":0},null,null,{"$f":"Q71*$T$2*VLOOKUP(DataByMiles!AE69,DataByMiles!$AT$5:$AU$6,2,FALSE)","v":0},{"$f":"DataByMiles!X69*VLOOKUP(DataByMiles!AE69,DataByMiles!$AT$5:$AU$6,2,FALSE)","v":0},null,null,{"$f":"U71*$X$2*VLOOKUP(DataByMiles!AE69,DataByMiles!$AT$5:$AU$6,2,FALSE)","v":0},{"$f":"DataByMiles!Y69*VLOOKUP(DataByMiles!AE69,DataByMiles!$AT$5:$AU$6,2,FALSE)","v":0},{"$f":"DataByMiles!Z69","v":0},{"$f":"DataByMiles!AA69","v":0},null,null,{"$f":"(Y71/IF(Z71=0,$AD$1,Z71)*$AD$2)/IF(AA71=0,1,AA71)*VLOOKUP(DataByMiles!AE69,DataByMiles!$AT$5:$AU$6,2,FALSE)","v":0},"",0,0,{"$f":"(AF71+AG71)*VLOOKUP(DataByMiles!AE69,DataByMiles!$AT$5:$AU$6,2,FALSE)","v":0},0]
[null,{"$f":"DataByMiles!C70","v":"----66"},{"$f":"DataByMiles!T70*VLOOKUP(DataByMiles!AE70,DataByMiles!$AT$5:$AU$6,2,FALSE)","v":0},null,null,0,{"$f":"C72*$G$2*VLOOKUP(DataByMiles!AE70,DataByMiles!$AT$5:$AU$6,2,FALSE)","v":0},{"$f":"DataByMiles!U70*VLOOKUP(DataByMiles!AE70,DataByMiles!$AT$5:$AU$6,2,FALSE)","v":0},null,null,0,{"$f":"H72*$L$2*VLOOKUP(DataByMiles!AE70,DataByMiles!$AT$5:$AU$6,2,FALSE)","v":0},{"$f":"DataByMiles!V70*VLOOKUP(DataByMiles!AE70,DataByMiles!$AT$5:$AU$6,2,FALSE)","v":0},null,null,{"$f":"M72*$P$2*VLOOKUP(DataByMiles!AE70,DataByMiles!$AT$5:$AU$6,2,FALSE)","v":0},{"$f":"DataByMiles!W70*VLOOKUP(DataByMiles!AE70,DataByMiles!$AT$5:$AU$6,2,FALSE)","v":0},null,null,{"$f":"Q72*$T$2*VLOOKUP(DataByMiles!AE70,DataByMiles!$AT$5:$AU$6,2,FALSE)","v":0},{"$f":"DataByMiles!X70*VLOOKUP(DataByMiles!AE70,DataByMiles!$AT$5:$AU$6,2,FALSE)","v":0},null,null,{"$f":"U72*$X$2*VLOOKUP(DataByMiles!AE70,DataByMiles!$AT$5:$AU$6,2,FALSE)","v":0},{"$f":"DataByMiles!Y70*VLOOKUP(DataByMiles!AE70,DataByMiles!$AT$5:$AU$6,2,FALSE)","v":0},{"$f":"DataByMiles!Z70","v":0},{"$f":"DataByMiles!AA70","v":0},null,null,{"$f":"(Y72/IF(Z72=0,$AD$1,Z72)*$AD$2)/IF(AA72=0,1,AA72)*VLOOKUP(DataByMiles!AE70,DataByMiles!$AT$5:$AU$6,2,FALSE)","v":0},"",0,0,{"$f":"(AF72+AG72)*VLOOKUP(DataByMiles!AE70,DataByMiles!$AT$5:$AU$6,2,FALSE)","v":0},0]
[null,{"$f":"DataByMiles!C71","v":"----67"},{"$f":"DataByMiles!T71*VLOOKUP(DataByMiles!AE71,DataByMiles!$AT$5:$AU$6,2,FALSE)","v":0},null,null,0,{"$f":"C73*$G$2*VLOOKUP(DataByMiles!AE71,DataByMiles!$AT$5:$AU$6,2,FALSE)","v":0},{"$f":"DataByMiles!U71*VLOOKUP(DataByMiles!AE71,DataByMiles!$AT$5:$AU$6,2,FALSE)","v":0},null,null,0,{"$f":"H73*$L$2*VLOOKUP(DataByMiles!AE71,DataByMiles!$AT$5:$AU$6,2,FALSE)","v":0},{"$f":"DataByMiles!V71*VLOOKUP(DataByMiles!AE71,DataByMiles!$AT$5:$AU$6,2,FALSE)","v":0},null,null,{"$f":"M73*$P$2*VLOOKUP(DataByMiles!AE71,DataByMiles!$AT$5:$AU$6,2,FALSE)","v":0},{"$f":"DataByMiles!W71*VLOOKUP(DataByMiles!AE71,DataByMiles!$AT$5:$AU$6,2,FALSE)","v":0},null,null,{"$f":"Q73*$T$2*VLOOKUP(DataByMiles!AE71,DataByMiles!$AT$5:$AU$6,2,FALSE)","v":0},{"$f":"DataByMiles!X71*VLOOKUP(DataByMiles!AE71,DataByMiles!$AT$5:$AU$6,2,FALSE)","v":0},null,null,{"$f":"U73*$X$2*VLOOKUP(DataByMiles!AE71,DataByMiles!$AT$5:$AU$6,2,FALSE)","v":0},{"$f":"DataByMiles!Y71*VLOOKUP(DataByMiles!AE71,DataByMiles!$AT$5:$AU$6,2,FALSE)","v":0},{"$f":"DataByMiles!Z71","v":0},{"$f":"DataByMiles!AA71","v":0},null,null,{"$f":"(Y73/IF(Z73=0,$AD$1,Z73)*$AD$2)/IF(AA73=0,1,AA73)*VLOOKUP(DataByMiles!AE71,DataByMiles!$AT$5:$AU$6,2,FALSE)","v":0},"",0,0,{"$f":"(AF73+AG73)*VLOOKUP(DataByMiles!AE71,DataByMiles!$AT$5:$AU$6,2,FALSE)","v":0},0]
[null,{"$f":"DataByMiles!C72","v":"----68"},{"$f":"DataByMiles!T72*VLOOKUP(DataByMiles!AE72,DataByMiles!$AT$5:$AU$6,2,FALSE)","v":0},null,null,0,{"$f":"C74*$G$2*VLOOKUP(DataByMiles!AE72,DataByMiles!$AT$5:$AU$6,2,FALSE)","v":0},{"$f":"DataByMiles!U72*VLOOKUP(DataByMiles!AE72,DataByMiles!$AT$5:$AU$6,2,FALSE)","v":0},null,null,0,{"$f":"H74*$L$2*VLOOKUP(DataByMiles!AE72,DataByMiles!$AT$5:$AU$6,2,FALSE)","v":0},{"$f":"DataByMiles!V72*VLOOKUP(DataByMiles!AE72,DataByMiles!$AT$5:$AU$6,2,FALSE)","v":0},null,null,{"$f":"M74*$P$2*VLOOKUP(DataByMiles!AE72,DataByMiles!$AT$5:$AU$6,2,FALSE)","v":0},{"$f":"DataByMiles!W72*VLOOKUP(DataByMiles!AE72,DataByMiles!$AT$5:$AU$6,2,FALSE)","v":0},null,null,{"$f":"Q74*$T$2*VLOOKUP(DataByMiles!AE72,DataByMiles!$AT$5:$AU$6,2,FALSE)","v":0},{"$f":"DataByMiles!X72*VLOOKUP(DataByMiles!AE72,DataByMiles!$AT$5:$AU$6,2,FALSE)","v":0},null,null,{"$f":"U74*$X$2*VLOOKUP(DataByMiles!AE72,DataByMiles!$AT$5:$AU$6,2,FALSE)","v":0},{"$f":"DataByMiles!Y72*VLOOKUP(DataByMiles!AE72,DataByMiles!$AT$5:$AU$6,2,FALSE)","v":0},{"$f":"DataByMiles!Z72","v":0},{"$f":"DataByMiles!AA72","v":0},null,null,{"$f":"(Y74/IF(Z74=0,$AD$1,Z74)*$AD$2)/IF(AA74=0,1,AA74)*VLOOKUP(DataByMiles!AE72,DataByMiles!$AT$5:$AU$6,2,FALSE)","v":0},"",0,0,{"$f":"(AF74+AG74)*VLOOKUP(DataByMiles!AE72,DataByMiles!$AT$5:$AU$6,2,FALSE)","v":0},0]
[null,{"$f":"DataByMiles!C73","v":"----69"},{"$f":"DataByMiles!T73*VLOOKUP(DataByMiles!AE73,DataByMiles!$AT$5:$AU$6,2,FALSE)","v":0},null,null,0,{"$f":"C75*$G$2*VLOOKUP(DataByMiles!AE73,DataByMiles!$AT$5:$AU$6,2,FALSE)","v":0},{"$f":"DataByMiles!U73*VLOOKUP(DataByMiles!AE73,DataByMiles!$AT$5:$AU$6,2,FALSE)","v":0},null,null,0,{"$f":"H75*$L$2*VLOOKUP(DataByMiles!AE73,DataByMiles!$AT$5:$AU$6,2,FALSE)","v":0},{"$f":"DataByMiles!V73*VLOOKUP(DataByMiles!AE73,DataByMiles!$AT$5:$AU$6,2,FALSE)","v":0},null,null,{"$f":"M75*$P$2*VLOOKUP(DataByMiles!AE73,DataByMiles!$AT$5:$AU$6,2,FALSE)","v":0},{"$f":"DataByMiles!W73*VLOOKUP(DataByMiles!AE73,DataByMiles!$AT$5:$AU$6,2,FALSE)","v":0},null,null,{"$f":"Q75*$T$2*VLOOKUP(DataByMiles!AE73,DataByMiles!$AT$5:$AU$6,2,FALSE)","v":0},{"$f":"DataByMiles!X73*VLOOKUP(DataByMiles!AE73,DataByMiles!$AT$5:$AU$6,2,FALSE)","v":0},null,null,{"$f":"U75*$X$2*VLOOKUP(DataByMiles!AE73,DataByMiles!$AT$5:$AU$6,2,FALSE)","v":0},{"$f":"DataByMiles!Y73*VLOOKUP(DataByMiles!AE73,DataByMiles!$AT$5:$AU$6,2,FALSE)","v":0},{"$f":"DataByMiles!Z73","v":0},{"$f":"DataByMiles!AA73","v":0},null,null,{"$f":"(Y75/IF(Z75=0,$AD$1,Z75)*$AD$2)/IF(AA75=0,1,AA75)*VLOOKUP(DataByMiles!AE73,DataByMiles!$AT$5:$AU$6,2,FALSE)","v":0},"",0,0,{"$f":"(AF75+AG75)*VLOOKUP(DataByMiles!AE73,DataByMiles!$AT$5:$AU$6,2,FALSE)","v":0},0]
[null,{"$f":"DataByMiles!C74","v":"----70"},{"$f":"DataByMiles!T74*VLOOKUP(DataByMiles!AE74,DataByMiles!$AT$5:$AU$6,2,FALSE)","v":0},null,null,0,{"$f":"C76*$G$2*VLOOKUP(DataByMiles!AE74,DataByMiles!$AT$5:$AU$6,2,FALSE)","v":0},{"$f":"DataByMiles!U74*VLOOKUP(DataByMiles!AE74,DataByMiles!$AT$5:$AU$6,2,FALSE)","v":0},null,null,0,{"$f":"H76*$L$2*VLOOKUP(DataByMiles!AE74,DataByMiles!$AT$5:$AU$6,2,FALSE)","v":0},{"$f":"DataByMiles!V74*VLOOKUP(DataByMiles!AE74,DataByMiles!$AT$5:$AU$6,2,FALSE)","v":0},null,null,{"$f":"M76*$P$2*VLOOKUP(DataByMiles!AE74,DataByMiles!$AT$5:$AU$6,2,FALSE)","v":0},{"$f":"DataByMiles!W74*VLOOKUP(DataByMiles!AE74,DataByMiles!$AT$5:$AU$6,2,FALSE)","v":0},null,null,{"$f":"Q76*$T$2*VLOOKUP(DataByMiles!AE74,DataByMiles!$AT$5:$AU$6,2,FALSE)","v":0},{"$f":"DataByMiles!X74*VLOOKUP(DataByMiles!AE74,DataByMiles!$AT$5:$AU$6,2,FALSE)","v":0},null,null,{"$f":"U76*$X$2*VLOOKUP(DataByMiles!AE74,DataByMiles!$AT$5:$AU$6,2,FALSE)","v":0},{"$f":"DataByMiles!Y74*VLOOKUP(DataByMiles!AE74,DataByMiles!$AT$5:$AU$6,2,FALSE)","v":0},{"$f":"DataByMiles!Z74","v":0},{"$f":"DataByMiles!AA74","v":0},null,null,{"$f":"(Y76/IF(Z76=0,$AD$1,Z76)*$AD$2)/IF(AA76=0,1,AA76)*VLOOKUP(DataByMiles!AE74,DataByMiles!$AT$5:$AU$6,2,FALSE)","v":0},"",0,0,{"$f":"(AF76+AG76)*VLOOKUP(DataByMiles!AE74,DataByMiles!$AT$5:$AU$6,2,FALSE)","v":0},0]
[null,{"$f":"DataByMiles!C75","v":"----71"},{"$f":"DataByMiles!T75*VLOOKUP(DataByMiles!AE75,DataByMiles!$AT$5:$AU$6,2,FALSE)","v":0},null,null,0,{"$f":"C77*$G$2*VLOOKUP(DataByMiles!AE75,DataByMiles!$AT$5:$AU$6,2,FALSE)","v":0},{"$f":"DataByMiles!U75*VLOOKUP(DataByMiles!AE75,DataByMiles!$AT$5:$AU$6,2,FALSE)","v":0},null,null,0,{"$f":"H77*$L$2*VLOOKUP(DataByMiles!AE75,DataByMiles!$AT$5:$AU$6,2,FALSE)","v":0},{"$f":"DataByMiles!V75*VLOOKUP(DataByMiles!AE75,DataByMiles!$AT$5:$AU$6,2,FALSE)","v":0},null,null,{"$f":"M77*$P$2*VLOOKUP(DataByMiles!AE75,DataByMiles!$AT$5:$AU$6,2,FALSE)","v":0},{"$f":"DataByMiles!W75*VLOOKUP(DataByMiles!AE75,DataByMiles!$AT$5:$AU$6,2,FALSE)","v":0},null,null,{"$f":"Q77*$T$2*VLOOKUP(DataByMiles!AE75,DataByMiles!$AT$5:$AU$6,2,FALSE)","v":0},{"$f":"DataByMiles!X75*VLOOKUP(DataByMiles!AE75,DataByMiles!$AT$5:$AU$6,2,FALSE)","v":0},null,null,{"$f":"U77*$X$2*VLOOKUP(DataByMiles!AE75,DataByMiles!$AT$5:$AU$6,2,FALSE)","v":0},{"$f":"DataByMiles!Y75*VLOOKUP(DataByMiles!AE75,DataByMiles!$AT$5:$AU$6,2,FALSE)","v":0},{"$f":"DataByMiles!Z75","v":0},{"$f":"DataByMiles!AA75","v":0},null,null,{"$f":"(Y77/IF(Z77=0,$AD$1,Z77)*$AD$2)/IF(AA77=0,1,AA77)*VLOOKUP(DataByMiles!AE75,DataByMiles!$AT$5:$AU$6,2,FALSE)","v":0},"",0,0,{"$f":"(AF77+AG77)*VLOOKUP(DataByMiles!AE75,DataByMiles!$AT$5:$AU$6,2,FALSE)","v":0},0]
[null,{"$f":"DataByMiles!C76","v":"----72"},{"$f":"DataByMiles!T76*VLOOKUP(DataByMiles!AE76,DataByMiles!$AT$5:$AU$6,2,FALSE)","v":0},null,null,0,{"$f":"C78*$G$2*VLOOKUP(DataByMiles!AE76,DataByMiles!$AT$5:$AU$6,2,FALSE)","v":0},{"$f":"DataByMiles!U76*VLOOKUP(DataByMiles!AE76,DataByMiles!$AT$5:$AU$6,2,FALSE)","v":0},null,null,0,{"$f":"H78*$L$2*VLOOKUP(DataByMiles!AE76,DataByMiles!$AT$5:$AU$6,2,FALSE)","v":0},{"$f":"DataByMiles!V76*VLOOKUP(DataByMiles!AE76,DataByMiles!$AT$5:$AU$6,2,FALSE)","v":0},null,null,{"$f":"M78*$P$2*VLOOKUP(DataByMiles!AE76,DataByMiles!$AT$5:$AU$6,2,FALSE)","v":0},{"$f":"DataByMiles!W76*VLOOKUP(DataByMiles!AE76,DataByMiles!$AT$5:$AU$6,2,FALSE)","v":0},null,null,{"$f":"Q78*$T$2*VLOOKUP(DataByMiles!AE76,DataByMiles!$AT$5:$AU$6,2,FALSE)","v":0},{"$f":"DataByMiles!X76*VLOOKUP(DataByMiles!AE76,DataByMiles!$AT$5:$AU$6,2,FALSE)","v":0},null,null,{"$f":"U78*$X$2*VLOOKUP(DataByMiles!AE76,DataByMiles!$AT$5:$AU$6,2,FALSE)","v":0},{"$f":"DataByMiles!Y76*VLOOKUP(DataByMiles!AE76,DataByMiles!$AT$5:$AU$6,2,FALSE)","v":0},{"$f":"DataByMiles!Z76","v":0},{"$f":"DataByMiles!AA76","v":0},null,null,{"$f":"(Y78/IF(Z78=0,$AD$1,Z78)*$AD$2)/IF(AA78=0,1,AA78)*VLOOKUP(DataByMiles!AE76,DataByMiles!$AT$5:$AU$6,2,FALSE)","v":0},"",0,0,{"$f":"(AF78+AG78)*VLOOKUP(DataByMiles!AE76,DataByMiles!$AT$5:$AU$6,2,FALSE)","v":0},0]
[null,{"$f":"DataByMiles!C77","v":"----73"},{"$f":"DataByMiles!T77*VLOOKUP(DataByMiles!AE77,DataByMiles!$AT$5:$AU$6,2,FALSE)","v":0},null,null,0,{"$f":"C79*$G$2*VLOOKUP(DataByMiles!AE77,DataByMiles!$AT$5:$AU$6,2,FALSE)","v":0},{"$f":"DataByMiles!U77*VLOOKUP(DataByMiles!AE77,DataByMiles!$AT$5:$AU$6,2,FALSE)","v":0},null,null,0,{"$f":"H79*$L$2*VLOOKUP(DataByMiles!AE77,DataByMiles!$AT$5:$AU$6,2,FALSE)","v":0},{"$f":"DataByMiles!V77*VLOOKUP(DataByMiles!AE77,DataByMiles!$AT$5:$AU$6,2,FALSE)","v":0},null,null,{"$f":"M79*$P$2*VLOOKUP(DataByMiles!AE77,DataByMiles!$AT$5:$AU$6,2,FALSE)","v":0},{"$f":"DataByMiles!W77*VLOOKUP(DataByMiles!AE77,DataByMiles!$AT$5:$AU$6,2,FALSE)","v":0},null,null,{"$f":"Q79*$T$2*VLOOKUP(DataByMiles!AE77,DataByMiles!$AT$5:$AU$6,2,FALSE)","v":0},{"$f":"DataByMiles!X77*VLOOKUP(DataByMiles!AE77,DataByMiles!$AT$5:$AU$6,2,FALSE)","v":0},null,null,{"$f":"U79*$X$2*VLOOKUP(DataByMiles!AE77,DataByMiles!$AT$5:$AU$6,2,FALSE)","v":0},{"$f":"DataByMiles!Y77*VLOOKUP(DataByMiles!AE77,DataByMiles!$AT$5:$AU$6,2,FALSE)","v":0},{"$f":"DataByMiles!Z77","v":0},{"$f":"DataByMiles!AA77","v":0},null,null,{"$f":"(Y79/IF(Z79=0,$AD$1,Z79)*$AD$2)/IF(AA79=0,1,AA79)*VLOOKUP(DataByMiles!AE77,DataByMiles!$AT$5:$AU$6,2,FALSE)","v":0},"",0,0,{"$f":"(AF79+AG79)*VLOOKUP(DataByMiles!AE77,DataByMiles!$AT$5:$AU$6,2,FALSE)","v":0},0]
[null,{"$f":"DataByMiles!C78","v":"----74"},{"$f":"DataByMiles!T78*VLOOKUP(DataByMiles!AE78,DataByMiles!$AT$5:$AU$6,2,FALSE)","v":0},null,null,0,{"$f":"C80*$G$2*VLOOKUP(DataByMiles!AE78,DataByMiles!$AT$5:$AU$6,2,FALSE)","v":0},{"$f":"DataByMiles!U78*VLOOKUP(DataByMiles!AE78,DataByMiles!$AT$5:$AU$6,2,FALSE)","v":0},null,null,0,{"$f":"H80*$L$2*VLOOKUP(DataByMiles!AE78,DataByMiles!$AT$5:$AU$6,2,FALSE)","v":0},{"$f":"DataByMiles!V78*VLOOKUP(DataByMiles!AE78,DataByMiles!$AT$5:$AU$6,2,FALSE)","v":0},null,null,{"$f":"M80*$P$2*VLOOKUP(DataByMiles!AE78,DataByMiles!$AT$5:$AU$6,2,FALSE)","v":0},{"$f":"DataByMiles!W78*VLOOKUP(DataByMiles!AE78,DataByMiles!$AT$5:$AU$6,2,FALSE)","v":0},null,null,{"$f":"Q80*$T$2*VLOOKUP(DataByMiles!AE78,DataByMiles!$AT$5:$AU$6,2,FALSE)","v":0},{"$f":"DataByMiles!X78*VLOOKUP(DataByMiles!AE78,DataByMiles!$AT$5:$AU$6,2,FALSE)","v":0},null,null,{"$f":"U80*$X$2*VLOOKUP(DataByMiles!AE78,DataByMiles!$AT$5:$AU$6,2,FALSE)","v":0},{"$f":"DataByMiles!Y78*VLOOKUP(DataByMiles!AE78,DataByMiles!$AT$5:$AU$6,2,FALSE)","v":0},{"$f":"DataByMiles!Z78","v":0},{"$f":"DataByMiles!AA78","v":0},null,null,{"$f":"(Y80/IF(Z80=0,$AD$1,Z80)*$AD$2)/IF(AA80=0,1,AA80)*VLOOKUP(DataByMiles!AE78,DataByMiles!$AT$5:$AU$6,2,FALSE)","v":0},"",0,0,{"$f":"(AF80+AG80)*VLOOKUP(DataByMiles!AE78,DataByMiles!$AT$5:$AU$6,2,FALSE)","v":0},0]
[null,{"$f":"DataByMiles!C79","v":"----75"},{"$f":"DataByMiles!T79*VLOOKUP(DataByMiles!AE79,DataByMiles!$AT$5:$AU$6,2,FALSE)","v":0},null,null,0,{"$f":"C81*$G$2*VLOOKUP(DataByMiles!AE79,DataByMiles!$AT$5:$AU$6,2,FALSE)","v":0},{"$f":"DataByMiles!U79*VLOOKUP(DataByMiles!AE79,DataByMiles!$AT$5:$AU$6,2,FALSE)","v":0},null,null,0,{"$f":"H81*$L$2*VLOOKUP(DataByMiles!AE79,DataByMiles!$AT$5:$AU$6,2,FALSE)","v":0},{"$f":"DataByMiles!V79*VLOOKUP(DataByMiles!AE79,DataByMiles!$AT$5:$AU$6,2,FALSE)","v":0},null,null,{"$f":"M81*$P$2*VLOOKUP(DataByMiles!AE79,DataByMiles!$AT$5:$AU$6,2,FALSE)","v":0},{"$f":"DataByMiles!W79*VLOOKUP(DataByMiles!AE79,DataByMiles!$AT$5:$AU$6,2,FALSE)","v":0},null,null,{"$f":"Q81*$T$2*VLOOKUP(DataByMiles!AE79,DataByMiles!$AT$5:$AU$6,2,FALSE)","v":0},{"$f":"DataByMiles!X79*VLOOKUP(DataByMiles!AE79,DataByMiles!$AT$5:$AU$6,2,FALSE)","v":0},null,null,{"$f":"U81*$X$2*VLOOKUP(DataByMiles!AE79,DataByMiles!$AT$5:$AU$6,2,FALSE)","v":0},{"$f":"DataByMiles!Y79*VLOOKUP(DataByMiles!AE79,DataByMiles!$AT$5:$AU$6,2,FALSE)","v":0},{"$f":"DataByMiles!Z79","v":0},{"$f":"DataByMiles!AA79","v":0},null,null,{"$f":"(Y81/IF(Z81=0,$AD$1,Z81)*$AD$2)/IF(AA81=0,1,AA81)*VLOOKUP(DataByMiles!AE79,DataByMiles!$AT$5:$AU$6,2,FALSE)","v":0},"",0,0,{"$f":"(AF81+AG81)*VLOOKUP(DataByMiles!AE79,DataByMiles!$AT$5:$AU$6,2,FALSE)","v":0},0]
[null,{"$f":"DataByMiles!C80","v":"----76"},{"$f":"DataByMiles!T80*VLOOKUP(DataByMiles!AE80,DataByMiles!$AT$5:$AU$6,2,FALSE)","v":0},null,null,0,{"$f":"C82*$G$2*VLOOKUP(DataByMiles!AE80,DataByMiles!$AT$5:$AU$6,2,FALSE)","v":0},{"$f":"DataByMiles!U80*VLOOKUP(DataByMiles!AE80,DataByMiles!$AT$5:$AU$6,2,FALSE)","v":0},null,null,0,{"$f":"H82*$L$2*VLOOKUP(DataByMiles!AE80,DataByMiles!$AT$5:$AU$6,2,FALSE)","v":0},{"$f":"DataByMiles!V80*VLOOKUP(DataByMiles!AE80,DataByMiles!$AT$5:$AU$6,2,FALSE)","v":0},null,null,{"$f":"M82*$P$2*VLOOKUP(DataByMiles!AE80,DataByMiles!$AT$5:$AU$6,2,FALSE)","v":0},{"$f":"DataByMiles!W80*VLOOKUP(DataByMiles!AE80,DataByMiles!$AT$5:$AU$6,2,FALSE)","v":0},null,null,{"$f":"Q82*$T$2*VLOOKUP(DataByMiles!AE80,DataByMiles!$AT$5:$AU$6,2,FALSE)","v":0},{"$f":"DataByMiles!X80*VLOOKUP(DataByMiles!AE80,DataByMiles!$AT$5:$AU$6,2,FALSE)","v":0},null,null,{"$f":"U82*$X$2*VLOOKUP(DataByMiles!AE80,DataByMiles!$AT$5:$AU$6,2,FALSE)","v":0},{"$f":"DataByMiles!Y80*VLOOKUP(DataByMiles!AE80,DataByMiles!$AT$5:$AU$6,2,FALSE)","v":0},{"$f":"DataByMiles!Z80","v":0},{"$f":"DataByMiles!AA80","v":0},null,null,{"$f":"(Y82/IF(Z82=0,$AD$1,Z82)*$AD$2)/IF(AA82=0,1,AA82)*VLOOKUP(DataByMiles!AE80,DataByMiles!$AT$5:$AU$6,2,FALSE)","v":0},"",0,0,{"$f":"(AF82+AG82)*VLOOKUP(DataByMiles!AE80,DataByMiles!$AT$5:$AU$6,2,FALSE)","v":0},0]
[null,{"$f":"DataByMiles!C81","v":"----77"},{"$f":"DataByMiles!T81*VLOOKUP(DataByMiles!AE81,DataByMiles!$AT$5:$AU$6,2,FALSE)","v":0},null,null,0,{"$f":"C83*$G$2*VLOOKUP(DataByMiles!AE81,DataByMiles!$AT$5:$AU$6,2,FALSE)","v":0},{"$f":"DataByMiles!U81*VLOOKUP(DataByMiles!AE81,DataByMiles!$AT$5:$AU$6,2,FALSE)","v":0},null,null,0,{"$f":"H83*$L$2*VLOOKUP(DataByMiles!AE81,DataByMiles!$AT$5:$AU$6,2,FALSE)","v":0},{"$f":"DataByMiles!V81*VLOOKUP(DataByMiles!AE81,DataByMiles!$AT$5:$AU$6,2,FALSE)","v":0},null,null,{"$f":"M83*$P$2*VLOOKUP(DataByMiles!AE81,DataByMiles!$AT$5:$AU$6,2,FALSE)","v":0},{"$f":"DataByMiles!W81*VLOOKUP(DataByMiles!AE81,DataByMiles!$AT$5:$AU$6,2,FALSE)","v":0},null,null,{"$f":"Q83*$T$2*VLOOKUP(DataByMiles!AE81,DataByMiles!$AT$5:$AU$6,2,FALSE)","v":0},{"$f":"DataByMiles!X81*VLOOKUP(DataByMiles!AE81,DataByMiles!$AT$5:$AU$6,2,FALSE)","v":0},null,null,{"$f":"U83*$X$2*VLOOKUP(DataByMiles!AE81,DataByMiles!$AT$5:$AU$6,2,FALSE)","v":0},{"$f":"DataByMiles!Y81*VLOOKUP(DataByMiles!AE81,DataByMiles!$AT$5:$AU$6,2,FALSE)","v":0},{"$f":"DataByMiles!Z81","v":0},{"$f":"DataByMiles!AA81","v":0},null,null,{"$f":"(Y83/IF(Z83=0,$AD$1,Z83)*$AD$2)/IF(AA83=0,1,AA83)*VLOOKUP(DataByMiles!AE81,DataByMiles!$AT$5:$AU$6,2,FALSE)","v":0},"",0,0,{"$f":"(AF83+AG83)*VLOOKUP(DataByMiles!AE81,DataByMiles!$AT$5:$AU$6,2,FALSE)","v":0},0]
[null,{"$f":"DataByMiles!C82","v":"----78"},{"$f":"DataByMiles!T82*VLOOKUP(DataByMiles!AE82,DataByMiles!$AT$5:$AU$6,2,FALSE)","v":0},null,null,0,{"$f":"C84*$G$2*VLOOKUP(DataByMiles!AE82,DataByMiles!$AT$5:$AU$6,2,FALSE)","v":0},{"$f":"DataByMiles!U82*VLOOKUP(DataByMiles!AE82,DataByMiles!$AT$5:$AU$6,2,FALSE)","v":0},null,null,0,{"$f":"H84*$L$2*VLOOKUP(DataByMiles!AE82,DataByMiles!$AT$5:$AU$6,2,FALSE)","v":0},{"$f":"DataByMiles!V82*VLOOKUP(DataByMiles!AE82,DataByMiles!$AT$5:$AU$6,2,FALSE)","v":0},null,null,{"$f":"M84*$P$2*VLOOKUP(DataByMiles!AE82,DataByMiles!$AT$5:$AU$6,2,FALSE)","v":0},{"$f":"DataByMiles!W82*VLOOKUP(DataByMiles!AE82,DataByMiles!$AT$5:$AU$6,2,FALSE)","v":0},null,null,{"$f":"Q84*$T$2*VLOOKUP(DataByMiles!AE82,DataByMiles!$AT$5:$AU$6,2,FALSE)","v":0},{"$f":"DataByMiles!X82*VLOOKUP(DataByMiles!AE82,DataByMiles!$AT$5:$AU$6,2,FALSE)","v":0},null,null,{"$f":"U84*$X$2*VLOOKUP(DataByMiles!AE82,DataByMiles!$AT$5:$AU$6,2,FALSE)","v":0},{"$f":"DataByMiles!Y82*VLOOKUP(DataByMiles!AE82,DataByMiles!$AT$5:$AU$6,2,FALSE)","v":0},{"$f":"DataByMiles!Z82","v":0},{"$f":"DataByMiles!AA82","v":0},null,null,{"$f":"(Y84/IF(Z84=0,$AD$1,Z84)*$AD$2)/IF(AA84=0,1,AA84)*VLOOKUP(DataByMiles!AE82,DataByMiles!$AT$5:$AU$6,2,FALSE)","v":0},"",0,0,{"$f":"(AF84+AG84)*VLOOKUP(DataByMiles!AE82,DataByMiles!$AT$5:$AU$6,2,FALSE)","v":0},0]
[null,{"$f":"DataByMiles!C83","v":"----79"},{"$f":"DataByMiles!T83*VLOOKUP(DataByMiles!AE83,DataByMiles!$AT$5:$AU$6,2,FALSE)","v":0},null,null,0,{"$f":"C85*$G$2*VLOOKUP(DataByMiles!AE83,DataByMiles!$AT$5:$AU$6,2,FALSE)","v":0},{"$f":"DataByMiles!U83*VLOOKUP(DataByMiles!AE83,DataByMiles!$AT$5:$AU$6,2,FALSE)","v":0},null,null,0,{"$f":"H85*$L$2*VLOOKUP(DataByMiles!AE83,DataByMiles!$AT$5:$AU$6,2,FALSE)","v":0},{"$f":"DataByMiles!V83*VLOOKUP(DataByMiles!AE83,DataByMiles!$AT$5:$AU$6,2,FALSE)","v":0},null,null,{"$f":"M85*$P$2*VLOOKUP(DataByMiles!AE83,DataByMiles!$AT$5:$AU$6,2,FALSE)","v":0},{"$f":"DataByMiles!W83*VLOOKUP(DataByMiles!AE83,DataByMiles!$AT$5:$AU$6,2,FALSE)","v":0},null,null,{"$f":"Q85*$T$2*VLOOKUP(DataByMiles!AE83,DataByMiles!$AT$5:$AU$6,2,FALSE)","v":0},{"$f":"DataByMiles!X83*VLOOKUP(DataByMiles!AE83,DataByMiles!$AT$5:$AU$6,2,FALSE)","v":0},null,null,{"$f":"U85*$X$2*VLOOKUP(DataByMiles!AE83,DataByMiles!$AT$5:$AU$6,2,FALSE)","v":0},{"$f":"DataByMiles!Y83*VLOOKUP(DataByMiles!AE83,DataByMiles!$AT$5:$AU$6,2,FALSE)","v":0},{"$f":"DataByMiles!Z83","v":0},{"$f":"DataByMiles!AA83","v":0},null,null,{"$f":"(Y85/IF(Z85=0,$AD$1,Z85)*$AD$2)/IF(AA85=0,1,AA85)*VLOOKUP(DataByMiles!AE83,DataByMiles!$AT$5:$AU$6,2,FALSE)","v":0},"",0,0,{"$f":"(AF85+AG85)*VLOOKUP(DataByMiles!AE83,DataByMiles!$AT$5:$AU$6,2,FALSE)","v":0},0]
[null,{"$f":"DataByMiles!C84","v":"----80"},{"$f":"DataByMiles!T84*VLOOKUP(DataByMiles!AE84,DataByMiles!$AT$5:$AU$6,2,FALSE)","v":0},null,null,0,{"$f":"C86*$G$2*VLOOKUP(DataByMiles!AE84,DataByMiles!$AT$5:$AU$6,2,FALSE)","v":0},{"$f":"DataByMiles!U84*VLOOKUP(DataByMiles!AE84,DataByMiles!$AT$5:$AU$6,2,FALSE)","v":0},null,null,0,{"$f":"H86*$L$2*VLOOKUP(DataByMiles!AE84,DataByMiles!$AT$5:$AU$6,2,FALSE)","v":0},{"$f":"DataByMiles!V84*VLOOKUP(DataByMiles!AE84,DataByMiles!$AT$5:$AU$6,2,FALSE)","v":0},null,null,{"$f":"M86*$P$2*VLOOKUP(DataByMiles!AE84,DataByMiles!$AT$5:$AU$6,2,FALSE)","v":0},{"$f":"DataByMiles!W84*VLOOKUP(DataByMiles!AE84,DataByMiles!$AT$5:$AU$6,2,FALSE)","v":0},null,null,{"$f":"Q86*$T$2*VLOOKUP(DataByMiles!AE84,DataByMiles!$AT$5:$AU$6,2,FALSE)","v":0},{"$f":"DataByMiles!X84*VLOOKUP(DataByMiles!AE84,DataByMiles!$AT$5:$AU$6,2,FALSE)","v":0},null,null,{"$f":"U86*$X$2*VLOOKUP(DataByMiles!AE84,DataByMiles!$AT$5:$AU$6,2,FALSE)","v":0},{"$f":"DataByMiles!Y84*VLOOKUP(DataByMiles!AE84,DataByMiles!$AT$5:$AU$6,2,FALSE)","v":0},{"$f":"DataByMiles!Z84","v":0},{"$f":"DataByMiles!AA84","v":0},null,null,{"$f":"(Y86/IF(Z86=0,$AD$1,Z86)*$AD$2)/IF(AA86=0,1,AA86)*VLOOKUP(DataByMiles!AE84,DataByMiles!$AT$5:$AU$6,2,FALSE)","v":0},"",0,0,{"$f":"(AF86+AG86)*VLOOKUP(DataByMiles!AE84,DataByMiles!$AT$5:$AU$6,2,FALSE)","v":0},0]
[null,{"$f":"DataByMiles!C85","v":"----81"},{"$f":"DataByMiles!T85*VLOOKUP(DataByMiles!AE85,DataByMiles!$AT$5:$AU$6,2,FALSE)","v":0},null,null,0,{"$f":"C87*$G$2*VLOOKUP(DataByMiles!AE85,DataByMiles!$AT$5:$AU$6,2,FALSE)","v":0},{"$f":"DataByMiles!U85*VLOOKUP(DataByMiles!AE85,DataByMiles!$AT$5:$AU$6,2,FALSE)","v":0},null,null,0,{"$f":"H87*$L$2*VLOOKUP(DataByMiles!AE85,DataByMiles!$AT$5:$AU$6,2,FALSE)","v":0},{"$f":"DataByMiles!V85*VLOOKUP(DataByMiles!AE85,DataByMiles!$AT$5:$AU$6,2,FALSE)","v":0},null,null,{"$f":"M87*$P$2*VLOOKUP(DataByMiles!AE85,DataByMiles!$AT$5:$AU$6,2,FALSE)","v":0},{"$f":"DataByMiles!W85*VLOOKUP(DataByMiles!AE85,DataByMiles!$AT$5:$AU$6,2,FALSE)","v":0},null,null,{"$f":"Q87*$T$2*VLOOKUP(DataByMiles!AE85,DataByMiles!$AT$5:$AU$6,2,FALSE)","v":0},{"$f":"DataByMiles!X85*VLOOKUP(DataByMiles!AE85,DataByMiles!$AT$5:$AU$6,2,FALSE)","v":0},null,null,{"$f":"U87*$X$2*VLOOKUP(DataByMiles!AE85,DataByMiles!$AT$5:$AU$6,2,FALSE)","v":0},{"$f":"DataByMiles!Y85*VLOOKUP(DataByMiles!AE85,DataByMiles!$AT$5:$AU$6,2,FALSE)","v":0},{"$f":"DataByMiles!Z85","v":0},{"$f":"DataByMiles!AA85","v":0},null,null,{"$f":"(Y87/IF(Z87=0,$AD$1,Z87)*$AD$2)/IF(AA87=0,1,AA87)*VLOOKUP(DataByMiles!AE85,DataByMiles!$AT$5:$AU$6,2,FALSE)","v":0},"",0,0,{"$f":"(AF87+AG87)*VLOOKUP(DataByMiles!AE85,DataByMiles!$AT$5:$AU$6,2,FALSE)","v":0},0]
[null,{"$f":"DataByMiles!C86","v":"----82"},{"$f":"DataByMiles!T86*VLOOKUP(DataByMiles!AE86,DataByMiles!$AT$5:$AU$6,2,FALSE)","v":0},null,null,0,{"$f":"C88*$G$2*VLOOKUP(DataByMiles!AE86,DataByMiles!$AT$5:$AU$6,2,FALSE)","v":0},{"$f":"DataByMiles!U86*VLOOKUP(DataByMiles!AE86,DataByMiles!$AT$5:$AU$6,2,FALSE)","v":0},null,null,0,{"$f":"H88*$L$2*VLOOKUP(DataByMiles!AE86,DataByMiles!$AT$5:$AU$6,2,FALSE)","v":0},{"$f":"DataByMiles!V86*VLOOKUP(DataByMiles!AE86,DataByMiles!$AT$5:$AU$6,2,FALSE)","v":0},null,null,{"$f":"M88*$P$2*VLOOKUP(DataByMiles!AE86,DataByMiles!$AT$5:$AU$6,2,FALSE)","v":0},{"$f":"DataByMiles!W86*VLOOKUP(DataByMiles!AE86,DataByMiles!$AT$5:$AU$6,2,FALSE)","v":0},null,null,{"$f":"Q88*$T$2*VLOOKUP(DataByMiles!AE86,DataByMiles!$AT$5:$AU$6,2,FALSE)","v":0},{"$f":"DataByMiles!X86*VLOOKUP(DataByMiles!AE86,DataByMiles!$AT$5:$AU$6,2,FALSE)","v":0},null,null,{"$f":"U88*$X$2*VLOOKUP(DataByMiles!AE86,DataByMiles!$AT$5:$AU$6,2,FALSE)","v":0},{"$f":"DataByMiles!Y86*VLOOKUP(DataByMiles!AE86,DataByMiles!$AT$5:$AU$6,2,FALSE)","v":0},{"$f":"DataByMiles!Z86","v":0},{"$f":"DataByMiles!AA86","v":0},null,null,{"$f":"(Y88/IF(Z88=0,$AD$1,Z88)*$AD$2)/IF(AA88=0,1,AA88)*VLOOKUP(DataByMiles!AE86,DataByMiles!$AT$5:$AU$6,2,FALSE)","v":0},"",0,0,{"$f":"(AF88+AG88)*VLOOKUP(DataByMiles!AE86,DataByMiles!$AT$5:$AU$6,2,FALSE)","v":0},0]
[null,{"$f":"DataByMiles!C87","v":"----83"},{"$f":"DataByMiles!T87*VLOOKUP(DataByMiles!AE87,DataByMiles!$AT$5:$AU$6,2,FALSE)","v":0},null,null,0,{"$f":"C89*$G$2*VLOOKUP(DataByMiles!AE87,DataByMiles!$AT$5:$AU$6,2,FALSE)","v":0},{"$f":"DataByMiles!U87*VLOOKUP(DataByMiles!AE87,DataByMiles!$AT$5:$AU$6,2,FALSE)","v":0},null,null,0,{"$f":"H89*$L$2*VLOOKUP(DataByMiles!AE87,DataByMiles!$AT$5:$AU$6,2,FALSE)","v":0},{"$f":"DataByMiles!V87*VLOOKUP(DataByMiles!AE87,DataByMiles!$AT$5:$AU$6,2,FALSE)","v":0},null,null,{"$f":"M89*$P$2*VLOOKUP(DataByMiles!AE87,DataByMiles!$AT$5:$AU$6,2,FALSE)","v":0},{"$f":"DataByMiles!W87*VLOOKUP(DataByMiles!AE87,DataByMiles!$AT$5:$AU$6,2,FALSE)","v":0},null,null,{"$f":"Q89*$T$2*VLOOKUP(DataByMiles!AE87,DataByMiles!$AT$5:$AU$6,2,FALSE)","v":0},{"$f":"DataByMiles!X87*VLOOKUP(DataByMiles!AE87,DataByMiles!$AT$5:$AU$6,2,FALSE)","v":0},null,null,{"$f":"U89*$X$2*VLOOKUP(DataByMiles!AE87,DataByMiles!$AT$5:$AU$6,2,FALSE)","v":0},{"$f":"DataByMiles!Y87*VLOOKUP(DataByMiles!AE87,DataByMiles!$AT$5:$AU$6,2,FALSE)","v":0},{"$f":"DataByMiles!Z87","v":0},{"$f":"DataByMiles!AA87","v":0},null,null,{"$f":"(Y89/IF(Z89=0,$AD$1,Z89)*$AD$2)/IF(AA89=0,1,AA89)*VLOOKUP(DataByMiles!AE87,DataByMiles!$AT$5:$AU$6,2,FALSE)","v":0},"",0,0,{"$f":"(AF89+AG89)*VLOOKUP(DataByMiles!AE87,DataByMiles!$AT$5:$AU$6,2,FALSE)","v":0},0]
[null,{"$f":"DataByMiles!C88","v":"----84"},{"$f":"DataByMiles!T88*VLOOKUP(DataByMiles!AE88,DataByMiles!$AT$5:$AU$6,2,FALSE)","v":0},null,null,0,{"$f":"C90*$G$2*VLOOKUP(DataByMiles!AE88,DataByMiles!$AT$5:$AU$6,2,FALSE)","v":0},{"$f":"DataByMiles!U88*VLOOKUP(DataByMiles!AE88,DataByMiles!$AT$5:$AU$6,2,FALSE)","v":0},null,null,0,{"$f":"H90*$L$2*VLOOKUP(DataByMiles!AE88,DataByMiles!$AT$5:$AU$6,2,FALSE)","v":0},{"$f":"DataByMiles!V88*VLOOKUP(DataByMiles!AE88,DataByMiles!$AT$5:$AU$6,2,FALSE)","v":0},null,null,{"$f":"M90*$P$2*VLOOKUP(DataByMiles!AE88,DataByMiles!$AT$5:$AU$6,2,FALSE)","v":0},{"$f":"DataByMiles!W88*VLOOKUP(DataByMiles!AE88,DataByMiles!$AT$5:$AU$6,2,FALSE)","v":0},null,null,{"$f":"Q90*$T$2*VLOOKUP(DataByMiles!AE88,DataByMiles!$AT$5:$AU$6,2,FALSE)","v":0},{"$f":"DataByMiles!X88*VLOOKUP(DataByMiles!AE88,DataByMiles!$AT$5:$AU$6,2,FALSE)","v":0},null,null,{"$f":"U90*$X$2*VLOOKUP(DataByMiles!AE88,DataByMiles!$AT$5:$AU$6,2,FALSE)","v":0},{"$f":"DataByMiles!Y88*VLOOKUP(DataByMiles!AE88,DataByMiles!$AT$5:$AU$6,2,FALSE)","v":0},{"$f":"DataByMiles!Z88","v":0},{"$f":"DataByMiles!AA88","v":0},null,null,{"$f":"(Y90/IF(Z90=0,$AD$1,Z90)*$AD$2)/IF(AA90=0,1,AA90)*VLOOKUP(DataByMiles!AE88,DataByMiles!$AT$5:$AU$6,2,FALSE)","v":0},"",0,0,{"$f":"(AF90+AG90)*VLOOKUP(DataByMiles!AE88,DataByMiles!$AT$5:$AU$6,2,FALSE)","v":0},0]
[null,{"$f":"DataByMiles!C89","v":"----85"},{"$f":"DataByMiles!T89*VLOOKUP(DataByMiles!AE89,DataByMiles!$AT$5:$AU$6,2,FALSE)","v":0},null,null,0,{"$f":"C91*$G$2*VLOOKUP(DataByMiles!AE89,DataByMiles!$AT$5:$AU$6,2,FALSE)","v":0},{"$f":"DataByMiles!U89*VLOOKUP(DataByMiles!AE89,DataByMiles!$AT$5:$AU$6,2,FALSE)","v":0},null,null,0,{"$f":"H91*$L$2*VLOOKUP(DataByMiles!AE89,DataByMiles!$AT$5:$AU$6,2,FALSE)","v":0},{"$f":"DataByMiles!V89*VLOOKUP(DataByMiles!AE89,DataByMiles!$AT$5:$AU$6,2,FALSE)","v":0},null,null,{"$f":"M91*$P$2*VLOOKUP(DataByMiles!AE89,DataByMiles!$AT$5:$AU$6,2,FALSE)","v":0},{"$f":"DataByMiles!W89*VLOOKUP(DataByMiles!AE89,DataByMiles!$AT$5:$AU$6,2,FALSE)","v":0},null,null,{"$f":"Q91*$T$2*VLOOKUP(DataByMiles!AE89,DataByMiles!$AT$5:$AU$6,2,FALSE)","v":0},{"$f":"DataByMiles!X89*VLOOKUP(DataByMiles!AE89,DataByMiles!$AT$5:$AU$6,2,FALSE)","v":0},null,null,{"$f":"U91*$X$2*VLOOKUP(DataByMiles!AE89,DataByMiles!$AT$5:$AU$6,2,FALSE)","v":0},{"$f":"DataByMiles!Y89*VLOOKUP(DataByMiles!AE89,DataByMiles!$AT$5:$AU$6,2,FALSE)","v":0},{"$f":"DataByMiles!Z89","v":0},{"$f":"DataByMiles!AA89","v":0},null,null,{"$f":"(Y91/IF(Z91=0,$AD$1,Z91)*$AD$2)/IF(AA91=0,1,AA91)*VLOOKUP(DataByMiles!AE89,DataByMiles!$AT$5:$AU$6,2,FALSE)","v":0},"",0,0,{"$f":"(AF91+AG91)*VLOOKUP(DataByMiles!AE89,DataByMiles!$AT$5:$AU$6,2,FALSE)","v":0},0]
[null,{"$f":"DataByMiles!C90","v":"----86"},{"$f":"DataByMiles!T90*VLOOKUP(DataByMiles!AE90,DataByMiles!$AT$5:$AU$6,2,FALSE)","v":0},null,null,0,{"$f":"C92*$G$2*VLOOKUP(DataByMiles!AE90,DataByMiles!$AT$5:$AU$6,2,FALSE)","v":0},{"$f":"DataByMiles!U90*VLOOKUP(DataByMiles!AE90,DataByMiles!$AT$5:$AU$6,2,FALSE)","v":0},null,null,0,{"$f":"H92*$L$2*VLOOKUP(DataByMiles!AE90,DataByMiles!$AT$5:$AU$6,2,FALSE)","v":0},{"$f":"DataByMiles!V90*VLOOKUP(DataByMiles!AE90,DataByMiles!$AT$5:$AU$6,2,FALSE)","v":0},null,null,{"$f":"M92*$P$2*VLOOKUP(DataByMiles!AE90,DataByMiles!$AT$5:$AU$6,2,FALSE)","v":0},{"$f":"DataByMiles!W90*VLOOKUP(DataByMiles!AE90,DataByMiles!$AT$5:$AU$6,2,FALSE)","v":0},null,null,{"$f":"Q92*$T$2*VLOOKUP(DataByMiles!AE90,DataByMiles!$AT$5:$AU$6,2,FALSE)","v":0},{"$f":"DataByMiles!X90*VLOOKUP(DataByMiles!AE90,DataByMiles!$AT$5:$AU$6,2,FALSE)","v":0},null,null,{"$f":"U92*$X$2*VLOOKUP(DataByMiles!AE90,DataByMiles!$AT$5:$AU$6,2,FALSE)","v":0},{"$f":"DataByMiles!Y90*VLOOKUP(DataByMiles!AE90,DataByMiles!$AT$5:$AU$6,2,FALSE)","v":0},{"$f":"DataByMiles!Z90","v":0},{"$f":"DataByMiles!AA90","v":0},null,null,{"$f":"(Y92/IF(Z92=0,$AD$1,Z92)*$AD$2)/IF(AA92=0,1,AA92)*VLOOKUP(DataByMiles!AE90,DataByMiles!$AT$5:$AU$6,2,FALSE)","v":0},"",0,0,{"$f":"(AF92+AG92)*VLOOKUP(DataByMiles!AE90,DataByMiles!$AT$5:$AU$6,2,FALSE)","v":0},0]
[null,{"$f":"DataByMiles!C91","v":"----87"},{"$f":"DataByMiles!T91*VLOOKUP(DataByMiles!AE91,DataByMiles!$AT$5:$AU$6,2,FALSE)","v":0},null,null,0,{"$f":"C93*$G$2*VLOOKUP(DataByMiles!AE91,DataByMiles!$AT$5:$AU$6,2,FALSE)","v":0},{"$f":"DataByMiles!U91*VLOOKUP(DataByMiles!AE91,DataByMiles!$AT$5:$AU$6,2,FALSE)","v":0},null,null,0,{"$f":"H93*$L$2*VLOOKUP(DataByMiles!AE91,DataByMiles!$AT$5:$AU$6,2,FALSE)","v":0},{"$f":"DataByMiles!V91*VLOOKUP(DataByMiles!AE91,DataByMiles!$AT$5:$AU$6,2,FALSE)","v":0},null,null,{"$f":"M93*$P$2*VLOOKUP(DataByMiles!AE91,DataByMiles!$AT$5:$AU$6,2,FALSE)","v":0},{"$f":"DataByMiles!W91*VLOOKUP(DataByMiles!AE91,DataByMiles!$AT$5:$AU$6,2,FALSE)","v":0},null,null,{"$f":"Q93*$T$2*VLOOKUP(DataByMiles!AE91,DataByMiles!$AT$5:$AU$6,2,FALSE)","v":0},{"$f":"DataByMiles!X91*VLOOKUP(DataByMiles!AE91,DataByMiles!$AT$5:$AU$6,2,FALSE)","v":0},null,null,{"$f":"U93*$X$2*VLOOKUP(DataByMiles!AE91,DataByMiles!$AT$5:$AU$6,2,FALSE)","v":0},{"$f":"DataByMiles!Y91*VLOOKUP(DataByMiles!AE91,DataByMiles!$AT$5:$AU$6,2,FALSE)","v":0},{"$f":"DataByMiles!Z91","v":0},{"$f":"DataByMiles!AA91","v":0},null,null,{"$f":"(Y93/IF(Z93=0,$AD$1,Z93)*$AD$2)/IF(AA93=0,1,AA93)*VLOOKUP(DataByMiles!AE91,DataByMiles!$AT$5:$AU$6,2,FALSE)","v":0},"",0,0,{"$f":"(AF93+AG93)*VLOOKUP(DataByMiles!AE91,DataByMiles!$AT$5:$AU$6,2,FALSE)","v":0},0]
[null,{"$f":"DataByMiles!C92","v":"----88"},{"$f":"DataByMiles!T92*VLOOKUP(DataByMiles!AE92,DataByMiles!$AT$5:$AU$6,2,FALSE)","v":0},null,null,0,{"$f":"C94*$G$2*VLOOKUP(DataByMiles!AE92,DataByMiles!$AT$5:$AU$6,2,FALSE)","v":0},{"$f":"DataByMiles!U92*VLOOKUP(DataByMiles!AE92,DataByMiles!$AT$5:$AU$6,2,FALSE)","v":0},null,null,0,{"$f":"H94*$L$2*VLOOKUP(DataByMiles!AE92,DataByMiles!$AT$5:$AU$6,2,FALSE)","v":0},{"$f":"DataByMiles!V92*VLOOKUP(DataByMiles!AE92,DataByMiles!$AT$5:$AU$6,2,FALSE)","v":0},null,null,{"$f":"M94*$P$2*VLOOKUP(DataByMiles!AE92,DataByMiles!$AT$5:$AU$6,2,FALSE)","v":0},{"$f":"DataByMiles!W92*VLOOKUP(DataByMiles!AE92,DataByMiles!$AT$5:$AU$6,2,FALSE)","v":0},null,null,{"$f":"Q94*$T$2*VLOOKUP(DataByMiles!AE92,DataByMiles!$AT$5:$AU$6,2,FALSE)","v":0},{"$f":"DataByMiles!X92*VLOOKUP(DataByMiles!AE92,DataByMiles!$AT$5:$AU$6,2,FALSE)","v":0},null,null,{"$f":"U94*$X$2*VLOOKUP(DataByMiles!AE92,DataByMiles!$AT$5:$AU$6,2,FALSE)","v":0},{"$f":"DataByMiles!Y92*VLOOKUP(DataByMiles!AE92,DataByMiles!$AT$5:$AU$6,2,FALSE)","v":0},{"$f":"DataByMiles!Z92","v":0},{"$f":"DataByMiles!AA92","v":0},null,null,{"$f":"(Y94/IF(Z94=0,$AD$1,Z94)*$AD$2)/IF(AA94=0,1,AA94)*VLOOKUP(DataByMiles!AE92,DataByMiles!$AT$5:$AU$6,2,FALSE)","v":0},"",0,0,{"$f":"(AF94+AG94)*VLOOKUP(DataByMiles!AE92,DataByMiles!$AT$5:$AU$6,2,FALSE)","v":0},0]
[null,{"$f":"DataByMiles!C93","v":"----89"},{"$f":"DataByMiles!T93*VLOOKUP(DataByMiles!AE93,DataByMiles!$AT$5:$AU$6,2,FALSE)","v":0},null,null,0,{"$f":"C95*$G$2*VLOOKUP(DataByMiles!AE93,DataByMiles!$AT$5:$AU$6,2,FALSE)","v":0},{"$f":"DataByMiles!U93*VLOOKUP(DataByMiles!AE93,DataByMiles!$AT$5:$AU$6,2,FALSE)","v":0},null,null,0,{"$f":"H95*$L$2*VLOOKUP(DataByMiles!AE93,DataByMiles!$AT$5:$AU$6,2,FALSE)","v":0},{"$f":"DataByMiles!V93*VLOOKUP(DataByMiles!AE93,DataByMiles!$AT$5:$AU$6,2,FALSE)","v":0},null,null,{"$f":"M95*$P$2*VLOOKUP(DataByMiles!AE93,DataByMiles!$AT$5:$AU$6,2,FALSE)","v":0},{"$f":"DataByMiles!W93*VLOOKUP(DataByMiles!AE93,DataByMiles!$AT$5:$AU$6,2,FALSE)","v":0},null,null,{"$f":"Q95*$T$2*VLOOKUP(DataByMiles!AE93,DataByMiles!$AT$5:$AU$6,2,FALSE)","v":0},{"$f":"DataByMiles!X93*VLOOKUP(DataByMiles!AE93,DataByMiles!$AT$5:$AU$6,2,FALSE)","v":0},null,null,{"$f":"U95*$X$2*VLOOKUP(DataByMiles!AE93,DataByMiles!$AT$5:$AU$6,2,FALSE)","v":0},{"$f":"DataByMiles!Y93*VLOOKUP(DataByMiles!AE93,DataByMiles!$AT$5:$AU$6,2,FALSE)","v":0},{"$f":"DataByMiles!Z93","v":0},{"$f":"DataByMiles!AA93","v":0},null,null,{"$f":"(Y95/IF(Z95=0,$AD$1,Z95)*$AD$2)/IF(AA95=0,1,AA95)*VLOOKUP(DataByMiles!AE93,DataByMiles!$AT$5:$AU$6,2,FALSE)","v":0},"",0,0,{"$f":"(AF95+AG95)*VLOOKUP(DataByMiles!AE93,DataByMiles!$AT$5:$AU$6,2,FALSE)","v":0},0]
[null,{"$f":"DataByMiles!C94","v":"----90"},{"$f":"DataByMiles!T94*VLOOKUP(DataByMiles!AE94,DataByMiles!$AT$5:$AU$6,2,FALSE)","v":0},null,null,0,{"$f":"C96*$G$2*VLOOKUP(DataByMiles!AE94,DataByMiles!$AT$5:$AU$6,2,FALSE)","v":0},{"$f":"DataByMiles!U94*VLOOKUP(DataByMiles!AE94,DataByMiles!$AT$5:$AU$6,2,FALSE)","v":0},null,null,0,{"$f":"H96*$L$2*VLOOKUP(DataByMiles!AE94,DataByMiles!$AT$5:$AU$6,2,FALSE)","v":0},{"$f":"DataByMiles!V94*VLOOKUP(DataByMiles!AE94,DataByMiles!$AT$5:$AU$6,2,FALSE)","v":0},null,null,{"$f":"M96*$P$2*VLOOKUP(DataByMiles!AE94,DataByMiles!$AT$5:$AU$6,2,FALSE)","v":0},{"$f":"DataByMiles!W94*VLOOKUP(DataByMiles!AE94,DataByMiles!$AT$5:$AU$6,2,FALSE)","v":0},null,null,{"$f":"Q96*$T$2*VLOOKUP(DataByMiles!AE94,DataByMiles!$AT$5:$AU$6,2,FALSE)","v":0},{"$f":"DataByMiles!X94*VLOOKUP(DataByMiles!AE94,DataByMiles!$AT$5:$AU$6,2,FALSE)","v":0},null,null,{"$f":"U96*$X$2*VLOOKUP(DataByMiles!AE94,DataByMiles!$AT$5:$AU$6,2,FALSE)","v":0},{"$f":"DataByMiles!Y94*VLOOKUP(DataByMiles!AE94,DataByMiles!$AT$5:$AU$6,2,FALSE)","v":0},{"$f":"DataByMiles!Z94","v":0},{"$f":"DataByMiles!AA94","v":0},null,null,{"$f":"(Y96/IF(Z96=0,$AD$1,Z96)*$AD$2)/IF(AA96=0,1,AA96)*VLOOKUP(DataByMiles!AE94,DataByMiles!$AT$5:$AU$6,2,FALSE)","v":0},"",0,0,{"$f":"(AF96+AG96)*VLOOKUP(DataByMiles!AE94,DataByMiles!$AT$5:$AU$6,2,FALSE)","v":0},0]
[null,{"$f":"DataByMiles!C95","v":"----91"},{"$f":"DataByMiles!T95*VLOOKUP(DataByMiles!AE95,DataByMiles!$AT$5:$AU$6,2,FALSE)","v":0},null,null,0,{"$f":"C97*$G$2*VLOOKUP(DataByMiles!AE95,DataByMiles!$AT$5:$AU$6,2,FALSE)","v":0},{"$f":"DataByMiles!U95*VLOOKUP(DataByMiles!AE95,DataByMiles!$AT$5:$AU$6,2,FALSE)","v":0},null,null,0,{"$f":"H97*$L$2*VLOOKUP(DataByMiles!AE95,DataByMiles!$AT$5:$AU$6,2,FALSE)","v":0},{"$f":"DataByMiles!V95*VLOOKUP(DataByMiles!AE95,DataByMiles!$AT$5:$AU$6,2,FALSE)","v":0},null,null,{"$f":"M97*$P$2*VLOOKUP(DataByMiles!AE95,DataByMiles!$AT$5:$AU$6,2,FALSE)","v":0},{"$f":"DataByMiles!W95*VLOOKUP(DataByMiles!AE95,DataByMiles!$AT$5:$AU$6,2,FALSE)","v":0},null,null,{"$f":"Q97*$T$2*VLOOKUP(DataByMiles!AE95,DataByMiles!$AT$5:$AU$6,2,FALSE)","v":0},{"$f":"DataByMiles!X95*VLOOKUP(DataByMiles!AE95,DataByMiles!$AT$5:$AU$6,2,FALSE)","v":0},null,null,{"$f":"U97*$X$2*VLOOKUP(DataByMiles!AE95,DataByMiles!$AT$5:$AU$6,2,FALSE)","v":0},{"$f":"DataByMiles!Y95*VLOOKUP(DataByMiles!AE95,DataByMiles!$AT$5:$AU$6,2,FALSE)","v":0},{"$f":"DataByMiles!Z95","v":0},{"$f":"DataByMiles!AA95","v":0},null,null,{"$f":"(Y97/IF(Z97=0,$AD$1,Z97)*$AD$2)/IF(AA97=0,1,AA97)*VLOOKUP(DataByMiles!AE95,DataByMiles!$AT$5:$AU$6,2,FALSE)","v":0},"",0,0,{"$f":"(AF97+AG97)*VLOOKUP(DataByMiles!AE95,DataByMiles!$AT$5:$AU$6,2,FALSE)","v":0},0]
[null,{"$f":"DataByMiles!C96","v":"----92"},{"$f":"DataByMiles!T96*VLOOKUP(DataByMiles!AE96,DataByMiles!$AT$5:$AU$6,2,FALSE)","v":0},null,null,0,{"$f":"C98*$G$2*VLOOKUP(DataByMiles!AE96,DataByMiles!$AT$5:$AU$6,2,FALSE)","v":0},{"$f":"DataByMiles!U96*VLOOKUP(DataByMiles!AE96,DataByMiles!$AT$5:$AU$6,2,FALSE)","v":0},null,null,0,{"$f":"H98*$L$2*VLOOKUP(DataByMiles!AE96,DataByMiles!$AT$5:$AU$6,2,FALSE)","v":0},{"$f":"DataByMiles!V96*VLOOKUP(DataByMiles!AE96,DataByMiles!$AT$5:$AU$6,2,FALSE)","v":0},null,null,{"$f":"M98*$P$2*VLOOKUP(DataByMiles!AE96,DataByMiles!$AT$5:$AU$6,2,FALSE)","v":0},{"$f":"DataByMiles!W96*VLOOKUP(DataByMiles!AE96,DataByMiles!$AT$5:$AU$6,2,FALSE)","v":0},null,null,{"$f":"Q98*$T$2*VLOOKUP(DataByMiles!AE96,DataByMiles!$AT$5:$AU$6,2,FALSE)","v":0},{"$f":"DataByMiles!X96*VLOOKUP(DataByMiles!AE96,DataByMiles!$AT$5:$AU$6,2,FALSE)","v":0},null,null,{"$f":"U98*$X$2*VLOOKUP(DataByMiles!AE96,DataByMiles!$AT$5:$AU$6,2,FALSE)","v":0},{"$f":"DataByMiles!Y96*VLOOKUP(DataByMiles!AE96,DataByMiles!$AT$5:$AU$6,2,FALSE)","v":0},{"$f":"DataByMiles!Z96","v":0},{"$f":"DataByMiles!AA96","v":0},null,null,{"$f":"(Y98/IF(Z98=0,$AD$1,Z98)*$AD$2)/IF(AA98=0,1,AA98)*VLOOKUP(DataByMiles!AE96,DataByMiles!$AT$5:$AU$6,2,FALSE)","v":0},"",0,0,{"$f":"(AF98+AG98)*VLOOKUP(DataByMiles!AE96,DataByMiles!$AT$5:$AU$6,2,FALSE)","v":0},0]
[null,{"$f":"DataByMiles!C97","v":"----93"},{"$f":"DataByMiles!T97*VLOOKUP(DataByMiles!AE97,DataByMiles!$AT$5:$AU$6,2,FALSE)","v":0},null,null,0,{"$f":"C99*$G$2*VLOOKUP(DataByMiles!AE97,DataByMiles!$AT$5:$AU$6,2,FALSE)","v":0},{"$f":"DataByMiles!U97*VLOOKUP(DataByMiles!AE97,DataByMiles!$AT$5:$AU$6,2,FALSE)","v":0},null,null,0,{"$f":"H99*$L$2*VLOOKUP(DataByMiles!AE97,DataByMiles!$AT$5:$AU$6,2,FALSE)","v":0},{"$f":"DataByMiles!V97*VLOOKUP(DataByMiles!AE97,DataByMiles!$AT$5:$AU$6,2,FALSE)","v":0},null,null,{"$f":"M99*$P$2*VLOOKUP(DataByMiles!AE97,DataByMiles!$AT$5:$AU$6,2,FALSE)","v":0},{"$f":"DataByMiles!W97*VLOOKUP(DataByMiles!AE97,DataByMiles!$AT$5:$AU$6,2,FALSE)","v":0},null,null,{"$f":"Q99*$T$2*VLOOKUP(DataByMiles!AE97,DataByMiles!$AT$5:$AU$6,2,FALSE)","v":0},{"$f":"DataByMiles!X97*VLOOKUP(DataByMiles!AE97,DataByMiles!$AT$5:$AU$6,2,FALSE)","v":0},null,null,{"$f":"U99*$X$2*VLOOKUP(DataByMiles!AE97,DataByMiles!$AT$5:$AU$6,2,FALSE)","v":0},{"$f":"DataByMiles!Y97*VLOOKUP(DataByMiles!AE97,DataByMiles!$AT$5:$AU$6,2,FALSE)","v":0},{"$f":"DataByMiles!Z97","v":0},{"$f":"DataByMiles!AA97","v":0},null,null,{"$f":"(Y99/IF(Z99=0,$AD$1,Z99)*$AD$2)/IF(AA99=0,1,AA99)*VLOOKUP(DataByMiles!AE97,DataByMiles!$AT$5:$AU$6,2,FALSE)","v":0},"",0,0,{"$f":"(AF99+AG99)*VLOOKUP(DataByMiles!AE97,DataByMiles!$AT$5:$AU$6,2,FALSE)","v":0},0]
[null,{"$f":"DataByMiles!C98","v":"----94"},{"$f":"DataByMiles!T98*VLOOKUP(DataByMiles!AE98,DataByMiles!$AT$5:$AU$6,2,FALSE)","v":0},null,null,0,{"$f":"C100*$G$2*VLOOKUP(DataByMiles!AE98,DataByMiles!$AT$5:$AU$6,2,FALSE)","v":0},{"$f":"DataByMiles!U98*VLOOKUP(DataByMiles!AE98,DataByMiles!$AT$5:$AU$6,2,FALSE)","v":0},null,null,0,{"$f":"H100*$L$2*VLOOKUP(DataByMiles!AE98,DataByMiles!$AT$5:$AU$6,2,FALSE)","v":0},{"$f":"DataByMiles!V98*VLOOKUP(DataByMiles!AE98,DataByMiles!$AT$5:$AU$6,2,FALSE)","v":0},null,null,{"$f":"M100*$P$2*VLOOKUP(DataByMiles!AE98,DataByMiles!$AT$5:$AU$6,2,FALSE)","v":0},{"$f":"DataByMiles!W98*VLOOKUP(DataByMiles!AE98,DataByMiles!$AT$5:$AU$6,2,FALSE)","v":0},null,null,{"$f":"Q100*$T$2*VLOOKUP(DataByMiles!AE98,DataByMiles!$AT$5:$AU$6,2,FALSE)","v":0},{"$f":"DataByMiles!X98*VLOOKUP(DataByMiles!AE98,DataByMiles!$AT$5:$AU$6,2,FALSE)","v":0},null,null,{"$f":"U100*$X$2*VLOOKUP(DataByMiles!AE98,DataByMiles!$AT$5:$AU$6,2,FALSE)","v":0},{"$f":"DataByMiles!Y98*VLOOKUP(DataByMiles!AE98,DataByMiles!$AT$5:$AU$6,2,FALSE)","v":0},{"$f":"DataByMiles!Z98","v":0},{"$f":"DataByMiles!AA98","v":0},null,null,{"$f":"(Y100/IF(Z100=0,$AD$1,Z100)*$AD$2)/IF(AA100=0,1,AA100)*VLOOKUP(DataByMiles!AE98,DataByMiles!$AT$5:$AU$6,2,FALSE)","v":0},"",0,0,{"$f":"(AF100+AG100)*VLOOKUP(DataByMiles!AE98,DataByMiles!$AT$5:$AU$6,2,FALSE)","v":0},0]
[null,{"$f":"DataByMiles!C99","v":"----95"},{"$f":"DataByMiles!T99*VLOOKUP(DataByMiles!AE99,DataByMiles!$AT$5:$AU$6,2,FALSE)","v":0},null,null,0,{"$f":"C101*$G$2*VLOOKUP(DataByMiles!AE99,DataByMiles!$AT$5:$AU$6,2,FALSE)","v":0},{"$f":"DataByMiles!U99*VLOOKUP(DataByMiles!AE99,DataByMiles!$AT$5:$AU$6,2,FALSE)","v":0},null,null,0,{"$f":"H101*$L$2*VLOOKUP(DataByMiles!AE99,DataByMiles!$AT$5:$AU$6,2,FALSE)","v":0},{"$f":"DataByMiles!V99*VLOOKUP(DataByMiles!AE99,DataByMiles!$AT$5:$AU$6,2,FALSE)","v":0},null,null,{"$f":"M101*$P$2*VLOOKUP(DataByMiles!AE99,DataByMiles!$AT$5:$AU$6,2,FALSE)","v":0},{"$f":"DataByMiles!W99*VLOOKUP(DataByMiles!AE99,DataByMiles!$AT$5:$AU$6,2,FALSE)","v":0},null,null,{"$f":"Q101*$T$2*VLOOKUP(DataByMiles!AE99,DataByMiles!$AT$5:$AU$6,2,FALSE)","v":0},{"$f":"DataByMiles!X99*VLOOKUP(DataByMiles!AE99,DataByMiles!$AT$5:$AU$6,2,FALSE)","v":0},null,null,{"$f":"U101*$X$2*VLOOKUP(DataByMiles!AE99,DataByMiles!$AT$5:$AU$6,2,FALSE)","v":0},{"$f":"DataByMiles!Y99*VLOOKUP(DataByMiles!AE99,DataByMiles!$AT$5:$AU$6,2,FALSE)","v":0},{"$f":"DataByMiles!Z99","v":0},{"$f":"DataByMiles!AA99","v":0},null,null,{"$f":"(Y101/IF(Z101=0,$AD$1,Z101)*$AD$2)/IF(AA101=0,1,AA101)*VLOOKUP(DataByMiles!AE99,DataByMiles!$AT$5:$AU$6,2,FALSE)","v":0},"",0,0,{"$f":"(AF101+AG101)*VLOOKUP(DataByMiles!AE99,DataByMiles!$AT$5:$AU$6,2,FALSE)","v":0},0]
[null,{"$f":"DataByMiles!C100","v":"----96"},{"$f":"DataByMiles!T100*VLOOKUP(DataByMiles!AE100,DataByMiles!$AT$5:$AU$6,2,FALSE)","v":0},null,null,0,{"$f":"C102*$G$2*VLOOKUP(DataByMiles!AE100,DataByMiles!$AT$5:$AU$6,2,FALSE)","v":0},{"$f":"DataByMiles!U100*VLOOKUP(DataByMiles!AE100,DataByMiles!$AT$5:$AU$6,2,FALSE)","v":0},null,null,0,{"$f":"H102*$L$2*VLOOKUP(DataByMiles!AE100,DataByMiles!$AT$5:$AU$6,2,FALSE)","v":0},{"$f":"DataByMiles!V100*VLOOKUP(DataByMiles!AE100,DataByMiles!$AT$5:$AU$6,2,FALSE)","v":0},null,null,{"$f":"M102*$P$2*VLOOKUP(DataByMiles!AE100,DataByMiles!$AT$5:$AU$6,2,FALSE)","v":0},{"$f":"DataByMiles!W100*VLOOKUP(DataByMiles!AE100,DataByMiles!$AT$5:$AU$6,2,FALSE)","v":0},null,null,{"$f":"Q102*$T$2*VLOOKUP(DataByMiles!AE100,DataByMiles!$AT$5:$AU$6,2,FALSE)","v":0},{"$f":"DataByMiles!X100*VLOOKUP(DataByMiles!AE100,DataByMiles!$AT$5:$AU$6,2,FALSE)","v":0},null,null,{"$f":"U102*$X$2*VLOOKUP(DataByMiles!AE100,DataByMiles!$AT$5:$AU$6,2,FALSE)","v":0},{"$f":"DataByMiles!Y100*VLOOKUP(DataByMiles!AE100,DataByMiles!$AT$5:$AU$6,2,FALSE)","v":0},{"$f":"DataByMiles!Z100","v":0},{"$f":"DataByMiles!AA100","v":0},null,null,{"$f":"(Y102/IF(Z102=0,$AD$1,Z102)*$AD$2)/IF(AA102=0,1,AA102)*VLOOKUP(DataByMiles!AE100,DataByMiles!$AT$5:$AU$6,2,FALSE)","v":0},"",0,0,{"$f":"(AF102+AG102)*VLOOKUP(DataByMiles!AE100,DataByMiles!$AT$5:$AU$6,2,FALSE)","v":0},0]
[null,{"$f":"DataByMiles!C101","v":"----97"},{"$f":"DataByMiles!T101*VLOOKUP(DataByMiles!AE101,DataByMiles!$AT$5:$AU$6,2,FALSE)","v":0},null,null,0,{"$f":"C103*$G$2*VLOOKUP(DataByMiles!AE101,DataByMiles!$AT$5:$AU$6,2,FALSE)","v":0},{"$f":"DataByMiles!U101*VLOOKUP(DataByMiles!AE101,DataByMiles!$AT$5:$AU$6,2,FALSE)","v":0},null,null,0,{"$f":"H103*$L$2*VLOOKUP(DataByMiles!AE101,DataByMiles!$AT$5:$AU$6,2,FALSE)","v":0},{"$f":"DataByMiles!V101*VLOOKUP(DataByMiles!AE101,DataByMiles!$AT$5:$AU$6,2,FALSE)","v":0},null,null,{"$f":"M103*$P$2*VLOOKUP(DataByMiles!AE101,DataByMiles!$AT$5:$AU$6,2,FALSE)","v":0},{"$f":"DataByMiles!W101*VLOOKUP(DataByMiles!AE101,DataByMiles!$AT$5:$AU$6,2,FALSE)","v":0},null,null,{"$f":"Q103*$T$2*VLOOKUP(DataByMiles!AE101,DataByMiles!$AT$5:$AU$6,2,FALSE)","v":0},{"$f":"DataByMiles!X101*VLOOKUP(DataByMiles!AE101,DataByMiles!$AT$5:$AU$6,2,FALSE)","v":0},null,null,{"$f":"U103*$X$2*VLOOKUP(DataByMiles!AE101,DataByMiles!$AT$5:$AU$6,2,FALSE)","v":0},{"$f":"DataByMiles!Y101*VLOOKUP(DataByMiles!AE101,DataByMiles!$AT$5:$AU$6,2,FALSE)","v":0},{"$f":"DataByMiles!Z101","v":0},{"$f":"DataByMiles!AA101","v":0},null,null,{"$f":"(Y103/IF(Z103=0,$AD$1,Z103)*$AD$2)/IF(AA103=0,1,AA103)*VLOOKUP(DataByMiles!AE101,DataByMiles!$AT$5:$AU$6,2,FALSE)","v":0},"",0,0,{"$f":"(AF103+AG103)*VLOOKUP(DataByMiles!AE101,DataByMiles!$AT$5:$AU$6,2,FALSE)","v":0},0]
[null,{"$f":"DataByMiles!C102","v":"----98"},{"$f":"DataByMiles!T102*VLOOKUP(DataByMiles!AE102,DataByMiles!$AT$5:$AU$6,2,FALSE)","v":0},null,null,0,{"$f":"C104*$G$2*VLOOKUP(DataByMiles!AE102,DataByMiles!$AT$5:$AU$6,2,FALSE)","v":0},{"$f":"DataByMiles!U102*VLOOKUP(DataByMiles!AE102,DataByMiles!$AT$5:$AU$6,2,FALSE)","v":0},null,null,0,{"$f":"H104*$L$2*VLOOKUP(DataByMiles!AE102,DataByMiles!$AT$5:$AU$6,2,FALSE)","v":0},{"$f":"DataByMiles!V102*VLOOKUP(DataByMiles!AE102,DataByMiles!$AT$5:$AU$6,2,FALSE)","v":0},null,null,{"$f":"M104*$P$2*VLOOKUP(DataByMiles!AE102,DataByMiles!$AT$5:$AU$6,2,FALSE)","v":0},{"$f":"DataByMiles!W102*VLOOKUP(DataByMiles!AE102,DataByMiles!$AT$5:$AU$6,2,FALSE)","v":0},null,null,{"$f":"Q104*$T$2*VLOOKUP(DataByMiles!AE102,DataByMiles!$AT$5:$AU$6,2,FALSE)","v":0},{"$f":"DataByMiles!X102*VLOOKUP(DataByMiles!AE102,DataByMiles!$AT$5:$AU$6,2,FALSE)","v":0},null,null,{"$f":"U104*$X$2*VLOOKUP(DataByMiles!AE102,DataByMiles!$AT$5:$AU$6,2,FALSE)","v":0},{"$f":"DataByMiles!Y102*VLOOKUP(DataByMiles!AE102,DataByMiles!$AT$5:$AU$6,2,FALSE)","v":0},{"$f":"DataByMiles!Z102","v":0},{"$f":"DataByMiles!AA102","v":0},null,null,{"$f":"(Y104/IF(Z104=0,$AD$1,Z104)*$AD$2)/IF(AA104=0,1,AA104)*VLOOKUP(DataByMiles!AE102,DataByMiles!$AT$5:$AU$6,2,FALSE)","v":0},"",0,0,{"$f":"(AF104+AG104)*VLOOKUP(DataByMiles!AE102,DataByMiles!$AT$5:$AU$6,2,FALSE)","v":0},0]
[null,{"$f":"DataByMiles!C103","v":"----99"},{"$f":"DataByMiles!T103*VLOOKUP(DataByMiles!AE103,DataByMiles!$AT$5:$AU$6,2,FALSE)","v":0},null,null,0,{"$f":"C105*$G$2*VLOOKUP(DataByMiles!AE103,DataByMiles!$AT$5:$AU$6,2,FALSE)","v":0},{"$f":"DataByMiles!U103*VLOOKUP(DataByMiles!AE103,DataByMiles!$AT$5:$AU$6,2,FALSE)","v":0},null,null,0,{"$f":"H105*$L$2*VLOOKUP(DataByMiles!AE103,DataByMiles!$AT$5:$AU$6,2,FALSE)","v":0},{"$f":"DataByMiles!V103*VLOOKUP(DataByMiles!AE103,DataByMiles!$AT$5:$AU$6,2,FALSE)","v":0},null,null,{"$f":"M105*$P$2*VLOOKUP(DataByMiles!AE103,DataByMiles!$AT$5:$AU$6,2,FALSE)","v":0},{"$f":"DataByMiles!W103*VLOOKUP(DataByMiles!AE103,DataByMiles!$AT$5:$AU$6,2,FALSE)","v":0},null,null,{"$f":"Q105*$T$2*VLOOKUP(DataByMiles!AE103,DataByMiles!$AT$5:$AU$6,2,FALSE)","v":0},{"$f":"DataByMiles!X103*VLOOKUP(DataByMiles!AE103,DataByMiles!$AT$5:$AU$6,2,FALSE)","v":0},null,null,{"$f":"U105*$X$2*VLOOKUP(DataByMiles!AE103,DataByMiles!$AT$5:$AU$6,2,FALSE)","v":0},{"$f":"DataByMiles!Y103*VLOOKUP(DataByMiles!AE103,DataByMiles!$AT$5:$AU$6,2,FALSE)","v":0},{"$f":"DataByMiles!Z103","v":0},{"$f":"DataByMiles!AA103","v":0},null,null,{"$f":"(Y105/IF(Z105=0,$AD$1,Z105)*$AD$2)/IF(AA105=0,1,AA105)*VLOOKUP(DataByMiles!AE103,DataByMiles!$AT$5:$AU$6,2,FALSE)","v":0},"",0,0,{"$f":"(AF105+AG105)*VLOOKUP(DataByMiles!AE103,DataByMiles!$AT$5:$AU$6,2,FALSE)","v":0},0]
[null,{"$f":"DataByMiles!C104","v":"----100"},{"$f":"DataByMiles!T104*VLOOKUP(DataByMiles!AE104,DataByMiles!$AT$5:$AU$6,2,FALSE)","v":0},null,null,0,{"$f":"C106*$G$2*VLOOKUP(DataByMiles!AE104,DataByMiles!$AT$5:$AU$6,2,FALSE)","v":0},{"$f":"DataByMiles!U104*VLOOKUP(DataByMiles!AE104,DataByMiles!$AT$5:$AU$6,2,FALSE)","v":0},null,null,0,{"$f":"H106*$L$2*VLOOKUP(DataByMiles!AE104,DataByMiles!$AT$5:$AU$6,2,FALSE)","v":0},{"$f":"DataByMiles!V104*VLOOKUP(DataByMiles!AE104,DataByMiles!$AT$5:$AU$6,2,FALSE)","v":0},null,null,{"$f":"M106*$P$2*VLOOKUP(DataByMiles!AE104,DataByMiles!$AT$5:$AU$6,2,FALSE)","v":0},{"$f":"DataByMiles!W104*VLOOKUP(DataByMiles!AE104,DataByMiles!$AT$5:$AU$6,2,FALSE)","v":0},null,null,{"$f":"Q106*$T$2*VLOOKUP(DataByMiles!AE104,DataByMiles!$AT$5:$AU$6,2,FALSE)","v":0},{"$f":"DataByMiles!X104*VLOOKUP(DataByMiles!AE104,DataByMiles!$AT$5:$AU$6,2,FALSE)","v":0},null,null,{"$f":"U106*$X$2*VLOOKUP(DataByMiles!AE104,DataByMiles!$AT$5:$AU$6,2,FALSE)","v":0},{"$f":"DataByMiles!Y104*VLOOKUP(DataByMiles!AE104,DataByMiles!$AT$5:$AU$6,2,FALSE)","v":0},{"$f":"DataByMiles!Z104","v":0},{"$f":"DataByMiles!AA104","v":0},null,null,{"$f":"(Y106/IF(Z106=0,$AD$1,Z106)*$AD$2)/IF(AA106=0,1,AA106)*VLOOKUP(DataByMiles!AE104,DataByMiles!$AT$5:$AU$6,2,FALSE)","v":0},"",0,0,{"$f":"(AF106+AG106)*VLOOKUP(DataByMiles!AE104,DataByMiles!$AT$5:$AU$6,2,FALSE)","v":0},0]
[null,{"$f":"DataByMiles!C105","v":"----101"},{"$f":"DataByMiles!T105*VLOOKUP(DataByMiles!AE105,DataByMiles!$AT$5:$AU$6,2,FALSE)","v":0},null,null,0,{"$f":"C107*$G$2*VLOOKUP(DataByMiles!AE105,DataByMiles!$AT$5:$AU$6,2,FALSE)","v":0},{"$f":"DataByMiles!U105*VLOOKUP(DataByMiles!AE105,DataByMiles!$AT$5:$AU$6,2,FALSE)","v":0},null,null,0,{"$f":"H107*$L$2*VLOOKUP(DataByMiles!AE105,DataByMiles!$AT$5:$AU$6,2,FALSE)","v":0},{"$f":"DataByMiles!V105*VLOOKUP(DataByMiles!AE105,DataByMiles!$AT$5:$AU$6,2,FALSE)","v":0},null,null,{"$f":"M107*$P$2*VLOOKUP(DataByMiles!AE105,DataByMiles!$AT$5:$AU$6,2,FALSE)","v":0},{"$f":"DataByMiles!W105*VLOOKUP(DataByMiles!AE105,DataByMiles!$AT$5:$AU$6,2,FALSE)","v":0},null,null,{"$f":"Q107*$T$2*VLOOKUP(DataByMiles!AE105,DataByMiles!$AT$5:$AU$6,2,FALSE)","v":0},{"$f":"DataByMiles!X105*VLOOKUP(DataByMiles!AE105,DataByMiles!$AT$5:$AU$6,2,FALSE)","v":0},null,null,{"$f":"U107*$X$2*VLOOKUP(DataByMiles!AE105,DataByMiles!$AT$5:$AU$6,2,FALSE)","v":0},{"$f":"DataByMiles!Y105*VLOOKUP(DataByMiles!AE105,DataByMiles!$AT$5:$AU$6,2,FALSE)","v":0},{"$f":"DataByMiles!Z105","v":0},{"$f":"DataByMiles!AA105","v":0},null,null,{"$f":"(Y107/IF(Z107=0,$AD$1,Z107)*$AD$2)/IF(AA107=0,1,AA107)*VLOOKUP(DataByMiles!AE105,DataByMiles!$AT$5:$AU$6,2,FALSE)","v":0},"",0,0,{"$f":"(AF107+AG107)*VLOOKUP(DataByMiles!AE105,DataByMiles!$AT$5:$AU$6,2,FALSE)","v":0},0]
[null,{"$f":"DataByMiles!C106","v":"----102"},{"$f":"DataByMiles!T106*VLOOKUP(DataByMiles!AE106,DataByMiles!$AT$5:$AU$6,2,FALSE)","v":0},null,null,0,{"$f":"C108*$G$2*VLOOKUP(DataByMiles!AE106,DataByMiles!$AT$5:$AU$6,2,FALSE)","v":0},{"$f":"DataByMiles!U106*VLOOKUP(DataByMiles!AE106,DataByMiles!$AT$5:$AU$6,2,FALSE)","v":0},null,null,0,{"$f":"H108*$L$2*VLOOKUP(DataByMiles!AE106,DataByMiles!$AT$5:$AU$6,2,FALSE)","v":0},{"$f":"DataByMiles!V106*VLOOKUP(DataByMiles!AE106,DataByMiles!$AT$5:$AU$6,2,FALSE)","v":0},null,null,{"$f":"M108*$P$2*VLOOKUP(DataByMiles!AE106,DataByMiles!$AT$5:$AU$6,2,FALSE)","v":0},{"$f":"DataByMiles!W106*VLOOKUP(DataByMiles!AE106,DataByMiles!$AT$5:$AU$6,2,FALSE)","v":0},null,null,{"$f":"Q108*$T$2*VLOOKUP(DataByMiles!AE106,DataByMiles!$AT$5:$AU$6,2,FALSE)","v":0},{"$f":"DataByMiles!X106*VLOOKUP(DataByMiles!AE106,DataByMiles!$AT$5:$AU$6,2,FALSE)","v":0},null,null,{"$f":"U108*$X$2*VLOOKUP(DataByMiles!AE106,DataByMiles!$AT$5:$AU$6,2,FALSE)","v":0},{"$f":"DataByMiles!Y106*VLOOKUP(DataByMiles!AE106,DataByMiles!$AT$5:$AU$6,2,FALSE)","v":0},{"$f":"DataByMiles!Z106","v":0},{"$f":"DataByMiles!AA106","v":0},null,null,{"$f":"(Y108/IF(Z108=0,$AD$1,Z108)*$AD$2)/IF(AA108=0,1,AA108)*VLOOKUP(DataByMiles!AE106,DataByMiles!$AT$5:$AU$6,2,FALSE)","v":0},"",0,0,{"$f":"(AF108+AG108)*VLOOKUP(DataByMiles!AE106,DataByMiles!$AT$5:$AU$6,2,FALSE)","v":0},0]
[null,{"$f":"DataByMiles!C107","v":"----103"},{"$f":"DataByMiles!T107*VLOOKUP(DataByMiles!AE107,DataByMiles!$AT$5:$AU$6,2,FALSE)","v":0},null,null,0,{"$f":"C109*$G$2*VLOOKUP(DataByMiles!AE107,DataByMiles!$AT$5:$AU$6,2,FALSE)","v":0},{"$f":"DataByMiles!U107*VLOOKUP(DataByMiles!AE107,DataByMiles!$AT$5:$AU$6,2,FALSE)","v":0},null,null,0,{"$f":"H109*$L$2*VLOOKUP(DataByMiles!AE107,DataByMiles!$AT$5:$AU$6,2,FALSE)","v":0},{"$f":"DataByMiles!V107*VLOOKUP(DataByMiles!AE107,DataByMiles!$AT$5:$AU$6,2,FALSE)","v":0},null,null,{"$f":"M109*$P$2*VLOOKUP(DataByMiles!AE107,DataByMiles!$AT$5:$AU$6,2,FALSE)","v":0},{"$f":"DataByMiles!W107*VLOOKUP(DataByMiles!AE107,DataByMiles!$AT$5:$AU$6,2,FALSE)","v":0},null,null,{"$f":"Q109*$T$2*VLOOKUP(DataByMiles!AE107,DataByMiles!$AT$5:$AU$6,2,FALSE)","v":0},{"$f":"DataByMiles!X107*VLOOKUP(DataByMiles!AE107,DataByMiles!$AT$5:$AU$6,2,FALSE)","v":0},null,null,{"$f":"U109*$X$2*VLOOKUP(DataByMiles!AE107,DataByMiles!$AT$5:$AU$6,2,FALSE)","v":0},{"$f":"DataByMiles!Y107*VLOOKUP(DataByMiles!AE107,DataByMiles!$AT$5:$AU$6,2,FALSE)","v":0},{"$f":"DataByMiles!Z107","v":0},{"$f":"DataByMiles!AA107","v":0},null,null,{"$f":"(Y109/IF(Z109=0,$AD$1,Z109)*$AD$2)/IF(AA109=0,1,AA109)*VLOOKUP(DataByMiles!AE107,DataByMiles!$AT$5:$AU$6,2,FALSE)","v":0},"",0,0,{"$f":"(AF109+AG109)*VLOOKUP(DataByMiles!AE107,DataByMiles!$AT$5:$AU$6,2,FALSE)","v":0},0]
[null,{"$f":"DataByMiles!C108","v":"----104"},{"$f":"DataByMiles!T108*VLOOKUP(DataByMiles!AE108,DataByMiles!$AT$5:$AU$6,2,FALSE)","v":0},null,null,{"$f":"C110*$F$2","v":0},{"$f":"C110*$G$2*VLOOKUP(DataByMiles!AE108,DataByMiles!$AT$5:$AU$6,2,FALSE)","v":0},{"$f":"DataByMiles!U108*VLOOKUP(DataByMiles!AE108,DataByMiles!$AT$5:$AU$6,2,FALSE)","v":0},null,null,{"$f":"H110*$K$2","v":0},{"$f":"H110*$L$2*VLOOKUP(DataByMiles!AE108,DataByMiles!$AT$5:$AU$6,2,FALSE)","v":0},{"$f":"DataByMiles!V108*VLOOKUP(DataByMiles!AE108,DataByMiles!$AT$5:$AU$6,2,FALSE)","v":0},null,null,{"$f":"M110*$P$2*VLOOKUP(DataByMiles!AE108,DataByMiles!$AT$5:$AU$6,2,FALSE)","v":0},{"$f":"DataByMiles!W108*VLOOKUP(DataByMiles!AE108,DataByMiles!$AT$5:$AU$6,2,FALSE)","v":0},null,null,{"$f":"Q110*$T$2*VLOOKUP(DataByMiles!AE108,DataByMiles!$AT$5:$AU$6,2,FALSE)","v":0},{"$f":"DataByMiles!X108*VLOOKUP(DataByMiles!AE108,DataByMiles!$AT$5:$AU$6,2,FALSE)","v":0},null,null,{"$f":"U110*$X$2*VLOOKUP(DataByMiles!AE108,DataByMiles!$AT$5:$AU$6,2,FALSE)","v":0},{"$f":"DataByMiles!Y108*VLOOKUP(DataByMiles!AE108,DataByMiles!$AT$5:$AU$6,2,FALSE)","v":0},{"$f":"DataByMiles!Z108","v":0},{"$f":"DataByMiles!AA108","v":0},null,null,{"$f":"(Y110/IF(Z110=0,$AD$1,Z110)*$AD$2)/IF(AA110=0,1,AA110)*VLOOKUP(DataByMiles!AE108,DataByMiles!$AT$5:$AU$6,2,FALSE)","v":0},{"$f":"IF(C110+H110+M110+Q110+U110+Y110>0,C110+H110+M110+Q110+U110+Y110,\"\")","v":""},{"$f":"F110+K110+P110+T110+X110+AD110","v":0},{"$f":"G110+L110","v":0},{"$f":"(AF110+AG110)*VLOOKUP(DataByMiles!AE108,DataByMiles!$AT$5:$AU$6,2,FALSE)","v":0},{"$f":"IFERROR(AH110/AE110,0)","v":0}]
[null,{"$f":"DataByMiles!C109","v":"----105"},{"$f":"DataByMiles!T109*VLOOKUP(DataByMiles!AE109,DataByMiles!$AT$5:$AU$6,2,FALSE)","v":0},null,null,0,{"$f":"C111*$G$2*VLOOKUP(DataByMiles!AE109,DataByMiles!$AT$5:$AU$6,2,FALSE)","v":0},{"$f":"DataByMiles!U109*VLOOKUP(DataByMiles!AE109,DataByMiles!$AT$5:$AU$6,2,FALSE)","v":0},null,null,0,{"$f":"H111*$L$2*VLOOKUP(DataByMiles!AE109,DataByMiles!$AT$5:$AU$6,2,FALSE)","v":0},{"$f":"DataByMiles!V109*VLOOKUP(DataByMiles!AE109,DataByMiles!$AT$5:$AU$6,2,FALSE)","v":0},null,null,{"$f":"M111*$P$2*VLOOKUP(DataByMiles!AE109,DataByMiles!$AT$5:$AU$6,2,FALSE)","v":0},{"$f":"DataByMiles!W109*VLOOKUP(DataByMiles!AE109,DataByMiles!$AT$5:$AU$6,2,FALSE)","v":0},null,null,{"$f":"Q111*$T$2*VLOOKUP(DataByMiles!AE109,DataByMiles!$AT$5:$AU$6,2,FALSE)","v":0},{"$f":"DataByMiles!X109*VLOOKUP(DataByMiles!AE109,DataByMiles!$AT$5:$AU$6,2,FALSE)","v":0},null,null,{"$f":"U111*$X$2*VLOOKUP(DataByMiles!AE109,DataByMiles!$AT$5:$AU$6,2,FALSE)","v":0},{"$f":"DataByMiles!Y109*VLOOKUP(DataByMiles!AE109,DataByMiles!$AT$5:$AU$6,2,FALSE)","v":0},{"$f":"DataByMiles!Z109","v":0},{"$f":"DataByMiles!AA109","v":0},null,null,{"$f":"(Y111/IF(Z111=0,$AD$1,Z111)*$AD$2)/IF(AA111=0,1,AA111)*VLOOKUP(DataByMiles!AE109,DataByMiles!$AT$5:$AU$6,2,FALSE)","v":0},"",0,0,{"$f":"(AF111+AG111)*VLOOKUP(DataByMiles!AE109,DataByMiles!$AT$5:$AU$6,2,FALSE)","v":0},0]
[null,{"$f":"DataByMiles!C110","v":"----106"},{"$f":"DataByMiles!T110*VLOOKUP(DataByMiles!AE110,DataByMiles!$AT$5:$AU$6,2,FALSE)","v":0},null,null,0,{"$f":"C112*$G$2*VLOOKUP(DataByMiles!AE110,DataByMiles!$AT$5:$AU$6,2,FALSE)","v":0},{"$f":"DataByMiles!U110*VLOOKUP(DataByMiles!AE110,DataByMiles!$AT$5:$AU$6,2,FALSE)","v":0},null,null,0,{"$f":"H112*$L$2*VLOOKUP(DataByMiles!AE110,DataByMiles!$AT$5:$AU$6,2,FALSE)","v":0},{"$f":"DataByMiles!V110*VLOOKUP(DataByMiles!AE110,DataByMiles!$AT$5:$AU$6,2,FALSE)","v":0},null,null,{"$f":"M112*$P$2*VLOOKUP(DataByMiles!AE110,DataByMiles!$AT$5:$AU$6,2,FALSE)","v":0},{"$f":"DataByMiles!W110*VLOOKUP(DataByMiles!AE110,DataByMiles!$AT$5:$AU$6,2,FALSE)","v":0},null,null,{"$f":"Q112*$T$2*VLOOKUP(DataByMiles!AE110,DataByMiles!$AT$5:$AU$6,2,FALSE)","v":0},{"$f":"DataByMiles!X110*VLOOKUP(DataByMiles!AE110,DataByMiles!$AT$5:$AU$6,2,FALSE)","v":0},null,null,{"$f":"U112*$X$2*VLOOKUP(DataByMiles!AE110,DataByMiles!$AT$5:$AU$6,2,FALSE)","v":0},{"$f":"DataByMiles!Y110*VLOOKUP(DataByMiles!AE110,DataByMiles!$AT$5:$AU$6,2,FALSE)","v":0},{"$f":"DataByMiles!Z110","v":0},{"$f":"DataByMiles!AA110","v":0},null,null,{"$f":"(Y112/IF(Z112=0,$AD$1,Z112)*$AD$2)/IF(AA112=0,1,AA112)*VLOOKUP(DataByMiles!AE110,DataByMiles!$AT$5:$AU$6,2,FALSE)","v":0},"",0,0,{"$f":"(AF112+AG112)*VLOOKUP(DataByMiles!AE110,DataByMiles!$AT$5:$AU$6,2,FALSE)","v":0},0]
[null,{"$f":"DataByMiles!C111","v":"----107"},{"$f":"DataByMiles!T111*VLOOKUP(DataByMiles!AE111,DataByMiles!$AT$5:$AU$6,2,FALSE)","v":0},null,null,0,{"$f":"C113*$G$2*VLOOKUP(DataByMiles!AE111,DataByMiles!$AT$5:$AU$6,2,FALSE)","v":0},{"$f":"DataByMiles!U111*VLOOKUP(DataByMiles!AE111,DataByMiles!$AT$5:$AU$6,2,FALSE)","v":0},null,null,0,{"$f":"H113*$L$2*VLOOKUP(DataByMiles!AE111,DataByMiles!$AT$5:$AU$6,2,FALSE)","v":0},{"$f":"DataByMiles!V111*VLOOKUP(DataByMiles!AE111,DataByMiles!$AT$5:$AU$6,2,FALSE)","v":0},null,null,{"$f":"M113*$P$2*VLOOKUP(DataByMiles!AE111,DataByMiles!$AT$5:$AU$6,2,FALSE)","v":0},{"$f":"DataByMiles!W111*VLOOKUP(DataByMiles!AE111,DataByMiles!$AT$5:$AU$6,2,FALSE)","v":0},null,null,{"$f":"Q113*$T$2*VLOOKUP(DataByMiles!AE111,DataByMiles!$AT$5:$AU$6,2,FALSE)","v":0},{"$f":"DataByMiles!X111*VLOOKUP(DataByMiles!AE111,DataByMiles!$AT$5:$AU$6,2,FALSE)","v":0},null,null,{"$f":"U113*$X$2*VLOOKUP(DataByMiles!AE111,DataByMiles!$AT$5:$AU$6,2,FALSE)","v":0},{"$f":"DataByMiles!Y111*VLOOKUP(DataByMiles!AE111,DataByMiles!$AT$5:$AU$6,2,FALSE)","v":0},{"$f":"DataByMiles!Z111","v":0},{"$f":"DataByMiles!AA111","v":0},null,null,{"$f":"(Y113/IF(Z113=0,$AD$1,Z113)*$AD$2)/IF(AA113=0,1,AA113)*VLOOKUP(DataByMiles!AE111,DataByMiles!$AT$5:$AU$6,2,FALSE)","v":0},"",0,0,{"$f":"(AF113+AG113)*VLOOKUP(DataByMiles!AE111,DataByMiles!$AT$5:$AU$6,2,FALSE)","v":0},0]
[null,{"$f":"DataByMiles!C112","v":"----108"},{"$f":"DataByMiles!T112*VLOOKUP(DataByMiles!AE112,DataByMiles!$AT$5:$AU$6,2,FALSE)","v":0},null,null,0,{"$f":"C114*$G$2*VLOOKUP(DataByMiles!AE112,DataByMiles!$AT$5:$AU$6,2,FALSE)","v":0},{"$f":"DataByMiles!U112*VLOOKUP(DataByMiles!AE112,DataByMiles!$AT$5:$AU$6,2,FALSE)","v":0},null,null,0,{"$f":"H114*$L$2*VLOOKUP(DataByMiles!AE112,DataByMiles!$AT$5:$AU$6,2,FALSE)","v":0},{"$f":"DataByMiles!V112*VLOOKUP(DataByMiles!AE112,DataByMiles!$AT$5:$AU$6,2,FALSE)","v":0},null,null,{"$f":"M114*$P$2*VLOOKUP(DataByMiles!AE112,DataByMiles!$AT$5:$AU$6,2,FALSE)","v":0},{"$f":"DataByMiles!W112*VLOOKUP(DataByMiles!AE112,DataByMiles!$AT$5:$AU$6,2,FALSE)","v":0},null,null,{"$f":"Q114*$T$2*VLOOKUP(DataByMiles!AE112,DataByMiles!$AT$5:$AU$6,2,FALSE)","v":0},{"$f":"DataByMiles!X112*VLOOKUP(DataByMiles!AE112,DataByMiles!$AT$5:$AU$6,2,FALSE)","v":0},null,null,{"$f":"U114*$X$2*VLOOKUP(DataByMiles!AE112,DataByMiles!$AT$5:$AU$6,2,FALSE)","v":0},{"$f":"DataByMiles!Y112*VLOOKUP(DataByMiles!AE112,DataByMiles!$AT$5:$AU$6,2,FALSE)","v":0},{"$f":"DataByMiles!Z112","v":0},{"$f":"DataByMiles!AA112","v":0},null,null,{"$f":"(Y114/IF(Z114=0,$AD$1,Z114)*$AD$2)/IF(AA114=0,1,AA114)*VLOOKUP(DataByMiles!AE112,DataByMiles!$AT$5:$AU$6,2,FALSE)","v":0},"",0,0,{"$f":"(AF114+AG114)*VLOOKUP(DataByMiles!AE112,DataByMiles!$AT$5:$AU$6,2,FALSE)","v":0},0]
[null,{"$f":"DataByMiles!C113","v":"----109"},{"$f":"DataByMiles!T113*VLOOKUP(DataByMiles!AE113,DataByMiles!$AT$5:$AU$6,2,FALSE)","v":0},null,null,0,{"$f":"C115*$G$2*VLOOKUP(DataByMiles!AE113,DataByMiles!$AT$5:$AU$6,2,FALSE)","v":0},{"$f":"DataByMiles!U113*VLOOKUP(DataByMiles!AE113,DataByMiles!$AT$5:$AU$6,2,FALSE)","v":0},null,null,0,{"$f":"H115*$L$2*VLOOKUP(DataByMiles!AE113,DataByMiles!$AT$5:$AU$6,2,FALSE)","v":0},{"$f":"DataByMiles!V113*VLOOKUP(DataByMiles!AE113,DataByMiles!$AT$5:$AU$6,2,FALSE)","v":0},null,null,{"$f":"M115*$P$2*VLOOKUP(DataByMiles!AE113,DataByMiles!$AT$5:$AU$6,2,FALSE)","v":0},{"$f":"DataByMiles!W113*VLOOKUP(DataByMiles!AE113,DataByMiles!$AT$5:$AU$6,2,FALSE)","v":0},null,null,{"$f":"Q115*$T$2*VLOOKUP(DataByMiles!AE113,DataByMiles!$AT$5:$AU$6,2,FALSE)","v":0},{"$f":"DataByMiles!X113*VLOOKUP(DataByMiles!AE113,DataByMiles!$AT$5:$AU$6,2,FALSE)","v":0},null,null,{"$f":"U115*$X$2*VLOOKUP(DataByMiles!AE113,DataByMiles!$AT$5:$AU$6,2,FALSE)","v":0},{"$f":"DataByMiles!Y113*VLOOKUP(DataByMiles!AE113,DataByMiles!$AT$5:$AU$6,2,FALSE)","v":0},{"$f":"DataByMiles!Z113","v":0},{"$f":"DataByMiles!AA113","v":0},null,null,{"$f":"(Y115/IF(Z115=0,$AD$1,Z115)*$AD$2)/IF(AA115=0,1,AA115)*VLOOKUP(DataByMiles!AE113,DataByMiles!$AT$5:$AU$6,2,FALSE)","v":0},"",0,0,{"$f":"(AF115+AG115)*VLOOKUP(DataByMiles!AE113,DataByMiles!$AT$5:$AU$6,2,FALSE)","v":0},0]
[null,{"$f":"DataByMiles!C114","v":"----110"},{"$f":"DataByMiles!T114*VLOOKUP(DataByMiles!AE114,DataByMiles!$AT$5:$AU$6,2,FALSE)","v":0},null,null,0,{"$f":"C116*$G$2*VLOOKUP(DataByMiles!AE114,DataByMiles!$AT$5:$AU$6,2,FALSE)","v":0},{"$f":"DataByMiles!U114*VLOOKUP(DataByMiles!AE114,DataByMiles!$AT$5:$AU$6,2,FALSE)","v":0},null,null,0,{"$f":"H116*$L$2*VLOOKUP(DataByMiles!AE114,DataByMiles!$AT$5:$AU$6,2,FALSE)","v":0},{"$f":"DataByMiles!V114*VLOOKUP(DataByMiles!AE114,DataByMiles!$AT$5:$AU$6,2,FALSE)","v":0},null,null,{"$f":"M116*$P$2*VLOOKUP(DataByMiles!AE114,DataByMiles!$AT$5:$AU$6,2,FALSE)","v":0},{"$f":"DataByMiles!W114*VLOOKUP(DataByMiles!AE114,DataByMiles!$AT$5:$AU$6,2,FALSE)","v":0},null,null,{"$f":"Q116*$T$2*VLOOKUP(DataByMiles!AE114,DataByMiles!$AT$5:$AU$6,2,FALSE)","v":0},{"$f":"DataByMiles!X114*VLOOKUP(DataByMiles!AE114,DataByMiles!$AT$5:$AU$6,2,FALSE)","v":0},null,null,{"$f":"U116*$X$2*VLOOKUP(DataByMiles!AE114,DataByMiles!$AT$5:$AU$6,2,FALSE)","v":0},{"$f":"DataByMiles!Y114*VLOOKUP(DataByMiles!AE114,DataByMiles!$AT$5:$AU$6,2,FALSE)","v":0},{"$f":"DataByMiles!Z114","v":0},{"$f":"DataByMiles!AA114","v":0},null,null,{"$f":"(Y116/IF(Z116=0,$AD$1,Z116)*$AD$2)/IF(AA116=0,1,AA116)*VLOOKUP(DataByMiles!AE114,DataByMiles!$AT$5:$AU$6,2,FALSE)","v":0},"",0,0,{"$f":"(AF116+AG116)*VLOOKUP(DataByMiles!AE114,DataByMiles!$AT$5:$AU$6,2,FALSE)","v":0},0]
[null,{"$f":"DataByMiles!C115","v":"----111"},{"$f":"DataByMiles!T115*VLOOKUP(DataByMiles!AE115,DataByMiles!$AT$5:$AU$6,2,FALSE)","v":0},null,null,0,{"$f":"C117*$G$2*VLOOKUP(DataByMiles!AE115,DataByMiles!$AT$5:$AU$6,2,FALSE)","v":0},{"$f":"DataByMiles!U115*VLOOKUP(DataByMiles!AE115,DataByMiles!$AT$5:$AU$6,2,FALSE)","v":0},null,null,0,{"$f":"H117*$L$2*VLOOKUP(DataByMiles!AE115,DataByMiles!$AT$5:$AU$6,2,FALSE)","v":0},{"$f":"DataByMiles!V115*VLOOKUP(DataByMiles!AE115,DataByMiles!$AT$5:$AU$6,2,FALSE)","v":0},null,null,{"$f":"M117*$P$2*VLOOKUP(DataByMiles!AE115,DataByMiles!$AT$5:$AU$6,2,FALSE)","v":0},{"$f":"DataByMiles!W115*VLOOKUP(DataByMiles!AE115,DataByMiles!$AT$5:$AU$6,2,FALSE)","v":0},null,null,{"$f":"Q117*$T$2*VLOOKUP(DataByMiles!AE115,DataByMiles!$AT$5:$AU$6,2,FALSE)","v":0},{"$f":"DataByMiles!X115*VLOOKUP(DataByMiles!AE115,DataByMiles!$AT$5:$AU$6,2,FALSE)","v":0},null,null,{"$f":"U117*$X$2*VLOOKUP(DataByMiles!AE115,DataByMiles!$AT$5:$AU$6,2,FALSE)","v":0},{"$f":"DataByMiles!Y115*VLOOKUP(DataByMiles!AE115,DataByMiles!$AT$5:$AU$6,2,FALSE)","v":0},{"$f":"DataByMiles!Z115","v":0},{"$f":"DataByMiles!AA115","v":0},null,null,{"$f":"(Y117/IF(Z117=0,$AD$1,Z117)*$AD$2)/IF(AA117=0,1,AA117)*VLOOKUP(DataByMiles!AE115,DataByMiles!$AT$5:$AU$6,2,FALSE)","v":0},"",0,0,{"$f":"(AF117+AG117)*VLOOKUP(DataByMiles!AE115,DataByMiles!$AT$5:$AU$6,2,FALSE)","v":0},0]
[null,{"$f":"DataByMiles!C116","v":"----112"},{"$f":"DataByMiles!T116*VLOOKUP(DataByMiles!AE116,DataByMiles!$AT$5:$AU$6,2,FALSE)","v":0},null,null,0,{"$f":"C118*$G$2*VLOOKUP(DataByMiles!AE116,DataByMiles!$AT$5:$AU$6,2,FALSE)","v":0},{"$f":"DataByMiles!U116*VLOOKUP(DataByMiles!AE116,DataByMiles!$AT$5:$AU$6,2,FALSE)","v":0},null,null,0,{"$f":"H118*$L$2*VLOOKUP(DataByMiles!AE116,DataByMiles!$AT$5:$AU$6,2,FALSE)","v":0},{"$f":"DataByMiles!V116*VLOOKUP(DataByMiles!AE116,DataByMiles!$AT$5:$AU$6,2,FALSE)","v":0},null,null,{"$f":"M118*$P$2*VLOOKUP(DataByMiles!AE116,DataByMiles!$AT$5:$AU$6,2,FALSE)","v":0},{"$f":"DataByMiles!W116*VLOOKUP(DataByMiles!AE116,DataByMiles!$AT$5:$AU$6,2,FALSE)","v":0},null,null,{"$f":"Q118*$T$2*VLOOKUP(DataByMiles!AE116,DataByMiles!$AT$5:$AU$6,2,FALSE)","v":0},{"$f":"DataByMiles!X116*VLOOKUP(DataByMiles!AE116,DataByMiles!$AT$5:$AU$6,2,FALSE)","v":0},null,null,{"$f":"U118*$X$2*VLOOKUP(DataByMiles!AE116,DataByMiles!$AT$5:$AU$6,2,FALSE)","v":0},{"$f":"DataByMiles!Y116*VLOOKUP(DataByMiles!AE116,DataByMiles!$AT$5:$AU$6,2,FALSE)","v":0},{"$f":"DataByMiles!Z116","v":0},{"$f":"DataByMiles!AA116","v":0},null,null,{"$f":"(Y118/IF(Z118=0,$AD$1,Z118)*$AD$2)/IF(AA118=0,1,AA118)*VLOOKUP(DataByMiles!AE116,DataByMiles!$AT$5:$AU$6,2,FALSE)","v":0},"",0,0,{"$f":"(AF118+AG118)*VLOOKUP(DataByMiles!AE116,DataByMiles!$AT$5:$AU$6,2,FALSE)","v":0},0]
[null,{"$f":"DataByMiles!C117","v":"----113"},{"$f":"DataByMiles!T117*VLOOKUP(DataByMiles!AE117,DataByMiles!$AT$5:$AU$6,2,FALSE)","v":0},null,null,0,{"$f":"C119*$G$2*VLOOKUP(DataByMiles!AE117,DataByMiles!$AT$5:$AU$6,2,FALSE)","v":0},{"$f":"DataByMiles!U117*VLOOKUP(DataByMiles!AE117,DataByMiles!$AT$5:$AU$6,2,FALSE)","v":0},null,null,0,{"$f":"H119*$L$2*VLOOKUP(DataByMiles!AE117,DataByMiles!$AT$5:$AU$6,2,FALSE)","v":0},{"$f":"DataByMiles!V117*VLOOKUP(DataByMiles!AE117,DataByMiles!$AT$5:$AU$6,2,FALSE)","v":0},null,null,{"$f":"M119*$P$2*VLOOKUP(DataByMiles!AE117,DataByMiles!$AT$5:$AU$6,2,FALSE)","v":0},{"$f":"DataByMiles!W117*VLOOKUP(DataByMiles!AE117,DataByMiles!$AT$5:$AU$6,2,FALSE)","v":0},null,null,{"$f":"Q119*$T$2*VLOOKUP(DataByMiles!AE117,DataByMiles!$AT$5:$AU$6,2,FALSE)","v":0},{"$f":"DataByMiles!X117*VLOOKUP(DataByMiles!AE117,DataByMiles!$AT$5:$AU$6,2,FALSE)","v":0},null,null,{"$f":"U119*$X$2*VLOOKUP(DataByMiles!AE117,DataByMiles!$AT$5:$AU$6,2,FALSE)","v":0},{"$f":"DataByMiles!Y117*VLOOKUP(DataByMiles!AE117,DataByMiles!$AT$5:$AU$6,2,FALSE)","v":0},{"$f":"DataByMiles!Z117","v":0},{"$f":"DataByMiles!AA117","v":0},null,null,{"$f":"(Y119/IF(Z119=0,$AD$1,Z119)*$AD$2)/IF(AA119=0,1,AA119)*VLOOKUP(DataByMiles!AE117,DataByMiles!$AT$5:$AU$6,2,FALSE)","v":0},"",0,0,{"$f":"(AF119+AG119)*VLOOKUP(DataByMiles!AE117,DataByMiles!$AT$5:$AU$6,2,FALSE)","v":0},0]
[null,{"$f":"DataByMiles!C118","v":"----114"},{"$f":"DataByMiles!T118*VLOOKUP(DataByMiles!AE118,DataByMiles!$AT$5:$AU$6,2,FALSE)","v":0},null,null,0,{"$f":"C120*$G$2*VLOOKUP(DataByMiles!AE118,DataByMiles!$AT$5:$AU$6,2,FALSE)","v":0},{"$f":"DataByMiles!U118*VLOOKUP(DataByMiles!AE118,DataByMiles!$AT$5:$AU$6,2,FALSE)","v":0},null,null,0,{"$f":"H120*$L$2*VLOOKUP(DataByMiles!AE118,DataByMiles!$AT$5:$AU$6,2,FALSE)","v":0},{"$f":"DataByMiles!V118*VLOOKUP(DataByMiles!AE118,DataByMiles!$AT$5:$AU$6,2,FALSE)","v":0},null,null,{"$f":"M120*$P$2*VLOOKUP(DataByMiles!AE118,DataByMiles!$AT$5:$AU$6,2,FALSE)","v":0},{"$f":"DataByMiles!W118*VLOOKUP(DataByMiles!AE118,DataByMiles!$AT$5:$AU$6,2,FALSE)","v":0},null,null,{"$f":"Q120*$T$2*VLOOKUP(DataByMiles!AE118,DataByMiles!$AT$5:$AU$6,2,FALSE)","v":0},{"$f":"DataByMiles!X118*VLOOKUP(DataByMiles!AE118,DataByMiles!$AT$5:$AU$6,2,FALSE)","v":0},null,null,{"$f":"U120*$X$2*VLOOKUP(DataByMiles!AE118,DataByMiles!$AT$5:$AU$6,2,FALSE)","v":0},{"$f":"DataByMiles!Y118*VLOOKUP(DataByMiles!AE118,DataByMiles!$AT$5:$AU$6,2,FALSE)","v":0},{"$f":"DataByMiles!Z118","v":0},{"$f":"DataByMiles!AA118","v":0},null,null,{"$f":"(Y120/IF(Z120=0,$AD$1,Z120)*$AD$2)/IF(AA120=0,1,AA120)*VLOOKUP(DataByMiles!AE118,DataByMiles!$AT$5:$AU$6,2,FALSE)","v":0},"",0,0,{"$f":"(AF120+AG120)*VLOOKUP(DataByMiles!AE118,DataByMiles!$AT$5:$AU$6,2,FALSE)","v":0},0]
[null,{"$f":"DataByMiles!C119","v":"----115"},{"$f":"DataByMiles!T119*VLOOKUP(DataByMiles!AE119,DataByMiles!$AT$5:$AU$6,2,FALSE)","v":0},null,null,0,{"$f":"C121*$G$2*VLOOKUP(DataByMiles!AE119,DataByMiles!$AT$5:$AU$6,2,FALSE)","v":0},{"$f":"DataByMiles!U119*VLOOKUP(DataByMiles!AE119,DataByMiles!$AT$5:$AU$6,2,FALSE)","v":0},null,null,0,{"$f":"H121*$L$2*VLOOKUP(DataByMiles!AE119,DataByMiles!$AT$5:$AU$6,2,FALSE)","v":0},{"$f":"DataByMiles!V119*VLOOKUP(DataByMiles!AE119,DataByMiles!$AT$5:$AU$6,2,FALSE)","v":0},null,null,{"$f":"M121*$P$2*VLOOKUP(DataByMiles!AE119,DataByMiles!$AT$5:$AU$6,2,FALSE)","v":0},{"$f":"DataByMiles!W119*VLOOKUP(DataByMiles!AE119,DataByMiles!$AT$5:$AU$6,2,FALSE)","v":0},null,null,{"$f":"Q121*$T$2*VLOOKUP(DataByMiles!AE119,DataByMiles!$AT$5:$AU$6,2,FALSE)","v":0},{"$f":"DataByMiles!X119*VLOOKUP(DataByMiles!AE119,DataByMiles!$AT$5:$AU$6,2,FALSE)","v":0},null,null,{"$f":"U121*$X$2*VLOOKUP(DataByMiles!AE119,DataByMiles!$AT$5:$AU$6,2,FALSE)","v":0},{"$f":"DataByMiles!Y119*VLOOKUP(DataByMiles!AE119,DataByMiles!$AT$5:$AU$6,2,FALSE)","v":0},{"$f":"DataByMiles!Z119","v":0},{"$f":"DataByMiles!AA119","v":0},null,null,{"$f":"(Y121/IF(Z121=0,$AD$1,Z121)*$AD$2)/IF(AA121=0,1,AA121)*VLOOKUP(DataByMiles!AE119,DataByMiles!$AT$5:$AU$6,2,FALSE)","v":0},"",0,0,{"$f":"(AF121+AG121)*VLOOKUP(DataByMiles!AE119,DataByMiles!$AT$5:$AU$6,2,FALSE)","v":0},0]
[null,{"$f":"DataByMiles!C120","v":"----116"},{"$f":"DataByMiles!T120*VLOOKUP(DataByMiles!AE120,DataByMiles!$AT$5:$AU$6,2,FALSE)","v":0},null,null,0,{"$f":"C122*$G$2*VLOOKUP(DataByMiles!AE120,DataByMiles!$AT$5:$AU$6,2,FALSE)","v":0},{"$f":"DataByMiles!U120*VLOOKUP(DataByMiles!AE120,DataByMiles!$AT$5:$AU$6,2,FALSE)","v":0},null,null,0,{"$f":"H122*$L$2*VLOOKUP(DataByMiles!AE120,DataByMiles!$AT$5:$AU$6,2,FALSE)","v":0},{"$f":"DataByMiles!V120*VLOOKUP(DataByMiles!AE120,DataByMiles!$AT$5:$AU$6,2,FALSE)","v":0},null,null,{"$f":"M122*$P$2*VLOOKUP(DataByMiles!AE120,DataByMiles!$AT$5:$AU$6,2,FALSE)","v":0},{"$f":"DataByMiles!W120*VLOOKUP(DataByMiles!AE120,DataByMiles!$AT$5:$AU$6,2,FALSE)","v":0},null,null,{"$f":"Q122*$T$2*VLOOKUP(DataByMiles!AE120,DataByMiles!$AT$5:$AU$6,2,FALSE)","v":0},{"$f":"DataByMiles!X120*VLOOKUP(DataByMiles!AE120,DataByMiles!$AT$5:$AU$6,2,FALSE)","v":0},null,null,{"$f":"U122*$X$2*VLOOKUP(DataByMiles!AE120,DataByMiles!$AT$5:$AU$6,2,FALSE)","v":0},{"$f":"DataByMiles!Y120*VLOOKUP(DataByMiles!AE120,DataByMiles!$AT$5:$AU$6,2,FALSE)","v":0},{"$f":"DataByMiles!Z120","v":0},{"$f":"DataByMiles!AA120","v":0},null,null,{"$f":"(Y122/IF(Z122=0,$AD$1,Z122)*$AD$2)/IF(AA122=0,1,AA122)*VLOOKUP(DataByMiles!AE120,DataByMiles!$AT$5:$AU$6,2,FALSE)","v":0},"",0,0,{"$f":"(AF122+AG122)*VLOOKUP(DataByMiles!AE120,DataByMiles!$AT$5:$AU$6,2,FALSE)","v":0},0]
[null,{"$f":"DataByMiles!C121","v":"----117"},{"$f":"DataByMiles!T121*VLOOKUP(DataByMiles!AE121,DataByMiles!$AT$5:$AU$6,2,FALSE)","v":0},null,null,0,{"$f":"C123*$G$2*VLOOKUP(DataByMiles!AE121,DataByMiles!$AT$5:$AU$6,2,FALSE)","v":0},{"$f":"DataByMiles!U121*VLOOKUP(DataByMiles!AE121,DataByMiles!$AT$5:$AU$6,2,FALSE)","v":0},null,null,0,{"$f":"H123*$L$2*VLOOKUP(DataByMiles!AE121,DataByMiles!$AT$5:$AU$6,2,FALSE)","v":0},{"$f":"DataByMiles!V121*VLOOKUP(DataByMiles!AE121,DataByMiles!$AT$5:$AU$6,2,FALSE)","v":0},null,null,{"$f":"M123*$P$2*VLOOKUP(DataByMiles!AE121,DataByMiles!$AT$5:$AU$6,2,FALSE)","v":0},{"$f":"DataByMiles!W121*VLOOKUP(DataByMiles!AE121,DataByMiles!$AT$5:$AU$6,2,FALSE)","v":0},null,null,{"$f":"Q123*$T$2*VLOOKUP(DataByMiles!AE121,DataByMiles!$AT$5:$AU$6,2,FALSE)","v":0},{"$f":"DataByMiles!X121*VLOOKUP(DataByMiles!AE121,DataByMiles!$AT$5:$AU$6,2,FALSE)","v":0},null,null,{"$f":"U123*$X$2*VLOOKUP(DataByMiles!AE121,DataByMiles!$AT$5:$AU$6,2,FALSE)","v":0},{"$f":"DataByMiles!Y121*VLOOKUP(DataByMiles!AE121,DataByMiles!$AT$5:$AU$6,2,FALSE)","v":0},{"$f":"DataByMiles!Z121","v":0},{"$f":"DataByMiles!AA121","v":0},null,null,{"$f":"(Y123/IF(Z123=0,$AD$1,Z123)*$AD$2)/IF(AA123=0,1,AA123)*VLOOKUP(DataByMiles!AE121,DataByMiles!$AT$5:$AU$6,2,FALSE)","v":0},"",0,0,{"$f":"(AF123+AG123)*VLOOKUP(DataByMiles!AE121,DataByMiles!$AT$5:$AU$6,2,FALSE)","v":0},0]
[null,{"$f":"DataByMiles!C122","v":"----118"},{"$f":"DataByMiles!T122*VLOOKUP(DataByMiles!AE122,DataByMiles!$AT$5:$AU$6,2,FALSE)","v":0},null,null,0,{"$f":"C124*$G$2*VLOOKUP(DataByMiles!AE122,DataByMiles!$AT$5:$AU$6,2,FALSE)","v":0},{"$f":"DataByMiles!U122*VLOOKUP(DataByMiles!AE122,DataByMiles!$AT$5:$AU$6,2,FALSE)","v":0},null,null,0,{"$f":"H124*$L$2*VLOOKUP(DataByMiles!AE122,DataByMiles!$AT$5:$AU$6,2,FALSE)","v":0},{"$f":"DataByMiles!V122*VLOOKUP(DataByMiles!AE122,DataByMiles!$AT$5:$AU$6,2,FALSE)","v":0},null,null,{"$f":"M124*$P$2*VLOOKUP(DataByMiles!AE122,DataByMiles!$AT$5:$AU$6,2,FALSE)","v":0},{"$f":"DataByMiles!W122*VLOOKUP(DataByMiles!AE122,DataByMiles!$AT$5:$AU$6,2,FALSE)","v":0},null,null,{"$f":"Q124*$T$2*VLOOKUP(DataByMiles!AE122,DataByMiles!$AT$5:$AU$6,2,FALSE)","v":0},{"$f":"DataByMiles!X122*VLOOKUP(DataByMiles!AE122,DataByMiles!$AT$5:$AU$6,2,FALSE)","v":0},null,null,{"$f":"U124*$X$2*VLOOKUP(DataByMiles!AE122,DataByMiles!$AT$5:$AU$6,2,FALSE)","v":0},{"$f":"DataByMiles!Y122*VLOOKUP(DataByMiles!AE122,DataByMiles!$AT$5:$AU$6,2,FALSE)","v":0},{"$f":"DataByMiles!Z122","v":0},{"$f":"DataByMiles!AA122","v":0},null,null,{"$f":"(Y124/IF(Z124=0,$AD$1,Z124)*$AD$2)/IF(AA124=0,1,AA124)*VLOOKUP(DataByMiles!AE122,DataByMiles!$AT$5:$AU$6,2,FALSE)","v":0},"",0,0,{"$f":"(AF124+AG124)*VLOOKUP(DataByMiles!AE122,DataByMiles!$AT$5:$AU$6,2,FALSE)","v":0},0]
[null,{"$f":"DataByMiles!C123","v":"----119"},{"$f":"DataByMiles!T123*VLOOKUP(DataByMiles!AE123,DataByMiles!$AT$5:$AU$6,2,FALSE)","v":0},null,null,0,{"$f":"C125*$G$2*VLOOKUP(DataByMiles!AE123,DataByMiles!$AT$5:$AU$6,2,FALSE)","v":0},{"$f":"DataByMiles!U123*VLOOKUP(DataByMiles!AE123,DataByMiles!$AT$5:$AU$6,2,FALSE)","v":0},null,null,0,{"$f":"H125*$L$2*VLOOKUP(DataByMiles!AE123,DataByMiles!$AT$5:$AU$6,2,FALSE)","v":0},{"$f":"DataByMiles!V123*VLOOKUP(DataByMiles!AE123,DataByMiles!$AT$5:$AU$6,2,FALSE)","v":0},null,null,{"$f":"M125*$P$2*VLOOKUP(DataByMiles!AE123,DataByMiles!$AT$5:$AU$6,2,FALSE)","v":0},{"$f":"DataByMiles!W123*VLOOKUP(DataByMiles!AE123,DataByMiles!$AT$5:$AU$6,2,FALSE)","v":0},null,null,{"$f":"Q125*$T$2*VLOOKUP(DataByMiles!AE123,DataByMiles!$AT$5:$AU$6,2,FALSE)","v":0},{"$f":"DataByMiles!X123*VLOOKUP(DataByMiles!AE123,DataByMiles!$AT$5:$AU$6,2,FALSE)","v":0},null,null,{"$f":"U125*$X$2*VLOOKUP(DataByMiles!AE123,DataByMiles!$AT$5:$AU$6,2,FALSE)","v":0},{"$f":"DataByMiles!Y123*VLOOKUP(DataByMiles!AE123,DataByMiles!$AT$5:$AU$6,2,FALSE)","v":0},{"$f":"DataByMiles!Z123","v":0},{"$f":"DataByMiles!AA123","v":0},null,null,{"$f":"(Y125/IF(Z125=0,$AD$1,Z125)*$AD$2)/IF(AA125=0,1,AA125)*VLOOKUP(DataByMiles!AE123,DataByMiles!$AT$5:$AU$6,2,FALSE)","v":0},"",0,0,{"$f":"(AF125+AG125)*VLOOKUP(DataByMiles!AE123,DataByMiles!$AT$5:$AU$6,2,FALSE)","v":0},0]
[null,{"$f":"DataByMiles!C124","v":"----120"},{"$f":"DataByMiles!T124*VLOOKUP(DataByMiles!AE124,DataByMiles!$AT$5:$AU$6,2,FALSE)","v":0},null,null,0,{"$f":"C126*$G$2*VLOOKUP(DataByMiles!AE124,DataByMiles!$AT$5:$AU$6,2,FALSE)","v":0},{"$f":"DataByMiles!U124*VLOOKUP(DataByMiles!AE124,DataByMiles!$AT$5:$AU$6,2,FALSE)","v":0},null,null,0,{"$f":"H126*$L$2*VLOOKUP(DataByMiles!AE124,DataByMiles!$AT$5:$AU$6,2,FALSE)","v":0},{"$f":"DataByMiles!V124*VLOOKUP(DataByMiles!AE124,DataByMiles!$AT$5:$AU$6,2,FALSE)","v":0},null,null,{"$f":"M126*$P$2*VLOOKUP(DataByMiles!AE124,DataByMiles!$AT$5:$AU$6,2,FALSE)","v":0},{"$f":"DataByMiles!W124*VLOOKUP(DataByMiles!AE124,DataByMiles!$AT$5:$AU$6,2,FALSE)","v":0},null,null,{"$f":"Q126*$T$2*VLOOKUP(DataByMiles!AE124,DataByMiles!$AT$5:$AU$6,2,FALSE)","v":0},{"$f":"DataByMiles!X124*VLOOKUP(DataByMiles!AE124,DataByMiles!$AT$5:$AU$6,2,FALSE)","v":0},null,null,{"$f":"U126*$X$2*VLOOKUP(DataByMiles!AE124,DataByMiles!$AT$5:$AU$6,2,FALSE)","v":0},{"$f":"DataByMiles!Y124*VLOOKUP(DataByMiles!AE124,DataByMiles!$AT$5:$AU$6,2,FALSE)","v":0},{"$f":"DataByMiles!Z124","v":0},{"$f":"DataByMiles!AA124","v":0},null,null,{"$f":"(Y126/IF(Z126=0,$AD$1,Z126)*$AD$2)/IF(AA126=0,1,AA126)*VLOOKUP(DataByMiles!AE124,DataByMiles!$AT$5:$AU$6,2,FALSE)","v":0},"",0,0,{"$f":"(AF126+AG126)*VLOOKUP(DataByMiles!AE124,DataByMiles!$AT$5:$AU$6,2,FALSE)","v":0},0]
[null,{"$f":"DataByMiles!C125","v":"----121"},{"$f":"DataByMiles!T125*VLOOKUP(DataByMiles!AE125,DataByMiles!$AT$5:$AU$6,2,FALSE)","v":0},null,null,0,{"$f":"C127*$G$2*VLOOKUP(DataByMiles!AE125,DataByMiles!$AT$5:$AU$6,2,FALSE)","v":0},{"$f":"DataByMiles!U125*VLOOKUP(DataByMiles!AE125,DataByMiles!$AT$5:$AU$6,2,FALSE)","v":0},null,null,0,{"$f":"H127*$L$2*VLOOKUP(DataByMiles!AE125,DataByMiles!$AT$5:$AU$6,2,FALSE)","v":0},{"$f":"DataByMiles!V125*VLOOKUP(DataByMiles!AE125,DataByMiles!$AT$5:$AU$6,2,FALSE)","v":0},null,null,{"$f":"M127*$P$2*VLOOKUP(DataByMiles!AE125,DataByMiles!$AT$5:$AU$6,2,FALSE)","v":0},{"$f":"DataByMiles!W125*VLOOKUP(DataByMiles!AE125,DataByMiles!$AT$5:$AU$6,2,FALSE)","v":0},null,null,{"$f":"Q127*$T$2*VLOOKUP(DataByMiles!AE125,DataByMiles!$AT$5:$AU$6,2,FALSE)","v":0},{"$f":"DataByMiles!X125*VLOOKUP(DataByMiles!AE125,DataByMiles!$AT$5:$AU$6,2,FALSE)","v":0},null,null,{"$f":"U127*$X$2*VLOOKUP(DataByMiles!AE125,DataByMiles!$AT$5:$AU$6,2,FALSE)","v":0},{"$f":"DataByMiles!Y125*VLOOKUP(DataByMiles!AE125,DataByMiles!$AT$5:$AU$6,2,FALSE)","v":0},{"$f":"DataByMiles!Z125","v":0},{"$f":"DataByMiles!AA125","v":0},null,null,{"$f":"(Y127/IF(Z127=0,$AD$1,Z127)*$AD$2)/IF(AA127=0,1,AA127)*VLOOKUP(DataByMiles!AE125,DataByMiles!$AT$5:$AU$6,2,FALSE)","v":0},"",0,0,{"$f":"(AF127+AG127)*VLOOKUP(DataByMiles!AE125,DataByMiles!$AT$5:$AU$6,2,FALSE)","v":0},0]
[null,{"$f":"DataByMiles!C126","v":"----122"},{"$f":"DataByMiles!T126*VLOOKUP(DataByMiles!AE126,DataByMiles!$AT$5:$AU$6,2,FALSE)","v":0},null,null,0,{"$f":"C128*$G$2*VLOOKUP(DataByMiles!AE126,DataByMiles!$AT$5:$AU$6,2,FALSE)","v":0},{"$f":"DataByMiles!U126*VLOOKUP(DataByMiles!AE126,DataByMiles!$AT$5:$AU$6,2,FALSE)","v":0},null,null,0,{"$f":"H128*$L$2*VLOOKUP(DataByMiles!AE126,DataByMiles!$AT$5:$AU$6,2,FALSE)","v":0},{"$f":"DataByMiles!V126*VLOOKUP(DataByMiles!AE126,DataByMiles!$AT$5:$AU$6,2,FALSE)","v":0},null,null,{"$f":"M128*$P$2*VLOOKUP(DataByMiles!AE126,DataByMiles!$AT$5:$AU$6,2,FALSE)","v":0},{"$f":"DataByMiles!W126*VLOOKUP(DataByMiles!AE126,DataByMiles!$AT$5:$AU$6,2,FALSE)","v":0},null,null,{"$f":"Q128*$T$2*VLOOKUP(DataByMiles!AE126,DataByMiles!$AT$5:$AU$6,2,FALSE)","v":0},{"$f":"DataByMiles!X126*VLOOKUP(DataByMiles!AE126,DataByMiles!$AT$5:$AU$6,2,FALSE)","v":0},null,null,{"$f":"U128*$X$2*VLOOKUP(DataByMiles!AE126,DataByMiles!$AT$5:$AU$6,2,FALSE)","v":0},{"$f":"DataByMiles!Y126*VLOOKUP(DataByMiles!AE126,DataByMiles!$AT$5:$AU$6,2,FALSE)","v":0},{"$f":"DataByMiles!Z126","v":0},{"$f":"DataByMiles!AA126","v":0},null,null,{"$f":"(Y128/IF(Z128=0,$AD$1,Z128)*$AD$2)/IF(AA128=0,1,AA128)*VLOOKUP(DataByMiles!AE126,DataByMiles!$AT$5:$AU$6,2,FALSE)","v":0},"",0,0,{"$f":"(AF128+AG128)*VLOOKUP(DataByMiles!AE126,DataByMiles!$AT$5:$AU$6,2,FALSE)","v":0},0]
[null,{"$f":"DataByMiles!C127","v":"----123"},{"$f":"DataByMiles!T127*VLOOKUP(DataByMiles!AE127,DataByMiles!$AT$5:$AU$6,2,FALSE)","v":0},null,null,0,{"$f":"C129*$G$2*VLOOKUP(DataByMiles!AE127,DataByMiles!$AT$5:$AU$6,2,FALSE)","v":0},{"$f":"DataByMiles!U127*VLOOKUP(DataByMiles!AE127,DataByMiles!$AT$5:$AU$6,2,FALSE)","v":0},null,null,0,{"$f":"H129*$L$2*VLOOKUP(DataByMiles!AE127,DataByMiles!$AT$5:$AU$6,2,FALSE)","v":0},{"$f":"DataByMiles!V127*VLOOKUP(DataByMiles!AE127,DataByMiles!$AT$5:$AU$6,2,FALSE)","v":0},null,null,{"$f":"M129*$P$2*VLOOKUP(DataByMiles!AE127,DataByMiles!$AT$5:$AU$6,2,FALSE)","v":0},{"$f":"DataByMiles!W127*VLOOKUP(DataByMiles!AE127,DataByMiles!$AT$5:$AU$6,2,FALSE)","v":0},null,null,{"$f":"Q129*$T$2*VLOOKUP(DataByMiles!AE127,DataByMiles!$AT$5:$AU$6,2,FALSE)","v":0},{"$f":"DataByMiles!X127*VLOOKUP(DataByMiles!AE127,DataByMiles!$AT$5:$AU$6,2,FALSE)","v":0},null,null,{"$f":"U129*$X$2*VLOOKUP(DataByMiles!AE127,DataByMiles!$AT$5:$AU$6,2,FALSE)","v":0},{"$f":"DataByMiles!Y127*VLOOKUP(DataByMiles!AE127,DataByMiles!$AT$5:$AU$6,2,FALSE)","v":0},{"$f":"DataByMiles!Z127","v":0},{"$f":"DataByMiles!AA127","v":0},null,null,{"$f":"(Y129/IF(Z129=0,$AD$1,Z129)*$AD$2)/IF(AA129=0,1,AA129)*VLOOKUP(DataByMiles!AE127,DataByMiles!$AT$5:$AU$6,2,FALSE)","v":0},"",0,0,{"$f":"(AF129+AG129)*VLOOKUP(DataByMiles!AE127,DataByMiles!$AT$5:$AU$6,2,FALSE)","v":0},0]
[null,{"$f":"DataByMiles!C128","v":"----124"},{"$f":"DataByMiles!T128*VLOOKUP(DataByMiles!AE128,DataByMiles!$AT$5:$AU$6,2,FALSE)","v":0},null,null,0,{"$f":"C130*$G$2*VLOOKUP(DataByMiles!AE128,DataByMiles!$AT$5:$AU$6,2,FALSE)","v":0},{"$f":"DataByMiles!U128*VLOOKUP(DataByMiles!AE128,DataByMiles!$AT$5:$AU$6,2,FALSE)","v":0},null,null,0,{"$f":"H130*$L$2*VLOOKUP(DataByMiles!AE128,DataByMiles!$AT$5:$AU$6,2,FALSE)","v":0},{"$f":"DataByMiles!V128*VLOOKUP(DataByMiles!AE128,DataByMiles!$AT$5:$AU$6,2,FALSE)","v":0},null,null,{"$f":"M130*$P$2*VLOOKUP(DataByMiles!AE128,DataByMiles!$AT$5:$AU$6,2,FALSE)","v":0},{"$f":"DataByMiles!W128*VLOOKUP(DataByMiles!AE128,DataByMiles!$AT$5:$AU$6,2,FALSE)","v":0},null,null,{"$f":"Q130*$T$2*VLOOKUP(DataByMiles!AE128,DataByMiles!$AT$5:$AU$6,2,FALSE)","v":0},{"$f":"DataByMiles!X128*VLOOKUP(DataByMiles!AE128,DataByMiles!$AT$5:$AU$6,2,FALSE)","v":0},null,null,{"$f":"U130*$X$2*VLOOKUP(DataByMiles!AE128,DataByMiles!$AT$5:$AU$6,2,FALSE)","v":0},{"$f":"DataByMiles!Y128*VLOOKUP(DataByMiles!AE128,DataByMiles!$AT$5:$AU$6,2,FALSE)","v":0},{"$f":"DataByMiles!Z128","v":0},{"$f":"DataByMiles!AA128","v":0},null,null,{"$f":"(Y130/IF(Z130=0,$AD$1,Z130)*$AD$2)/IF(AA130=0,1,AA130)*VLOOKUP(DataByMiles!AE128,DataByMiles!$AT$5:$AU$6,2,FALSE)","v":0},"",0,0,{"$f":"(AF130+AG130)*VLOOKUP(DataByMiles!AE128,DataByMiles!$AT$5:$AU$6,2,FALSE)","v":0},0]
[null,{"$f":"DataByMiles!C129","v":"----125"},{"$f":"DataByMiles!T129*VLOOKUP(DataByMiles!AE129,DataByMiles!$AT$5:$AU$6,2,FALSE)","v":0},null,null,0,{"$f":"C131*$G$2*VLOOKUP(DataByMiles!AE129,DataByMiles!$AT$5:$AU$6,2,FALSE)","v":0},{"$f":"DataByMiles!U129*VLOOKUP(DataByMiles!AE129,DataByMiles!$AT$5:$AU$6,2,FALSE)","v":0},null,null,0,{"$f":"H131*$L$2*VLOOKUP(DataByMiles!AE129,DataByMiles!$AT$5:$AU$6,2,FALSE)","v":0},{"$f":"DataByMiles!V129*VLOOKUP(DataByMiles!AE129,DataByMiles!$AT$5:$AU$6,2,FALSE)","v":0},null,null,{"$f":"M131*$P$2*VLOOKUP(DataByMiles!AE129,DataByMiles!$AT$5:$AU$6,2,FALSE)","v":0},{"$f":"DataByMiles!W129*VLOOKUP(DataByMiles!AE129,DataByMiles!$AT$5:$AU$6,2,FALSE)","v":0},null,null,{"$f":"Q131*$T$2*VLOOKUP(DataByMiles!AE129,DataByMiles!$AT$5:$AU$6,2,FALSE)","v":0},{"$f":"DataByMiles!X129*VLOOKUP(DataByMiles!AE129,DataByMiles!$AT$5:$AU$6,2,FALSE)","v":0},null,null,{"$f":"U131*$X$2*VLOOKUP(DataByMiles!AE129,DataByMiles!$AT$5:$AU$6,2,FALSE)","v":0},{"$f":"DataByMiles!Y129*VLOOKUP(DataByMiles!AE129,DataByMiles!$AT$5:$AU$6,2,FALSE)","v":0},{"$f":"DataByMiles!Z129","v":0},{"$f":"DataByMiles!AA129","v":0},null,null,{"$f":"(Y131/IF(Z131=0,$AD$1,Z131)*$AD$2)/IF(AA131=0,1,AA131)*VLOOKUP(DataByMiles!AE129,DataByMiles!$AT$5:$AU$6,2,FALSE)","v":0},"",0,0,{"$f":"(AF131+AG131)*VLOOKUP(DataByMiles!AE129,DataByMiles!$AT$5:$AU$6,2,FALSE)","v":0},0]
[null,{"$f":"DataByMiles!C130","v":"----126"},{"$f":"DataByMiles!T130*VLOOKUP(DataByMiles!AE130,DataByMiles!$AT$5:$AU$6,2,FALSE)","v":0},null,null,0,{"$f":"C132*$G$2*VLOOKUP(DataByMiles!AE130,DataByMiles!$AT$5:$AU$6,2,FALSE)","v":0},{"$f":"DataByMiles!U130*VLOOKUP(DataByMiles!AE130,DataByMiles!$AT$5:$AU$6,2,FALSE)","v":0},null,null,0,{"$f":"H132*$L$2*VLOOKUP(DataByMiles!AE130,DataByMiles!$AT$5:$AU$6,2,FALSE)","v":0},{"$f":"DataByMiles!V130*VLOOKUP(DataByMiles!AE130,DataByMiles!$AT$5:$AU$6,2,FALSE)","v":0},null,null,{"$f":"M132*$P$2*VLOOKUP(DataByMiles!AE130,DataByMiles!$AT$5:$AU$6,2,FALSE)","v":0},{"$f":"DataByMiles!W130*VLOOKUP(DataByMiles!AE130,DataByMiles!$AT$5:$AU$6,2,FALSE)","v":0},null,null,{"$f":"Q132*$T$2*VLOOKUP(DataByMiles!AE130,DataByMiles!$AT$5:$AU$6,2,FALSE)","v":0},{"$f":"DataByMiles!X130*VLOOKUP(DataByMiles!AE130,DataByMiles!$AT$5:$AU$6,2,FALSE)","v":0},null,null,{"$f":"U132*$X$2*VLOOKUP(DataByMiles!AE130,DataByMiles!$AT$5:$AU$6,2,FALSE)","v":0},{"$f":"DataByMiles!Y130*VLOOKUP(DataByMiles!AE130,DataByMiles!$AT$5:$AU$6,2,FALSE)","v":0},{"$f":"DataByMiles!Z130","v":0},{"$f":"DataByMiles!AA130","v":0},null,null,{"$f":"(Y132/IF(Z132=0,$AD$1,Z132)*$AD$2)/IF(AA132=0,1,AA132)*VLOOKUP(DataByMiles!AE130,DataByMiles!$AT$5:$AU$6,2,FALSE)","v":0},"",0,0,{"$f":"(AF132+AG132)*VLOOKUP(DataByMiles!AE130,DataByMiles!$AT$5:$AU$6,2,FALSE)","v":0},0]
[null,{"$f":"DataByMiles!C131","v":"----127"},{"$f":"DataByMiles!T131*VLOOKUP(DataByMiles!AE131,DataByMiles!$AT$5:$AU$6,2,FALSE)","v":0},null,null,0,{"$f":"C133*$G$2*VLOOKUP(DataByMiles!AE131,DataByMiles!$AT$5:$AU$6,2,FALSE)","v":0},{"$f":"DataByMiles!U131*VLOOKUP(DataByMiles!AE131,DataByMiles!$AT$5:$AU$6,2,FALSE)","v":0},null,null,0,{"$f":"H133*$L$2*VLOOKUP(DataByMiles!AE131,DataByMiles!$AT$5:$AU$6,2,FALSE)","v":0},{"$f":"DataByMiles!V131*VLOOKUP(DataByMiles!AE131,DataByMiles!$AT$5:$AU$6,2,FALSE)","v":0},null,null,{"$f":"M133*$P$2*VLOOKUP(DataByMiles!AE131,DataByMiles!$AT$5:$AU$6,2,FALSE)","v":0},{"$f":"DataByMiles!W131*VLOOKUP(DataByMiles!AE131,DataByMiles!$AT$5:$AU$6,2,FALSE)","v":0},null,null,{"$f":"Q133*$T$2*VLOOKUP(DataByMiles!AE131,DataByMiles!$AT$5:$AU$6,2,FALSE)","v":0},{"$f":"DataByMiles!X131*VLOOKUP(DataByMiles!AE131,DataByMiles!$AT$5:$AU$6,2,FALSE)","v":0},null,null,{"$f":"U133*$X$2*VLOOKUP(DataByMiles!AE131,DataByMiles!$AT$5:$AU$6,2,FALSE)","v":0},{"$f":"DataByMiles!Y131*VLOOKUP(DataByMiles!AE131,DataByMiles!$AT$5:$AU$6,2,FALSE)","v":0},{"$f":"DataByMiles!Z131","v":0},{"$f":"DataByMiles!AA131","v":0},null,null,{"$f":"(Y133/IF(Z133=0,$AD$1,Z133)*$AD$2)/IF(AA133=0,1,AA133)*VLOOKUP(DataByMiles!AE131,DataByMiles!$AT$5:$AU$6,2,FALSE)","v":0},"",0,0,{"$f":"(AF133+AG133)*VLOOKUP(DataByMiles!AE131,DataByMiles!$AT$5:$AU$6,2,FALSE)","v":0},0]
[null,{"$f":"DataByMiles!C132","v":"----128"},{"$f":"DataByMiles!T132*VLOOKUP(DataByMiles!AE132,DataByMiles!$AT$5:$AU$6,2,FALSE)","v":0},null,null,0,{"$f":"C134*$G$2*VLOOKUP(DataByMiles!AE132,DataByMiles!$AT$5:$AU$6,2,FALSE)","v":0},{"$f":"DataByMiles!U132*VLOOKUP(DataByMiles!AE132,DataByMiles!$AT$5:$AU$6,2,FALSE)","v":0},null,null,0,{"$f":"H134*$L$2*VLOOKUP(DataByMiles!AE132,DataByMiles!$AT$5:$AU$6,2,FALSE)","v":0},{"$f":"DataByMiles!V132*VLOOKUP(DataByMiles!AE132,DataByMiles!$AT$5:$AU$6,2,FALSE)","v":0},null,null,{"$f":"M134*$P$2*VLOOKUP(DataByMiles!AE132,DataByMiles!$AT$5:$AU$6,2,FALSE)","v":0},{"$f":"DataByMiles!W132*VLOOKUP(DataByMiles!AE132,DataByMiles!$AT$5:$AU$6,2,FALSE)","v":0},null,null,{"$f":"Q134*$T$2*VLOOKUP(DataByMiles!AE132,DataByMiles!$AT$5:$AU$6,2,FALSE)","v":0},{"$f":"DataByMiles!X132*VLOOKUP(DataByMiles!AE132,DataByMiles!$AT$5:$AU$6,2,FALSE)","v":0},null,null,{"$f":"U134*$X$2*VLOOKUP(DataByMiles!AE132,DataByMiles!$AT$5:$AU$6,2,FALSE)","v":0},{"$f":"DataByMiles!Y132*VLOOKUP(DataByMiles!AE132,DataByMiles!$AT$5:$AU$6,2,FALSE)","v":0},{"$f":"DataByMiles!Z132","v":0},{"$f":"DataByMiles!AA132","v":0},null,null,{"$f":"(Y134/IF(Z134=0,$AD$1,Z134)*$AD$2)/IF(AA134=0,1,AA134)*VLOOKUP(DataByMiles!AE132,DataByMiles!$AT$5:$AU$6,2,FALSE)","v":0},"",0,0,{"$f":"(AF134+AG134)*VLOOKUP(DataByMiles!AE132,DataByMiles!$AT$5:$AU$6,2,FALSE)","v":0},0]
[null,{"$f":"DataByMiles!C133","v":"----129"},{"$f":"DataByMiles!T133*VLOOKUP(DataByMiles!AE133,DataByMiles!$AT$5:$AU$6,2,FALSE)","v":0},null,null,0,{"$f":"C135*$G$2*VLOOKUP(DataByMiles!AE133,DataByMiles!$AT$5:$AU$6,2,FALSE)","v":0},{"$f":"DataByMiles!U133*VLOOKUP(DataByMiles!AE133,DataByMiles!$AT$5:$AU$6,2,FALSE)","v":0},null,null,0,{"$f":"H135*$L$2*VLOOKUP(DataByMiles!AE133,DataByMiles!$AT$5:$AU$6,2,FALSE)","v":0},{"$f":"DataByMiles!V133*VLOOKUP(DataByMiles!AE133,DataByMiles!$AT$5:$AU$6,2,FALSE)","v":0},null,null,{"$f":"M135*$P$2*VLOOKUP(DataByMiles!AE133,DataByMiles!$AT$5:$AU$6,2,FALSE)","v":0},{"$f":"DataByMiles!W133*VLOOKUP(DataByMiles!AE133,DataByMiles!$AT$5:$AU$6,2,FALSE)","v":0},null,null,{"$f":"Q135*$T$2*VLOOKUP(DataByMiles!AE133,DataByMiles!$AT$5:$AU$6,2,FALSE)","v":0},{"$f":"DataByMiles!X133*VLOOKUP(DataByMiles!AE133,DataByMiles!$AT$5:$AU$6,2,FALSE)","v":0},null,null,{"$f":"U135*$X$2*VLOOKUP(DataByMiles!AE133,DataByMiles!$AT$5:$AU$6,2,FALSE)","v":0},{"$f":"DataByMiles!Y133*VLOOKUP(DataByMiles!AE133,DataByMiles!$AT$5:$AU$6,2,FALSE)","v":0},{"$f":"DataByMiles!Z133","v":0},{"$f":"DataByMiles!AA133","v":0},null,null,{"$f":"(Y135/IF(Z135=0,$AD$1,Z135)*$AD$2)/IF(AA135=0,1,AA135)*VLOOKUP(DataByMiles!AE133,DataByMiles!$AT$5:$AU$6,2,FALSE)","v":0},"",0,0,{"$f":"(AF135+AG135)*VLOOKUP(DataByMiles!AE133,DataByMiles!$AT$5:$AU$6,2,FALSE)","v":0},0]
[null,{"$f":"DataByMiles!C134","v":"----130"},{"$f":"DataByMiles!T134*VLOOKUP(DataByMiles!AE134,DataByMiles!$AT$5:$AU$6,2,FALSE)","v":0},null,null,0,{"$f":"C136*$G$2*VLOOKUP(DataByMiles!AE134,DataByMiles!$AT$5:$AU$6,2,FALSE)","v":0},{"$f":"DataByMiles!U134*VLOOKUP(DataByMiles!AE134,DataByMiles!$AT$5:$AU$6,2,FALSE)","v":0},null,null,0,{"$f":"H136*$L$2*VLOOKUP(DataByMiles!AE134,DataByMiles!$AT$5:$AU$6,2,FALSE)","v":0},{"$f":"DataByMiles!V134*VLOOKUP(DataByMiles!AE134,DataByMiles!$AT$5:$AU$6,2,FALSE)","v":0},null,null,{"$f":"M136*$P$2*VLOOKUP(DataByMiles!AE134,DataByMiles!$AT$5:$AU$6,2,FALSE)","v":0},{"$f":"DataByMiles!W134*VLOOKUP(DataByMiles!AE134,DataByMiles!$AT$5:$AU$6,2,FALSE)","v":0},null,null,{"$f":"Q136*$T$2*VLOOKUP(DataByMiles!AE134,DataByMiles!$AT$5:$AU$6,2,FALSE)","v":0},{"$f":"DataByMiles!X134*VLOOKUP(DataByMiles!AE134,DataByMiles!$AT$5:$AU$6,2,FALSE)","v":0},null,null,{"$f":"U136*$X$2*VLOOKUP(DataByMiles!AE134,DataByMiles!$AT$5:$AU$6,2,FALSE)","v":0},{"$f":"DataByMiles!Y134*VLOOKUP(DataByMiles!AE134,DataByMiles!$AT$5:$AU$6,2,FALSE)","v":0},{"$f":"DataByMiles!Z134","v":0},{"$f":"DataByMiles!AA134","v":0},null,null,{"$f":"(Y136/IF(Z136=0,$AD$1,Z136)*$AD$2)/IF(AA136=0,1,AA136)*VLOOKUP(DataByMiles!AE134,DataByMiles!$AT$5:$AU$6,2,FALSE)","v":0},"",0,0,{"$f":"(AF136+AG136)*VLOOKUP(DataByMiles!AE134,DataByMiles!$AT$5:$AU$6,2,FALSE)","v":0},0]
[null,{"$f":"DataByMiles!C135","v":"----131"},{"$f":"DataByMiles!T135*VLOOKUP(DataByMiles!AE135,DataByMiles!$AT$5:$AU$6,2,FALSE)","v":0},null,null,0,{"$f":"C137*$G$2*VLOOKUP(DataByMiles!AE135,DataByMiles!$AT$5:$AU$6,2,FALSE)","v":0},{"$f":"DataByMiles!U135*VLOOKUP(DataByMiles!AE135,DataByMiles!$AT$5:$AU$6,2,FALSE)","v":0},null,null,0,{"$f":"H137*$L$2*VLOOKUP(DataByMiles!AE135,DataByMiles!$AT$5:$AU$6,2,FALSE)","v":0},{"$f":"DataByMiles!V135*VLOOKUP(DataByMiles!AE135,DataByMiles!$AT$5:$AU$6,2,FALSE)","v":0},null,null,{"$f":"M137*$P$2*VLOOKUP(DataByMiles!AE135,DataByMiles!$AT$5:$AU$6,2,FALSE)","v":0},{"$f":"DataByMiles!W135*VLOOKUP(DataByMiles!AE135,DataByMiles!$AT$5:$AU$6,2,FALSE)","v":0},null,null,{"$f":"Q137*$T$2*VLOOKUP(DataByMiles!AE135,DataByMiles!$AT$5:$AU$6,2,FALSE)","v":0},{"$f":"DataByMiles!X135*VLOOKUP(DataByMiles!AE135,DataByMiles!$AT$5:$AU$6,2,FALSE)","v":0},null,null,{"$f":"U137*$X$2*VLOOKUP(DataByMiles!AE135,DataByMiles!$AT$5:$AU$6,2,FALSE)","v":0},{"$f":"DataByMiles!Y135*VLOOKUP(DataByMiles!AE135,DataByMiles!$AT$5:$AU$6,2,FALSE)","v":0},{"$f":"DataByMiles!Z135","v":0},{"$f":"DataByMiles!AA135","v":0},null,null,{"$f":"(Y137/IF(Z137=0,$AD$1,Z137)*$AD$2)/IF(AA137=0,1,AA137)*VLOOKUP(DataByMiles!AE135,DataByMiles!$AT$5:$AU$6,2,FALSE)","v":0},"",0,0,{"$f":"(AF137+AG137)*VLOOKUP(DataByMiles!AE135,DataByMiles!$AT$5:$AU$6,2,FALSE)","v":0},0]
[null,{"$f":"DataByMiles!C136","v":"----132"},{"$f":"DataByMiles!T136*VLOOKUP(DataByMiles!AE136,DataByMiles!$AT$5:$AU$6,2,FALSE)","v":0},null,null,0,{"$f":"C138*$G$2*VLOOKUP(DataByMiles!AE136,DataByMiles!$AT$5:$AU$6,2,FALSE)","v":0},{"$f":"DataByMiles!U136*VLOOKUP(DataByMiles!AE136,DataByMiles!$AT$5:$AU$6,2,FALSE)","v":0},null,null,0,{"$f":"H138*$L$2*VLOOKUP(DataByMiles!AE136,DataByMiles!$AT$5:$AU$6,2,FALSE)","v":0},{"$f":"DataByMiles!V136*VLOOKUP(DataByMiles!AE136,DataByMiles!$AT$5:$AU$6,2,FALSE)","v":0},null,null,{"$f":"M138*$P$2*VLOOKUP(DataByMiles!AE136,DataByMiles!$AT$5:$AU$6,2,FALSE)","v":0},{"$f":"DataByMiles!W136*VLOOKUP(DataByMiles!AE136,DataByMiles!$AT$5:$AU$6,2,FALSE)","v":0},null,null,{"$f":"Q138*$T$2*VLOOKUP(DataByMiles!AE136,DataByMiles!$AT$5:$AU$6,2,FALSE)","v":0},{"$f":"DataByMiles!X136*VLOOKUP(DataByMiles!AE136,DataByMiles!$AT$5:$AU$6,2,FALSE)","v":0},null,null,{"$f":"U138*$X$2*VLOOKUP(DataByMiles!AE136,DataByMiles!$AT$5:$AU$6,2,FALSE)","v":0},{"$f":"DataByMiles!Y136*VLOOKUP(DataByMiles!AE136,DataByMiles!$AT$5:$AU$6,2,FALSE)","v":0},{"$f":"DataByMiles!Z136","v":0},{"$f":"DataByMiles!AA136","v":0},null,null,{"$f":"(Y138/IF(Z138=0,$AD$1,Z138)*$AD$2)/IF(AA138=0,1,AA138)*VLOOKUP(DataByMiles!AE136,DataByMiles!$AT$5:$AU$6,2,FALSE)","v":0},"",0,0,{"$f":"(AF138+AG138)*VLOOKUP(DataByMiles!AE136,DataByMiles!$AT$5:$AU$6,2,FALSE)","v":0},0]
[null,{"$f":"DataByMiles!C137","v":"----133"},{"$f":"DataByMiles!T137*VLOOKUP(DataByMiles!AE137,DataByMiles!$AT$5:$AU$6,2,FALSE)","v":0},null,null,0,{"$f":"C139*$G$2*VLOOKUP(DataByMiles!AE137,DataByMiles!$AT$5:$AU$6,2,FALSE)","v":0},{"$f":"DataByMiles!U137*VLOOKUP(DataByMiles!AE137,DataByMiles!$AT$5:$AU$6,2,FALSE)","v":0},null,null,0,{"$f":"H139*$L$2*VLOOKUP(DataByMiles!AE137,DataByMiles!$AT$5:$AU$6,2,FALSE)","v":0},{"$f":"DataByMiles!V137*VLOOKUP(DataByMiles!AE137,DataByMiles!$AT$5:$AU$6,2,FALSE)","v":0},null,null,{"$f":"M139*$P$2*VLOOKUP(DataByMiles!AE137,DataByMiles!$AT$5:$AU$6,2,FALSE)","v":0},{"$f":"DataByMiles!W137*VLOOKUP(DataByMiles!AE137,DataByMiles!$AT$5:$AU$6,2,FALSE)","v":0},null,null,{"$f":"Q139*$T$2*VLOOKUP(DataByMiles!AE137,DataByMiles!$AT$5:$AU$6,2,FALSE)","v":0},{"$f":"DataByMiles!X137*VLOOKUP(DataByMiles!AE137,DataByMiles!$AT$5:$AU$6,2,FALSE)","v":0},null,null,{"$f":"U139*$X$2*VLOOKUP(DataByMiles!AE137,DataByMiles!$AT$5:$AU$6,2,FALSE)","v":0},{"$f":"DataByMiles!Y137*VLOOKUP(DataByMiles!AE137,DataByMiles!$AT$5:$AU$6,2,FALSE)","v":0},{"$f":"DataByMiles!Z137","v":0},{"$f":"DataByMiles!AA137","v":0},null,null,{"$f":"(Y139/IF(Z139=0,$AD$1,Z139)*$AD$2)/IF(AA139=0,1,AA139)*VLOOKUP(DataByMiles!AE137,DataByMiles!$AT$5:$AU$6,2,FALSE)","v":0},"",0,0,{"$f":"(AF139+AG139)*VLOOKUP(DataByMiles!AE137,DataByMiles!$AT$5:$AU$6,2,FALSE)","v":0},0]
[null,{"$f":"DataByMiles!C138","v":"----134"},{"$f":"DataByMiles!T138*VLOOKUP(DataByMiles!AE138,DataByMiles!$AT$5:$AU$6,2,FALSE)","v":0},null,null,0,{"$f":"C140*$G$2*VLOOKUP(DataByMiles!AE138,DataByMiles!$AT$5:$AU$6,2,FALSE)","v":0},{"$f":"DataByMiles!U138*VLOOKUP(DataByMiles!AE138,DataByMiles!$AT$5:$AU$6,2,FALSE)","v":0},null,null,0,{"$f":"H140*$L$2*VLOOKUP(DataByMiles!AE138,DataByMiles!$AT$5:$AU$6,2,FALSE)","v":0},{"$f":"DataByMiles!V138*VLOOKUP(DataByMiles!AE138,DataByMiles!$AT$5:$AU$6,2,FALSE)","v":0},null,null,{"$f":"M140*$P$2*VLOOKUP(DataByMiles!AE138,DataByMiles!$AT$5:$AU$6,2,FALSE)","v":0},{"$f":"DataByMiles!W138*VLOOKUP(DataByMiles!AE138,DataByMiles!$AT$5:$AU$6,2,FALSE)","v":0},null,null,{"$f":"Q140*$T$2*VLOOKUP(DataByMiles!AE138,DataByMiles!$AT$5:$AU$6,2,FALSE)","v":0},{"$f":"DataByMiles!X138*VLOOKUP(DataByMiles!AE138,DataByMiles!$AT$5:$AU$6,2,FALSE)","v":0},null,null,{"$f":"U140*$X$2*VLOOKUP(DataByMiles!AE138,DataByMiles!$AT$5:$AU$6,2,FALSE)","v":0},{"$f":"DataByMiles!Y138*VLOOKUP(DataByMiles!AE138,DataByMiles!$AT$5:$AU$6,2,FALSE)","v":0},{"$f":"DataByMiles!Z138","v":0},{"$f":"DataByMiles!AA138","v":0},null,null,{"$f":"(Y140/IF(Z140=0,$AD$1,Z140)*$AD$2)/IF(AA140=0,1,AA140)*VLOOKUP(DataByMiles!AE138,DataByMiles!$AT$5:$AU$6,2,FALSE)","v":0},"",0,0,{"$f":"(AF140+AG140)*VLOOKUP(DataByMiles!AE138,DataByMiles!$AT$5:$AU$6,2,FALSE)","v":0},0]
[null,{"$f":"DataByMiles!C139","v":"----135"},{"$f":"DataByMiles!T139*VLOOKUP(DataByMiles!AE139,DataByMiles!$AT$5:$AU$6,2,FALSE)","v":0},null,null,0,{"$f":"C141*$G$2*VLOOKUP(DataByMiles!AE139,DataByMiles!$AT$5:$AU$6,2,FALSE)","v":0},{"$f":"DataByMiles!U139*VLOOKUP(DataByMiles!AE139,DataByMiles!$AT$5:$AU$6,2,FALSE)","v":0},null,null,0,{"$f":"H141*$L$2*VLOOKUP(DataByMiles!AE139,DataByMiles!$AT$5:$AU$6,2,FALSE)","v":0},{"$f":"DataByMiles!V139*VLOOKUP(DataByMiles!AE139,DataByMiles!$AT$5:$AU$6,2,FALSE)","v":0},null,null,{"$f":"M141*$P$2*VLOOKUP(DataByMiles!AE139,DataByMiles!$AT$5:$AU$6,2,FALSE)","v":0},{"$f":"DataByMiles!W139*VLOOKUP(DataByMiles!AE139,DataByMiles!$AT$5:$AU$6,2,FALSE)","v":0},null,null,{"$f":"Q141*$T$2*VLOOKUP(DataByMiles!AE139,DataByMiles!$AT$5:$AU$6,2,FALSE)","v":0},{"$f":"DataByMiles!X139*VLOOKUP(DataByMiles!AE139,DataByMiles!$AT$5:$AU$6,2,FALSE)","v":0},null,null,{"$f":"U141*$X$2*VLOOKUP(DataByMiles!AE139,DataByMiles!$AT$5:$AU$6,2,FALSE)","v":0},{"$f":"DataByMiles!Y139*VLOOKUP(DataByMiles!AE139,DataByMiles!$AT$5:$AU$6,2,FALSE)","v":0},{"$f":"DataByMiles!Z139","v":0},{"$f":"DataByMiles!AA139","v":0},null,null,{"$f":"(Y141/IF(Z141=0,$AD$1,Z141)*$AD$2)/IF(AA141=0,1,AA141)*VLOOKUP(DataByMiles!AE139,DataByMiles!$AT$5:$AU$6,2,FALSE)","v":0},"",0,0,{"$f":"(AF141+AG141)*VLOOKUP(DataByMiles!AE139,DataByMiles!$AT$5:$AU$6,2,FALSE)","v":0},0]
[null,{"$f":"DataByMiles!C140","v":"----136"},{"$f":"DataByMiles!T140*VLOOKUP(DataByMiles!AE140,DataByMiles!$AT$5:$AU$6,2,FALSE)","v":0},null,null,0,{"$f":"C142*$G$2*VLOOKUP(DataByMiles!AE140,DataByMiles!$AT$5:$AU$6,2,FALSE)","v":0},{"$f":"DataByMiles!U140*VLOOKUP(DataByMiles!AE140,DataByMiles!$AT$5:$AU$6,2,FALSE)","v":0},null,null,0,{"$f":"H142*$L$2*VLOOKUP(DataByMiles!AE140,DataByMiles!$AT$5:$AU$6,2,FALSE)","v":0},{"$f":"DataByMiles!V140*VLOOKUP(DataByMiles!AE140,DataByMiles!$AT$5:$AU$6,2,FALSE)","v":0},null,null,{"$f":"M142*$P$2*VLOOKUP(DataByMiles!AE140,DataByMiles!$AT$5:$AU$6,2,FALSE)","v":0},{"$f":"DataByMiles!W140*VLOOKUP(DataByMiles!AE140,DataByMiles!$AT$5:$AU$6,2,FALSE)","v":0},null,null,{"$f":"Q142*$T$2*VLOOKUP(DataByMiles!AE140,DataByMiles!$AT$5:$AU$6,2,FALSE)","v":0},{"$f":"DataByMiles!X140*VLOOKUP(DataByMiles!AE140,DataByMiles!$AT$5:$AU$6,2,FALSE)","v":0},null,null,{"$f":"U142*$X$2*VLOOKUP(DataByMiles!AE140,DataByMiles!$AT$5:$AU$6,2,FALSE)","v":0},{"$f":"DataByMiles!Y140*VLOOKUP(DataByMiles!AE140,DataByMiles!$AT$5:$AU$6,2,FALSE)","v":0},{"$f":"DataByMiles!Z140","v":0},{"$f":"DataByMiles!AA140","v":0},null,null,{"$f":"(Y142/IF(Z142=0,$AD$1,Z142)*$AD$2)/IF(AA142=0,1,AA142)*VLOOKUP(DataByMiles!AE140,DataByMiles!$AT$5:$AU$6,2,FALSE)","v":0},"",0,0,{"$f":"(AF142+AG142)*VLOOKUP(DataByMiles!AE140,DataByMiles!$AT$5:$AU$6,2,FALSE)","v":0},0]
[null,{"$f":"DataByMiles!C141","v":"----137"},{"$f":"DataByMiles!T141*VLOOKUP(DataByMiles!AE141,DataByMiles!$AT$5:$AU$6,2,FALSE)","v":0},null,null,0,{"$f":"C143*$G$2*VLOOKUP(DataByMiles!AE141,DataByMiles!$AT$5:$AU$6,2,FALSE)","v":0},{"$f":"DataByMiles!U141*VLOOKUP(DataByMiles!AE141,DataByMiles!$AT$5:$AU$6,2,FALSE)","v":0},null,null,0,{"$f":"H143*$L$2*VLOOKUP(DataByMiles!AE141,DataByMiles!$AT$5:$AU$6,2,FALSE)","v":0},{"$f":"DataByMiles!V141*VLOOKUP(DataByMiles!AE141,DataByMiles!$AT$5:$AU$6,2,FALSE)","v":0},null,null,{"$f":"M143*$P$2*VLOOKUP(DataByMiles!AE141,DataByMiles!$AT$5:$AU$6,2,FALSE)","v":0},{"$f":"DataByMiles!W141*VLOOKUP(DataByMiles!AE141,DataByMiles!$AT$5:$AU$6,2,FALSE)","v":0},null,null,{"$f":"Q143*$T$2*VLOOKUP(DataByMiles!AE141,DataByMiles!$AT$5:$AU$6,2,FALSE)","v":0},{"$f":"DataByMiles!X141*VLOOKUP(DataByMiles!AE141,DataByMiles!$AT$5:$AU$6,2,FALSE)","v":0},null,null,{"$f":"U143*$X$2*VLOOKUP(DataByMiles!AE141,DataByMiles!$AT$5:$AU$6,2,FALSE)","v":0},{"$f":"DataByMiles!Y141*VLOOKUP(DataByMiles!AE141,DataByMiles!$AT$5:$AU$6,2,FALSE)","v":0},{"$f":"DataByMiles!Z141","v":0},{"$f":"DataByMiles!AA141","v":0},null,null,{"$f":"(Y143/IF(Z143=0,$AD$1,Z143)*$AD$2)/IF(AA143=0,1,AA143)*VLOOKUP(DataByMiles!AE141,DataByMiles!$AT$5:$AU$6,2,FALSE)","v":0},"",0,0,{"$f":"(AF143+AG143)*VLOOKUP(DataByMiles!AE141,DataByMiles!$AT$5:$AU$6,2,FALSE)","v":0},0]
[null,{"$f":"DataByMiles!C142","v":"----138"},{"$f":"DataByMiles!T142*VLOOKUP(DataByMiles!AE142,DataByMiles!$AT$5:$AU$6,2,FALSE)","v":0},null,null,0,{"$f":"C144*$G$2*VLOOKUP(DataByMiles!AE142,DataByMiles!$AT$5:$AU$6,2,FALSE)","v":0},{"$f":"DataByMiles!U142*VLOOKUP(DataByMiles!AE142,DataByMiles!$AT$5:$AU$6,2,FALSE)","v":0},null,null,0,{"$f":"H144*$L$2*VLOOKUP(DataByMiles!AE142,DataByMiles!$AT$5:$AU$6,2,FALSE)","v":0},{"$f":"DataByMiles!V142*VLOOKUP(DataByMiles!AE142,DataByMiles!$AT$5:$AU$6,2,FALSE)","v":0},null,null,{"$f":"M144*$P$2*VLOOKUP(DataByMiles!AE142,DataByMiles!$AT$5:$AU$6,2,FALSE)","v":0},{"$f":"DataByMiles!W142*VLOOKUP(DataByMiles!AE142,DataByMiles!$AT$5:$AU$6,2,FALSE)","v":0},null,null,{"$f":"Q144*$T$2*VLOOKUP(DataByMiles!AE142,DataByMiles!$AT$5:$AU$6,2,FALSE)","v":0},{"$f":"DataByMiles!X142*VLOOKUP(DataByMiles!AE142,DataByMiles!$AT$5:$AU$6,2,FALSE)","v":0},null,null,{"$f":"U144*$X$2*VLOOKUP(DataByMiles!AE142,DataByMiles!$AT$5:$AU$6,2,FALSE)","v":0},{"$f":"DataByMiles!Y142*VLOOKUP(DataByMiles!AE142,DataByMiles!$AT$5:$AU$6,2,FALSE)","v":0},{"$f":"DataByMiles!Z142","v":0},{"$f":"DataByMiles!AA142","v":0},null,null,{"$f":"(Y144/IF(Z144=0,$AD$1,Z144)*$AD$2)/IF(AA144=0,1,AA144)*VLOOKUP(DataByMiles!AE142,DataByMiles!$AT$5:$AU$6,2,FALSE)","v":0},"",0,0,{"$f":"(AF144+AG144)*VLOOKUP(DataByMiles!AE142,DataByMiles!$AT$5:$AU$6,2,FALSE)","v":0},0]
[null,{"$f":"DataByMiles!C143","v":"----139"},{"$f":"DataByMiles!T143*VLOOKUP(DataByMiles!AE143,DataByMiles!$AT$5:$AU$6,2,FALSE)","v":0},null,null,0,{"$f":"C145*$G$2*VLOOKUP(DataByMiles!AE143,DataByMiles!$AT$5:$AU$6,2,FALSE)","v":0},{"$f":"DataByMiles!U143*VLOOKUP(DataByMiles!AE143,DataByMiles!$AT$5:$AU$6,2,FALSE)","v":0},null,null,0,{"$f":"H145*$L$2*VLOOKUP(DataByMiles!AE143,DataByMiles!$AT$5:$AU$6,2,FALSE)","v":0},{"$f":"DataByMiles!V143*VLOOKUP(DataByMiles!AE143,DataByMiles!$AT$5:$AU$6,2,FALSE)","v":0},null,null,{"$f":"M145*$P$2*VLOOKUP(DataByMiles!AE143,DataByMiles!$AT$5:$AU$6,2,FALSE)","v":0},{"$f":"DataByMiles!W143*VLOOKUP(DataByMiles!AE143,DataByMiles!$AT$5:$AU$6,2,FALSE)","v":0},null,null,{"$f":"Q145*$T$2*VLOOKUP(DataByMiles!AE143,DataByMiles!$AT$5:$AU$6,2,FALSE)","v":0},{"$f":"DataByMiles!X143*VLOOKUP(DataByMiles!AE143,DataByMiles!$AT$5:$AU$6,2,FALSE)","v":0},null,null,{"$f":"U145*$X$2*VLOOKUP(DataByMiles!AE143,DataByMiles!$AT$5:$AU$6,2,FALSE)","v":0},{"$f":"DataByMiles!Y143*VLOOKUP(DataByMiles!AE143,DataByMiles!$AT$5:$AU$6,2,FALSE)","v":0},{"$f":"DataByMiles!Z143","v":0},{"$f":"DataByMiles!AA143","v":0},null,null,{"$f":"(Y145/IF(Z145=0,$AD$1,Z145)*$AD$2)/IF(AA145=0,1,AA145)*VLOOKUP(DataByMiles!AE143,DataByMiles!$AT$5:$AU$6,2,FALSE)","v":0},"",0,0,{"$f":"(AF145+AG145)*VLOOKUP(DataByMiles!AE143,DataByMiles!$AT$5:$AU$6,2,FALSE)","v":0},0]
[null,{"$f":"DataByMiles!C144","v":"----140"},{"$f":"DataByMiles!T144*VLOOKUP(DataByMiles!AE144,DataByMiles!$AT$5:$AU$6,2,FALSE)","v":0},null,null,0,{"$f":"C146*$G$2*VLOOKUP(DataByMiles!AE144,DataByMiles!$AT$5:$AU$6,2,FALSE)","v":0},{"$f":"DataByMiles!U144*VLOOKUP(DataByMiles!AE144,DataByMiles!$AT$5:$AU$6,2,FALSE)","v":0},null,null,0,{"$f":"H146*$L$2*VLOOKUP(DataByMiles!AE144,DataByMiles!$AT$5:$AU$6,2,FALSE)","v":0},{"$f":"DataByMiles!V144*VLOOKUP(DataByMiles!AE144,DataByMiles!$AT$5:$AU$6,2,FALSE)","v":0},null,null,{"$f":"M146*$P$2*VLOOKUP(DataByMiles!AE144,DataByMiles!$AT$5:$AU$6,2,FALSE)","v":0},{"$f":"DataByMiles!W144*VLOOKUP(DataByMiles!AE144,DataByMiles!$AT$5:$AU$6,2,FALSE)","v":0},null,null,{"$f":"Q146*$T$2*VLOOKUP(DataByMiles!AE144,DataByMiles!$AT$5:$AU$6,2,FALSE)","v":0},{"$f":"DataByMiles!X144*VLOOKUP(DataByMiles!AE144,DataByMiles!$AT$5:$AU$6,2,FALSE)","v":0},null,null,{"$f":"U146*$X$2*VLOOKUP(DataByMiles!AE144,DataByMiles!$AT$5:$AU$6,2,FALSE)","v":0},{"$f":"DataByMiles!Y144*VLOOKUP(DataByMiles!AE144,DataByMiles!$AT$5:$AU$6,2,FALSE)","v":0},{"$f":"DataByMiles!Z144","v":0},{"$f":"DataByMiles!AA144","v":0},null,null,{"$f":"(Y146/IF(Z146=0,$AD$1,Z146)*$AD$2)/IF(AA146=0,1,AA146)*VLOOKUP(DataByMiles!AE144,DataByMiles!$AT$5:$AU$6,2,FALSE)","v":0},"",0,0,{"$f":"(AF146+AG146)*VLOOKUP(DataByMiles!AE144,DataByMiles!$AT$5:$AU$6,2,FALSE)","v":0},0]
[null,{"$f":"DataByMiles!C145","v":"----141"},{"$f":"DataByMiles!T145*VLOOKUP(DataByMiles!AE145,DataByMiles!$AT$5:$AU$6,2,FALSE)","v":0},null,null,0,{"$f":"C147*$G$2*VLOOKUP(DataByMiles!AE145,DataByMiles!$AT$5:$AU$6,2,FALSE)","v":0},{"$f":"DataByMiles!U145*VLOOKUP(DataByMiles!AE145,DataByMiles!$AT$5:$AU$6,2,FALSE)","v":0},null,null,0,{"$f":"H147*$L$2*VLOOKUP(DataByMiles!AE145,DataByMiles!$AT$5:$AU$6,2,FALSE)","v":0},{"$f":"DataByMiles!V145*VLOOKUP(DataByMiles!AE145,DataByMiles!$AT$5:$AU$6,2,FALSE)","v":0},null,null,{"$f":"M147*$P$2*VLOOKUP(DataByMiles!AE145,DataByMiles!$AT$5:$AU$6,2,FALSE)","v":0},{"$f":"DataByMiles!W145*VLOOKUP(DataByMiles!AE145,DataByMiles!$AT$5:$AU$6,2,FALSE)","v":0},null,null,{"$f":"Q147*$T$2*VLOOKUP(DataByMiles!AE145,DataByMiles!$AT$5:$AU$6,2,FALSE)","v":0},{"$f":"DataByMiles!X145*VLOOKUP(DataByMiles!AE145,DataByMiles!$AT$5:$AU$6,2,FALSE)","v":0},null,null,{"$f":"U147*$X$2*VLOOKUP(DataByMiles!AE145,DataByMiles!$AT$5:$AU$6,2,FALSE)","v":0},{"$f":"DataByMiles!Y145*VLOOKUP(DataByMiles!AE145,DataByMiles!$AT$5:$AU$6,2,FALSE)","v":0},{"$f":"DataByMiles!Z145","v":0},{"$f":"DataByMiles!AA145","v":0},null,null,{"$f":"(Y147/IF(Z147=0,$AD$1,Z147)*$AD$2)/IF(AA147=0,1,AA147)*VLOOKUP(DataByMiles!AE145,DataByMiles!$AT$5:$AU$6,2,FALSE)","v":0},"",0,0,{"$f":"(AF147+AG147)*VLOOKUP(DataByMiles!AE145,DataByMiles!$AT$5:$AU$6,2,FALSE)","v":0},0]
[null,{"$f":"DataByMiles!C146","v":"----142"},{"$f":"DataByMiles!T146*VLOOKUP(DataByMiles!AE146,DataByMiles!$AT$5:$AU$6,2,FALSE)","v":0},null,null,0,{"$f":"C148*$G$2*VLOOKUP(DataByMiles!AE146,DataByMiles!$AT$5:$AU$6,2,FALSE)","v":0},{"$f":"DataByMiles!U146*VLOOKUP(DataByMiles!AE146,DataByMiles!$AT$5:$AU$6,2,FALSE)","v":0},null,null,0,{"$f":"H148*$L$2*VLOOKUP(DataByMiles!AE146,DataByMiles!$AT$5:$AU$6,2,FALSE)","v":0},{"$f":"DataByMiles!V146*VLOOKUP(DataByMiles!AE146,DataByMiles!$AT$5:$AU$6,2,FALSE)","v":0},null,null,{"$f":"M148*$P$2*VLOOKUP(DataByMiles!AE146,DataByMiles!$AT$5:$AU$6,2,FALSE)","v":0},{"$f":"DataByMiles!W146*VLOOKUP(DataByMiles!AE146,DataByMiles!$AT$5:$AU$6,2,FALSE)","v":0},null,null,{"$f":"Q148*$T$2*VLOOKUP(DataByMiles!AE146,DataByMiles!$AT$5:$AU$6,2,FALSE)","v":0},{"$f":"DataByMiles!X146*VLOOKUP(DataByMiles!AE146,DataByMiles!$AT$5:$AU$6,2,FALSE)","v":0},null,null,{"$f":"U148*$X$2*VLOOKUP(DataByMiles!AE146,DataByMiles!$AT$5:$AU$6,2,FALSE)","v":0},{"$f":"DataByMiles!Y146*VLOOKUP(DataByMiles!AE146,DataByMiles!$AT$5:$AU$6,2,FALSE)","v":0},{"$f":"DataByMiles!Z146","v":0},{"$f":"DataByMiles!AA146","v":0},null,null,{"$f":"(Y148/IF(Z148=0,$AD$1,Z148)*$AD$2)/IF(AA148=0,1,AA148)*VLOOKUP(DataByMiles!AE146,DataByMiles!$AT$5:$AU$6,2,FALSE)","v":0},"",0,0,{"$f":"(AF148+AG148)*VLOOKUP(DataByMiles!AE146,DataByMiles!$AT$5:$AU$6,2,FALSE)","v":0},0]
[null,{"$f":"DataByMiles!C147","v":"----143"},{"$f":"DataByMiles!T147*VLOOKUP(DataByMiles!AE147,DataByMiles!$AT$5:$AU$6,2,FALSE)","v":0},null,null,0,{"$f":"C149*$G$2*VLOOKUP(DataByMiles!AE147,DataByMiles!$AT$5:$AU$6,2,FALSE)","v":0},{"$f":"DataByMiles!U147*VLOOKUP(DataByMiles!AE147,DataByMiles!$AT$5:$AU$6,2,FALSE)","v":0},null,null,0,{"$f":"H149*$L$2*VLOOKUP(DataByMiles!AE147,DataByMiles!$AT$5:$AU$6,2,FALSE)","v":0},{"$f":"DataByMiles!V147*VLOOKUP(DataByMiles!AE147,DataByMiles!$AT$5:$AU$6,2,FALSE)","v":0},null,null,{"$f":"M149*$P$2*VLOOKUP(DataByMiles!AE147,DataByMiles!$AT$5:$AU$6,2,FALSE)","v":0},{"$f":"DataByMiles!W147*VLOOKUP(DataByMiles!AE147,DataByMiles!$AT$5:$AU$6,2,FALSE)","v":0},null,null,{"$f":"Q149*$T$2*VLOOKUP(DataByMiles!AE147,DataByMiles!$AT$5:$AU$6,2,FALSE)","v":0},{"$f":"DataByMiles!X147*VLOOKUP(DataByMiles!AE147,DataByMiles!$AT$5:$AU$6,2,FALSE)","v":0},null,null,{"$f":"U149*$X$2*VLOOKUP(DataByMiles!AE147,DataByMiles!$AT$5:$AU$6,2,FALSE)","v":0},{"$f":"DataByMiles!Y147*VLOOKUP(DataByMiles!AE147,DataByMiles!$AT$5:$AU$6,2,FALSE)","v":0},{"$f":"DataByMiles!Z147","v":0},{"$f":"DataByMiles!AA147","v":0},null,null,{"$f":"(Y149/IF(Z149=0,$AD$1,Z149)*$AD$2)/IF(AA149=0,1,AA149)*VLOOKUP(DataByMiles!AE147,DataByMiles!$AT$5:$AU$6,2,FALSE)","v":0},"",0,0,{"$f":"(AF149+AG149)*VLOOKUP(DataByMiles!AE147,DataByMiles!$AT$5:$AU$6,2,FALSE)","v":0},0]
[null,{"$f":"DataByMiles!C148","v":"----144"},{"$f":"DataByMiles!T148*VLOOKUP(DataByMiles!AE148,DataByMiles!$AT$5:$AU$6,2,FALSE)","v":0},null,null,0,{"$f":"C150*$G$2*VLOOKUP(DataByMiles!AE148,DataByMiles!$AT$5:$AU$6,2,FALSE)","v":0},{"$f":"DataByMiles!U148*VLOOKUP(DataByMiles!AE148,DataByMiles!$AT$5:$AU$6,2,FALSE)","v":0},null,null,0,{"$f":"H150*$L$2*VLOOKUP(DataByMiles!AE148,DataByMiles!$AT$5:$AU$6,2,FALSE)","v":0},{"$f":"DataByMiles!V148*VLOOKUP(DataByMiles!AE148,DataByMiles!$AT$5:$AU$6,2,FALSE)","v":0},null,null,{"$f":"M150*$P$2*VLOOKUP(DataByMiles!AE148,DataByMiles!$AT$5:$AU$6,2,FALSE)","v":0},{"$f":"DataByMiles!W148*VLOOKUP(DataByMiles!AE148,DataByMiles!$AT$5:$AU$6,2,FALSE)","v":0},null,null,{"$f":"Q150*$T$2*VLOOKUP(DataByMiles!AE148,DataByMiles!$AT$5:$AU$6,2,FALSE)","v":0},{"$f":"DataByMiles!X148*VLOOKUP(DataByMiles!AE148,DataByMiles!$AT$5:$AU$6,2,FALSE)","v":0},null,null,{"$f":"U150*$X$2*VLOOKUP(DataByMiles!AE148,DataByMiles!$AT$5:$AU$6,2,FALSE)","v":0},{"$f":"DataByMiles!Y148*VLOOKUP(DataByMiles!AE148,DataByMiles!$AT$5:$AU$6,2,FALSE)","v":0},{"$f":"DataByMiles!Z148","v":0},{"$f":"DataByMiles!AA148","v":0},null,null,{"$f":"(Y150/IF(Z150=0,$AD$1,Z150)*$AD$2)/IF(AA150=0,1,AA150)*VLOOKUP(DataByMiles!AE148,DataByMiles!$AT$5:$AU$6,2,FALSE)","v":0},"",0,0,{"$f":"(AF150+AG150)*VLOOKUP(DataByMiles!AE148,DataByMiles!$AT$5:$AU$6,2,FALSE)","v":0},0]
[null,{"$f":"DataByMiles!C149","v":"----145"},{"$f":"DataByMiles!T149*VLOOKUP(DataByMiles!AE149,DataByMiles!$AT$5:$AU$6,2,FALSE)","v":0},null,null,0,{"$f":"C151*$G$2*VLOOKUP(DataByMiles!AE149,DataByMiles!$AT$5:$AU$6,2,FALSE)","v":0},{"$f":"DataByMiles!U149*VLOOKUP(DataByMiles!AE149,DataByMiles!$AT$5:$AU$6,2,FALSE)","v":0},null,null,0,{"$f":"H151*$L$2*VLOOKUP(DataByMiles!AE149,DataByMiles!$AT$5:$AU$6,2,FALSE)","v":0},{"$f":"DataByMiles!V149*VLOOKUP(DataByMiles!AE149,DataByMiles!$AT$5:$AU$6,2,FALSE)","v":0},null,null,{"$f":"M151*$P$2*VLOOKUP(DataByMiles!AE149,DataByMiles!$AT$5:$AU$6,2,FALSE)","v":0},{"$f":"DataByMiles!W149*VLOOKUP(DataByMiles!AE149,DataByMiles!$AT$5:$AU$6,2,FALSE)","v":0},null,null,{"$f":"Q151*$T$2*VLOOKUP(DataByMiles!AE149,DataByMiles!$AT$5:$AU$6,2,FALSE)","v":0},{"$f":"DataByMiles!X149*VLOOKUP(DataByMiles!AE149,DataByMiles!$AT$5:$AU$6,2,FALSE)","v":0},null,null,{"$f":"U151*$X$2*VLOOKUP(DataByMiles!AE149,DataByMiles!$AT$5:$AU$6,2,FALSE)","v":0},{"$f":"DataByMiles!Y149*VLOOKUP(DataByMiles!AE149,DataByMiles!$AT$5:$AU$6,2,FALSE)","v":0},{"$f":"DataByMiles!Z149","v":0},{"$f":"DataByMiles!AA149","v":0},null,null,{"$f":"(Y151/IF(Z151=0,$AD$1,Z151)*$AD$2)/IF(AA151=0,1,AA151)*VLOOKUP(DataByMiles!AE149,DataByMiles!$AT$5:$AU$6,2,FALSE)","v":0},"",0,0,{"$f":"(AF151+AG151)*VLOOKUP(DataByMiles!AE149,DataByMiles!$AT$5:$AU$6,2,FALSE)","v":0},0]
[null,{"$f":"DataByMiles!C150","v":"----146"},{"$f":"DataByMiles!T150*VLOOKUP(DataByMiles!AE150,DataByMiles!$AT$5:$AU$6,2,FALSE)","v":0},null,null,0,{"$f":"C152*$G$2*VLOOKUP(DataByMiles!AE150,DataByMiles!$AT$5:$AU$6,2,FALSE)","v":0},{"$f":"DataByMiles!U150*VLOOKUP(DataByMiles!AE150,DataByMiles!$AT$5:$AU$6,2,FALSE)","v":0},null,null,0,{"$f":"H152*$L$2*VLOOKUP(DataByMiles!AE150,DataByMiles!$AT$5:$AU$6,2,FALSE)","v":0},{"$f":"DataByMiles!V150*VLOOKUP(DataByMiles!AE150,DataByMiles!$AT$5:$AU$6,2,FALSE)","v":0},null,null,{"$f":"M152*$P$2*VLOOKUP(DataByMiles!AE150,DataByMiles!$AT$5:$AU$6,2,FALSE)","v":0},{"$f":"DataByMiles!W150*VLOOKUP(DataByMiles!AE150,DataByMiles!$AT$5:$AU$6,2,FALSE)","v":0},null,null,{"$f":"Q152*$T$2*VLOOKUP(DataByMiles!AE150,DataByMiles!$AT$5:$AU$6,2,FALSE)","v":0},{"$f":"DataByMiles!X150*VLOOKUP(DataByMiles!AE150,DataByMiles!$AT$5:$AU$6,2,FALSE)","v":0},null,null,{"$f":"U152*$X$2*VLOOKUP(DataByMiles!AE150,DataByMiles!$AT$5:$AU$6,2,FALSE)","v":0},{"$f":"DataByMiles!Y150*VLOOKUP(DataByMiles!AE150,DataByMiles!$AT$5:$AU$6,2,FALSE)","v":0},{"$f":"DataByMiles!Z150","v":0},{"$f":"DataByMiles!AA150","v":0},null,null,{"$f":"(Y152/IF(Z152=0,$AD$1,Z152)*$AD$2)/IF(AA152=0,1,AA152)*VLOOKUP(DataByMiles!AE150,DataByMiles!$AT$5:$AU$6,2,FALSE)","v":0},"",0,0,{"$f":"(AF152+AG152)*VLOOKUP(DataByMiles!AE150,DataByMiles!$AT$5:$AU$6,2,FALSE)","v":0},0]
[null,{"$f":"DataByMiles!C151","v":"----147"},{"$f":"DataByMiles!T151*VLOOKUP(DataByMiles!AE151,DataByMiles!$AT$5:$AU$6,2,FALSE)","v":0},null,null,0,{"$f":"C153*$G$2*VLOOKUP(DataByMiles!AE151,DataByMiles!$AT$5:$AU$6,2,FALSE)","v":0},{"$f":"DataByMiles!U151*VLOOKUP(DataByMiles!AE151,DataByMiles!$AT$5:$AU$6,2,FALSE)","v":0},null,null,0,{"$f":"H153*$L$2*VLOOKUP(DataByMiles!AE151,DataByMiles!$AT$5:$AU$6,2,FALSE)","v":0},{"$f":"DataByMiles!V151*VLOOKUP(DataByMiles!AE151,DataByMiles!$AT$5:$AU$6,2,FALSE)","v":0},null,null,{"$f":"M153*$P$2*VLOOKUP(DataByMiles!AE151,DataByMiles!$AT$5:$AU$6,2,FALSE)","v":0},{"$f":"DataByMiles!W151*VLOOKUP(DataByMiles!AE151,DataByMiles!$AT$5:$AU$6,2,FALSE)","v":0},null,null,{"$f":"Q153*$T$2*VLOOKUP(DataByMiles!AE151,DataByMiles!$AT$5:$AU$6,2,FALSE)","v":0},{"$f":"DataByMiles!X151*VLOOKUP(DataByMiles!AE151,DataByMiles!$AT$5:$AU$6,2,FALSE)","v":0},null,null,{"$f":"U153*$X$2*VLOOKUP(DataByMiles!AE151,DataByMiles!$AT$5:$AU$6,2,FALSE)","v":0},{"$f":"DataByMiles!Y151*VLOOKUP(DataByMiles!AE151,DataByMiles!$AT$5:$AU$6,2,FALSE)","v":0},{"$f":"DataByMiles!Z151","v":0},{"$f":"DataByMiles!AA151","v":0},null,null,{"$f":"(Y153/IF(Z153=0,$AD$1,Z153)*$AD$2)/IF(AA153=0,1,AA153)*VLOOKUP(DataByMiles!AE151,DataByMiles!$AT$5:$AU$6,2,FALSE)","v":0},"",0,0,{"$f":"(AF153+AG153)*VLOOKUP(DataByMiles!AE151,DataByMiles!$AT$5:$AU$6,2,FALSE)","v":0},0]
[null,{"$f":"DataByMiles!C152","v":"----148"},{"$f":"DataByMiles!T152*VLOOKUP(DataByMiles!AE152,DataByMiles!$AT$5:$AU$6,2,FALSE)","v":0},null,null,0,{"$f":"C154*$G$2*VLOOKUP(DataByMiles!AE152,DataByMiles!$AT$5:$AU$6,2,FALSE)","v":0},{"$f":"DataByMiles!U152*VLOOKUP(DataByMiles!AE152,DataByMiles!$AT$5:$AU$6,2,FALSE)","v":0},null,null,0,{"$f":"H154*$L$2*VLOOKUP(DataByMiles!AE152,DataByMiles!$AT$5:$AU$6,2,FALSE)","v":0},{"$f":"DataByMiles!V152*VLOOKUP(DataByMiles!AE152,DataByMiles!$AT$5:$AU$6,2,FALSE)","v":0},null,null,{"$f":"M154*$P$2*VLOOKUP(DataByMiles!AE152,DataByMiles!$AT$5:$AU$6,2,FALSE)","v":0},{"$f":"DataByMiles!W152*VLOOKUP(DataByMiles!AE152,DataByMiles!$AT$5:$AU$6,2,FALSE)","v":0},null,null,{"$f":"Q154*$T$2*VLOOKUP(DataByMiles!AE152,DataByMiles!$AT$5:$AU$6,2,FALSE)","v":0},{"$f":"DataByMiles!X152*VLOOKUP(DataByMiles!AE152,DataByMiles!$AT$5:$AU$6,2,FALSE)","v":0},null,null,{"$f":"U154*$X$2*VLOOKUP(DataByMiles!AE152,DataByMiles!$AT$5:$AU$6,2,FALSE)","v":0},{"$f":"DataByMiles!Y152*VLOOKUP(DataByMiles!AE152,DataByMiles!$AT$5:$AU$6,2,FALSE)","v":0},{"$f":"DataByMiles!Z152","v":0},{"$f":"DataByMiles!AA152","v":0},null,null,{"$f":"(Y154/IF(Z154=0,$AD$1,Z154)*$AD$2)/IF(AA154=0,1,AA154)*VLOOKUP(DataByMiles!AE152,DataByMiles!$AT$5:$AU$6,2,FALSE)","v":0},"",0,0,{"$f":"(AF154+AG154)*VLOOKUP(DataByMiles!AE152,DataByMiles!$AT$5:$AU$6,2,FALSE)","v":0},0]
[null,{"$f":"DataByMiles!C153","v":"----149"},{"$f":"DataByMiles!T153*VLOOKUP(DataByMiles!AE153,DataByMiles!$AT$5:$AU$6,2,FALSE)","v":0},null,null,0,{"$f":"C155*$G$2*VLOOKUP(DataByMiles!AE153,DataByMiles!$AT$5:$AU$6,2,FALSE)","v":0},{"$f":"DataByMiles!U153*VLOOKUP(DataByMiles!AE153,DataByMiles!$AT$5:$AU$6,2,FALSE)","v":0},null,null,0,{"$f":"H155*$L$2*VLOOKUP(DataByMiles!AE153,DataByMiles!$AT$5:$AU$6,2,FALSE)","v":0},{"$f":"DataByMiles!V153*VLOOKUP(DataByMiles!AE153,DataByMiles!$AT$5:$AU$6,2,FALSE)","v":0},null,null,{"$f":"M155*$P$2*VLOOKUP(DataByMiles!AE153,DataByMiles!$AT$5:$AU$6,2,FALSE)","v":0},{"$f":"DataByMiles!W153*VLOOKUP(DataByMiles!AE153,DataByMiles!$AT$5:$AU$6,2,FALSE)","v":0},null,null,{"$f":"Q155*$T$2*VLOOKUP(DataByMiles!AE153,DataByMiles!$AT$5:$AU$6,2,FALSE)","v":0},{"$f":"DataByMiles!X153*VLOOKUP(DataByMiles!AE153,DataByMiles!$AT$5:$AU$6,2,FALSE)","v":0},null,null,{"$f":"U155*$X$2*VLOOKUP(DataByMiles!AE153,DataByMiles!$AT$5:$AU$6,2,FALSE)","v":0},{"$f":"DataByMiles!Y153*VLOOKUP(DataByMiles!AE153,DataByMiles!$AT$5:$AU$6,2,FALSE)","v":0},{"$f":"DataByMiles!Z153","v":0},{"$f":"DataByMiles!AA153","v":0},null,null,{"$f":"(Y155/IF(Z155=0,$AD$1,Z155)*$AD$2)/IF(AA155=0,1,AA155)*VLOOKUP(DataByMiles!AE153,DataByMiles!$AT$5:$AU$6,2,FALSE)","v":0},"",0,0,{"$f":"(AF155+AG155)*VLOOKUP(DataByMiles!AE153,DataByMiles!$AT$5:$AU$6,2,FALSE)","v":0},0]
[null,{"$f":"DataByMiles!C154","v":"----150"},{"$f":"DataByMiles!T154*VLOOKUP(DataByMiles!AE154,DataByMiles!$AT$5:$AU$6,2,FALSE)","v":0},null,null,0,{"$f":"C156*$G$2*VLOOKUP(DataByMiles!AE154,DataByMiles!$AT$5:$AU$6,2,FALSE)","v":0},{"$f":"DataByMiles!U154*VLOOKUP(DataByMiles!AE154,DataByMiles!$AT$5:$AU$6,2,FALSE)","v":0},null,null,0,{"$f":"H156*$L$2*VLOOKUP(DataByMiles!AE154,DataByMiles!$AT$5:$AU$6,2,FALSE)","v":0},{"$f":"DataByMiles!V154*VLOOKUP(DataByMiles!AE154,DataByMiles!$AT$5:$AU$6,2,FALSE)","v":0},null,null,{"$f":"M156*$P$2*VLOOKUP(DataByMiles!AE154,DataByMiles!$AT$5:$AU$6,2,FALSE)","v":0},{"$f":"DataByMiles!W154*VLOOKUP(DataByMiles!AE154,DataByMiles!$AT$5:$AU$6,2,FALSE)","v":0},null,null,{"$f":"Q156*$T$2*VLOOKUP(DataByMiles!AE154,DataByMiles!$AT$5:$AU$6,2,FALSE)","v":0},{"$f":"DataByMiles!X154*VLOOKUP(DataByMiles!AE154,DataByMiles!$AT$5:$AU$6,2,FALSE)","v":0},null,null,{"$f":"U156*$X$2*VLOOKUP(DataByMiles!AE154,DataByMiles!$AT$5:$AU$6,2,FALSE)","v":0},{"$f":"DataByMiles!Y154*VLOOKUP(DataByMiles!AE154,DataByMiles!$AT$5:$AU$6,2,FALSE)","v":0},{"$f":"DataByMiles!Z154","v":0},{"$f":"DataByMiles!AA154","v":0},null,null,{"$f":"(Y156/IF(Z156=0,$AD$1,Z156)*$AD$2)/IF(AA156=0,1,AA156)*VLOOKUP(DataByMiles!AE154,DataByMiles!$AT$5:$AU$6,2,FALSE)","v":0},"",0,0,{"$f":"(AF156+AG156)*VLOOKUP(DataByMiles!AE154,DataByMiles!$AT$5:$AU$6,2,FALSE)","v":0},0]
[null,{"$f":"DataByMiles!C155","v":"----151"},{"$f":"DataByMiles!T155*VLOOKUP(DataByMiles!AE155,DataByMiles!$AT$5:$AU$6,2,FALSE)","v":0},null,null,0,{"$f":"C157*$G$2*VLOOKUP(DataByMiles!AE155,DataByMiles!$AT$5:$AU$6,2,FALSE)","v":0},{"$f":"DataByMiles!U155*VLOOKUP(DataByMiles!AE155,DataByMiles!$AT$5:$AU$6,2,FALSE)","v":0},null,null,0,{"$f":"H157*$L$2*VLOOKUP(DataByMiles!AE155,DataByMiles!$AT$5:$AU$6,2,FALSE)","v":0},{"$f":"DataByMiles!V155*VLOOKUP(DataByMiles!AE155,DataByMiles!$AT$5:$AU$6,2,FALSE)","v":0},null,null,{"$f":"M157*$P$2*VLOOKUP(DataByMiles!AE155,DataByMiles!$AT$5:$AU$6,2,FALSE)","v":0},{"$f":"DataByMiles!W155*VLOOKUP(DataByMiles!AE155,DataByMiles!$AT$5:$AU$6,2,FALSE)","v":0},null,null,{"$f":"Q157*$T$2*VLOOKUP(DataByMiles!AE155,DataByMiles!$AT$5:$AU$6,2,FALSE)","v":0},{"$f":"DataByMiles!X155*VLOOKUP(DataByMiles!AE155,DataByMiles!$AT$5:$AU$6,2,FALSE)","v":0},null,null,{"$f":"U157*$X$2*VLOOKUP(DataByMiles!AE155,DataByMiles!$AT$5:$AU$6,2,FALSE)","v":0},{"$f":"DataByMiles!Y155*VLOOKUP(DataByMiles!AE155,DataByMiles!$AT$5:$AU$6,2,FALSE)","v":0},{"$f":"DataByMiles!Z155","v":0},{"$f":"DataByMiles!AA155","v":0},null,null,{"$f":"(Y157/IF(Z157=0,$AD$1,Z157)*$AD$2)/IF(AA157=0,1,AA157)*VLOOKUP(DataByMiles!AE155,DataByMiles!$AT$5:$AU$6,2,FALSE)","v":0},"",0,0,{"$f":"(AF157+AG157)*VLOOKUP(DataByMiles!AE155,DataByMiles!$AT$5:$AU$6,2,FALSE)","v":0},0]
[null,{"$f":"DataByMiles!C156","v":"----152"},{"$f":"DataByMiles!T156*VLOOKUP(DataByMiles!AE156,DataByMiles!$AT$5:$AU$6,2,FALSE)","v":0},null,null,0,{"$f":"C158*$G$2*VLOOKUP(DataByMiles!AE156,DataByMiles!$AT$5:$AU$6,2,FALSE)","v":0},{"$f":"DataByMiles!U156*VLOOKUP(DataByMiles!AE156,DataByMiles!$AT$5:$AU$6,2,FALSE)","v":0},null,null,0,{"$f":"H158*$L$2*VLOOKUP(DataByMiles!AE156,DataByMiles!$AT$5:$AU$6,2,FALSE)","v":0},{"$f":"DataByMiles!V156*VLOOKUP(DataByMiles!AE156,DataByMiles!$AT$5:$AU$6,2,FALSE)","v":0},null,null,{"$f":"M158*$P$2*VLOOKUP(DataByMiles!AE156,DataByMiles!$AT$5:$AU$6,2,FALSE)","v":0},{"$f":"DataByMiles!W156*VLOOKUP(DataByMiles!AE156,DataByMiles!$AT$5:$AU$6,2,FALSE)","v":0},null,null,{"$f":"Q158*$T$2*VLOOKUP(DataByMiles!AE156,DataByMiles!$AT$5:$AU$6,2,FALSE)","v":0},{"$f":"DataByMiles!X156*VLOOKUP(DataByMiles!AE156,DataByMiles!$AT$5:$AU$6,2,FALSE)","v":0},null,null,{"$f":"U158*$X$2*VLOOKUP(DataByMiles!AE156,DataByMiles!$AT$5:$AU$6,2,FALSE)","v":0},{"$f":"DataByMiles!Y156*VLOOKUP(DataByMiles!AE156,DataByMiles!$AT$5:$AU$6,2,FALSE)","v":0},{"$f":"DataByMiles!Z156","v":0},{"$f":"DataByMiles!AA156","v":0},null,null,{"$f":"(Y158/IF(Z158=0,$AD$1,Z158)*$AD$2)/IF(AA158=0,1,AA158)*VLOOKUP(DataByMiles!AE156,DataByMiles!$AT$5:$AU$6,2,FALSE)","v":0},"",0,0,{"$f":"(AF158+AG158)*VLOOKUP(DataByMiles!AE156,DataByMiles!$AT$5:$AU$6,2,FALSE)","v":0},0]
[null,{"$f":"DataByMiles!C157","v":"----153"},{"$f":"DataByMiles!T157*VLOOKUP(DataByMiles!AE157,DataByMiles!$AT$5:$AU$6,2,FALSE)","v":0},null,null,0,{"$f":"C159*$G$2*VLOOKUP(DataByMiles!AE157,DataByMiles!$AT$5:$AU$6,2,FALSE)","v":0},{"$f":"DataByMiles!U157*VLOOKUP(DataByMiles!AE157,DataByMiles!$AT$5:$AU$6,2,FALSE)","v":0},null,null,0,{"$f":"H159*$L$2*VLOOKUP(DataByMiles!AE157,DataByMiles!$AT$5:$AU$6,2,FALSE)","v":0},{"$f":"DataByMiles!V157*VLOOKUP(DataByMiles!AE157,DataByMiles!$AT$5:$AU$6,2,FALSE)","v":0},null,null,{"$f":"M159*$P$2*VLOOKUP(DataByMiles!AE157,DataByMiles!$AT$5:$AU$6,2,FALSE)","v":0},{"$f":"DataByMiles!W157*VLOOKUP(DataByMiles!AE157,DataByMiles!$AT$5:$AU$6,2,FALSE)","v":0},null,null,{"$f":"Q159*$T$2*VLOOKUP(DataByMiles!AE157,DataByMiles!$AT$5:$AU$6,2,FALSE)","v":0},{"$f":"DataByMiles!X157*VLOOKUP(DataByMiles!AE157,DataByMiles!$AT$5:$AU$6,2,FALSE)","v":0},null,null,{"$f":"U159*$X$2*VLOOKUP(DataByMiles!AE157,DataByMiles!$AT$5:$AU$6,2,FALSE)","v":0},{"$f":"DataByMiles!Y157*VLOOKUP(DataByMiles!AE157,DataByMiles!$AT$5:$AU$6,2,FALSE)","v":0},{"$f":"DataByMiles!Z157","v":0},{"$f":"DataByMiles!AA157","v":0},null,null,{"$f":"(Y159/IF(Z159=0,$AD$1,Z159)*$AD$2)/IF(AA159=0,1,AA159)*VLOOKUP(DataByMiles!AE157,DataByMiles!$AT$5:$AU$6,2,FALSE)","v":0},"",0,0,{"$f":"(AF159+AG159)*VLOOKUP(DataByMiles!AE157,DataByMiles!$AT$5:$AU$6,2,FALSE)","v":0},0]
[null,{"$f":"DataByMiles!C158","v":"----154"},{"$f":"DataByMiles!T158*VLOOKUP(DataByMiles!AE158,DataByMiles!$AT$5:$AU$6,2,FALSE)","v":0},null,null,0,{"$f":"C160*$G$2*VLOOKUP(DataByMiles!AE158,DataByMiles!$AT$5:$AU$6,2,FALSE)","v":0},{"$f":"DataByMiles!U158*VLOOKUP(DataByMiles!AE158,DataByMiles!$AT$5:$AU$6,2,FALSE)","v":0},null,null,0,{"$f":"H160*$L$2*VLOOKUP(DataByMiles!AE158,DataByMiles!$AT$5:$AU$6,2,FALSE)","v":0},{"$f":"DataByMiles!V158*VLOOKUP(DataByMiles!AE158,DataByMiles!$AT$5:$AU$6,2,FALSE)","v":0},null,null,{"$f":"M160*$P$2*VLOOKUP(DataByMiles!AE158,DataByMiles!$AT$5:$AU$6,2,FALSE)","v":0},{"$f":"DataByMiles!W158*VLOOKUP(DataByMiles!AE158,DataByMiles!$AT$5:$AU$6,2,FALSE)","v":0},null,null,{"$f":"Q160*$T$2*VLOOKUP(DataByMiles!AE158,DataByMiles!$AT$5:$AU$6,2,FALSE)","v":0},{"$f":"DataByMiles!X158*VLOOKUP(DataByMiles!AE158,DataByMiles!$AT$5:$AU$6,2,FALSE)","v":0},null,null,{"$f":"U160*$X$2*VLOOKUP(DataByMiles!AE158,DataByMiles!$AT$5:$AU$6,2,FALSE)","v":0},{"$f":"DataByMiles!Y158*VLOOKUP(DataByMiles!AE158,DataByMiles!$AT$5:$AU$6,2,FALSE)","v":0},{"$f":"DataByMiles!Z158","v":0},{"$f":"DataByMiles!AA158","v":0},null,null,{"$f":"(Y160/IF(Z160=0,$AD$1,Z160)*$AD$2)/IF(AA160=0,1,AA160)*VLOOKUP(DataByMiles!AE158,DataByMiles!$AT$5:$AU$6,2,FALSE)","v":0},"",0,0,{"$f":"(AF160+AG160)*VLOOKUP(DataByMiles!AE158,DataByMiles!$AT$5:$AU$6,2,FALSE)","v":0},0]
[null,{"$f":"DataByMiles!C159","v":"----155"},{"$f":"DataByMiles!T159*VLOOKUP(DataByMiles!AE159,DataByMiles!$AT$5:$AU$6,2,FALSE)","v":0},null,null,0,{"$f":"C161*$G$2*VLOOKUP(DataByMiles!AE159,DataByMiles!$AT$5:$AU$6,2,FALSE)","v":0},{"$f":"DataByMiles!U159*VLOOKUP(DataByMiles!AE159,DataByMiles!$AT$5:$AU$6,2,FALSE)","v":0},null,null,0,{"$f":"H161*$L$2*VLOOKUP(DataByMiles!AE159,DataByMiles!$AT$5:$AU$6,2,FALSE)","v":0},{"$f":"DataByMiles!V159*VLOOKUP(DataByMiles!AE159,DataByMiles!$AT$5:$AU$6,2,FALSE)","v":0},null,null,{"$f":"M161*$P$2*VLOOKUP(DataByMiles!AE159,DataByMiles!$AT$5:$AU$6,2,FALSE)","v":0},{"$f":"DataByMiles!W159*VLOOKUP(DataByMiles!AE159,DataByMiles!$AT$5:$AU$6,2,FALSE)","v":0},null,null,{"$f":"Q161*$T$2*VLOOKUP(DataByMiles!AE159,DataByMiles!$AT$5:$AU$6,2,FALSE)","v":0},{"$f":"DataByMiles!X159*VLOOKUP(DataByMiles!AE159,DataByMiles!$AT$5:$AU$6,2,FALSE)","v":0},null,null,{"$f":"U161*$X$2*VLOOKUP(DataByMiles!AE159,DataByMiles!$AT$5:$AU$6,2,FALSE)","v":0},{"$f":"DataByMiles!Y159*VLOOKUP(DataByMiles!AE159,DataByMiles!$AT$5:$AU$6,2,FALSE)","v":0},{"$f":"DataByMiles!Z159","v":0},{"$f":"DataByMiles!AA159","v":0},null,null,{"$f":"(Y161/IF(Z161=0,$AD$1,Z161)*$AD$2)/IF(AA161=0,1,AA161)*VLOOKUP(DataByMiles!AE159,DataByMiles!$AT$5:$AU$6,2,FALSE)","v":0},"",0,0,{"$f":"(AF161+AG161)*VLOOKUP(DataByMiles!AE159,DataByMiles!$AT$5:$AU$6,2,FALSE)","v":0},0]
[null,{"$f":"DataByMiles!C160","v":"----156"},{"$f":"DataByMiles!T160*VLOOKUP(DataByMiles!AE160,DataByMiles!$AT$5:$AU$6,2,FALSE)","v":0},null,null,0,{"$f":"C162*$G$2*VLOOKUP(DataByMiles!AE160,DataByMiles!$AT$5:$AU$6,2,FALSE)","v":0},{"$f":"DataByMiles!U160*VLOOKUP(DataByMiles!AE160,DataByMiles!$AT$5:$AU$6,2,FALSE)","v":0},null,null,0,{"$f":"H162*$L$2*VLOOKUP(DataByMiles!AE160,DataByMiles!$AT$5:$AU$6,2,FALSE)","v":0},{"$f":"DataByMiles!V160*VLOOKUP(DataByMiles!AE160,DataByMiles!$AT$5:$AU$6,2,FALSE)","v":0},null,null,{"$f":"M162*$P$2*VLOOKUP(DataByMiles!AE160,DataByMiles!$AT$5:$AU$6,2,FALSE)","v":0},{"$f":"DataByMiles!W160*VLOOKUP(DataByMiles!AE160,DataByMiles!$AT$5:$AU$6,2,FALSE)","v":0},null,null,{"$f":"Q162*$T$2*VLOOKUP(DataByMiles!AE160,DataByMiles!$AT$5:$AU$6,2,FALSE)","v":0},{"$f":"DataByMiles!X160*VLOOKUP(DataByMiles!AE160,DataByMiles!$AT$5:$AU$6,2,FALSE)","v":0},null,null,{"$f":"U162*$X$2*VLOOKUP(DataByMiles!AE160,DataByMiles!$AT$5:$AU$6,2,FALSE)","v":0},{"$f":"DataByMiles!Y160*VLOOKUP(DataByMiles!AE160,DataByMiles!$AT$5:$AU$6,2,FALSE)","v":0},{"$f":"DataByMiles!Z160","v":0},{"$f":"DataByMiles!AA160","v":0},null,null,{"$f":"(Y162/IF(Z162=0,$AD$1,Z162)*$AD$2)/IF(AA162=0,1,AA162)*VLOOKUP(DataByMiles!AE160,DataByMiles!$AT$5:$AU$6,2,FALSE)","v":0},"",0,0,{"$f":"(AF162+AG162)*VLOOKUP(DataByMiles!AE160,DataByMiles!$AT$5:$AU$6,2,FALSE)","v":0},0]
[null,{"$f":"DataByMiles!C161","v":"----157"},{"$f":"DataByMiles!T161*VLOOKUP(DataByMiles!AE161,DataByMiles!$AT$5:$AU$6,2,FALSE)","v":0},null,null,0,{"$f":"C163*$G$2*VLOOKUP(DataByMiles!AE161,DataByMiles!$AT$5:$AU$6,2,FALSE)","v":0},{"$f":"DataByMiles!U161*VLOOKUP(DataByMiles!AE161,DataByMiles!$AT$5:$AU$6,2,FALSE)","v":0},null,null,0,{"$f":"H163*$L$2*VLOOKUP(DataByMiles!AE161,DataByMiles!$AT$5:$AU$6,2,FALSE)","v":0},{"$f":"DataByMiles!V161*VLOOKUP(DataByMiles!AE161,DataByMiles!$AT$5:$AU$6,2,FALSE)","v":0},null,null,{"$f":"M163*$P$2*VLOOKUP(DataByMiles!AE161,DataByMiles!$AT$5:$AU$6,2,FALSE)","v":0},{"$f":"DataByMiles!W161*VLOOKUP(DataByMiles!AE161,DataByMiles!$AT$5:$AU$6,2,FALSE)","v":0},null,null,{"$f":"Q163*$T$2*VLOOKUP(DataByMiles!AE161,DataByMiles!$AT$5:$AU$6,2,FALSE)","v":0},{"$f":"DataByMiles!X161*VLOOKUP(DataByMiles!AE161,DataByMiles!$AT$5:$AU$6,2,FALSE)","v":0},null,null,{"$f":"U163*$X$2*VLOOKUP(DataByMiles!AE161,DataByMiles!$AT$5:$AU$6,2,FALSE)","v":0},{"$f":"DataByMiles!Y161*VLOOKUP(DataByMiles!AE161,DataByMiles!$AT$5:$AU$6,2,FALSE)","v":0},{"$f":"DataByMiles!Z161","v":0},{"$f":"DataByMiles!AA161","v":0},null,null,{"$f":"(Y163/IF(Z163=0,$AD$1,Z163)*$AD$2)/IF(AA163=0,1,AA163)*VLOOKUP(DataByMiles!AE161,DataByMiles!$AT$5:$AU$6,2,FALSE)","v":0},"",0,0,{"$f":"(AF163+AG163)*VLOOKUP(DataByMiles!AE161,DataByMiles!$AT$5:$AU$6,2,FALSE)","v":0},0]
[null,{"$f":"DataByMiles!C162","v":"----158"},{"$f":"DataByMiles!T162*VLOOKUP(DataByMiles!AE162,DataByMiles!$AT$5:$AU$6,2,FALSE)","v":0},null,null,0,{"$f":"C164*$G$2*VLOOKUP(DataByMiles!AE162,DataByMiles!$AT$5:$AU$6,2,FALSE)","v":0},{"$f":"DataByMiles!U162*VLOOKUP(DataByMiles!AE162,DataByMiles!$AT$5:$AU$6,2,FALSE)","v":0},null,null,0,{"$f":"H164*$L$2*VLOOKUP(DataByMiles!AE162,DataByMiles!$AT$5:$AU$6,2,FALSE)","v":0},{"$f":"DataByMiles!V162*VLOOKUP(DataByMiles!AE162,DataByMiles!$AT$5:$AU$6,2,FALSE)","v":0},null,null,{"$f":"M164*$P$2*VLOOKUP(DataByMiles!AE162,DataByMiles!$AT$5:$AU$6,2,FALSE)","v":0},{"$f":"DataByMiles!W162*VLOOKUP(DataByMiles!AE162,DataByMiles!$AT$5:$AU$6,2,FALSE)","v":0},null,null,{"$f":"Q164*$T$2*VLOOKUP(DataByMiles!AE162,DataByMiles!$AT$5:$AU$6,2,FALSE)","v":0},{"$f":"DataByMiles!X162*VLOOKUP(DataByMiles!AE162,DataByMiles!$AT$5:$AU$6,2,FALSE)","v":0},null,null,{"$f":"U164*$X$2*VLOOKUP(DataByMiles!AE162,DataByMiles!$AT$5:$AU$6,2,FALSE)","v":0},{"$f":"DataByMiles!Y162*VLOOKUP(DataByMiles!AE162,DataByMiles!$AT$5:$AU$6,2,FALSE)","v":0},{"$f":"DataByMiles!Z162","v":0},{"$f":"DataByMiles!AA162","v":0},null,null,{"$f":"(Y164/IF(Z164=0,$AD$1,Z164)*$AD$2)/IF(AA164=0,1,AA164)*VLOOKUP(DataByMiles!AE162,DataByMiles!$AT$5:$AU$6,2,FALSE)","v":0},"",0,0,{"$f":"(AF164+AG164)*VLOOKUP(DataByMiles!AE162,DataByMiles!$AT$5:$AU$6,2,FALSE)","v":0},0]
[null,{"$f":"DataByMiles!C163","v":"----159"},{"$f":"DataByMiles!T163*VLOOKUP(DataByMiles!AE163,DataByMiles!$AT$5:$AU$6,2,FALSE)","v":0},null,null,0,{"$f":"C165*$G$2*VLOOKUP(DataByMiles!AE163,DataByMiles!$AT$5:$AU$6,2,FALSE)","v":0},{"$f":"DataByMiles!U163*VLOOKUP(DataByMiles!AE163,DataByMiles!$AT$5:$AU$6,2,FALSE)","v":0},null,null,0,{"$f":"H165*$L$2*VLOOKUP(DataByMiles!AE163,DataByMiles!$AT$5:$AU$6,2,FALSE)","v":0},{"$f":"DataByMiles!V163*VLOOKUP(DataByMiles!AE163,DataByMiles!$AT$5:$AU$6,2,FALSE)","v":0},null,null,{"$f":"M165*$P$2*VLOOKUP(DataByMiles!AE163,DataByMiles!$AT$5:$AU$6,2,FALSE)","v":0},{"$f":"DataByMiles!W163*VLOOKUP(DataByMiles!AE163,DataByMiles!$AT$5:$AU$6,2,FALSE)","v":0},null,null,{"$f":"Q165*$T$2*VLOOKUP(DataByMiles!AE163,DataByMiles!$AT$5:$AU$6,2,FALSE)","v":0},{"$f":"DataByMiles!X163*VLOOKUP(DataByMiles!AE163,DataByMiles!$AT$5:$AU$6,2,FALSE)","v":0},null,null,{"$f":"U165*$X$2*VLOOKUP(DataByMiles!AE163,DataByMiles!$AT$5:$AU$6,2,FALSE)","v":0},{"$f":"DataByMiles!Y163*VLOOKUP(DataByMiles!AE163,DataByMiles!$AT$5:$AU$6,2,FALSE)","v":0},{"$f":"DataByMiles!Z163","v":0},{"$f":"DataByMiles!AA163","v":0},null,null,{"$f":"(Y165/IF(Z165=0,$AD$1,Z165)*$AD$2)/IF(AA165=0,1,AA165)*VLOOKUP(DataByMiles!AE163,DataByMiles!$AT$5:$AU$6,2,FALSE)","v":0},"",0,0,{"$f":"(AF165+AG165)*VLOOKUP(DataByMiles!AE163,DataByMiles!$AT$5:$AU$6,2,FALSE)","v":0},0]
[null,{"$f":"DataByMiles!C164","v":"----160"},{"$f":"DataByMiles!T164*VLOOKUP(DataByMiles!AE164,DataByMiles!$AT$5:$AU$6,2,FALSE)","v":0},null,null,0,{"$f":"C166*$G$2*VLOOKUP(DataByMiles!AE164,DataByMiles!$AT$5:$AU$6,2,FALSE)","v":0},{"$f":"DataByMiles!U164*VLOOKUP(DataByMiles!AE164,DataByMiles!$AT$5:$AU$6,2,FALSE)","v":0},null,null,0,{"$f":"H166*$L$2*VLOOKUP(DataByMiles!AE164,DataByMiles!$AT$5:$AU$6,2,FALSE)","v":0},{"$f":"DataByMiles!V164*VLOOKUP(DataByMiles!AE164,DataByMiles!$AT$5:$AU$6,2,FALSE)","v":0},null,null,{"$f":"M166*$P$2*VLOOKUP(DataByMiles!AE164,DataByMiles!$AT$5:$AU$6,2,FALSE)","v":0},{"$f":"DataByMiles!W164*VLOOKUP(DataByMiles!AE164,DataByMiles!$AT$5:$AU$6,2,FALSE)","v":0},null,null,{"$f":"Q166*$T$2*VLOOKUP(DataByMiles!AE164,DataByMiles!$AT$5:$AU$6,2,FALSE)","v":0},{"$f":"DataByMiles!X164*VLOOKUP(DataByMiles!AE164,DataByMiles!$AT$5:$AU$6,2,FALSE)","v":0},null,null,{"$f":"U166*$X$2*VLOOKUP(DataByMiles!AE164,DataByMiles!$AT$5:$AU$6,2,FALSE)","v":0},{"$f":"DataByMiles!Y164*VLOOKUP(DataByMiles!AE164,DataByMiles!$AT$5:$AU$6,2,FALSE)","v":0},{"$f":"DataByMiles!Z164","v":0},{"$f":"DataByMiles!AA164","v":0},null,null,{"$f":"(Y166/IF(Z166=0,$AD$1,Z166)*$AD$2)/IF(AA166=0,1,AA166)*VLOOKUP(DataByMiles!AE164,DataByMiles!$AT$5:$AU$6,2,FALSE)","v":0},"",0,0,{"$f":"(AF166+AG166)*VLOOKUP(DataByMiles!AE164,DataByMiles!$AT$5:$AU$6,2,FALSE)","v":0},0]
[null,{"$f":"DataByMiles!C165","v":"----161"},{"$f":"DataByMiles!T165*VLOOKUP(DataByMiles!AE165,DataByMiles!$AT$5:$AU$6,2,FALSE)","v":0},null,null,0,{"$f":"C167*$G$2*VLOOKUP(DataByMiles!AE165,DataByMiles!$AT$5:$AU$6,2,FALSE)","v":0},{"$f":"DataByMiles!U165*VLOOKUP(DataByMiles!AE165,DataByMiles!$AT$5:$AU$6,2,FALSE)","v":0},null,null,0,{"$f":"H167*$L$2*VLOOKUP(DataByMiles!AE165,DataByMiles!$AT$5:$AU$6,2,FALSE)","v":0},{"$f":"DataByMiles!V165*VLOOKUP(DataByMiles!AE165,DataByMiles!$AT$5:$AU$6,2,FALSE)","v":0},null,null,{"$f":"M167*$P$2*VLOOKUP(DataByMiles!AE165,DataByMiles!$AT$5:$AU$6,2,FALSE)","v":0},{"$f":"DataByMiles!W165*VLOOKUP(DataByMiles!AE165,DataByMiles!$AT$5:$AU$6,2,FALSE)","v":0},null,null,{"$f":"Q167*$T$2*VLOOKUP(DataByMiles!AE165,DataByMiles!$AT$5:$AU$6,2,FALSE)","v":0},{"$f":"DataByMiles!X165*VLOOKUP(DataByMiles!AE165,DataByMiles!$AT$5:$AU$6,2,FALSE)","v":0},null,null,{"$f":"U167*$X$2*VLOOKUP(DataByMiles!AE165,DataByMiles!$AT$5:$AU$6,2,FALSE)","v":0},{"$f":"DataByMiles!Y165*VLOOKUP(DataByMiles!AE165,DataByMiles!$AT$5:$AU$6,2,FALSE)","v":0},{"$f":"DataByMiles!Z165","v":0},{"$f":"DataByMiles!AA165","v":0},null,null,{"$f":"(Y167/IF(Z167=0,$AD$1,Z167)*$AD$2)/IF(AA167=0,1,AA167)*VLOOKUP(DataByMiles!AE165,DataByMiles!$AT$5:$AU$6,2,FALSE)","v":0},"",0,0,{"$f":"(AF167+AG167)*VLOOKUP(DataByMiles!AE165,DataByMiles!$AT$5:$AU$6,2,FALSE)","v":0},0]
[null,{"$f":"DataByMiles!C166","v":"----162"},{"$f":"DataByMiles!T166*VLOOKUP(DataByMiles!AE166,DataByMiles!$AT$5:$AU$6,2,FALSE)","v":0},null,null,0,{"$f":"C168*$G$2*VLOOKUP(DataByMiles!AE166,DataByMiles!$AT$5:$AU$6,2,FALSE)","v":0},{"$f":"DataByMiles!U166*VLOOKUP(DataByMiles!AE166,DataByMiles!$AT$5:$AU$6,2,FALSE)","v":0},null,null,0,{"$f":"H168*$L$2*VLOOKUP(DataByMiles!AE166,DataByMiles!$AT$5:$AU$6,2,FALSE)","v":0},{"$f":"DataByMiles!V166*VLOOKUP(DataByMiles!AE166,DataByMiles!$AT$5:$AU$6,2,FALSE)","v":0},null,null,{"$f":"M168*$P$2*VLOOKUP(DataByMiles!AE166,DataByMiles!$AT$5:$AU$6,2,FALSE)","v":0},{"$f":"DataByMiles!W166*VLOOKUP(DataByMiles!AE166,DataByMiles!$AT$5:$AU$6,2,FALSE)","v":0},null,null,{"$f":"Q168*$T$2*VLOOKUP(DataByMiles!AE166,DataByMiles!$AT$5:$AU$6,2,FALSE)","v":0},{"$f":"DataByMiles!X166*VLOOKUP(DataByMiles!AE166,DataByMiles!$AT$5:$AU$6,2,FALSE)","v":0},null,null,{"$f":"U168*$X$2*VLOOKUP(DataByMiles!AE166,DataByMiles!$AT$5:$AU$6,2,FALSE)","v":0},{"$f":"DataByMiles!Y166*VLOOKUP(DataByMiles!AE166,DataByMiles!$AT$5:$AU$6,2,FALSE)","v":0},{"$f":"DataByMiles!Z166","v":0},{"$f":"DataByMiles!AA166","v":0},null,null,{"$f":"(Y168/IF(Z168=0,$AD$1,Z168)*$AD$2)/IF(AA168=0,1,AA168)*VLOOKUP(DataByMiles!AE166,DataByMiles!$AT$5:$AU$6,2,FALSE)","v":0},"",0,0,{"$f":"(AF168+AG168)*VLOOKUP(DataByMiles!AE166,DataByMiles!$AT$5:$AU$6,2,FALSE)","v":0},0]
[null,{"$f":"DataByMiles!C167","v":"----163"},{"$f":"DataByMiles!T167*VLOOKUP(DataByMiles!AE167,DataByMiles!$AT$5:$AU$6,2,FALSE)","v":0},null,null,0,{"$f":"C169*$G$2*VLOOKUP(DataByMiles!AE167,DataByMiles!$AT$5:$AU$6,2,FALSE)","v":0},{"$f":"DataByMiles!U167*VLOOKUP(DataByMiles!AE167,DataByMiles!$AT$5:$AU$6,2,FALSE)","v":0},null,null,0,{"$f":"H169*$L$2*VLOOKUP(DataByMiles!AE167,DataByMiles!$AT$5:$AU$6,2,FALSE)","v":0},{"$f":"DataByMiles!V167*VLOOKUP(DataByMiles!AE167,DataByMiles!$AT$5:$AU$6,2,FALSE)","v":0},null,null,{"$f":"M169*$P$2*VLOOKUP(DataByMiles!AE167,DataByMiles!$AT$5:$AU$6,2,FALSE)","v":0},{"$f":"DataByMiles!W167*VLOOKUP(DataByMiles!AE167,DataByMiles!$AT$5:$AU$6,2,FALSE)","v":0},null,null,{"$f":"Q169*$T$2*VLOOKUP(DataByMiles!AE167,DataByMiles!$AT$5:$AU$6,2,FALSE)","v":0},{"$f":"DataByMiles!X167*VLOOKUP(DataByMiles!AE167,DataByMiles!$AT$5:$AU$6,2,FALSE)","v":0},null,null,{"$f":"U169*$X$2*VLOOKUP(DataByMiles!AE167,DataByMiles!$AT$5:$AU$6,2,FALSE)","v":0},{"$f":"DataByMiles!Y167*VLOOKUP(DataByMiles!AE167,DataByMiles!$AT$5:$AU$6,2,FALSE)","v":0},{"$f":"DataByMiles!Z167","v":0},{"$f":"DataByMiles!AA167","v":0},null,null,{"$f":"(Y169/IF(Z169=0,$AD$1,Z169)*$AD$2)/IF(AA169=0,1,AA169)*VLOOKUP(DataByMiles!AE167,DataByMiles!$AT$5:$AU$6,2,FALSE)","v":0},"",0,0,{"$f":"(AF169+AG169)*VLOOKUP(DataByMiles!AE167,DataByMiles!$AT$5:$AU$6,2,FALSE)","v":0},0]
[null,{"$f":"DataByMiles!C168","v":"----164"},{"$f":"DataByMiles!T168*VLOOKUP(DataByMiles!AE168,DataByMiles!$AT$5:$AU$6,2,FALSE)","v":0},null,null,0,{"$f":"C170*$G$2*VLOOKUP(DataByMiles!AE168,DataByMiles!$AT$5:$AU$6,2,FALSE)","v":0},{"$f":"DataByMiles!U168*VLOOKUP(DataByMiles!AE168,DataByMiles!$AT$5:$AU$6,2,FALSE)","v":0},null,null,0,{"$f":"H170*$L$2*VLOOKUP(DataByMiles!AE168,DataByMiles!$AT$5:$AU$6,2,FALSE)","v":0},{"$f":"DataByMiles!V168*VLOOKUP(DataByMiles!AE168,DataByMiles!$AT$5:$AU$6,2,FALSE)","v":0},null,null,{"$f":"M170*$P$2*VLOOKUP(DataByMiles!AE168,DataByMiles!$AT$5:$AU$6,2,FALSE)","v":0},{"$f":"DataByMiles!W168*VLOOKUP(DataByMiles!AE168,DataByMiles!$AT$5:$AU$6,2,FALSE)","v":0},null,null,{"$f":"Q170*$T$2*VLOOKUP(DataByMiles!AE168,DataByMiles!$AT$5:$AU$6,2,FALSE)","v":0},{"$f":"DataByMiles!X168*VLOOKUP(DataByMiles!AE168,DataByMiles!$AT$5:$AU$6,2,FALSE)","v":0},null,null,{"$f":"U170*$X$2*VLOOKUP(DataByMiles!AE168,DataByMiles!$AT$5:$AU$6,2,FALSE)","v":0},{"$f":"DataByMiles!Y168*VLOOKUP(DataByMiles!AE168,DataByMiles!$AT$5:$AU$6,2,FALSE)","v":0},{"$f":"DataByMiles!Z168","v":0},{"$f":"DataByMiles!AA168","v":0},null,null,{"$f":"(Y170/IF(Z170=0,$AD$1,Z170)*$AD$2)/IF(AA170=0,1,AA170)*VLOOKUP(DataByMiles!AE168,DataByMiles!$AT$5:$AU$6,2,FALSE)","v":0},"",0,0,{"$f":"(AF170+AG170)*VLOOKUP(DataByMiles!AE168,DataByMiles!$AT$5:$AU$6,2,FALSE)","v":0},0]
[null,{"$f":"DataByMiles!C169","v":"----165"},{"$f":"DataByMiles!T169*VLOOKUP(DataByMiles!AE169,DataByMiles!$AT$5:$AU$6,2,FALSE)","v":0},null,null,0,{"$f":"C171*$G$2*VLOOKUP(DataByMiles!AE169,DataByMiles!$AT$5:$AU$6,2,FALSE)","v":0},{"$f":"DataByMiles!U169*VLOOKUP(DataByMiles!AE169,DataByMiles!$AT$5:$AU$6,2,FALSE)","v":0},null,null,0,{"$f":"H171*$L$2*VLOOKUP(DataByMiles!AE169,DataByMiles!$AT$5:$AU$6,2,FALSE)","v":0},{"$f":"DataByMiles!V169*VLOOKUP(DataByMiles!AE169,DataByMiles!$AT$5:$AU$6,2,FALSE)","v":0},null,null,{"$f":"M171*$P$2*VLOOKUP(DataByMiles!AE169,DataByMiles!$AT$5:$AU$6,2,FALSE)","v":0},{"$f":"DataByMiles!W169*VLOOKUP(DataByMiles!AE169,DataByMiles!$AT$5:$AU$6,2,FALSE)","v":0},null,null,{"$f":"Q171*$T$2*VLOOKUP(DataByMiles!AE169,DataByMiles!$AT$5:$AU$6,2,FALSE)","v":0},{"$f":"DataByMiles!X169*VLOOKUP(DataByMiles!AE169,DataByMiles!$AT$5:$AU$6,2,FALSE)","v":0},null,null,{"$f":"U171*$X$2*VLOOKUP(DataByMiles!AE169,DataByMiles!$AT$5:$AU$6,2,FALSE)","v":0},{"$f":"DataByMiles!Y169*VLOOKUP(DataByMiles!AE169,DataByMiles!$AT$5:$AU$6,2,FALSE)","v":0},{"$f":"DataByMiles!Z169","v":0},{"$f":"DataByMiles!AA169","v":0},null,null,{"$f":"(Y171/IF(Z171=0,$AD$1,Z171)*$AD$2)/IF(AA171=0,1,AA171)*VLOOKUP(DataByMiles!AE169,DataByMiles!$AT$5:$AU$6,2,FALSE)","v":0},"",0,0,{"$f":"(AF171+AG171)*VLOOKUP(DataByMiles!AE169,DataByMiles!$AT$5:$AU$6,2,FALSE)","v":0},0]
[null,{"$f":"DataByMiles!C170","v":"----166"},{"$f":"DataByMiles!T170*VLOOKUP(DataByMiles!AE170,DataByMiles!$AT$5:$AU$6,2,FALSE)","v":0},null,null,0,{"$f":"C172*$G$2*VLOOKUP(DataByMiles!AE170,DataByMiles!$AT$5:$AU$6,2,FALSE)","v":0},{"$f":"DataByMiles!U170*VLOOKUP(DataByMiles!AE170,DataByMiles!$AT$5:$AU$6,2,FALSE)","v":0},null,null,0,{"$f":"H172*$L$2*VLOOKUP(DataByMiles!AE170,DataByMiles!$AT$5:$AU$6,2,FALSE)","v":0},{"$f":"DataByMiles!V170*VLOOKUP(DataByMiles!AE170,DataByMiles!$AT$5:$AU$6,2,FALSE)","v":0},null,null,{"$f":"M172*$P$2*VLOOKUP(DataByMiles!AE170,DataByMiles!$AT$5:$AU$6,2,FALSE)","v":0},{"$f":"DataByMiles!W170*VLOOKUP(DataByMiles!AE170,DataByMiles!$AT$5:$AU$6,2,FALSE)","v":0},null,null,{"$f":"Q172*$T$2*VLOOKUP(DataByMiles!AE170,DataByMiles!$AT$5:$AU$6,2,FALSE)","v":0},{"$f":"DataByMiles!X170*VLOOKUP(DataByMiles!AE170,DataByMiles!$AT$5:$AU$6,2,FALSE)","v":0},null,null,{"$f":"U172*$X$2*VLOOKUP(DataByMiles!AE170,DataByMiles!$AT$5:$AU$6,2,FALSE)","v":0},{"$f":"DataByMiles!Y170*VLOOKUP(DataByMiles!AE170,DataByMiles!$AT$5:$AU$6,2,FALSE)","v":0},{"$f":"DataByMiles!Z170","v":0},{"$f":"DataByMiles!AA170","v":0},null,null,{"$f":"(Y172/IF(Z172=0,$AD$1,Z172)*$AD$2)/IF(AA172=0,1,AA172)*VLOOKUP(DataByMiles!AE170,DataByMiles!$AT$5:$AU$6,2,FALSE)","v":0},"",0,0,{"$f":"(AF172+AG172)*VLOOKUP(DataByMiles!AE170,DataByMiles!$AT$5:$AU$6,2,FALSE)","v":0},0]
[null,{"$f":"DataByMiles!C171","v":"----167"},{"$f":"DataByMiles!T171*VLOOKUP(DataByMiles!AE171,DataByMiles!$AT$5:$AU$6,2,FALSE)","v":0},null,null,0,{"$f":"C173*$G$2*VLOOKUP(DataByMiles!AE171,DataByMiles!$AT$5:$AU$6,2,FALSE)","v":0},{"$f":"DataByMiles!U171*VLOOKUP(DataByMiles!AE171,DataByMiles!$AT$5:$AU$6,2,FALSE)","v":0},null,null,0,{"$f":"H173*$L$2*VLOOKUP(DataByMiles!AE171,DataByMiles!$AT$5:$AU$6,2,FALSE)","v":0},{"$f":"DataByMiles!V171*VLOOKUP(DataByMiles!AE171,DataByMiles!$AT$5:$AU$6,2,FALSE)","v":0},null,null,{"$f":"M173*$P$2*VLOOKUP(DataByMiles!AE171,DataByMiles!$AT$5:$AU$6,2,FALSE)","v":0},{"$f":"DataByMiles!W171*VLOOKUP(DataByMiles!AE171,DataByMiles!$AT$5:$AU$6,2,FALSE)","v":0},null,null,{"$f":"Q173*$T$2*VLOOKUP(DataByMiles!AE171,DataByMiles!$AT$5:$AU$6,2,FALSE)","v":0},{"$f":"DataByMiles!X171*VLOOKUP(DataByMiles!AE171,DataByMiles!$AT$5:$AU$6,2,FALSE)","v":0},null,null,{"$f":"U173*$X$2*VLOOKUP(DataByMiles!AE171,DataByMiles!$AT$5:$AU$6,2,FALSE)","v":0},{"$f":"DataByMiles!Y171*VLOOKUP(DataByMiles!AE171,DataByMiles!$AT$5:$AU$6,2,FALSE)","v":0},{"$f":"DataByMiles!Z171","v":0},{"$f":"DataByMiles!AA171","v":0},null,null,{"$f":"(Y173/IF(Z173=0,$AD$1,Z173)*$AD$2)/IF(AA173=0,1,AA173)*VLOOKUP(DataByMiles!AE171,DataByMiles!$AT$5:$AU$6,2,FALSE)","v":0},"",0,0,{"$f":"(AF173+AG173)*VLOOKUP(DataByMiles!AE171,DataByMiles!$AT$5:$AU$6,2,FALSE)","v":0},0]
[null,{"$f":"DataByMiles!C172","v":"----168"},{"$f":"DataByMiles!T172*VLOOKUP(DataByMiles!AE172,DataByMiles!$AT$5:$AU$6,2,FALSE)","v":0},null,null,{"$f":"C174*$F$2","v":0},{"$f":"C174*$G$2*VLOOKUP(DataByMiles!AE172,DataByMiles!$AT$5:$AU$6,2,FALSE)","v":0},{"$f":"DataByMiles!U172*VLOOKUP(DataByMiles!AE172,DataByMiles!$AT$5:$AU$6,2,FALSE)","v":0},null,null,{"$f":"H174*$K$2","v":0},{"$f":"H174*$L$2*VLOOKUP(DataByMiles!AE172,DataByMiles!$AT$5:$AU$6,2,FALSE)","v":0},{"$f":"DataByMiles!V172*VLOOKUP(DataByMiles!AE172,DataByMiles!$AT$5:$AU$6,2,FALSE)","v":0},null,null,{"$f":"M174*$P$2*VLOOKUP(DataByMiles!AE172,DataByMiles!$AT$5:$AU$6,2,FALSE)","v":0},{"$f":"DataByMiles!W172*VLOOKUP(DataByMiles!AE172,DataByMiles!$AT$5:$AU$6,2,FALSE)","v":0},null,null,{"$f":"Q174*$T$2*VLOOKUP(DataByMiles!AE172,DataByMiles!$AT$5:$AU$6,2,FALSE)","v":0},{"$f":"DataByMiles!X172*VLOOKUP(DataByMiles!AE172,DataByMiles!$AT$5:$AU$6,2,FALSE)","v":0},null,null,{"$f":"U174*$X$2*VLOOKUP(DataByMiles!AE172,DataByMiles!$AT$5:$AU$6,2,FALSE)","v":0},{"$f":"DataByMiles!Y172*VLOOKUP(DataByMiles!AE172,DataByMiles!$AT$5:$AU$6,2,FALSE)","v":0},{"$f":"DataByMiles!Z172","v":0},{"$f":"DataByMiles!AA172","v":0},null,null,{"$f":"(Y174/IF(Z174=0,$AD$1,Z174)*$AD$2)/IF(AA174=0,1,AA174)*VLOOKUP(DataByMiles!AE172,DataByMiles!$AT$5:$AU$6,2,FALSE)","v":0},{"$f":"IF(C174+H174+M174+Q174+U174+Y174>0,C174+H174+M174+Q174+U174+Y174,\"\")","v":""},{"$f":"F174+K174+P174+T174+X174+AD174","v":0},{"$f":"G174+L174","v":0},{"$f":"(AF174+AG174)*VLOOKUP(DataByMiles!AE172,DataByMiles!$AT$5:$AU$6,2,FALSE)","v":0},{"$f":"IFERROR(AH174/AE174,0)","v":0}]
[null,{"$f":"DataByMiles!C173","v":"----169"},{"$f":"DataByMiles!T173*VLOOKUP(DataByMiles!AE173,DataByMiles!$AT$5:$AU$6,2,FALSE)","v":0},null,null,0,{"$f":"C175*$G$2*VLOOKUP(DataByMiles!AE173,DataByMiles!$AT$5:$AU$6,2,FALSE)","v":0},{"$f":"DataByMiles!U173*VLOOKUP(DataByMiles!AE173,DataByMiles!$AT$5:$AU$6,2,FALSE)","v":0},null,null,0,{"$f":"H175*$L$2*VLOOKUP(DataByMiles!AE173,DataByMiles!$AT$5:$AU$6,2,FALSE)","v":0},{"$f":"DataByMiles!V173*VLOOKUP(DataByMiles!AE173,DataByMiles!$AT$5:$AU$6,2,FALSE)","v":0},null,null,{"$f":"M175*$P$2*VLOOKUP(DataByMiles!AE173,DataByMiles!$AT$5:$AU$6,2,FALSE)","v":0},{"$f":"DataByMiles!W173*VLOOKUP(DataByMiles!AE173,DataByMiles!$AT$5:$AU$6,2,FALSE)","v":0},null,null,{"$f":"Q175*$T$2*VLOOKUP(DataByMiles!AE173,DataByMiles!$AT$5:$AU$6,2,FALSE)","v":0},{"$f":"DataByMiles!X173*VLOOKUP(DataByMiles!AE173,DataByMiles!$AT$5:$AU$6,2,FALSE)","v":0},null,null,{"$f":"U175*$X$2*VLOOKUP(DataByMiles!AE173,DataByMiles!$AT$5:$AU$6,2,FALSE)","v":0},{"$f":"DataByMiles!Y173*VLOOKUP(DataByMiles!AE173,DataByMiles!$AT$5:$AU$6,2,FALSE)","v":0},{"$f":"DataByMiles!Z173","v":0},{"$f":"DataByMiles!AA173","v":0},null,null,{"$f":"(Y175/IF(Z175=0,$AD$1,Z175)*$AD$2)/IF(AA175=0,1,AA175)*VLOOKUP(DataByMiles!AE173,DataByMiles!$AT$5:$AU$6,2,FALSE)","v":0},"",0,0,{"$f":"(AF175+AG175)*VLOOKUP(DataByMiles!AE173,DataByMiles!$AT$5:$AU$6,2,FALSE)","v":0},0]
[null,{"$f":"DataByMiles!C174","v":"----170"},{"$f":"DataByMiles!T174*VLOOKUP(DataByMiles!AE174,DataByMiles!$AT$5:$AU$6,2,FALSE)","v":0},null,null,0,{"$f":"C176*$G$2*VLOOKUP(DataByMiles!AE174,DataByMiles!$AT$5:$AU$6,2,FALSE)","v":0},{"$f":"DataByMiles!U174*VLOOKUP(DataByMiles!AE174,DataByMiles!$AT$5:$AU$6,2,FALSE)","v":0},null,null,0,{"$f":"H176*$L$2*VLOOKUP(DataByMiles!AE174,DataByMiles!$AT$5:$AU$6,2,FALSE)","v":0},{"$f":"DataByMiles!V174*VLOOKUP(DataByMiles!AE174,DataByMiles!$AT$5:$AU$6,2,FALSE)","v":0},null,null,{"$f":"M176*$P$2*VLOOKUP(DataByMiles!AE174,DataByMiles!$AT$5:$AU$6,2,FALSE)","v":0},{"$f":"DataByMiles!W174*VLOOKUP(DataByMiles!AE174,DataByMiles!$AT$5:$AU$6,2,FALSE)","v":0},null,null,{"$f":"Q176*$T$2*VLOOKUP(DataByMiles!AE174,DataByMiles!$AT$5:$AU$6,2,FALSE)","v":0},{"$f":"DataByMiles!X174*VLOOKUP(DataByMiles!AE174,DataByMiles!$AT$5:$AU$6,2,FALSE)","v":0},null,null,{"$f":"U176*$X$2*VLOOKUP(DataByMiles!AE174,DataByMiles!$AT$5:$AU$6,2,FALSE)","v":0},{"$f":"DataByMiles!Y174*VLOOKUP(DataByMiles!AE174,DataByMiles!$AT$5:$AU$6,2,FALSE)","v":0},{"$f":"DataByMiles!Z174","v":0},{"$f":"DataByMiles!AA174","v":0},null,null,{"$f":"(Y176/IF(Z176=0,$AD$1,Z176)*$AD$2)/IF(AA176=0,1,AA176)*VLOOKUP(DataByMiles!AE174,DataByMiles!$AT$5:$AU$6,2,FALSE)","v":0},"",0,0,{"$f":"(AF176+AG176)*VLOOKUP(DataByMiles!AE174,DataByMiles!$AT$5:$AU$6,2,FALSE)","v":0},0]
[null,{"$f":"DataByMiles!C175","v":"----171"},{"$f":"DataByMiles!T175*VLOOKUP(DataByMiles!AE175,DataByMiles!$AT$5:$AU$6,2,FALSE)","v":0},null,null,0,{"$f":"C177*$G$2*VLOOKUP(DataByMiles!AE175,DataByMiles!$AT$5:$AU$6,2,FALSE)","v":0},{"$f":"DataByMiles!U175*VLOOKUP(DataByMiles!AE175,DataByMiles!$AT$5:$AU$6,2,FALSE)","v":0},null,null,0,{"$f":"H177*$L$2*VLOOKUP(DataByMiles!AE175,DataByMiles!$AT$5:$AU$6,2,FALSE)","v":0},{"$f":"DataByMiles!V175*VLOOKUP(DataByMiles!AE175,DataByMiles!$AT$5:$AU$6,2,FALSE)","v":0},null,null,{"$f":"M177*$P$2*VLOOKUP(DataByMiles!AE175,DataByMiles!$AT$5:$AU$6,2,FALSE)","v":0},{"$f":"DataByMiles!W175*VLOOKUP(DataByMiles!AE175,DataByMiles!$AT$5:$AU$6,2,FALSE)","v":0},null,null,{"$f":"Q177*$T$2*VLOOKUP(DataByMiles!AE175,DataByMiles!$AT$5:$AU$6,2,FALSE)","v":0},{"$f":"DataByMiles!X175*VLOOKUP(DataByMiles!AE175,DataByMiles!$AT$5:$AU$6,2,FALSE)","v":0},null,null,{"$f":"U177*$X$2*VLOOKUP(DataByMiles!AE175,DataByMiles!$AT$5:$AU$6,2,FALSE)","v":0},{"$f":"DataByMiles!Y175*VLOOKUP(DataByMiles!AE175,DataByMiles!$AT$5:$AU$6,2,FALSE)","v":0},{"$f":"DataByMiles!Z175","v":0},{"$f":"DataByMiles!AA175","v":0},null,null,{"$f":"(Y177/IF(Z177=0,$AD$1,Z177)*$AD$2)/IF(AA177=0,1,AA177)*VLOOKUP(DataByMiles!AE175,DataByMiles!$AT$5:$AU$6,2,FALSE)","v":0},"",0,0,{"$f":"(AF177+AG177)*VLOOKUP(DataByMiles!AE175,DataByMiles!$AT$5:$AU$6,2,FALSE)","v":0},0]
[null,{"$f":"DataByMiles!C176","v":"----172"},{"$f":"DataByMiles!T176*VLOOKUP(DataByMiles!AE176,DataByMiles!$AT$5:$AU$6,2,FALSE)","v":0},null,null,0,{"$f":"C178*$G$2*VLOOKUP(DataByMiles!AE176,DataByMiles!$AT$5:$AU$6,2,FALSE)","v":0},{"$f":"DataByMiles!U176*VLOOKUP(DataByMiles!AE176,DataByMiles!$AT$5:$AU$6,2,FALSE)","v":0},null,null,0,{"$f":"H178*$L$2*VLOOKUP(DataByMiles!AE176,DataByMiles!$AT$5:$AU$6,2,FALSE)","v":0},{"$f":"DataByMiles!V176*VLOOKUP(DataByMiles!AE176,DataByMiles!$AT$5:$AU$6,2,FALSE)","v":0},null,null,{"$f":"M178*$P$2*VLOOKUP(DataByMiles!AE176,DataByMiles!$AT$5:$AU$6,2,FALSE)","v":0},{"$f":"DataByMiles!W176*VLOOKUP(DataByMiles!AE176,DataByMiles!$AT$5:$AU$6,2,FALSE)","v":0},null,null,{"$f":"Q178*$T$2*VLOOKUP(DataByMiles!AE176,DataByMiles!$AT$5:$AU$6,2,FALSE)","v":0},{"$f":"DataByMiles!X176*VLOOKUP(DataByMiles!AE176,DataByMiles!$AT$5:$AU$6,2,FALSE)","v":0},null,null,{"$f":"U178*$X$2*VLOOKUP(DataByMiles!AE176,DataByMiles!$AT$5:$AU$6,2,FALSE)","v":0},{"$f":"DataByMiles!Y176*VLOOKUP(DataByMiles!AE176,DataByMiles!$AT$5:$AU$6,2,FALSE)","v":0},{"$f":"DataByMiles!Z176","v":0},{"$f":"DataByMiles!AA176","v":0},null,null,{"$f":"(Y178/IF(Z178=0,$AD$1,Z178)*$AD$2)/IF(AA178=0,1,AA178)*VLOOKUP(DataByMiles!AE176,DataByMiles!$AT$5:$AU$6,2,FALSE)","v":0},"",0,0,{"$f":"(AF178+AG178)*VLOOKUP(DataByMiles!AE176,DataByMiles!$AT$5:$AU$6,2,FALSE)","v":0},0]
[null,{"$f":"DataByMiles!C177","v":"----173"},{"$f":"DataByMiles!T177*VLOOKUP(DataByMiles!AE177,DataByMiles!$AT$5:$AU$6,2,FALSE)","v":0},null,null,0,{"$f":"C179*$G$2*VLOOKUP(DataByMiles!AE177,DataByMiles!$AT$5:$AU$6,2,FALSE)","v":0},{"$f":"DataByMiles!U177*VLOOKUP(DataByMiles!AE177,DataByMiles!$AT$5:$AU$6,2,FALSE)","v":0},null,null,0,{"$f":"H179*$L$2*VLOOKUP(DataByMiles!AE177,DataByMiles!$AT$5:$AU$6,2,FALSE)","v":0},{"$f":"DataByMiles!V177*VLOOKUP(DataByMiles!AE177,DataByMiles!$AT$5:$AU$6,2,FALSE)","v":0},null,null,{"$f":"M179*$P$2*VLOOKUP(DataByMiles!AE177,DataByMiles!$AT$5:$AU$6,2,FALSE)","v":0},{"$f":"DataByMiles!W177*VLOOKUP(DataByMiles!AE177,DataByMiles!$AT$5:$AU$6,2,FALSE)","v":0},null,null,{"$f":"Q179*$T$2*VLOOKUP(DataByMiles!AE177,DataByMiles!$AT$5:$AU$6,2,FALSE)","v":0},{"$f":"DataByMiles!X177*VLOOKUP(DataByMiles!AE177,DataByMiles!$AT$5:$AU$6,2,FALSE)","v":0},null,null,{"$f":"U179*$X$2*VLOOKUP(DataByMiles!AE177,DataByMiles!$AT$5:$AU$6,2,FALSE)","v":0},{"$f":"DataByMiles!Y177*VLOOKUP(DataByMiles!AE177,DataByMiles!$AT$5:$AU$6,2,FALSE)","v":0},{"$f":"DataByMiles!Z177","v":0},{"$f":"DataByMiles!AA177","v":0},null,null,{"$f":"(Y179/IF(Z179=0,$AD$1,Z179)*$AD$2)/IF(AA179=0,1,AA179)*VLOOKUP(DataByMiles!AE177,DataByMiles!$AT$5:$AU$6,2,FALSE)","v":0},"",0,0,{"$f":"(AF179+AG179)*VLOOKUP(DataByMiles!AE177,DataByMiles!$AT$5:$AU$6,2,FALSE)","v":0},0]
[null,{"$f":"DataByMiles!C178","v":"----174"},{"$f":"DataByMiles!T178*VLOOKUP(DataByMiles!AE178,DataByMiles!$AT$5:$AU$6,2,FALSE)","v":0},null,null,0,{"$f":"C180*$G$2*VLOOKUP(DataByMiles!AE178,DataByMiles!$AT$5:$AU$6,2,FALSE)","v":0},{"$f":"DataByMiles!U178*VLOOKUP(DataByMiles!AE178,DataByMiles!$AT$5:$AU$6,2,FALSE)","v":0},null,null,0,{"$f":"H180*$L$2*VLOOKUP(DataByMiles!AE178,DataByMiles!$AT$5:$AU$6,2,FALSE)","v":0},{"$f":"DataByMiles!V178*VLOOKUP(DataByMiles!AE178,DataByMiles!$AT$5:$AU$6,2,FALSE)","v":0},null,null,{"$f":"M180*$P$2*VLOOKUP(DataByMiles!AE178,DataByMiles!$AT$5:$AU$6,2,FALSE)","v":0},{"$f":"DataByMiles!W178*VLOOKUP(DataByMiles!AE178,DataByMiles!$AT$5:$AU$6,2,FALSE)","v":0},null,null,{"$f":"Q180*$T$2*VLOOKUP(DataByMiles!AE178,DataByMiles!$AT$5:$AU$6,2,FALSE)","v":0},{"$f":"DataByMiles!X178*VLOOKUP(DataByMiles!AE178,DataByMiles!$AT$5:$AU$6,2,FALSE)","v":0},null,null,{"$f":"U180*$X$2*VLOOKUP(DataByMiles!AE178,DataByMiles!$AT$5:$AU$6,2,FALSE)","v":0},{"$f":"DataByMiles!Y178*VLOOKUP(DataByMiles!AE178,DataByMiles!$AT$5:$AU$6,2,FALSE)","v":0},{"$f":"DataByMiles!Z178","v":0},{"$f":"DataByMiles!AA178","v":0},null,null,{"$f":"(Y180/IF(Z180=0,$AD$1,Z180)*$AD$2)/IF(AA180=0,1,AA180)*VLOOKUP(DataByMiles!AE178,DataByMiles!$AT$5:$AU$6,2,FALSE)","v":0},"",0,0,{"$f":"(AF180+AG180)*VLOOKUP(DataByMiles!AE178,DataByMiles!$AT$5:$AU$6,2,FALSE)","v":0},0]
[null,{"$f":"DataByMiles!C179","v":"----175"},{"$f":"DataByMiles!T179*VLOOKUP(DataByMiles!AE179,DataByMiles!$AT$5:$AU$6,2,FALSE)","v":0},null,null,0,{"$f":"C181*$G$2*VLOOKUP(DataByMiles!AE179,DataByMiles!$AT$5:$AU$6,2,FALSE)","v":0},{"$f":"DataByMiles!U179*VLOOKUP(DataByMiles!AE179,DataByMiles!$AT$5:$AU$6,2,FALSE)","v":0},null,null,0,{"$f":"H181*$L$2*VLOOKUP(DataByMiles!AE179,DataByMiles!$AT$5:$AU$6,2,FALSE)","v":0},{"$f":"DataByMiles!V179*VLOOKUP(DataByMiles!AE179,DataByMiles!$AT$5:$AU$6,2,FALSE)","v":0},null,null,{"$f":"M181*$P$2*VLOOKUP(DataByMiles!AE179,DataByMiles!$AT$5:$AU$6,2,FALSE)","v":0},{"$f":"DataByMiles!W179*VLOOKUP(DataByMiles!AE179,DataByMiles!$AT$5:$AU$6,2,FALSE)","v":0},null,null,{"$f":"Q181*$T$2*VLOOKUP(DataByMiles!AE179,DataByMiles!$AT$5:$AU$6,2,FALSE)","v":0},{"$f":"DataByMiles!X179*VLOOKUP(DataByMiles!AE179,DataByMiles!$AT$5:$AU$6,2,FALSE)","v":0},null,null,{"$f":"U181*$X$2*VLOOKUP(DataByMiles!AE179,DataByMiles!$AT$5:$AU$6,2,FALSE)","v":0},{"$f":"DataByMiles!Y179*VLOOKUP(DataByMiles!AE179,DataByMiles!$AT$5:$AU$6,2,FALSE)","v":0},{"$f":"DataByMiles!Z179","v":0},{"$f":"DataByMiles!AA179","v":0},null,null,{"$f":"(Y181/IF(Z181=0,$AD$1,Z181)*$AD$2)/IF(AA181=0,1,AA181)*VLOOKUP(DataByMiles!AE179,DataByMiles!$AT$5:$AU$6,2,FALSE)","v":0},"",0,0,{"$f":"(AF181+AG181)*VLOOKUP(DataByMiles!AE179,DataByMiles!$AT$5:$AU$6,2,FALSE)","v":0},0]
[null,{"$f":"DataByMiles!C180","v":"----176"},{"$f":"DataByMiles!T180*VLOOKUP(DataByMiles!AE180,DataByMiles!$AT$5:$AU$6,2,FALSE)","v":0},null,null,0,{"$f":"C182*$G$2*VLOOKUP(DataByMiles!AE180,DataByMiles!$AT$5:$AU$6,2,FALSE)","v":0},{"$f":"DataByMiles!U180*VLOOKUP(DataByMiles!AE180,DataByMiles!$AT$5:$AU$6,2,FALSE)","v":0},null,null,0,{"$f":"H182*$L$2*VLOOKUP(DataByMiles!AE180,DataByMiles!$AT$5:$AU$6,2,FALSE)","v":0},{"$f":"DataByMiles!V180*VLOOKUP(DataByMiles!AE180,DataByMiles!$AT$5:$AU$6,2,FALSE)","v":0},null,null,{"$f":"M182*$P$2*VLOOKUP(DataByMiles!AE180,DataByMiles!$AT$5:$AU$6,2,FALSE)","v":0},{"$f":"DataByMiles!W180*VLOOKUP(DataByMiles!AE180,DataByMiles!$AT$5:$AU$6,2,FALSE)","v":0},null,null,{"$f":"Q182*$T$2*VLOOKUP(DataByMiles!AE180,DataByMiles!$AT$5:$AU$6,2,FALSE)","v":0},{"$f":"DataByMiles!X180*VLOOKUP(DataByMiles!AE180,DataByMiles!$AT$5:$AU$6,2,FALSE)","v":0},null,null,{"$f":"U182*$X$2*VLOOKUP(DataByMiles!AE180,DataByMiles!$AT$5:$AU$6,2,FALSE)","v":0},{"$f":"DataByMiles!Y180*VLOOKUP(DataByMiles!AE180,DataByMiles!$AT$5:$AU$6,2,FALSE)","v":0},{"$f":"DataByMiles!Z180","v":0},{"$f":"DataByMiles!AA180","v":0},null,null,{"$f":"(Y182/IF(Z182=0,$AD$1,Z182)*$AD$2)/IF(AA182=0,1,AA182)*VLOOKUP(DataByMiles!AE180,DataByMiles!$AT$5:$AU$6,2,FALSE)","v":0},"",0,0,{"$f":"(AF182+AG182)*VLOOKUP(DataByMiles!AE180,DataByMiles!$AT$5:$AU$6,2,FALSE)","v":0},0]
[null,{"$f":"DataByMiles!C181","v":"----177"},{"$f":"DataByMiles!T181*VLOOKUP(DataByMiles!AE181,DataByMiles!$AT$5:$AU$6,2,FALSE)","v":0},null,null,0,{"$f":"C183*$G$2*VLOOKUP(DataByMiles!AE181,DataByMiles!$AT$5:$AU$6,2,FALSE)","v":0},{"$f":"DataByMiles!U181*VLOOKUP(DataByMiles!AE181,DataByMiles!$AT$5:$AU$6,2,FALSE)","v":0},null,null,0,{"$f":"H183*$L$2*VLOOKUP(DataByMiles!AE181,DataByMiles!$AT$5:$AU$6,2,FALSE)","v":0},{"$f":"DataByMiles!V181*VLOOKUP(DataByMiles!AE181,DataByMiles!$AT$5:$AU$6,2,FALSE)","v":0},null,null,{"$f":"M183*$P$2*VLOOKUP(DataByMiles!AE181,DataByMiles!$AT$5:$AU$6,2,FALSE)","v":0},{"$f":"DataByMiles!W181*VLOOKUP(DataByMiles!AE181,DataByMiles!$AT$5:$AU$6,2,FALSE)","v":0},null,null,{"$f":"Q183*$T$2*VLOOKUP(DataByMiles!AE181,DataByMiles!$AT$5:$AU$6,2,FALSE)","v":0},{"$f":"DataByMiles!X181*VLOOKUP(DataByMiles!AE181,DataByMiles!$AT$5:$AU$6,2,FALSE)","v":0},null,null,{"$f":"U183*$X$2*VLOOKUP(DataByMiles!AE181,DataByMiles!$AT$5:$AU$6,2,FALSE)","v":0},{"$f":"DataByMiles!Y181*VLOOKUP(DataByMiles!AE181,DataByMiles!$AT$5:$AU$6,2,FALSE)","v":0},{"$f":"DataByMiles!Z181","v":0},{"$f":"DataByMiles!AA181","v":0},null,null,{"$f":"(Y183/IF(Z183=0,$AD$1,Z183)*$AD$2)/IF(AA183=0,1,AA183)*VLOOKUP(DataByMiles!AE181,DataByMiles!$AT$5:$AU$6,2,FALSE)","v":0},"",0,0,{"$f":"(AF183+AG183)*VLOOKUP(DataByMiles!AE181,DataByMiles!$AT$5:$AU$6,2,FALSE)","v":0},0]
[null,{"$f":"DataByMiles!C182","v":"----178"},{"$f":"DataByMiles!T182*VLOOKUP(DataByMiles!AE182,DataByMiles!$AT$5:$AU$6,2,FALSE)","v":0},null,null,0,{"$f":"C184*$G$2*VLOOKUP(DataByMiles!AE182,DataByMiles!$AT$5:$AU$6,2,FALSE)","v":0},{"$f":"DataByMiles!U182*VLOOKUP(DataByMiles!AE182,DataByMiles!$AT$5:$AU$6,2,FALSE)","v":0},null,null,0,{"$f":"H184*$L$2*VLOOKUP(DataByMiles!AE182,DataByMiles!$AT$5:$AU$6,2,FALSE)","v":0},{"$f":"DataByMiles!V182*VLOOKUP(DataByMiles!AE182,DataByMiles!$AT$5:$AU$6,2,FALSE)","v":0},null,null,{"$f":"M184*$P$2*VLOOKUP(DataByMiles!AE182,DataByMiles!$AT$5:$AU$6,2,FALSE)","v":0},{"$f":"DataByMiles!W182*VLOOKUP(DataByMiles!AE182,DataByMiles!$AT$5:$AU$6,2,FALSE)","v":0},null,null,{"$f":"Q184*$T$2*VLOOKUP(DataByMiles!AE182,DataByMiles!$AT$5:$AU$6,2,FALSE)","v":0},{"$f":"DataByMiles!X182*VLOOKUP(DataByMiles!AE182,DataByMiles!$AT$5:$AU$6,2,FALSE)","v":0},null,null,{"$f":"U184*$X$2*VLOOKUP(DataByMiles!AE182,DataByMiles!$AT$5:$AU$6,2,FALSE)","v":0},{"$f":"DataByMiles!Y182*VLOOKUP(DataByMiles!AE182,DataByMiles!$AT$5:$AU$6,2,FALSE)","v":0},{"$f":"DataByMiles!Z182","v":0},{"$f":"DataByMiles!AA182","v":0},null,null,{"$f":"(Y184/IF(Z184=0,$AD$1,Z184)*$AD$2)/IF(AA184=0,1,AA184)*VLOOKUP(DataByMiles!AE182,DataByMiles!$AT$5:$AU$6,2,FALSE)","v":0},"",0,0,{"$f":"(AF184+AG184)*VLOOKUP(DataByMiles!AE182,DataByMiles!$AT$5:$AU$6,2,FALSE)","v":0},0]
[null,{"$f":"DataByMiles!C183","v":"----179"},{"$f":"DataByMiles!T183*VLOOKUP(DataByMiles!AE183,DataByMiles!$AT$5:$AU$6,2,FALSE)","v":0},null,null,0,{"$f":"C185*$G$2*VLOOKUP(DataByMiles!AE183,DataByMiles!$AT$5:$AU$6,2,FALSE)","v":0},{"$f":"DataByMiles!U183*VLOOKUP(DataByMiles!AE183,DataByMiles!$AT$5:$AU$6,2,FALSE)","v":0},null,null,0,{"$f":"H185*$L$2*VLOOKUP(DataByMiles!AE183,DataByMiles!$AT$5:$AU$6,2,FALSE)","v":0},{"$f":"DataByMiles!V183*VLOOKUP(DataByMiles!AE183,DataByMiles!$AT$5:$AU$6,2,FALSE)","v":0},null,null,{"$f":"M185*$P$2*VLOOKUP(DataByMiles!AE183,DataByMiles!$AT$5:$AU$6,2,FALSE)","v":0},{"$f":"DataByMiles!W183*VLOOKUP(DataByMiles!AE183,DataByMiles!$AT$5:$AU$6,2,FALSE)","v":0},null,null,{"$f":"Q185*$T$2*VLOOKUP(DataByMiles!AE183,DataByMiles!$AT$5:$AU$6,2,FALSE)","v":0},{"$f":"DataByMiles!X183*VLOOKUP(DataByMiles!AE183,DataByMiles!$AT$5:$AU$6,2,FALSE)","v":0},null,null,{"$f":"U185*$X$2*VLOOKUP(DataByMiles!AE183,DataByMiles!$AT$5:$AU$6,2,FALSE)","v":0},{"$f":"DataByMiles!Y183*VLOOKUP(DataByMiles!AE183,DataByMiles!$AT$5:$AU$6,2,FALSE)","v":0},{"$f":"DataByMiles!Z183","v":0},{"$f":"DataByMiles!AA183","v":0},null,null,{"$f":"(Y185/IF(Z185=0,$AD$1,Z185)*$AD$2)/IF(AA185=0,1,AA185)*VLOOKUP(DataByMiles!AE183,DataByMiles!$AT$5:$AU$6,2,FALSE)","v":0},"",0,0,{"$f":"(AF185+AG185)*VLOOKUP(DataByMiles!AE183,DataByMiles!$AT$5:$AU$6,2,FALSE)","v":0},0]
[null,{"$f":"DataByMiles!C184","v":"----180"},{"$f":"DataByMiles!T184*VLOOKUP(DataByMiles!AE184,DataByMiles!$AT$5:$AU$6,2,FALSE)","v":0},null,null,0,{"$f":"C186*$G$2*VLOOKUP(DataByMiles!AE184,DataByMiles!$AT$5:$AU$6,2,FALSE)","v":0},{"$f":"DataByMiles!U184*VLOOKUP(DataByMiles!AE184,DataByMiles!$AT$5:$AU$6,2,FALSE)","v":0},null,null,0,{"$f":"H186*$L$2*VLOOKUP(DataByMiles!AE184,DataByMiles!$AT$5:$AU$6,2,FALSE)","v":0},{"$f":"DataByMiles!V184*VLOOKUP(DataByMiles!AE184,DataByMiles!$AT$5:$AU$6,2,FALSE)","v":0},null,null,{"$f":"M186*$P$2*VLOOKUP(DataByMiles!AE184,DataByMiles!$AT$5:$AU$6,2,FALSE)","v":0},{"$f":"DataByMiles!W184*VLOOKUP(DataByMiles!AE184,DataByMiles!$AT$5:$AU$6,2,FALSE)","v":0},null,null,{"$f":"Q186*$T$2*VLOOKUP(DataByMiles!AE184,DataByMiles!$AT$5:$AU$6,2,FALSE)","v":0},{"$f":"DataByMiles!X184*VLOOKUP(DataByMiles!AE184,DataByMiles!$AT$5:$AU$6,2,FALSE)","v":0},null,null,{"$f":"U186*$X$2*VLOOKUP(DataByMiles!AE184,DataByMiles!$AT$5:$AU$6,2,FALSE)","v":0},{"$f":"DataByMiles!Y184*VLOOKUP(DataByMiles!AE184,DataByMiles!$AT$5:$AU$6,2,FALSE)","v":0},{"$f":"DataByMiles!Z184","v":0},{"$f":"DataByMiles!AA184","v":0},null,null,{"$f":"(Y186/IF(Z186=0,$AD$1,Z186)*$AD$2)/IF(AA186=0,1,AA186)*VLOOKUP(DataByMiles!AE184,DataByMiles!$AT$5:$AU$6,2,FALSE)","v":0},"",0,0,{"$f":"(AF186+AG186)*VLOOKUP(DataByMiles!AE184,DataByMiles!$AT$5:$AU$6,2,FALSE)","v":0},0]
[null,{"$f":"DataByMiles!C185","v":"----181"},{"$f":"DataByMiles!T185*VLOOKUP(DataByMiles!AE185,DataByMiles!$AT$5:$AU$6,2,FALSE)","v":0},null,null,0,{"$f":"C187*$G$2*VLOOKUP(DataByMiles!AE185,DataByMiles!$AT$5:$AU$6,2,FALSE)","v":0},{"$f":"DataByMiles!U185*VLOOKUP(DataByMiles!AE185,DataByMiles!$AT$5:$AU$6,2,FALSE)","v":0},null,null,0,{"$f":"H187*$L$2*VLOOKUP(DataByMiles!AE185,DataByMiles!$AT$5:$AU$6,2,FALSE)","v":0},{"$f":"DataByMiles!V185*VLOOKUP(DataByMiles!AE185,DataByMiles!$AT$5:$AU$6,2,FALSE)","v":0},null,null,{"$f":"M187*$P$2*VLOOKUP(DataByMiles!AE185,DataByMiles!$AT$5:$AU$6,2,FALSE)","v":0},{"$f":"DataByMiles!W185*VLOOKUP(DataByMiles!AE185,DataByMiles!$AT$5:$AU$6,2,FALSE)","v":0},null,null,{"$f":"Q187*$T$2*VLOOKUP(DataByMiles!AE185,DataByMiles!$AT$5:$AU$6,2,FALSE)","v":0},{"$f":"DataByMiles!X185*VLOOKUP(DataByMiles!AE185,DataByMiles!$AT$5:$AU$6,2,FALSE)","v":0},null,null,{"$f":"U187*$X$2*VLOOKUP(DataByMiles!AE185,DataByMiles!$AT$5:$AU$6,2,FALSE)","v":0},{"$f":"DataByMiles!Y185*VLOOKUP(DataByMiles!AE185,DataByMiles!$AT$5:$AU$6,2,FALSE)","v":0},{"$f":"DataByMiles!Z185","v":0},{"$f":"DataByMiles!AA185","v":0},null,null,{"$f":"(Y187/IF(Z187=0,$AD$1,Z187)*$AD$2)/IF(AA187=0,1,AA187)*VLOOKUP(DataByMiles!AE185,DataByMiles!$AT$5:$AU$6,2,FALSE)","v":0},"",0,0,{"$f":"(AF187+AG187)*VLOOKUP(DataByMiles!AE185,DataByMiles!$AT$5:$AU$6,2,FALSE)","v":0},0]
[null,{"$f":"DataByMiles!C186","v":"----182"},{"$f":"DataByMiles!T186*VLOOKUP(DataByMiles!AE186,DataByMiles!$AT$5:$AU$6,2,FALSE)","v":0},null,null,0,{"$f":"C188*$G$2*VLOOKUP(DataByMiles!AE186,DataByMiles!$AT$5:$AU$6,2,FALSE)","v":0},{"$f":"DataByMiles!U186*VLOOKUP(DataByMiles!AE186,DataByMiles!$AT$5:$AU$6,2,FALSE)","v":0},null,null,0,{"$f":"H188*$L$2*VLOOKUP(DataByMiles!AE186,DataByMiles!$AT$5:$AU$6,2,FALSE)","v":0},{"$f":"DataByMiles!V186*VLOOKUP(DataByMiles!AE186,DataByMiles!$AT$5:$AU$6,2,FALSE)","v":0},null,null,{"$f":"M188*$P$2*VLOOKUP(DataByMiles!AE186,DataByMiles!$AT$5:$AU$6,2,FALSE)","v":0},{"$f":"DataByMiles!W186*VLOOKUP(DataByMiles!AE186,DataByMiles!$AT$5:$AU$6,2,FALSE)","v":0},null,null,{"$f":"Q188*$T$2*VLOOKUP(DataByMiles!AE186,DataByMiles!$AT$5:$AU$6,2,FALSE)","v":0},{"$f":"DataByMiles!X186*VLOOKUP(DataByMiles!AE186,DataByMiles!$AT$5:$AU$6,2,FALSE)","v":0},null,null,{"$f":"U188*$X$2*VLOOKUP(DataByMiles!AE186,DataByMiles!$AT$5:$AU$6,2,FALSE)","v":0},{"$f":"DataByMiles!Y186*VLOOKUP(DataByMiles!AE186,DataByMiles!$AT$5:$AU$6,2,FALSE)","v":0},{"$f":"DataByMiles!Z186","v":0},{"$f":"DataByMiles!AA186","v":0},null,null,{"$f":"(Y188/IF(Z188=0,$AD$1,Z188)*$AD$2)/IF(AA188=0,1,AA188)*VLOOKUP(DataByMiles!AE186,DataByMiles!$AT$5:$AU$6,2,FALSE)","v":0},"",0,0,{"$f":"(AF188+AG188)*VLOOKUP(DataByMiles!AE186,DataByMiles!$AT$5:$AU$6,2,FALSE)","v":0},0]
[null,{"$f":"DataByMiles!C187","v":"----183"},{"$f":"DataByMiles!T187*VLOOKUP(DataByMiles!AE187,DataByMiles!$AT$5:$AU$6,2,FALSE)","v":0},null,null,0,{"$f":"C189*$G$2*VLOOKUP(DataByMiles!AE187,DataByMiles!$AT$5:$AU$6,2,FALSE)","v":0},{"$f":"DataByMiles!U187*VLOOKUP(DataByMiles!AE187,DataByMiles!$AT$5:$AU$6,2,FALSE)","v":0},null,null,0,{"$f":"H189*$L$2*VLOOKUP(DataByMiles!AE187,DataByMiles!$AT$5:$AU$6,2,FALSE)","v":0},{"$f":"DataByMiles!V187*VLOOKUP(DataByMiles!AE187,DataByMiles!$AT$5:$AU$6,2,FALSE)","v":0},null,null,{"$f":"M189*$P$2*VLOOKUP(DataByMiles!AE187,DataByMiles!$AT$5:$AU$6,2,FALSE)","v":0},{"$f":"DataByMiles!W187*VLOOKUP(DataByMiles!AE187,DataByMiles!$AT$5:$AU$6,2,FALSE)","v":0},null,null,{"$f":"Q189*$T$2*VLOOKUP(DataByMiles!AE187,DataByMiles!$AT$5:$AU$6,2,FALSE)","v":0},{"$f":"DataByMiles!X187*VLOOKUP(DataByMiles!AE187,DataByMiles!$AT$5:$AU$6,2,FALSE)","v":0},null,null,{"$f":"U189*$X$2*VLOOKUP(DataByMiles!AE187,DataByMiles!$AT$5:$AU$6,2,FALSE)","v":0},{"$f":"DataByMiles!Y187*VLOOKUP(DataByMiles!AE187,DataByMiles!$AT$5:$AU$6,2,FALSE)","v":0},{"$f":"DataByMiles!Z187","v":0},{"$f":"DataByMiles!AA187","v":0},null,null,{"$f":"(Y189/IF(Z189=0,$AD$1,Z189)*$AD$2)/IF(AA189=0,1,AA189)*VLOOKUP(DataByMiles!AE187,DataByMiles!$AT$5:$AU$6,2,FALSE)","v":0},"",0,0,{"$f":"(AF189+AG189)*VLOOKUP(DataByMiles!AE187,DataByMiles!$AT$5:$AU$6,2,FALSE)","v":0},0]
[null,{"$f":"DataByMiles!C188","v":"----184"},{"$f":"DataByMiles!T188*VLOOKUP(DataByMiles!AE188,DataByMiles!$AT$5:$AU$6,2,FALSE)","v":0},null,null,0,{"$f":"C190*$G$2*VLOOKUP(DataByMiles!AE188,DataByMiles!$AT$5:$AU$6,2,FALSE)","v":0},{"$f":"DataByMiles!U188*VLOOKUP(DataByMiles!AE188,DataByMiles!$AT$5:$AU$6,2,FALSE)","v":0},null,null,0,{"$f":"H190*$L$2*VLOOKUP(DataByMiles!AE188,DataByMiles!$AT$5:$AU$6,2,FALSE)","v":0},{"$f":"DataByMiles!V188*VLOOKUP(DataByMiles!AE188,DataByMiles!$AT$5:$AU$6,2,FALSE)","v":0},null,null,{"$f":"M190*$P$2*VLOOKUP(DataByMiles!AE188,DataByMiles!$AT$5:$AU$6,2,FALSE)","v":0},{"$f":"DataByMiles!W188*VLOOKUP(DataByMiles!AE188,DataByMiles!$AT$5:$AU$6,2,FALSE)","v":0},null,null,{"$f":"Q190*$T$2*VLOOKUP(DataByMiles!AE188,DataByMiles!$AT$5:$AU$6,2,FALSE)","v":0},{"$f":"DataByMiles!X188*VLOOKUP(DataByMiles!AE188,DataByMiles!$AT$5:$AU$6,2,FALSE)","v":0},null,null,{"$f":"U190*$X$2*VLOOKUP(DataByMiles!AE188,DataByMiles!$AT$5:$AU$6,2,FALSE)","v":0},{"$f":"DataByMiles!Y188*VLOOKUP(DataByMiles!AE188,DataByMiles!$AT$5:$AU$6,2,FALSE)","v":0},{"$f":"DataByMiles!Z188","v":0},{"$f":"DataByMiles!AA188","v":0},null,null,{"$f":"(Y190/IF(Z190=0,$AD$1,Z190)*$AD$2)/IF(AA190=0,1,AA190)*VLOOKUP(DataByMiles!AE188,DataByMiles!$AT$5:$AU$6,2,FALSE)","v":0},"",0,0,{"$f":"(AF190+AG190)*VLOOKUP(DataByMiles!AE188,DataByMiles!$AT$5:$AU$6,2,FALSE)","v":0},0]
[null,{"$f":"DataByMiles!C189","v":"----185"},{"$f":"DataByMiles!T189*VLOOKUP(DataByMiles!AE189,DataByMiles!$AT$5:$AU$6,2,FALSE)","v":0},null,null,0,{"$f":"C191*$G$2*VLOOKUP(DataByMiles!AE189,DataByMiles!$AT$5:$AU$6,2,FALSE)","v":0},{"$f":"DataByMiles!U189*VLOOKUP(DataByMiles!AE189,DataByMiles!$AT$5:$AU$6,2,FALSE)","v":0},null,null,0,{"$f":"H191*$L$2*VLOOKUP(DataByMiles!AE189,DataByMiles!$AT$5:$AU$6,2,FALSE)","v":0},{"$f":"DataByMiles!V189*VLOOKUP(DataByMiles!AE189,DataByMiles!$AT$5:$AU$6,2,FALSE)","v":0},null,null,{"$f":"M191*$P$2*VLOOKUP(DataByMiles!AE189,DataByMiles!$AT$5:$AU$6,2,FALSE)","v":0},{"$f":"DataByMiles!W189*VLOOKUP(DataByMiles!AE189,DataByMiles!$AT$5:$AU$6,2,FALSE)","v":0},null,null,{"$f":"Q191*$T$2*VLOOKUP(DataByMiles!AE189,DataByMiles!$AT$5:$AU$6,2,FALSE)","v":0},{"$f":"DataByMiles!X189*VLOOKUP(DataByMiles!AE189,DataByMiles!$AT$5:$AU$6,2,FALSE)","v":0},null,null,{"$f":"U191*$X$2*VLOOKUP(DataByMiles!AE189,DataByMiles!$AT$5:$AU$6,2,FALSE)","v":0},{"$f":"DataByMiles!Y189*VLOOKUP(DataByMiles!AE189,DataByMiles!$AT$5:$AU$6,2,FALSE)","v":0},{"$f":"DataByMiles!Z189","v":0},{"$f":"DataByMiles!AA189","v":0},null,null,{"$f":"(Y191/IF(Z191=0,$AD$1,Z191)*$AD$2)/IF(AA191=0,1,AA191)*VLOOKUP(DataByMiles!AE189,DataByMiles!$AT$5:$AU$6,2,FALSE)","v":0},"",0,0,{"$f":"(AF191+AG191)*VLOOKUP(DataByMiles!AE189,DataByMiles!$AT$5:$AU$6,2,FALSE)","v":0},0]
[null,{"$f":"DataByMiles!C190","v":"----186"},{"$f":"DataByMiles!T190*VLOOKUP(DataByMiles!AE190,DataByMiles!$AT$5:$AU$6,2,FALSE)","v":0},null,null,0,{"$f":"C192*$G$2*VLOOKUP(DataByMiles!AE190,DataByMiles!$AT$5:$AU$6,2,FALSE)","v":0},{"$f":"DataByMiles!U190*VLOOKUP(DataByMiles!AE190,DataByMiles!$AT$5:$AU$6,2,FALSE)","v":0},null,null,0,{"$f":"H192*$L$2*VLOOKUP(DataByMiles!AE190,DataByMiles!$AT$5:$AU$6,2,FALSE)","v":0},{"$f":"DataByMiles!V190*VLOOKUP(DataByMiles!AE190,DataByMiles!$AT$5:$AU$6,2,FALSE)","v":0},null,null,{"$f":"M192*$P$2*VLOOKUP(DataByMiles!AE190,DataByMiles!$AT$5:$AU$6,2,FALSE)","v":0},{"$f":"DataByMiles!W190*VLOOKUP(DataByMiles!AE190,DataByMiles!$AT$5:$AU$6,2,FALSE)","v":0},null,null,{"$f":"Q192*$T$2*VLOOKUP(DataByMiles!AE190,DataByMiles!$AT$5:$AU$6,2,FALSE)","v":0},{"$f":"DataByMiles!X190*VLOOKUP(DataByMiles!AE190,DataByMiles!$AT$5:$AU$6,2,FALSE)","v":0},null,null,{"$f":"U192*$X$2*VLOOKUP(DataByMiles!AE190,DataByMiles!$AT$5:$AU$6,2,FALSE)","v":0},{"$f":"DataByMiles!Y190*VLOOKUP(DataByMiles!AE190,DataByMiles!$AT$5:$AU$6,2,FALSE)","v":0},{"$f":"DataByMiles!Z190","v":0},{"$f":"DataByMiles!AA190","v":0},null,null,{"$f":"(Y192/IF(Z192=0,$AD$1,Z192)*$AD$2)/IF(AA192=0,1,AA192)*VLOOKUP(DataByMiles!AE190,DataByMiles!$AT$5:$AU$6,2,FALSE)","v":0},"",0,0,{"$f":"(AF192+AG192)*VLOOKUP(DataByMiles!AE190,DataByMiles!$AT$5:$AU$6,2,FALSE)","v":0},0]
[null,{"$f":"DataByMiles!C191","v":"----187"},{"$f":"DataByMiles!T191*VLOOKUP(DataByMiles!AE191,DataByMiles!$AT$5:$AU$6,2,FALSE)","v":0},null,null,0,{"$f":"C193*$G$2*VLOOKUP(DataByMiles!AE191,DataByMiles!$AT$5:$AU$6,2,FALSE)","v":0},{"$f":"DataByMiles!U191*VLOOKUP(DataByMiles!AE191,DataByMiles!$AT$5:$AU$6,2,FALSE)","v":0},null,null,0,{"$f":"H193*$L$2*VLOOKUP(DataByMiles!AE191,DataByMiles!$AT$5:$AU$6,2,FALSE)","v":0},{"$f":"DataByMiles!V191*VLOOKUP(DataByMiles!AE191,DataByMiles!$AT$5:$AU$6,2,FALSE)","v":0},null,null,{"$f":"M193*$P$2*VLOOKUP(DataByMiles!AE191,DataByMiles!$AT$5:$AU$6,2,FALSE)","v":0},{"$f":"DataByMiles!W191*VLOOKUP(DataByMiles!AE191,DataByMiles!$AT$5:$AU$6,2,FALSE)","v":0},null,null,{"$f":"Q193*$T$2*VLOOKUP(DataByMiles!AE191,DataByMiles!$AT$5:$AU$6,2,FALSE)","v":0},{"$f":"DataByMiles!X191*VLOOKUP(DataByMiles!AE191,DataByMiles!$AT$5:$AU$6,2,FALSE)","v":0},null,null,{"$f":"U193*$X$2*VLOOKUP(DataByMiles!AE191,DataByMiles!$AT$5:$AU$6,2,FALSE)","v":0},{"$f":"DataByMiles!Y191*VLOOKUP(DataByMiles!AE191,DataByMiles!$AT$5:$AU$6,2,FALSE)","v":0},{"$f":"DataByMiles!Z191","v":0},{"$f":"DataByMiles!AA191","v":0},null,null,{"$f":"(Y193/IF(Z193=0,$AD$1,Z193)*$AD$2)/IF(AA193=0,1,AA193)*VLOOKUP(DataByMiles!AE191,DataByMiles!$AT$5:$AU$6,2,FALSE)","v":0},"",0,0,{"$f":"(AF193+AG193)*VLOOKUP(DataByMiles!AE191,DataByMiles!$AT$5:$AU$6,2,FALSE)","v":0},0]
[null,{"$f":"DataByMiles!C192","v":"----188"},{"$f":"DataByMiles!T192*VLOOKUP(DataByMiles!AE192,DataByMiles!$AT$5:$AU$6,2,FALSE)","v":0},null,null,0,{"$f":"C194*$G$2*VLOOKUP(DataByMiles!AE192,DataByMiles!$AT$5:$AU$6,2,FALSE)","v":0},{"$f":"DataByMiles!U192*VLOOKUP(DataByMiles!AE192,DataByMiles!$AT$5:$AU$6,2,FALSE)","v":0},null,null,0,{"$f":"H194*$L$2*VLOOKUP(DataByMiles!AE192,DataByMiles!$AT$5:$AU$6,2,FALSE)","v":0},{"$f":"DataByMiles!V192*VLOOKUP(DataByMiles!AE192,DataByMiles!$AT$5:$AU$6,2,FALSE)","v":0},null,null,{"$f":"M194*$P$2*VLOOKUP(DataByMiles!AE192,DataByMiles!$AT$5:$AU$6,2,FALSE)","v":0},{"$f":"DataByMiles!W192*VLOOKUP(DataByMiles!AE192,DataByMiles!$AT$5:$AU$6,2,FALSE)","v":0},null,null,{"$f":"Q194*$T$2*VLOOKUP(DataByMiles!AE192,DataByMiles!$AT$5:$AU$6,2,FALSE)","v":0},{"$f":"DataByMiles!X192*VLOOKUP(DataByMiles!AE192,DataByMiles!$AT$5:$AU$6,2,FALSE)","v":0},null,null,{"$f":"U194*$X$2*VLOOKUP(DataByMiles!AE192,DataByMiles!$AT$5:$AU$6,2,FALSE)","v":0},{"$f":"DataByMiles!Y192*VLOOKUP(DataByMiles!AE192,DataByMiles!$AT$5:$AU$6,2,FALSE)","v":0},{"$f":"DataByMiles!Z192","v":0},{"$f":"DataByMiles!AA192","v":0},null,null,{"$f":"(Y194/IF(Z194=0,$AD$1,Z194)*$AD$2)/IF(AA194=0,1,AA194)*VLOOKUP(DataByMiles!AE192,DataByMiles!$AT$5:$AU$6,2,FALSE)","v":0},"",0,0,{"$f":"(AF194+AG194)*VLOOKUP(DataByMiles!AE192,DataByMiles!$AT$5:$AU$6,2,FALSE)","v":0},0]
[null,{"$f":"DataByMiles!C193","v":"----189"},{"$f":"DataByMiles!T193*VLOOKUP(DataByMiles!AE193,DataByMiles!$AT$5:$AU$6,2,FALSE)","v":0},null,null,0,{"$f":"C195*$G$2*VLOOKUP(DataByMiles!AE193,DataByMiles!$AT$5:$AU$6,2,FALSE)","v":0},{"$f":"DataByMiles!U193*VLOOKUP(DataByMiles!AE193,DataByMiles!$AT$5:$AU$6,2,FALSE)","v":0},null,null,0,{"$f":"H195*$L$2*VLOOKUP(DataByMiles!AE193,DataByMiles!$AT$5:$AU$6,2,FALSE)","v":0},{"$f":"DataByMiles!V193*VLOOKUP(DataByMiles!AE193,DataByMiles!$AT$5:$AU$6,2,FALSE)","v":0},null,null,{"$f":"M195*$P$2*VLOOKUP(DataByMiles!AE193,DataByMiles!$AT$5:$AU$6,2,FALSE)","v":0},{"$f":"DataByMiles!W193*VLOOKUP(DataByMiles!AE193,DataByMiles!$AT$5:$AU$6,2,FALSE)","v":0},null,null,{"$f":"Q195*$T$2*VLOOKUP(DataByMiles!AE193,DataByMiles!$AT$5:$AU$6,2,FALSE)","v":0},{"$f":"DataByMiles!X193*VLOOKUP(DataByMiles!AE193,DataByMiles!$AT$5:$AU$6,2,FALSE)","v":0},null,null,{"$f":"U195*$X$2*VLOOKUP(DataByMiles!AE193,DataByMiles!$AT$5:$AU$6,2,FALSE)","v":0},{"$f":"DataByMiles!Y193*VLOOKUP(DataByMiles!AE193,DataByMiles!$AT$5:$AU$6,2,FALSE)","v":0},{"$f":"DataByMiles!Z193","v":0},{"$f":"DataByMiles!AA193","v":0},null,null,{"$f":"(Y195/IF(Z195=0,$AD$1,Z195)*$AD$2)/IF(AA195=0,1,AA195)*VLOOKUP(DataByMiles!AE193,DataByMiles!$AT$5:$AU$6,2,FALSE)","v":0},"",0,0,{"$f":"(AF195+AG195)*VLOOKUP(DataByMiles!AE193,DataByMiles!$AT$5:$AU$6,2,FALSE)","v":0},0]
[null,{"$f":"DataByMiles!C194","v":"----190"},{"$f":"DataByMiles!T194*VLOOKUP(DataByMiles!AE194,DataByMiles!$AT$5:$AU$6,2,FALSE)","v":0},null,null,0,{"$f":"C196*$G$2*VLOOKUP(DataByMiles!AE194,DataByMiles!$AT$5:$AU$6,2,FALSE)","v":0},{"$f":"DataByMiles!U194*VLOOKUP(DataByMiles!AE194,DataByMiles!$AT$5:$AU$6,2,FALSE)","v":0},null,null,0,{"$f":"H196*$L$2*VLOOKUP(DataByMiles!AE194,DataByMiles!$AT$5:$AU$6,2,FALSE)","v":0},{"$f":"DataByMiles!V194*VLOOKUP(DataByMiles!AE194,DataByMiles!$AT$5:$AU$6,2,FALSE)","v":0},null,null,{"$f":"M196*$P$2*VLOOKUP(DataByMiles!AE194,DataByMiles!$AT$5:$AU$6,2,FALSE)","v":0},{"$f":"DataByMiles!W194*VLOOKUP(DataByMiles!AE194,DataByMiles!$AT$5:$AU$6,2,FALSE)","v":0},null,null,{"$f":"Q196*$T$2*VLOOKUP(DataByMiles!AE194,DataByMiles!$AT$5:$AU$6,2,FALSE)","v":0},{"$f":"DataByMiles!X194*VLOOKUP(DataByMiles!AE194,DataByMiles!$AT$5:$AU$6,2,FALSE)","v":0},null,null,{"$f":"U196*$X$2*VLOOKUP(DataByMiles!AE194,DataByMiles!$AT$5:$AU$6,2,FALSE)","v":0},{"$f":"DataByMiles!Y194*VLOOKUP(DataByMiles!AE194,DataByMiles!$AT$5:$AU$6,2,FALSE)","v":0},{"$f":"DataByMiles!Z194","v":0},{"$f":"DataByMiles!AA194","v":0},null,null,{"$f":"(Y196/IF(Z196=0,$AD$1,Z196)*$AD$2)/IF(AA196=0,1,AA196)*VLOOKUP(DataByMiles!AE194,DataByMiles!$AT$5:$AU$6,2,FALSE)","v":0},"",0,0,{"$f":"(AF196+AG196)*VLOOKUP(DataByMiles!AE194,DataByMiles!$AT$5:$AU$6,2,FALSE)","v":0},0]
[null,{"$f":"DataByMiles!C195","v":"----191"},{"$f":"DataByMiles!T195*VLOOKUP(DataByMiles!AE195,DataByMiles!$AT$5:$AU$6,2,FALSE)","v":0},null,null,0,{"$f":"C197*$G$2*VLOOKUP(DataByMiles!AE195,DataByMiles!$AT$5:$AU$6,2,FALSE)","v":0},{"$f":"DataByMiles!U195*VLOOKUP(DataByMiles!AE195,DataByMiles!$AT$5:$AU$6,2,FALSE)","v":0},null,null,0,{"$f":"H197*$L$2*VLOOKUP(DataByMiles!AE195,DataByMiles!$AT$5:$AU$6,2,FALSE)","v":0},{"$f":"DataByMiles!V195*VLOOKUP(DataByMiles!AE195,DataByMiles!$AT$5:$AU$6,2,FALSE)","v":0},null,null,{"$f":"M197*$P$2*VLOOKUP(DataByMiles!AE195,DataByMiles!$AT$5:$AU$6,2,FALSE)","v":0},{"$f":"DataByMiles!W195*VLOOKUP(DataByMiles!AE195,DataByMiles!$AT$5:$AU$6,2,FALSE)","v":0},null,null,{"$f":"Q197*$T$2*VLOOKUP(DataByMiles!AE195,DataByMiles!$AT$5:$AU$6,2,FALSE)","v":0},{"$f":"DataByMiles!X195*VLOOKUP(DataByMiles!AE195,DataByMiles!$AT$5:$AU$6,2,FALSE)","v":0},null,null,{"$f":"U197*$X$2*VLOOKUP(DataByMiles!AE195,DataByMiles!$AT$5:$AU$6,2,FALSE)","v":0},{"$f":"DataByMiles!Y195*VLOOKUP(DataByMiles!AE195,DataByMiles!$AT$5:$AU$6,2,FALSE)","v":0},{"$f":"DataByMiles!Z195","v":0},{"$f":"DataByMiles!AA195","v":0},null,null,{"$f":"(Y197/IF(Z197=0,$AD$1,Z197)*$AD$2)/IF(AA197=0,1,AA197)*VLOOKUP(DataByMiles!AE195,DataByMiles!$AT$5:$AU$6,2,FALSE)","v":0},"",0,0,{"$f":"(AF197+AG197)*VLOOKUP(DataByMiles!AE195,DataByMiles!$AT$5:$AU$6,2,FALSE)","v":0},0]
[null,{"$f":"DataByMiles!C196","v":"----192"},{"$f":"DataByMiles!T196*VLOOKUP(DataByMiles!AE196,DataByMiles!$AT$5:$AU$6,2,FALSE)","v":0},null,null,0,{"$f":"C198*$G$2*VLOOKUP(DataByMiles!AE196,DataByMiles!$AT$5:$AU$6,2,FALSE)","v":0},{"$f":"DataByMiles!U196*VLOOKUP(DataByMiles!AE196,DataByMiles!$AT$5:$AU$6,2,FALSE)","v":0},null,null,0,{"$f":"H198*$L$2*VLOOKUP(DataByMiles!AE196,DataByMiles!$AT$5:$AU$6,2,FALSE)","v":0},{"$f":"DataByMiles!V196*VLOOKUP(DataByMiles!AE196,DataByMiles!$AT$5:$AU$6,2,FALSE)","v":0},null,null,{"$f":"M198*$P$2*VLOOKUP(DataByMiles!AE196,DataByMiles!$AT$5:$AU$6,2,FALSE)","v":0},{"$f":"DataByMiles!W196*VLOOKUP(DataByMiles!AE196,DataByMiles!$AT$5:$AU$6,2,FALSE)","v":0},null,null,{"$f":"Q198*$T$2*VLOOKUP(DataByMiles!AE196,DataByMiles!$AT$5:$AU$6,2,FALSE)","v":0},{"$f":"DataByMiles!X196*VLOOKUP(DataByMiles!AE196,DataByMiles!$AT$5:$AU$6,2,FALSE)","v":0},null,null,{"$f":"U198*$X$2*VLOOKUP(DataByMiles!AE196,DataByMiles!$AT$5:$AU$6,2,FALSE)","v":0},{"$f":"DataByMiles!Y196*VLOOKUP(DataByMiles!AE196,DataByMiles!$AT$5:$AU$6,2,FALSE)","v":0},{"$f":"DataByMiles!Z196","v":0},{"$f":"DataByMiles!AA196","v":0},null,null,{"$f":"(Y198/IF(Z198=0,$AD$1,Z198)*$AD$2)/IF(AA198=0,1,AA198)*VLOOKUP(DataByMiles!AE196,DataByMiles!$AT$5:$AU$6,2,FALSE)","v":0},"",0,0,{"$f":"(AF198+AG198)*VLOOKUP(DataByMiles!AE196,DataByMiles!$AT$5:$AU$6,2,FALSE)","v":0},0]
[null,{"$f":"DataByMiles!C197","v":"----193"},{"$f":"DataByMiles!T197*VLOOKUP(DataByMiles!AE197,DataByMiles!$AT$5:$AU$6,2,FALSE)","v":0},null,null,0,{"$f":"C199*$G$2*VLOOKUP(DataByMiles!AE197,DataByMiles!$AT$5:$AU$6,2,FALSE)","v":0},{"$f":"DataByMiles!U197*VLOOKUP(DataByMiles!AE197,DataByMiles!$AT$5:$AU$6,2,FALSE)","v":0},null,null,0,{"$f":"H199*$L$2*VLOOKUP(DataByMiles!AE197,DataByMiles!$AT$5:$AU$6,2,FALSE)","v":0},{"$f":"DataByMiles!V197*VLOOKUP(DataByMiles!AE197,DataByMiles!$AT$5:$AU$6,2,FALSE)","v":0},null,null,{"$f":"M199*$P$2*VLOOKUP(DataByMiles!AE197,DataByMiles!$AT$5:$AU$6,2,FALSE)","v":0},{"$f":"DataByMiles!W197*VLOOKUP(DataByMiles!AE197,DataByMiles!$AT$5:$AU$6,2,FALSE)","v":0},null,null,{"$f":"Q199*$T$2*VLOOKUP(DataByMiles!AE197,DataByMiles!$AT$5:$AU$6,2,FALSE)","v":0},{"$f":"DataByMiles!X197*VLOOKUP(DataByMiles!AE197,DataByMiles!$AT$5:$AU$6,2,FALSE)","v":0},null,null,{"$f":"U199*$X$2*VLOOKUP(DataByMiles!AE197,DataByMiles!$AT$5:$AU$6,2,FALSE)","v":0},{"$f":"DataByMiles!Y197*VLOOKUP(DataByMiles!AE197,DataByMiles!$AT$5:$AU$6,2,FALSE)","v":0},{"$f":"DataByMiles!Z197","v":0},{"$f":"DataByMiles!AA197","v":0},null,null,{"$f":"(Y199/IF(Z199=0,$AD$1,Z199)*$AD$2)/IF(AA199=0,1,AA199)*VLOOKUP(DataByMiles!AE197,DataByMiles!$AT$5:$AU$6,2,FALSE)","v":0},"",0,0,{"$f":"(AF199+AG199)*VLOOKUP(DataByMiles!AE197,DataByMiles!$AT$5:$AU$6,2,FALSE)","v":0},0]
[null,{"$f":"DataByMiles!C198","v":"----194"},{"$f":"DataByMiles!T198*VLOOKUP(DataByMiles!AE198,DataByMiles!$AT$5:$AU$6,2,FALSE)","v":0},null,null,0,{"$f":"C200*$G$2*VLOOKUP(DataByMiles!AE198,DataByMiles!$AT$5:$AU$6,2,FALSE)","v":0},{"$f":"DataByMiles!U198*VLOOKUP(DataByMiles!AE198,DataByMiles!$AT$5:$AU$6,2,FALSE)","v":0},null,null,0,{"$f":"H200*$L$2*VLOOKUP(DataByMiles!AE198,DataByMiles!$AT$5:$AU$6,2,FALSE)","v":0},{"$f":"DataByMiles!V198*VLOOKUP(DataByMiles!AE198,DataByMiles!$AT$5:$AU$6,2,FALSE)","v":0},null,null,{"$f":"M200*$P$2*VLOOKUP(DataByMiles!AE198,DataByMiles!$AT$5:$AU$6,2,FALSE)","v":0},{"$f":"DataByMiles!W198*VLOOKUP(DataByMiles!AE198,DataByMiles!$AT$5:$AU$6,2,FALSE)","v":0},null,null,{"$f":"Q200*$T$2*VLOOKUP(DataByMiles!AE198,DataByMiles!$AT$5:$AU$6,2,FALSE)","v":0},{"$f":"DataByMiles!X198*VLOOKUP(DataByMiles!AE198,DataByMiles!$AT$5:$AU$6,2,FALSE)","v":0},null,null,{"$f":"U200*$X$2*VLOOKUP(DataByMiles!AE198,DataByMiles!$AT$5:$AU$6,2,FALSE)","v":0},{"$f":"DataByMiles!Y198*VLOOKUP(DataByMiles!AE198,DataByMiles!$AT$5:$AU$6,2,FALSE)","v":0},{"$f":"DataByMiles!Z198","v":0},{"$f":"DataByMiles!AA198","v":0},null,null,{"$f":"(Y200/IF(Z200=0,$AD$1,Z200)*$AD$2)/IF(AA200=0,1,AA200)*VLOOKUP(DataByMiles!AE198,DataByMiles!$AT$5:$AU$6,2,FALSE)","v":0},"",0,0,{"$f":"(AF200+AG200)*VLOOKUP(DataByMiles!AE198,DataByMiles!$AT$5:$AU$6,2,FALSE)","v":0},0]
[null,{"$f":"DataByMiles!C199","v":"----195"},{"$f":"DataByMiles!T199*VLOOKUP(DataByMiles!AE199,DataByMiles!$AT$5:$AU$6,2,FALSE)","v":0},null,null,0,{"$f":"C201*$G$2*VLOOKUP(DataByMiles!AE199,DataByMiles!$AT$5:$AU$6,2,FALSE)","v":0},{"$f":"DataByMiles!U199*VLOOKUP(DataByMiles!AE199,DataByMiles!$AT$5:$AU$6,2,FALSE)","v":0},null,null,0,{"$f":"H201*$L$2*VLOOKUP(DataByMiles!AE199,DataByMiles!$AT$5:$AU$6,2,FALSE)","v":0},{"$f":"DataByMiles!V199*VLOOKUP(DataByMiles!AE199,DataByMiles!$AT$5:$AU$6,2,FALSE)","v":0},null,null,{"$f":"M201*$P$2*VLOOKUP(DataByMiles!AE199,DataByMiles!$AT$5:$AU$6,2,FALSE)","v":0},{"$f":"DataByMiles!W199*VLOOKUP(DataByMiles!AE199,DataByMiles!$AT$5:$AU$6,2,FALSE)","v":0},null,null,{"$f":"Q201*$T$2*VLOOKUP(DataByMiles!AE199,DataByMiles!$AT$5:$AU$6,2,FALSE)","v":0},{"$f":"DataByMiles!X199*VLOOKUP(DataByMiles!AE199,DataByMiles!$AT$5:$AU$6,2,FALSE)","v":0},null,null,{"$f":"U201*$X$2*VLOOKUP(DataByMiles!AE199,DataByMiles!$AT$5:$AU$6,2,FALSE)","v":0},{"$f":"DataByMiles!Y199*VLOOKUP(DataByMiles!AE199,DataByMiles!$AT$5:$AU$6,2,FALSE)","v":0},{"$f":"DataByMiles!Z199","v":0},{"$f":"DataByMiles!AA199","v":0},null,null,{"$f":"(Y201/IF(Z201=0,$AD$1,Z201)*$AD$2)/IF(AA201=0,1,AA201)*VLOOKUP(DataByMiles!AE199,DataByMiles!$AT$5:$AU$6,2,FALSE)","v":0},"",0,0,{"$f":"(AF201+AG201)*VLOOKUP(DataByMiles!AE199,DataByMiles!$AT$5:$AU$6,2,FALSE)","v":0},0]
[null,{"$f":"DataByMiles!C200","v":"----196"},{"$f":"DataByMiles!T200*VLOOKUP(DataByMiles!AE200,DataByMiles!$AT$5:$AU$6,2,FALSE)","v":0},null,null,0,{"$f":"C202*$G$2*VLOOKUP(DataByMiles!AE200,DataByMiles!$AT$5:$AU$6,2,FALSE)","v":0},{"$f":"DataByMiles!U200*VLOOKUP(DataByMiles!AE200,DataByMiles!$AT$5:$AU$6,2,FALSE)","v":0},null,null,0,{"$f":"H202*$L$2*VLOOKUP(DataByMiles!AE200,DataByMiles!$AT$5:$AU$6,2,FALSE)","v":0},{"$f":"DataByMiles!V200*VLOOKUP(DataByMiles!AE200,DataByMiles!$AT$5:$AU$6,2,FALSE)","v":0},null,null,{"$f":"M202*$P$2*VLOOKUP(DataByMiles!AE200,DataByMiles!$AT$5:$AU$6,2,FALSE)","v":0},{"$f":"DataByMiles!W200*VLOOKUP(DataByMiles!AE200,DataByMiles!$AT$5:$AU$6,2,FALSE)","v":0},null,null,{"$f":"Q202*$T$2*VLOOKUP(DataByMiles!AE200,DataByMiles!$AT$5:$AU$6,2,FALSE)","v":0},{"$f":"DataByMiles!X200*VLOOKUP(DataByMiles!AE200,DataByMiles!$AT$5:$AU$6,2,FALSE)","v":0},null,null,{"$f":"U202*$X$2*VLOOKUP(DataByMiles!AE200,DataByMiles!$AT$5:$AU$6,2,FALSE)","v":0},{"$f":"DataByMiles!Y200*VLOOKUP(DataByMiles!AE200,DataByMiles!$AT$5:$AU$6,2,FALSE)","v":0},{"$f":"DataByMiles!Z200","v":0},{"$f":"DataByMiles!AA200","v":0},null,null,{"$f":"(Y202/IF(Z202=0,$AD$1,Z202)*$AD$2)/IF(AA202=0,1,AA202)*VLOOKUP(DataByMiles!AE200,DataByMiles!$AT$5:$AU$6,2,FALSE)","v":0},"",0,0,{"$f":"(AF202+AG202)*VLOOKUP(DataByMiles!AE200,DataByMiles!$AT$5:$AU$6,2,FALSE)","v":0},0]
[null,{"$f":"DataByMiles!C201","v":"----197"},{"$f":"DataByMiles!T201*VLOOKUP(DataByMiles!AE201,DataByMiles!$AT$5:$AU$6,2,FALSE)","v":0},null,null,0,{"$f":"C203*$G$2*VLOOKUP(DataByMiles!AE201,DataByMiles!$AT$5:$AU$6,2,FALSE)","v":0},{"$f":"DataByMiles!U201*VLOOKUP(DataByMiles!AE201,DataByMiles!$AT$5:$AU$6,2,FALSE)","v":0},null,null,0,{"$f":"H203*$L$2*VLOOKUP(DataByMiles!AE201,DataByMiles!$AT$5:$AU$6,2,FALSE)","v":0},{"$f":"DataByMiles!V201*VLOOKUP(DataByMiles!AE201,DataByMiles!$AT$5:$AU$6,2,FALSE)","v":0},null,null,{"$f":"M203*$P$2*VLOOKUP(DataByMiles!AE201,DataByMiles!$AT$5:$AU$6,2,FALSE)","v":0},{"$f":"DataByMiles!W201*VLOOKUP(DataByMiles!AE201,DataByMiles!$AT$5:$AU$6,2,FALSE)","v":0},null,null,{"$f":"Q203*$T$2*VLOOKUP(DataByMiles!AE201,DataByMiles!$AT$5:$AU$6,2,FALSE)","v":0},{"$f":"DataByMiles!X201*VLOOKUP(DataByMiles!AE201,DataByMiles!$AT$5:$AU$6,2,FALSE)","v":0},null,null,{"$f":"U203*$X$2*VLOOKUP(DataByMiles!AE201,DataByMiles!$AT$5:$AU$6,2,FALSE)","v":0},{"$f":"DataByMiles!Y201*VLOOKUP(DataByMiles!AE201,DataByMiles!$AT$5:$AU$6,2,FALSE)","v":0},{"$f":"DataByMiles!Z201","v":0},{"$f":"DataByMiles!AA201","v":0},null,null,{"$f":"(Y203/IF(Z203=0,$AD$1,Z203)*$AD$2)/IF(AA203=0,1,AA203)*VLOOKUP(DataByMiles!AE201,DataByMiles!$AT$5:$AU$6,2,FALSE)","v":0},"",0,0,{"$f":"(AF203+AG203)*VLOOKUP(DataByMiles!AE201,DataByMiles!$AT$5:$AU$6,2,FALSE)","v":0},0]
[null,{"$f":"DataByMiles!C202","v":"----198"},{"$f":"DataByMiles!T202*VLOOKUP(DataByMiles!AE202,DataByMiles!$AT$5:$AU$6,2,FALSE)","v":0},null,null,0,{"$f":"C204*$G$2*VLOOKUP(DataByMiles!AE202,DataByMiles!$AT$5:$AU$6,2,FALSE)","v":0},{"$f":"DataByMiles!U202*VLOOKUP(DataByMiles!AE202,DataByMiles!$AT$5:$AU$6,2,FALSE)","v":0},null,null,0,{"$f":"H204*$L$2*VLOOKUP(DataByMiles!AE202,DataByMiles!$AT$5:$AU$6,2,FALSE)","v":0},{"$f":"DataByMiles!V202*VLOOKUP(DataByMiles!AE202,DataByMiles!$AT$5:$AU$6,2,FALSE)","v":0},null,null,{"$f":"M204*$P$2*VLOOKUP(DataByMiles!AE202,DataByMiles!$AT$5:$AU$6,2,FALSE)","v":0},{"$f":"DataByMiles!W202*VLOOKUP(DataByMiles!AE202,DataByMiles!$AT$5:$AU$6,2,FALSE)","v":0},null,null,{"$f":"Q204*$T$2*VLOOKUP(DataByMiles!AE202,DataByMiles!$AT$5:$AU$6,2,FALSE)","v":0},{"$f":"DataByMiles!X202*VLOOKUP(DataByMiles!AE202,DataByMiles!$AT$5:$AU$6,2,FALSE)","v":0},null,null,{"$f":"U204*$X$2*VLOOKUP(DataByMiles!AE202,DataByMiles!$AT$5:$AU$6,2,FALSE)","v":0},{"$f":"DataByMiles!Y202*VLOOKUP(DataByMiles!AE202,DataByMiles!$AT$5:$AU$6,2,FALSE)","v":0},{"$f":"DataByMiles!Z202","v":0},{"$f":"DataByMiles!AA202","v":0},null,null,{"$f":"(Y204/IF(Z204=0,$AD$1,Z204)*$AD$2)/IF(AA204=0,1,AA204)*VLOOKUP(DataByMiles!AE202,DataByMiles!$AT$5:$AU$6,2,FALSE)","v":0},"",0,0,{"$f":"(AF204+AG204)*VLOOKUP(DataByMiles!AE202,DataByMiles!$AT$5:$AU$6,2,FALSE)","v":0},0]
[null,{"$f":"DataByMiles!C203","v":"----199"},{"$f":"DataByMiles!T203*VLOOKUP(DataByMiles!AE203,DataByMiles!$AT$5:$AU$6,2,FALSE)","v":0},null,null,0,{"$f":"C205*$G$2*VLOOKUP(DataByMiles!AE203,DataByMiles!$AT$5:$AU$6,2,FALSE)","v":0},{"$f":"DataByMiles!U203*VLOOKUP(DataByMiles!AE203,DataByMiles!$AT$5:$AU$6,2,FALSE)","v":0},null,null,0,{"$f":"H205*$L$2*VLOOKUP(DataByMiles!AE203,DataByMiles!$AT$5:$AU$6,2,FALSE)","v":0},{"$f":"DataByMiles!V203*VLOOKUP(DataByMiles!AE203,DataByMiles!$AT$5:$AU$6,2,FALSE)","v":0},null,null,{"$f":"M205*$P$2*VLOOKUP(DataByMiles!AE203,DataByMiles!$AT$5:$AU$6,2,FALSE)","v":0},{"$f":"DataByMiles!W203*VLOOKUP(DataByMiles!AE203,DataByMiles!$AT$5:$AU$6,2,FALSE)","v":0},null,null,{"$f":"Q205*$T$2*VLOOKUP(DataByMiles!AE203,DataByMiles!$AT$5:$AU$6,2,FALSE)","v":0},{"$f":"DataByMiles!X203*VLOOKUP(DataByMiles!AE203,DataByMiles!$AT$5:$AU$6,2,FALSE)","v":0},null,null,{"$f":"U205*$X$2*VLOOKUP(DataByMiles!AE203,DataByMiles!$AT$5:$AU$6,2,FALSE)","v":0},{"$f":"DataByMiles!Y203*VLOOKUP(DataByMiles!AE203,DataByMiles!$AT$5:$AU$6,2,FALSE)","v":0},{"$f":"DataByMiles!Z203","v":0},{"$f":"DataByMiles!AA203","v":0},null,null,{"$f":"(Y205/IF(Z205=0,$AD$1,Z205)*$AD$2)/IF(AA205=0,1,AA205)*VLOOKUP(DataByMiles!AE203,DataByMiles!$AT$5:$AU$6,2,FALSE)","v":0},"",0,0,{"$f":"(AF205+AG205)*VLOOKUP(DataByMiles!AE203,DataByMiles!$AT$5:$AU$6,2,FALSE)","v":0},0]
[null,{"$f":"DataByMiles!C204","v":"----200"},{"$f":"DataByMiles!T204*VLOOKUP(DataByMiles!AE204,DataByMiles!$AT$5:$AU$6,2,FALSE)","v":0},null,null,0,{"$f":"C206*$G$2*VLOOKUP(DataByMiles!AE204,DataByMiles!$AT$5:$AU$6,2,FALSE)","v":0},{"$f":"DataByMiles!U204*VLOOKUP(DataByMiles!AE204,DataByMiles!$AT$5:$AU$6,2,FALSE)","v":0},null,null,0,{"$f":"H206*$L$2*VLOOKUP(DataByMiles!AE204,DataByMiles!$AT$5:$AU$6,2,FALSE)","v":0},{"$f":"DataByMiles!V204*VLOOKUP(DataByMiles!AE204,DataByMiles!$AT$5:$AU$6,2,FALSE)","v":0},null,null,{"$f":"M206*$P$2*VLOOKUP(DataByMiles!AE204,DataByMiles!$AT$5:$AU$6,2,FALSE)","v":0},{"$f":"DataByMiles!W204*VLOOKUP(DataByMiles!AE204,DataByMiles!$AT$5:$AU$6,2,FALSE)","v":0},null,null,{"$f":"Q206*$T$2*VLOOKUP(DataByMiles!AE204,DataByMiles!$AT$5:$AU$6,2,FALSE)","v":0},{"$f":"DataByMiles!X204*VLOOKUP(DataByMiles!AE204,DataByMiles!$AT$5:$AU$6,2,FALSE)","v":0},null,null,{"$f":"U206*$X$2*VLOOKUP(DataByMiles!AE204,DataByMiles!$AT$5:$AU$6,2,FALSE)","v":0},{"$f":"DataByMiles!Y204*VLOOKUP(DataByMiles!AE204,DataByMiles!$AT$5:$AU$6,2,FALSE)","v":0},{"$f":"DataByMiles!Z204","v":0},{"$f":"DataByMiles!AA204","v":0},null,null,{"$f":"(Y206/IF(Z206=0,$AD$1,Z206)*$AD$2)/IF(AA206=0,1,AA206)*VLOOKUP(DataByMiles!AE204,DataByMiles!$AT$5:$AU$6,2,FALSE)","v":0},"",0,0,{"$f":"(AF206+AG206)*VLOOKUP(DataByMiles!AE204,DataByMiles!$AT$5:$AU$6,2,FALSE)","v":0},0]
[null,{"$f":"DataByMiles!C205","v":"----201"},{"$f":"DataByMiles!T205*VLOOKUP(DataByMiles!AE205,DataByMiles!$AT$5:$AU$6,2,FALSE)","v":0},null,null,0,{"$f":"C207*$G$2*VLOOKUP(DataByMiles!AE205,DataByMiles!$AT$5:$AU$6,2,FALSE)","v":0},{"$f":"DataByMiles!U205*VLOOKUP(DataByMiles!AE205,DataByMiles!$AT$5:$AU$6,2,FALSE)","v":0},null,null,0,{"$f":"H207*$L$2*VLOOKUP(DataByMiles!AE205,DataByMiles!$AT$5:$AU$6,2,FALSE)","v":0},{"$f":"DataByMiles!V205*VLOOKUP(DataByMiles!AE205,DataByMiles!$AT$5:$AU$6,2,FALSE)","v":0},null,null,{"$f":"M207*$P$2*VLOOKUP(DataByMiles!AE205,DataByMiles!$AT$5:$AU$6,2,FALSE)","v":0},{"$f":"DataByMiles!W205*VLOOKUP(DataByMiles!AE205,DataByMiles!$AT$5:$AU$6,2,FALSE)","v":0},null,null,{"$f":"Q207*$T$2*VLOOKUP(DataByMiles!AE205,DataByMiles!$AT$5:$AU$6,2,FALSE)","v":0},{"$f":"DataByMiles!X205*VLOOKUP(DataByMiles!AE205,DataByMiles!$AT$5:$AU$6,2,FALSE)","v":0},null,null,{"$f":"U207*$X$2*VLOOKUP(DataByMiles!AE205,DataByMiles!$AT$5:$AU$6,2,FALSE)","v":0},{"$f":"DataByMiles!Y205*VLOOKUP(DataByMiles!AE205,DataByMiles!$AT$5:$AU$6,2,FALSE)","v":0},{"$f":"DataByMiles!Z205","v":0},{"$f":"DataByMiles!AA205","v":0},null,null,{"$f":"(Y207/IF(Z207=0,$AD$1,Z207)*$AD$2)/IF(AA207=0,1,AA207)*VLOOKUP(DataByMiles!AE205,DataByMiles!$AT$5:$AU$6,2,FALSE)","v":0},"",0,0,{"$f":"(AF207+AG207)*VLOOKUP(DataByMiles!AE205,DataByMiles!$AT$5:$AU$6,2,FALSE)","v":0},0]
[null,{"$f":"DataByMiles!C206","v":"----202"},{"$f":"DataByMiles!T206*VLOOKUP(DataByMiles!AE206,DataByMiles!$AT$5:$AU$6,2,FALSE)","v":0},null,null,0,{"$f":"C208*$G$2*VLOOKUP(DataByMiles!AE206,DataByMiles!$AT$5:$AU$6,2,FALSE)","v":0},{"$f":"DataByMiles!U206*VLOOKUP(DataByMiles!AE206,DataByMiles!$AT$5:$AU$6,2,FALSE)","v":0},null,null,0,{"$f":"H208*$L$2*VLOOKUP(DataByMiles!AE206,DataByMiles!$AT$5:$AU$6,2,FALSE)","v":0},{"$f":"DataByMiles!V206*VLOOKUP(DataByMiles!AE206,DataByMiles!$AT$5:$AU$6,2,FALSE)","v":0},null,null,{"$f":"M208*$P$2*VLOOKUP(DataByMiles!AE206,DataByMiles!$AT$5:$AU$6,2,FALSE)","v":0},{"$f":"DataByMiles!W206*VLOOKUP(DataByMiles!AE206,DataByMiles!$AT$5:$AU$6,2,FALSE)","v":0},null,null,{"$f":"Q208*$T$2*VLOOKUP(DataByMiles!AE206,DataByMiles!$AT$5:$AU$6,2,FALSE)","v":0},{"$f":"DataByMiles!X206*VLOOKUP(DataByMiles!AE206,DataByMiles!$AT$5:$AU$6,2,FALSE)","v":0},null,null,{"$f":"U208*$X$2*VLOOKUP(DataByMiles!AE206,DataByMiles!$AT$5:$AU$6,2,FALSE)","v":0},{"$f":"DataByMiles!Y206*VLOOKUP(DataByMiles!AE206,DataByMiles!$AT$5:$AU$6,2,FALSE)","v":0},{"$f":"DataByMiles!Z206","v":0},{"$f":"DataByMiles!AA206","v":0},null,null,{"$f":"(Y208/IF(Z208=0,$AD$1,Z208)*$AD$2)/IF(AA208=0,1,AA208)*VLOOKUP(DataByMiles!AE206,DataByMiles!$AT$5:$AU$6,2,FALSE)","v":0},"",0,0,{"$f":"(AF208+AG208)*VLOOKUP(DataByMiles!AE206,DataByMiles!$AT$5:$AU$6,2,FALSE)","v":0},0]
[null,{"$f":"DataByMiles!C207","v":"----203"},{"$f":"DataByMiles!T207*VLOOKUP(DataByMiles!AE207,DataByMiles!$AT$5:$AU$6,2,FALSE)","v":0},null,null,0,{"$f":"C209*$G$2*VLOOKUP(DataByMiles!AE207,DataByMiles!$AT$5:$AU$6,2,FALSE)","v":0},{"$f":"DataByMiles!U207*VLOOKUP(DataByMiles!AE207,DataByMiles!$AT$5:$AU$6,2,FALSE)","v":0},null,null,0,{"$f":"H209*$L$2*VLOOKUP(DataByMiles!AE207,DataByMiles!$AT$5:$AU$6,2,FALSE)","v":0},{"$f":"DataByMiles!V207*VLOOKUP(DataByMiles!AE207,DataByMiles!$AT$5:$AU$6,2,FALSE)","v":0},null,null,{"$f":"M209*$P$2*VLOOKUP(DataByMiles!AE207,DataByMiles!$AT$5:$AU$6,2,FALSE)","v":0},{"$f":"DataByMiles!W207*VLOOKUP(DataByMiles!AE207,DataByMiles!$AT$5:$AU$6,2,FALSE)","v":0},null,null,{"$f":"Q209*$T$2*VLOOKUP(DataByMiles!AE207,DataByMiles!$AT$5:$AU$6,2,FALSE)","v":0},{"$f":"DataByMiles!X207*VLOOKUP(DataByMiles!AE207,DataByMiles!$AT$5:$AU$6,2,FALSE)","v":0},null,null,{"$f":"U209*$X$2*VLOOKUP(DataByMiles!AE207,DataByMiles!$AT$5:$AU$6,2,FALSE)","v":0},{"$f":"DataByMiles!Y207*VLOOKUP(DataByMiles!AE207,DataByMiles!$AT$5:$AU$6,2,FALSE)","v":0},{"$f":"DataByMiles!Z207","v":0},{"$f":"DataByMiles!AA207","v":0},null,null,{"$f":"(Y209/IF(Z209=0,$AD$1,Z209)*$AD$2)/IF(AA209=0,1,AA209)*VLOOKUP(DataByMiles!AE207,DataByMiles!$AT$5:$AU$6,2,FALSE)","v":0},"",0,0,{"$f":"(AF209+AG209)*VLOOKUP(DataByMiles!AE207,DataByMiles!$AT$5:$AU$6,2,FALSE)","v":0},0]
[null,{"$f":"DataByMiles!C208","v":"----204"},{"$f":"DataByMiles!T208*VLOOKUP(DataByMiles!AE208,DataByMiles!$AT$5:$AU$6,2,FALSE)","v":0},null,null,0,{"$f":"C210*$G$2*VLOOKUP(DataByMiles!AE208,DataByMiles!$AT$5:$AU$6,2,FALSE)","v":0},{"$f":"DataByMiles!U208*VLOOKUP(DataByMiles!AE208,DataByMiles!$AT$5:$AU$6,2,FALSE)","v":0},null,null,0,{"$f":"H210*$L$2*VLOOKUP(DataByMiles!AE208,DataByMiles!$AT$5:$AU$6,2,FALSE)","v":0},{"$f":"DataByMiles!V208*VLOOKUP(DataByMiles!AE208,DataByMiles!$AT$5:$AU$6,2,FALSE)","v":0},null,null,{"$f":"M210*$P$2*VLOOKUP(DataByMiles!AE208,DataByMiles!$AT$5:$AU$6,2,FALSE)","v":0},{"$f":"DataByMiles!W208*VLOOKUP(DataByMiles!AE208,DataByMiles!$AT$5:$AU$6,2,FALSE)","v":0},null,null,{"$f":"Q210*$T$2*VLOOKUP(DataByMiles!AE208,DataByMiles!$AT$5:$AU$6,2,FALSE)","v":0},{"$f":"DataByMiles!X208*VLOOKUP(DataByMiles!AE208,DataByMiles!$AT$5:$AU$6,2,FALSE)","v":0},null,null,{"$f":"U210*$X$2*VLOOKUP(DataByMiles!AE208,DataByMiles!$AT$5:$AU$6,2,FALSE)","v":0},{"$f":"DataByMiles!Y208*VLOOKUP(DataByMiles!AE208,DataByMiles!$AT$5:$AU$6,2,FALSE)","v":0},{"$f":"DataByMiles!Z208","v":0},{"$f":"DataByMiles!AA208","v":0},null,null,{"$f":"(Y210/IF(Z210=0,$AD$1,Z210)*$AD$2)/IF(AA210=0,1,AA210)*VLOOKUP(DataByMiles!AE208,DataByMiles!$AT$5:$AU$6,2,FALSE)","v":0},"",0,0,{"$f":"(AF210+AG210)*VLOOKUP(DataByMiles!AE208,DataByMiles!$AT$5:$AU$6,2,FALSE)","v":0},0]
[null,{"$f":"DataByMiles!C209","v":"----205"},{"$f":"DataByMiles!T209*VLOOKUP(DataByMiles!AE209,DataByMiles!$AT$5:$AU$6,2,FALSE)","v":0},null,null,0,{"$f":"C211*$G$2*VLOOKUP(DataByMiles!AE209,DataByMiles!$AT$5:$AU$6,2,FALSE)","v":0},{"$f":"DataByMiles!U209*VLOOKUP(DataByMiles!AE209,DataByMiles!$AT$5:$AU$6,2,FALSE)","v":0},null,null,0,{"$f":"H211*$L$2*VLOOKUP(DataByMiles!AE209,DataByMiles!$AT$5:$AU$6,2,FALSE)","v":0},{"$f":"DataByMiles!V209*VLOOKUP(DataByMiles!AE209,DataByMiles!$AT$5:$AU$6,2,FALSE)","v":0},null,null,{"$f":"M211*$P$2*VLOOKUP(DataByMiles!AE209,DataByMiles!$AT$5:$AU$6,2,FALSE)","v":0},{"$f":"DataByMiles!W209*VLOOKUP(DataByMiles!AE209,DataByMiles!$AT$5:$AU$6,2,FALSE)","v":0},null,null,{"$f":"Q211*$T$2*VLOOKUP(DataByMiles!AE209,DataByMiles!$AT$5:$AU$6,2,FALSE)","v":0},{"$f":"DataByMiles!X209*VLOOKUP(DataByMiles!AE209,DataByMiles!$AT$5:$AU$6,2,FALSE)","v":0},null,null,{"$f":"U211*$X$2*VLOOKUP(DataByMiles!AE209,DataByMiles!$AT$5:$AU$6,2,FALSE)","v":0},{"$f":"DataByMiles!Y209*VLOOKUP(DataByMiles!AE209,DataByMiles!$AT$5:$AU$6,2,FALSE)","v":0},{"$f":"DataByMiles!Z209","v":0},{"$f":"DataByMiles!AA209","v":0},null,null,{"$f":"(Y211/IF(Z211=0,$AD$1,Z211)*$AD$2)/IF(AA211=0,1,AA211)*VLOOKUP(DataByMiles!AE209,DataByMiles!$AT$5:$AU$6,2,FALSE)","v":0},"",0,0,{"$f":"(AF211+AG211)*VLOOKUP(DataByMiles!AE209,DataByMiles!$AT$5:$AU$6,2,FALSE)","v":0},0]
[null,{"$f":"DataByMiles!C210","v":"----206"},{"$f":"DataByMiles!T210*VLOOKUP(DataByMiles!AE210,DataByMiles!$AT$5:$AU$6,2,FALSE)","v":0},null,null,0,{"$f":"C212*$G$2*VLOOKUP(DataByMiles!AE210,DataByMiles!$AT$5:$AU$6,2,FALSE)","v":0},{"$f":"DataByMiles!U210*VLOOKUP(DataByMiles!AE210,DataByMiles!$AT$5:$AU$6,2,FALSE)","v":0},null,null,0,{"$f":"H212*$L$2*VLOOKUP(DataByMiles!AE210,DataByMiles!$AT$5:$AU$6,2,FALSE)","v":0},{"$f":"DataByMiles!V210*VLOOKUP(DataByMiles!AE210,DataByMiles!$AT$5:$AU$6,2,FALSE)","v":0},null,null,{"$f":"M212*$P$2*VLOOKUP(DataByMiles!AE210,DataByMiles!$AT$5:$AU$6,2,FALSE)","v":0},{"$f":"DataByMiles!W210*VLOOKUP(DataByMiles!AE210,DataByMiles!$AT$5:$AU$6,2,FALSE)","v":0},null,null,{"$f":"Q212*$T$2*VLOOKUP(DataByMiles!AE210,DataByMiles!$AT$5:$AU$6,2,FALSE)","v":0},{"$f":"DataByMiles!X210*VLOOKUP(DataByMiles!AE210,DataByMiles!$AT$5:$AU$6,2,FALSE)","v":0},null,null,{"$f":"U212*$X$2*VLOOKUP(DataByMiles!AE210,DataByMiles!$AT$5:$AU$6,2,FALSE)","v":0},{"$f":"DataByMiles!Y210*VLOOKUP(DataByMiles!AE210,DataByMiles!$AT$5:$AU$6,2,FALSE)","v":0},{"$f":"DataByMiles!Z210","v":0},{"$f":"DataByMiles!AA210","v":0},null,null,{"$f":"(Y212/IF(Z212=0,$AD$1,Z212)*$AD$2)/IF(AA212=0,1,AA212)*VLOOKUP(DataByMiles!AE210,DataByMiles!$AT$5:$AU$6,2,FALSE)","v":0},"",0,0,{"$f":"(AF212+AG212)*VLOOKUP(DataByMiles!AE210,DataByMiles!$AT$5:$AU$6,2,FALSE)","v":0},0]
[null,{"$f":"DataByMiles!C211","v":"----207"},{"$f":"DataByMiles!T211*VLOOKUP(DataByMiles!AE211,DataByMiles!$AT$5:$AU$6,2,FALSE)","v":0},null,null,0,{"$f":"C213*$G$2*VLOOKUP(DataByMiles!AE211,DataByMiles!$AT$5:$AU$6,2,FALSE)","v":0},{"$f":"DataByMiles!U211*VLOOKUP(DataByMiles!AE211,DataByMiles!$AT$5:$AU$6,2,FALSE)","v":0},null,null,0,{"$f":"H213*$L$2*VLOOKUP(DataByMiles!AE211,DataByMiles!$AT$5:$AU$6,2,FALSE)","v":0},{"$f":"DataByMiles!V211*VLOOKUP(DataByMiles!AE211,DataByMiles!$AT$5:$AU$6,2,FALSE)","v":0},null,null,{"$f":"M213*$P$2*VLOOKUP(DataByMiles!AE211,DataByMiles!$AT$5:$AU$6,2,FALSE)","v":0},{"$f":"DataByMiles!W211*VLOOKUP(DataByMiles!AE211,DataByMiles!$AT$5:$AU$6,2,FALSE)","v":0},null,null,{"$f":"Q213*$T$2*VLOOKUP(DataByMiles!AE211,DataByMiles!$AT$5:$AU$6,2,FALSE)","v":0},{"$f":"DataByMiles!X211*VLOOKUP(DataByMiles!AE211,DataByMiles!$AT$5:$AU$6,2,FALSE)","v":0},null,null,{"$f":"U213*$X$2*VLOOKUP(DataByMiles!AE211,DataByMiles!$AT$5:$AU$6,2,FALSE)","v":0},{"$f":"DataByMiles!Y211*VLOOKUP(DataByMiles!AE211,DataByMiles!$AT$5:$AU$6,2,FALSE)","v":0},{"$f":"DataByMiles!Z211","v":0},{"$f":"DataByMiles!AA211","v":0},null,null,{"$f":"(Y213/IF(Z213=0,$AD$1,Z213)*$AD$2)/IF(AA213=0,1,AA213)*VLOOKUP(DataByMiles!AE211,DataByMiles!$AT$5:$AU$6,2,FALSE)","v":0},"",0,0,{"$f":"(AF213+AG213)*VLOOKUP(DataByMiles!AE211,DataByMiles!$AT$5:$AU$6,2,FALSE)","v":0},0]
[null,{"$f":"DataByMiles!C212","v":"----208"},{"$f":"DataByMiles!T212*VLOOKUP(DataByMiles!AE212,DataByMiles!$AT$5:$AU$6,2,FALSE)","v":0},null,null,0,{"$f":"C214*$G$2*VLOOKUP(DataByMiles!AE212,DataByMiles!$AT$5:$AU$6,2,FALSE)","v":0},{"$f":"DataByMiles!U212*VLOOKUP(DataByMiles!AE212,DataByMiles!$AT$5:$AU$6,2,FALSE)","v":0},null,null,0,{"$f":"H214*$L$2*VLOOKUP(DataByMiles!AE212,DataByMiles!$AT$5:$AU$6,2,FALSE)","v":0},{"$f":"DataByMiles!V212*VLOOKUP(DataByMiles!AE212,DataByMiles!$AT$5:$AU$6,2,FALSE)","v":0},null,null,{"$f":"M214*$P$2*VLOOKUP(DataByMiles!AE212,DataByMiles!$AT$5:$AU$6,2,FALSE)","v":0},{"$f":"DataByMiles!W212*VLOOKUP(DataByMiles!AE212,DataByMiles!$AT$5:$AU$6,2,FALSE)","v":0},null,null,{"$f":"Q214*$T$2*VLOOKUP(DataByMiles!AE212,DataByMiles!$AT$5:$AU$6,2,FALSE)","v":0},{"$f":"DataByMiles!X212*VLOOKUP(DataByMiles!AE212,DataByMiles!$AT$5:$AU$6,2,FALSE)","v":0},null,null,{"$f":"U214*$X$2*VLOOKUP(DataByMiles!AE212,DataByMiles!$AT$5:$AU$6,2,FALSE)","v":0},{"$f":"DataByMiles!Y212*VLOOKUP(DataByMiles!AE212,DataByMiles!$AT$5:$AU$6,2,FALSE)","v":0},{"$f":"DataByMiles!Z212","v":0},{"$f":"DataByMiles!AA212","v":0},null,null,{"$f":"(Y214/IF(Z214=0,$AD$1,Z214)*$AD$2)/IF(AA214=0,1,AA214)*VLOOKUP(DataByMiles!AE212,DataByMiles!$AT$5:$AU$6,2,FALSE)","v":0},"",0,0,{"$f":"(AF214+AG214)*VLOOKUP(DataByMiles!AE212,DataByMiles!$AT$5:$AU$6,2,FALSE)","v":0},0]
[null,{"$f":"DataByMiles!C213","v":"----209"},{"$f":"DataByMiles!T213*VLOOKUP(DataByMiles!AE213,DataByMiles!$AT$5:$AU$6,2,FALSE)","v":0},null,null,0,{"$f":"C215*$G$2*VLOOKUP(DataByMiles!AE213,DataByMiles!$AT$5:$AU$6,2,FALSE)","v":0},{"$f":"DataByMiles!U213*VLOOKUP(DataByMiles!AE213,DataByMiles!$AT$5:$AU$6,2,FALSE)","v":0},null,null,0,{"$f":"H215*$L$2*VLOOKUP(DataByMiles!AE213,DataByMiles!$AT$5:$AU$6,2,FALSE)","v":0},{"$f":"DataByMiles!V213*VLOOKUP(DataByMiles!AE213,DataByMiles!$AT$5:$AU$6,2,FALSE)","v":0},null,null,{"$f":"M215*$P$2*VLOOKUP(DataByMiles!AE213,DataByMiles!$AT$5:$AU$6,2,FALSE)","v":0},{"$f":"DataByMiles!W213*VLOOKUP(DataByMiles!AE213,DataByMiles!$AT$5:$AU$6,2,FALSE)","v":0},null,null,{"$f":"Q215*$T$2*VLOOKUP(DataByMiles!AE213,DataByMiles!$AT$5:$AU$6,2,FALSE)","v":0},{"$f":"DataByMiles!X213*VLOOKUP(DataByMiles!AE213,DataByMiles!$AT$5:$AU$6,2,FALSE)","v":0},null,null,{"$f":"U215*$X$2*VLOOKUP(DataByMiles!AE213,DataByMiles!$AT$5:$AU$6,2,FALSE)","v":0},{"$f":"DataByMiles!Y213*VLOOKUP(DataByMiles!AE213,DataByMiles!$AT$5:$AU$6,2,FALSE)","v":0},{"$f":"DataByMiles!Z213","v":0},{"$f":"DataByMiles!AA213","v":0},null,null,{"$f":"(Y215/IF(Z215=0,$AD$1,Z215)*$AD$2)/IF(AA215=0,1,AA215)*VLOOKUP(DataByMiles!AE213,DataByMiles!$AT$5:$AU$6,2,FALSE)","v":0},"",0,0,{"$f":"(AF215+AG215)*VLOOKUP(DataByMiles!AE213,DataByMiles!$AT$5:$AU$6,2,FALSE)","v":0},0]
[null,{"$f":"DataByMiles!C214","v":"----210"},{"$f":"DataByMiles!T214*VLOOKUP(DataByMiles!AE214,DataByMiles!$AT$5:$AU$6,2,FALSE)","v":0},null,null,0,{"$f":"C216*$G$2*VLOOKUP(DataByMiles!AE214,DataByMiles!$AT$5:$AU$6,2,FALSE)","v":0},{"$f":"DataByMiles!U214*VLOOKUP(DataByMiles!AE214,DataByMiles!$AT$5:$AU$6,2,FALSE)","v":0},null,null,0,{"$f":"H216*$L$2*VLOOKUP(DataByMiles!AE214,DataByMiles!$AT$5:$AU$6,2,FALSE)","v":0},{"$f":"DataByMiles!V214*VLOOKUP(DataByMiles!AE214,DataByMiles!$AT$5:$AU$6,2,FALSE)","v":0},null,null,{"$f":"M216*$P$2*VLOOKUP(DataByMiles!AE214,DataByMiles!$AT$5:$AU$6,2,FALSE)","v":0},{"$f":"DataByMiles!W214*VLOOKUP(DataByMiles!AE214,DataByMiles!$AT$5:$AU$6,2,FALSE)","v":0},null,null,{"$f":"Q216*$T$2*VLOOKUP(DataByMiles!AE214,DataByMiles!$AT$5:$AU$6,2,FALSE)","v":0},{"$f":"DataByMiles!X214*VLOOKUP(DataByMiles!AE214,DataByMiles!$AT$5:$AU$6,2,FALSE)","v":0},null,null,{"$f":"U216*$X$2*VLOOKUP(DataByMiles!AE214,DataByMiles!$AT$5:$AU$6,2,FALSE)","v":0},{"$f":"DataByMiles!Y214*VLOOKUP(DataByMiles!AE214,DataByMiles!$AT$5:$AU$6,2,FALSE)","v":0},{"$f":"DataByMiles!Z214","v":0},{"$f":"DataByMiles!AA214","v":0},null,null,{"$f":"(Y216/IF(Z216=0,$AD$1,Z216)*$AD$2)/IF(AA216=0,1,AA216)*VLOOKUP(DataByMiles!AE214,DataByMiles!$AT$5:$AU$6,2,FALSE)","v":0},"",0,0,{"$f":"(AF216+AG216)*VLOOKUP(DataByMiles!AE214,DataByMiles!$AT$5:$AU$6,2,FALSE)","v":0},0]
[null,{"$f":"DataByMiles!C215","v":"----211"},{"$f":"DataByMiles!T215*VLOOKUP(DataByMiles!AE215,DataByMiles!$AT$5:$AU$6,2,FALSE)","v":0},null,null,0,{"$f":"C217*$G$2*VLOOKUP(DataByMiles!AE215,DataByMiles!$AT$5:$AU$6,2,FALSE)","v":0},{"$f":"DataByMiles!U215*VLOOKUP(DataByMiles!AE215,DataByMiles!$AT$5:$AU$6,2,FALSE)","v":0},null,null,0,{"$f":"H217*$L$2*VLOOKUP(DataByMiles!AE215,DataByMiles!$AT$5:$AU$6,2,FALSE)","v":0},{"$f":"DataByMiles!V215*VLOOKUP(DataByMiles!AE215,DataByMiles!$AT$5:$AU$6,2,FALSE)","v":0},null,null,{"$f":"M217*$P$2*VLOOKUP(DataByMiles!AE215,DataByMiles!$AT$5:$AU$6,2,FALSE)","v":0},{"$f":"DataByMiles!W215*VLOOKUP(DataByMiles!AE215,DataByMiles!$AT$5:$AU$6,2,FALSE)","v":0},null,null,{"$f":"Q217*$T$2*VLOOKUP(DataByMiles!AE215,DataByMiles!$AT$5:$AU$6,2,FALSE)","v":0},{"$f":"DataByMiles!X215*VLOOKUP(DataByMiles!AE215,DataByMiles!$AT$5:$AU$6,2,FALSE)","v":0},null,null,{"$f":"U217*$X$2*VLOOKUP(DataByMiles!AE215,DataByMiles!$AT$5:$AU$6,2,FALSE)","v":0},{"$f":"DataByMiles!Y215*VLOOKUP(DataByMiles!AE215,DataByMiles!$AT$5:$AU$6,2,FALSE)","v":0},{"$f":"DataByMiles!Z215","v":0},{"$f":"DataByMiles!AA215","v":0},null,null,{"$f":"(Y217/IF(Z217=0,$AD$1,Z217)*$AD$2)/IF(AA217=0,1,AA217)*VLOOKUP(DataByMiles!AE215,DataByMiles!$AT$5:$AU$6,2,FALSE)","v":0},"",0,0,{"$f":"(AF217+AG217)*VLOOKUP(DataByMiles!AE215,DataByMiles!$AT$5:$AU$6,2,FALSE)","v":0},0]
[null,{"$f":"DataByMiles!C216","v":"----212"},{"$f":"DataByMiles!T216*VLOOKUP(DataByMiles!AE216,DataByMiles!$AT$5:$AU$6,2,FALSE)","v":0},null,null,0,{"$f":"C218*$G$2*VLOOKUP(DataByMiles!AE216,DataByMiles!$AT$5:$AU$6,2,FALSE)","v":0},{"$f":"DataByMiles!U216*VLOOKUP(DataByMiles!AE216,DataByMiles!$AT$5:$AU$6,2,FALSE)","v":0},null,null,0,{"$f":"H218*$L$2*VLOOKUP(DataByMiles!AE216,DataByMiles!$AT$5:$AU$6,2,FALSE)","v":0},{"$f":"DataByMiles!V216*VLOOKUP(DataByMiles!AE216,DataByMiles!$AT$5:$AU$6,2,FALSE)","v":0},null,null,{"$f":"M218*$P$2*VLOOKUP(DataByMiles!AE216,DataByMiles!$AT$5:$AU$6,2,FALSE)","v":0},{"$f":"DataByMiles!W216*VLOOKUP(DataByMiles!AE216,DataByMiles!$AT$5:$AU$6,2,FALSE)","v":0},null,null,{"$f":"Q218*$T$2*VLOOKUP(DataByMiles!AE216,DataByMiles!$AT$5:$AU$6,2,FALSE)","v":0},{"$f":"DataByMiles!X216*VLOOKUP(DataByMiles!AE216,DataByMiles!$AT$5:$AU$6,2,FALSE)","v":0},null,null,{"$f":"U218*$X$2*VLOOKUP(DataByMiles!AE216,DataByMiles!$AT$5:$AU$6,2,FALSE)","v":0},{"$f":"DataByMiles!Y216*VLOOKUP(DataByMiles!AE216,DataByMiles!$AT$5:$AU$6,2,FALSE)","v":0},{"$f":"DataByMiles!Z216","v":0},{"$f":"DataByMiles!AA216","v":0},null,null,{"$f":"(Y218/IF(Z218=0,$AD$1,Z218)*$AD$2)/IF(AA218=0,1,AA218)*VLOOKUP(DataByMiles!AE216,DataByMiles!$AT$5:$AU$6,2,FALSE)","v":0},"",0,0,{"$f":"(AF218+AG218)*VLOOKUP(DataByMiles!AE216,DataByMiles!$AT$5:$AU$6,2,FALSE)","v":0},0]
[null,{"$f":"DataByMiles!C217","v":"----213"},{"$f":"DataByMiles!T217*VLOOKUP(DataByMiles!AE217,DataByMiles!$AT$5:$AU$6,2,FALSE)","v":0},null,null,0,{"$f":"C219*$G$2*VLOOKUP(DataByMiles!AE217,DataByMiles!$AT$5:$AU$6,2,FALSE)","v":0},{"$f":"DataByMiles!U217*VLOOKUP(DataByMiles!AE217,DataByMiles!$AT$5:$AU$6,2,FALSE)","v":0},null,null,0,{"$f":"H219*$L$2*VLOOKUP(DataByMiles!AE217,DataByMiles!$AT$5:$AU$6,2,FALSE)","v":0},{"$f":"DataByMiles!V217*VLOOKUP(DataByMiles!AE217,DataByMiles!$AT$5:$AU$6,2,FALSE)","v":0},null,null,{"$f":"M219*$P$2*VLOOKUP(DataByMiles!AE217,DataByMiles!$AT$5:$AU$6,2,FALSE)","v":0},{"$f":"DataByMiles!W217*VLOOKUP(DataByMiles!AE217,DataByMiles!$AT$5:$AU$6,2,FALSE)","v":0},null,null,{"$f":"Q219*$T$2*VLOOKUP(DataByMiles!AE217,DataByMiles!$AT$5:$AU$6,2,FALSE)","v":0},{"$f":"DataByMiles!X217*VLOOKUP(DataByMiles!AE217,DataByMiles!$AT$5:$AU$6,2,FALSE)","v":0},null,null,{"$f":"U219*$X$2*VLOOKUP(DataByMiles!AE217,DataByMiles!$AT$5:$AU$6,2,FALSE)","v":0},{"$f":"DataByMiles!Y217*VLOOKUP(DataByMiles!AE217,DataByMiles!$AT$5:$AU$6,2,FALSE)","v":0},{"$f":"DataByMiles!Z217","v":0},{"$f":"DataByMiles!AA217","v":0},null,null,{"$f":"(Y219/IF(Z219=0,$AD$1,Z219)*$AD$2)/IF(AA219=0,1,AA219)*VLOOKUP(DataByMiles!AE217,DataByMiles!$AT$5:$AU$6,2,FALSE)","v":0},"",0,0,{"$f":"(AF219+AG219)*VLOOKUP(DataByMiles!AE217,DataByMiles!$AT$5:$AU$6,2,FALSE)","v":0},0]
[null,{"$f":"DataByMiles!C218","v":"----214"},{"$f":"DataByMiles!T218*VLOOKUP(DataByMiles!AE218,DataByMiles!$AT$5:$AU$6,2,FALSE)","v":0},null,null,0,{"$f":"C220*$G$2*VLOOKUP(DataByMiles!AE218,DataByMiles!$AT$5:$AU$6,2,FALSE)","v":0},{"$f":"DataByMiles!U218*VLOOKUP(DataByMiles!AE218,DataByMiles!$AT$5:$AU$6,2,FALSE)","v":0},null,null,0,{"$f":"H220*$L$2*VLOOKUP(DataByMiles!AE218,DataByMiles!$AT$5:$AU$6,2,FALSE)","v":0},{"$f":"DataByMiles!V218*VLOOKUP(DataByMiles!AE218,DataByMiles!$AT$5:$AU$6,2,FALSE)","v":0},null,null,{"$f":"M220*$P$2*VLOOKUP(DataByMiles!AE218,DataByMiles!$AT$5:$AU$6,2,FALSE)","v":0},{"$f":"DataByMiles!W218*VLOOKUP(DataByMiles!AE218,DataByMiles!$AT$5:$AU$6,2,FALSE)","v":0},null,null,{"$f":"Q220*$T$2*VLOOKUP(DataByMiles!AE218,DataByMiles!$AT$5:$AU$6,2,FALSE)","v":0},{"$f":"DataByMiles!X218*VLOOKUP(DataByMiles!AE218,DataByMiles!$AT$5:$AU$6,2,FALSE)","v":0},null,null,{"$f":"U220*$X$2*VLOOKUP(DataByMiles!AE218,DataByMiles!$AT$5:$AU$6,2,FALSE)","v":0},{"$f":"DataByMiles!Y218*VLOOKUP(DataByMiles!AE218,DataByMiles!$AT$5:$AU$6,2,FALSE)","v":0},{"$f":"DataByMiles!Z218","v":0},{"$f":"DataByMiles!AA218","v":0},null,null,{"$f":"(Y220/IF(Z220=0,$AD$1,Z220)*$AD$2)/IF(AA220=0,1,AA220)*VLOOKUP(DataByMiles!AE218,DataByMiles!$AT$5:$AU$6,2,FALSE)","v":0},"",0,0,{"$f":"(AF220+AG220)*VLOOKUP(DataByMiles!AE218,DataByMiles!$AT$5:$AU$6,2,FALSE)","v":0},0]
[null,{"$f":"DataByMiles!C219","v":"----215"},{"$f":"DataByMiles!T219*VLOOKUP(DataByMiles!AE219,DataByMiles!$AT$5:$AU$6,2,FALSE)","v":0},null,null,0,{"$f":"C221*$G$2*VLOOKUP(DataByMiles!AE219,DataByMiles!$AT$5:$AU$6,2,FALSE)","v":0},{"$f":"DataByMiles!U219*VLOOKUP(DataByMiles!AE219,DataByMiles!$AT$5:$AU$6,2,FALSE)","v":0},null,null,0,{"$f":"H221*$L$2*VLOOKUP(DataByMiles!AE219,DataByMiles!$AT$5:$AU$6,2,FALSE)","v":0},{"$f":"DataByMiles!V219*VLOOKUP(DataByMiles!AE219,DataByMiles!$AT$5:$AU$6,2,FALSE)","v":0},null,null,{"$f":"M221*$P$2*VLOOKUP(DataByMiles!AE219,DataByMiles!$AT$5:$AU$6,2,FALSE)","v":0},{"$f":"DataByMiles!W219*VLOOKUP(DataByMiles!AE219,DataByMiles!$AT$5:$AU$6,2,FALSE)","v":0},null,null,{"$f":"Q221*$T$2*VLOOKUP(DataByMiles!AE219,DataByMiles!$AT$5:$AU$6,2,FALSE)","v":0},{"$f":"DataByMiles!X219*VLOOKUP(DataByMiles!AE219,DataByMiles!$AT$5:$AU$6,2,FALSE)","v":0},null,null,{"$f":"U221*$X$2*VLOOKUP(DataByMiles!AE219,DataByMiles!$AT$5:$AU$6,2,FALSE)","v":0},{"$f":"DataByMiles!Y219*VLOOKUP(DataByMiles!AE219,DataByMiles!$AT$5:$AU$6,2,FALSE)","v":0},{"$f":"DataByMiles!Z219","v":0},{"$f":"DataByMiles!AA219","v":0},null,null,{"$f":"(Y221/IF(Z221=0,$AD$1,Z221)*$AD$2)/IF(AA221=0,1,AA221)*VLOOKUP(DataByMiles!AE219,DataByMiles!$AT$5:$AU$6,2,FALSE)","v":0},"",0,0,{"$f":"(AF221+AG221)*VLOOKUP(DataByMiles!AE219,DataByMiles!$AT$5:$AU$6,2,FALSE)","v":0},0]
[null,{"$f":"DataByMiles!C220","v":"----216"},{"$f":"DataByMiles!T220*VLOOKUP(DataByMiles!AE220,DataByMiles!$AT$5:$AU$6,2,FALSE)","v":0},null,null,0,{"$f":"C222*$G$2*VLOOKUP(DataByMiles!AE220,DataByMiles!$AT$5:$AU$6,2,FALSE)","v":0},{"$f":"DataByMiles!U220*VLOOKUP(DataByMiles!AE220,DataByMiles!$AT$5:$AU$6,2,FALSE)","v":0},null,null,0,{"$f":"H222*$L$2*VLOOKUP(DataByMiles!AE220,DataByMiles!$AT$5:$AU$6,2,FALSE)","v":0},{"$f":"DataByMiles!V220*VLOOKUP(DataByMiles!AE220,DataByMiles!$AT$5:$AU$6,2,FALSE)","v":0},null,null,{"$f":"M222*$P$2*VLOOKUP(DataByMiles!AE220,DataByMiles!$AT$5:$AU$6,2,FALSE)","v":0},{"$f":"DataByMiles!W220*VLOOKUP(DataByMiles!AE220,DataByMiles!$AT$5:$AU$6,2,FALSE)","v":0},null,null,{"$f":"Q222*$T$2*VLOOKUP(DataByMiles!AE220,DataByMiles!$AT$5:$AU$6,2,FALSE)","v":0},{"$f":"DataByMiles!X220*VLOOKUP(DataByMiles!AE220,DataByMiles!$AT$5:$AU$6,2,FALSE)","v":0},null,null,{"$f":"U222*$X$2*VLOOKUP(DataByMiles!AE220,DataByMiles!$AT$5:$AU$6,2,FALSE)","v":0},{"$f":"DataByMiles!Y220*VLOOKUP(DataByMiles!AE220,DataByMiles!$AT$5:$AU$6,2,FALSE)","v":0},{"$f":"DataByMiles!Z220","v":0},{"$f":"DataByMiles!AA220","v":0},null,null,{"$f":"(Y222/IF(Z222=0,$AD$1,Z222)*$AD$2)/IF(AA222=0,1,AA222)*VLOOKUP(DataByMiles!AE220,DataByMiles!$AT$5:$AU$6,2,FALSE)","v":0},"",0,0,{"$f":"(AF222+AG222)*VLOOKUP(DataByMiles!AE220,DataByMiles!$AT$5:$AU$6,2,FALSE)","v":0},0]
[null,{"$f":"DataByMiles!C221","v":"----217"},{"$f":"DataByMiles!T221*VLOOKUP(DataByMiles!AE221,DataByMiles!$AT$5:$AU$6,2,FALSE)","v":0},null,null,0,{"$f":"C223*$G$2*VLOOKUP(DataByMiles!AE221,DataByMiles!$AT$5:$AU$6,2,FALSE)","v":0},{"$f":"DataByMiles!U221*VLOOKUP(DataByMiles!AE221,DataByMiles!$AT$5:$AU$6,2,FALSE)","v":0},null,null,0,{"$f":"H223*$L$2*VLOOKUP(DataByMiles!AE221,DataByMiles!$AT$5:$AU$6,2,FALSE)","v":0},{"$f":"DataByMiles!V221*VLOOKUP(DataByMiles!AE221,DataByMiles!$AT$5:$AU$6,2,FALSE)","v":0},null,null,{"$f":"M223*$P$2*VLOOKUP(DataByMiles!AE221,DataByMiles!$AT$5:$AU$6,2,FALSE)","v":0},{"$f":"DataByMiles!W221*VLOOKUP(DataByMiles!AE221,DataByMiles!$AT$5:$AU$6,2,FALSE)","v":0},null,null,{"$f":"Q223*$T$2*VLOOKUP(DataByMiles!AE221,DataByMiles!$AT$5:$AU$6,2,FALSE)","v":0},{"$f":"DataByMiles!X221*VLOOKUP(DataByMiles!AE221,DataByMiles!$AT$5:$AU$6,2,FALSE)","v":0},null,null,{"$f":"U223*$X$2*VLOOKUP(DataByMiles!AE221,DataByMiles!$AT$5:$AU$6,2,FALSE)","v":0},{"$f":"DataByMiles!Y221*VLOOKUP(DataByMiles!AE221,DataByMiles!$AT$5:$AU$6,2,FALSE)","v":0},{"$f":"DataByMiles!Z221","v":0},{"$f":"DataByMiles!AA221","v":0},null,null,{"$f":"(Y223/IF(Z223=0,$AD$1,Z223)*$AD$2)/IF(AA223=0,1,AA223)*VLOOKUP(DataByMiles!AE221,DataByMiles!$AT$5:$AU$6,2,FALSE)","v":0},"",0,0,{"$f":"(AF223+AG223)*VLOOKUP(DataByMiles!AE221,DataByMiles!$AT$5:$AU$6,2,FALSE)","v":0},0]
[null,{"$f":"DataByMiles!C222","v":"----218"},{"$f":"DataByMiles!T222*VLOOKUP(DataByMiles!AE222,DataByMiles!$AT$5:$AU$6,2,FALSE)","v":0},null,null,0,{"$f":"C224*$G$2*VLOOKUP(DataByMiles!AE222,DataByMiles!$AT$5:$AU$6,2,FALSE)","v":0},{"$f":"DataByMiles!U222*VLOOKUP(DataByMiles!AE222,DataByMiles!$AT$5:$AU$6,2,FALSE)","v":0},null,null,0,{"$f":"H224*$L$2*VLOOKUP(DataByMiles!AE222,DataByMiles!$AT$5:$AU$6,2,FALSE)","v":0},{"$f":"DataByMiles!V222*VLOOKUP(DataByMiles!AE222,DataByMiles!$AT$5:$AU$6,2,FALSE)","v":0},null,null,{"$f":"M224*$P$2*VLOOKUP(DataByMiles!AE222,DataByMiles!$AT$5:$AU$6,2,FALSE)","v":0},{"$f":"DataByMiles!W222*VLOOKUP(DataByMiles!AE222,DataByMiles!$AT$5:$AU$6,2,FALSE)","v":0},null,null,{"$f":"Q224*$T$2*VLOOKUP(DataByMiles!AE222,DataByMiles!$AT$5:$AU$6,2,FALSE)","v":0},{"$f":"DataByMiles!X222*VLOOKUP(DataByMiles!AE222,DataByMiles!$AT$5:$AU$6,2,FALSE)","v":0},null,null,{"$f":"U224*$X$2*VLOOKUP(DataByMiles!AE222,DataByMiles!$AT$5:$AU$6,2,FALSE)","v":0},{"$f":"DataByMiles!Y222*VLOOKUP(DataByMiles!AE222,DataByMiles!$AT$5:$AU$6,2,FALSE)","v":0},{"$f":"DataByMiles!Z222","v":0},{"$f":"DataByMiles!AA222","v":0},null,null,{"$f":"(Y224/IF(Z224=0,$AD$1,Z224)*$AD$2)/IF(AA224=0,1,AA224)*VLOOKUP(DataByMiles!AE222,DataByMiles!$AT$5:$AU$6,2,FALSE)","v":0},"",0,0,{"$f":"(AF224+AG224)*VLOOKUP(DataByMiles!AE222,DataByMiles!$AT$5:$AU$6,2,FALSE)","v":0},0]
[null,{"$f":"DataByMiles!C223","v":"----219"},{"$f":"DataByMiles!T223*VLOOKUP(DataByMiles!AE223,DataByMiles!$AT$5:$AU$6,2,FALSE)","v":0},null,null,0,{"$f":"C225*$G$2*VLOOKUP(DataByMiles!AE223,DataByMiles!$AT$5:$AU$6,2,FALSE)","v":0},{"$f":"DataByMiles!U223*VLOOKUP(DataByMiles!AE223,DataByMiles!$AT$5:$AU$6,2,FALSE)","v":0},null,null,0,{"$f":"H225*$L$2*VLOOKUP(DataByMiles!AE223,DataByMiles!$AT$5:$AU$6,2,FALSE)","v":0},{"$f":"DataByMiles!V223*VLOOKUP(DataByMiles!AE223,DataByMiles!$AT$5:$AU$6,2,FALSE)","v":0},null,null,{"$f":"M225*$P$2*VLOOKUP(DataByMiles!AE223,DataByMiles!$AT$5:$AU$6,2,FALSE)","v":0},{"$f":"DataByMiles!W223*VLOOKUP(DataByMiles!AE223,DataByMiles!$AT$5:$AU$6,2,FALSE)","v":0},null,null,{"$f":"Q225*$T$2*VLOOKUP(DataByMiles!AE223,DataByMiles!$AT$5:$AU$6,2,FALSE)","v":0},{"$f":"DataByMiles!X223*VLOOKUP(DataByMiles!AE223,DataByMiles!$AT$5:$AU$6,2,FALSE)","v":0},null,null,{"$f":"U225*$X$2*VLOOKUP(DataByMiles!AE223,DataByMiles!$AT$5:$AU$6,2,FALSE)","v":0},{"$f":"DataByMiles!Y223*VLOOKUP(DataByMiles!AE223,DataByMiles!$AT$5:$AU$6,2,FALSE)","v":0},{"$f":"DataByMiles!Z223","v":0},{"$f":"DataByMiles!AA223","v":0},null,null,{"$f":"(Y225/IF(Z225=0,$AD$1,Z225)*$AD$2)/IF(AA225=0,1,AA225)*VLOOKUP(DataByMiles!AE223,DataByMiles!$AT$5:$AU$6,2,FALSE)","v":0},"",0,0,{"$f":"(AF225+AG225)*VLOOKUP(DataByMiles!AE223,DataByMiles!$AT$5:$AU$6,2,FALSE)","v":0},0]
[null,{"$f":"DataByMiles!C224","v":"----220"},{"$f":"DataByMiles!T224*VLOOKUP(DataByMiles!AE224,DataByMiles!$AT$5:$AU$6,2,FALSE)","v":0},null,null,0,{"$f":"C226*$G$2*VLOOKUP(DataByMiles!AE224,DataByMiles!$AT$5:$AU$6,2,FALSE)","v":0},{"$f":"DataByMiles!U224*VLOOKUP(DataByMiles!AE224,DataByMiles!$AT$5:$AU$6,2,FALSE)","v":0},null,null,0,{"$f":"H226*$L$2*VLOOKUP(DataByMiles!AE224,DataByMiles!$AT$5:$AU$6,2,FALSE)","v":0},{"$f":"DataByMiles!V224*VLOOKUP(DataByMiles!AE224,DataByMiles!$AT$5:$AU$6,2,FALSE)","v":0},null,null,{"$f":"M226*$P$2*VLOOKUP(DataByMiles!AE224,DataByMiles!$AT$5:$AU$6,2,FALSE)","v":0},{"$f":"DataByMiles!W224*VLOOKUP(DataByMiles!AE224,DataByMiles!$AT$5:$AU$6,2,FALSE)","v":0},null,null,{"$f":"Q226*$T$2*VLOOKUP(DataByMiles!AE224,DataByMiles!$AT$5:$AU$6,2,FALSE)","v":0},{"$f":"DataByMiles!X224*VLOOKUP(DataByMiles!AE224,DataByMiles!$AT$5:$AU$6,2,FALSE)","v":0},null,null,{"$f":"U226*$X$2*VLOOKUP(DataByMiles!AE224,DataByMiles!$AT$5:$AU$6,2,FALSE)","v":0},{"$f":"DataByMiles!Y224*VLOOKUP(DataByMiles!AE224,DataByMiles!$AT$5:$AU$6,2,FALSE)","v":0},{"$f":"DataByMiles!Z224","v":0},{"$f":"DataByMiles!AA224","v":0},null,null,{"$f":"(Y226/IF(Z226=0,$AD$1,Z226)*$AD$2)/IF(AA226=0,1,AA226)*VLOOKUP(DataByMiles!AE224,DataByMiles!$AT$5:$AU$6,2,FALSE)","v":0},"",0,0,{"$f":"(AF226+AG226)*VLOOKUP(DataByMiles!AE224,DataByMiles!$AT$5:$AU$6,2,FALSE)","v":0},0]
[null,{"$f":"DataByMiles!C225","v":"----221"},{"$f":"DataByMiles!T225*VLOOKUP(DataByMiles!AE225,DataByMiles!$AT$5:$AU$6,2,FALSE)","v":0},null,null,0,{"$f":"C227*$G$2*VLOOKUP(DataByMiles!AE225,DataByMiles!$AT$5:$AU$6,2,FALSE)","v":0},{"$f":"DataByMiles!U225*VLOOKUP(DataByMiles!AE225,DataByMiles!$AT$5:$AU$6,2,FALSE)","v":0},null,null,0,{"$f":"H227*$L$2*VLOOKUP(DataByMiles!AE225,DataByMiles!$AT$5:$AU$6,2,FALSE)","v":0},{"$f":"DataByMiles!V225*VLOOKUP(DataByMiles!AE225,DataByMiles!$AT$5:$AU$6,2,FALSE)","v":0},null,null,{"$f":"M227*$P$2*VLOOKUP(DataByMiles!AE225,DataByMiles!$AT$5:$AU$6,2,FALSE)","v":0},{"$f":"DataByMiles!W225*VLOOKUP(DataByMiles!AE225,DataByMiles!$AT$5:$AU$6,2,FALSE)","v":0},null,null,{"$f":"Q227*$T$2*VLOOKUP(DataByMiles!AE225,DataByMiles!$AT$5:$AU$6,2,FALSE)","v":0},{"$f":"DataByMiles!X225*VLOOKUP(DataByMiles!AE225,DataByMiles!$AT$5:$AU$6,2,FALSE)","v":0},null,null,{"$f":"U227*$X$2*VLOOKUP(DataByMiles!AE225,DataByMiles!$AT$5:$AU$6,2,FALSE)","v":0},{"$f":"DataByMiles!Y225*VLOOKUP(DataByMiles!AE225,DataByMiles!$AT$5:$AU$6,2,FALSE)","v":0},{"$f":"DataByMiles!Z225","v":0},{"$f":"DataByMiles!AA225","v":0},null,null,{"$f":"(Y227/IF(Z227=0,$AD$1,Z227)*$AD$2)/IF(AA227=0,1,AA227)*VLOOKUP(DataByMiles!AE225,DataByMiles!$AT$5:$AU$6,2,FALSE)","v":0},"",0,0,{"$f":"(AF227+AG227)*VLOOKUP(DataByMiles!AE225,DataByMiles!$AT$5:$AU$6,2,FALSE)","v":0},0]
[null,{"$f":"DataByMiles!C226","v":"----222"},{"$f":"DataByMiles!T226*VLOOKUP(DataByMiles!AE226,DataByMiles!$AT$5:$AU$6,2,FALSE)","v":0},null,null,0,{"$f":"C228*$G$2*VLOOKUP(DataByMiles!AE226,DataByMiles!$AT$5:$AU$6,2,FALSE)","v":0},{"$f":"DataByMiles!U226*VLOOKUP(DataByMiles!AE226,DataByMiles!$AT$5:$AU$6,2,FALSE)","v":0},null,null,0,{"$f":"H228*$L$2*VLOOKUP(DataByMiles!AE226,DataByMiles!$AT$5:$AU$6,2,FALSE)","v":0},{"$f":"DataByMiles!V226*VLOOKUP(DataByMiles!AE226,DataByMiles!$AT$5:$AU$6,2,FALSE)","v":0},null,null,{"$f":"M228*$P$2*VLOOKUP(DataByMiles!AE226,DataByMiles!$AT$5:$AU$6,2,FALSE)","v":0},{"$f":"DataByMiles!W226*VLOOKUP(DataByMiles!AE226,DataByMiles!$AT$5:$AU$6,2,FALSE)","v":0},null,null,{"$f":"Q228*$T$2*VLOOKUP(DataByMiles!AE226,DataByMiles!$AT$5:$AU$6,2,FALSE)","v":0},{"$f":"DataByMiles!X226*VLOOKUP(DataByMiles!AE226,DataByMiles!$AT$5:$AU$6,2,FALSE)","v":0},null,null,{"$f":"U228*$X$2*VLOOKUP(DataByMiles!AE226,DataByMiles!$AT$5:$AU$6,2,FALSE)","v":0},{"$f":"DataByMiles!Y226*VLOOKUP(DataByMiles!AE226,DataByMiles!$AT$5:$AU$6,2,FALSE)","v":0},{"$f":"DataByMiles!Z226","v":0},{"$f":"DataByMiles!AA226","v":0},null,null,{"$f":"(Y228/IF(Z228=0,$AD$1,Z228)*$AD$2)/IF(AA228=0,1,AA228)*VLOOKUP(DataByMiles!AE226,DataByMiles!$AT$5:$AU$6,2,FALSE)","v":0},"",0,0,{"$f":"(AF228+AG228)*VLOOKUP(DataByMiles!AE226,DataByMiles!$AT$5:$AU$6,2,FALSE)","v":0},0]
[null,{"$f":"DataByMiles!C227","v":"----223"},{"$f":"DataByMiles!T227*VLOOKUP(DataByMiles!AE227,DataByMiles!$AT$5:$AU$6,2,FALSE)","v":0},null,null,0,{"$f":"C229*$G$2*VLOOKUP(DataByMiles!AE227,DataByMiles!$AT$5:$AU$6,2,FALSE)","v":0},{"$f":"DataByMiles!U227*VLOOKUP(DataByMiles!AE227,DataByMiles!$AT$5:$AU$6,2,FALSE)","v":0},null,null,0,{"$f":"H229*$L$2*VLOOKUP(DataByMiles!AE227,DataByMiles!$AT$5:$AU$6,2,FALSE)","v":0},{"$f":"DataByMiles!V227*VLOOKUP(DataByMiles!AE227,DataByMiles!$AT$5:$AU$6,2,FALSE)","v":0},null,null,{"$f":"M229*$P$2*VLOOKUP(DataByMiles!AE227,DataByMiles!$AT$5:$AU$6,2,FALSE)","v":0},{"$f":"DataByMiles!W227*VLOOKUP(DataByMiles!AE227,DataByMiles!$AT$5:$AU$6,2,FALSE)","v":0},null,null,{"$f":"Q229*$T$2*VLOOKUP(DataByMiles!AE227,DataByMiles!$AT$5:$AU$6,2,FALSE)","v":0},{"$f":"DataByMiles!X227*VLOOKUP(DataByMiles!AE227,DataByMiles!$AT$5:$AU$6,2,FALSE)","v":0},null,null,{"$f":"U229*$X$2*VLOOKUP(DataByMiles!AE227,DataByMiles!$AT$5:$AU$6,2,FALSE)","v":0},{"$f":"DataByMiles!Y227*VLOOKUP(DataByMiles!AE227,DataByMiles!$AT$5:$AU$6,2,FALSE)","v":0},{"$f":"DataByMiles!Z227","v":0},{"$f":"DataByMiles!AA227","v":0},null,null,{"$f":"(Y229/IF(Z229=0,$AD$1,Z229)*$AD$2)/IF(AA229=0,1,AA229)*VLOOKUP(DataByMiles!AE227,DataByMiles!$AT$5:$AU$6,2,FALSE)","v":0},"",0,0,{"$f":"(AF229+AG229)*VLOOKUP(DataByMiles!AE227,DataByMiles!$AT$5:$AU$6,2,FALSE)","v":0},0]
[null,{"$f":"DataByMiles!C228","v":"----224"},{"$f":"DataByMiles!T228*VLOOKUP(DataByMiles!AE228,DataByMiles!$AT$5:$AU$6,2,FALSE)","v":0},null,null,0,{"$f":"C230*$G$2*VLOOKUP(DataByMiles!AE228,DataByMiles!$AT$5:$AU$6,2,FALSE)","v":0},{"$f":"DataByMiles!U228*VLOOKUP(DataByMiles!AE228,DataByMiles!$AT$5:$AU$6,2,FALSE)","v":0},null,null,0,{"$f":"H230*$L$2*VLOOKUP(DataByMiles!AE228,DataByMiles!$AT$5:$AU$6,2,FALSE)","v":0},{"$f":"DataByMiles!V228*VLOOKUP(DataByMiles!AE228,DataByMiles!$AT$5:$AU$6,2,FALSE)","v":0},null,null,{"$f":"M230*$P$2*VLOOKUP(DataByMiles!AE228,DataByMiles!$AT$5:$AU$6,2,FALSE)","v":0},{"$f":"DataByMiles!W228*VLOOKUP(DataByMiles!AE228,DataByMiles!$AT$5:$AU$6,2,FALSE)","v":0},null,null,{"$f":"Q230*$T$2*VLOOKUP(DataByMiles!AE228,DataByMiles!$AT$5:$AU$6,2,FALSE)","v":0},{"$f":"DataByMiles!X228*VLOOKUP(DataByMiles!AE228,DataByMiles!$AT$5:$AU$6,2,FALSE)","v":0},null,null,{"$f":"U230*$X$2*VLOOKUP(DataByMiles!AE228,DataByMiles!$AT$5:$AU$6,2,FALSE)","v":0},{"$f":"DataByMiles!Y228*VLOOKUP(DataByMiles!AE228,DataByMiles!$AT$5:$AU$6,2,FALSE)","v":0},{"$f":"DataByMiles!Z228","v":0},{"$f":"DataByMiles!AA228","v":0},null,null,{"$f":"(Y230/IF(Z230=0,$AD$1,Z230)*$AD$2)/IF(AA230=0,1,AA230)*VLOOKUP(DataByMiles!AE228,DataByMiles!$AT$5:$AU$6,2,FALSE)","v":0},"",0,0,{"$f":"(AF230+AG230)*VLOOKUP(DataByMiles!AE228,DataByMiles!$AT$5:$AU$6,2,FALSE)","v":0},0]
[null,{"$f":"DataByMiles!C229","v":"----225"},{"$f":"DataByMiles!T229*VLOOKUP(DataByMiles!AE229,DataByMiles!$AT$5:$AU$6,2,FALSE)","v":0},null,null,0,{"$f":"C231*$G$2*VLOOKUP(DataByMiles!AE229,DataByMiles!$AT$5:$AU$6,2,FALSE)","v":0},{"$f":"DataByMiles!U229*VLOOKUP(DataByMiles!AE229,DataByMiles!$AT$5:$AU$6,2,FALSE)","v":0},null,null,0,{"$f":"H231*$L$2*VLOOKUP(DataByMiles!AE229,DataByMiles!$AT$5:$AU$6,2,FALSE)","v":0},{"$f":"DataByMiles!V229*VLOOKUP(DataByMiles!AE229,DataByMiles!$AT$5:$AU$6,2,FALSE)","v":0},null,null,{"$f":"M231*$P$2*VLOOKUP(DataByMiles!AE229,DataByMiles!$AT$5:$AU$6,2,FALSE)","v":0},{"$f":"DataByMiles!W229*VLOOKUP(DataByMiles!AE229,DataByMiles!$AT$5:$AU$6,2,FALSE)","v":0},null,null,{"$f":"Q231*$T$2*VLOOKUP(DataByMiles!AE229,DataByMiles!$AT$5:$AU$6,2,FALSE)","v":0},{"$f":"DataByMiles!X229*VLOOKUP(DataByMiles!AE229,DataByMiles!$AT$5:$AU$6,2,FALSE)","v":0},null,null,{"$f":"U231*$X$2*VLOOKUP(DataByMiles!AE229,DataByMiles!$AT$5:$AU$6,2,FALSE)","v":0},{"$f":"DataByMiles!Y229*VLOOKUP(DataByMiles!AE229,DataByMiles!$AT$5:$AU$6,2,FALSE)","v":0},{"$f":"DataByMiles!Z229","v":0},{"$f":"DataByMiles!AA229","v":0},null,null,{"$f":"(Y231/IF(Z231=0,$AD$1,Z231)*$AD$2)/IF(AA231=0,1,AA231)*VLOOKUP(DataByMiles!AE229,DataByMiles!$AT$5:$AU$6,2,FALSE)","v":0},"",0,0,{"$f":"(AF231+AG231)*VLOOKUP(DataByMiles!AE229,DataByMiles!$AT$5:$AU$6,2,FALSE)","v":0},0]
[null,{"$f":"DataByMiles!C230","v":"----226"},{"$f":"DataByMiles!T230*VLOOKUP(DataByMiles!AE230,DataByMiles!$AT$5:$AU$6,2,FALSE)","v":0},null,null,0,{"$f":"C232*$G$2*VLOOKUP(DataByMiles!AE230,DataByMiles!$AT$5:$AU$6,2,FALSE)","v":0},{"$f":"DataByMiles!U230*VLOOKUP(DataByMiles!AE230,DataByMiles!$AT$5:$AU$6,2,FALSE)","v":0},null,null,0,{"$f":"H232*$L$2*VLOOKUP(DataByMiles!AE230,DataByMiles!$AT$5:$AU$6,2,FALSE)","v":0},{"$f":"DataByMiles!V230*VLOOKUP(DataByMiles!AE230,DataByMiles!$AT$5:$AU$6,2,FALSE)","v":0},null,null,{"$f":"M232*$P$2*VLOOKUP(DataByMiles!AE230,DataByMiles!$AT$5:$AU$6,2,FALSE)","v":0},{"$f":"DataByMiles!W230*VLOOKUP(DataByMiles!AE230,DataByMiles!$AT$5:$AU$6,2,FALSE)","v":0},null,null,{"$f":"Q232*$T$2*VLOOKUP(DataByMiles!AE230,DataByMiles!$AT$5:$AU$6,2,FALSE)","v":0},{"$f":"DataByMiles!X230*VLOOKUP(DataByMiles!AE230,DataByMiles!$AT$5:$AU$6,2,FALSE)","v":0},null,null,{"$f":"U232*$X$2*VLOOKUP(DataByMiles!AE230,DataByMiles!$AT$5:$AU$6,2,FALSE)","v":0},{"$f":"DataByMiles!Y230*VLOOKUP(DataByMiles!AE230,DataByMiles!$AT$5:$AU$6,2,FALSE)","v":0},{"$f":"DataByMiles!Z230","v":0},{"$f":"DataByMiles!AA230","v":0},null,null,{"$f":"(Y232/IF(Z232=0,$AD$1,Z232)*$AD$2)/IF(AA232=0,1,AA232)*VLOOKUP(DataByMiles!AE230,DataByMiles!$AT$5:$AU$6,2,FALSE)","v":0},"",0,0,{"$f":"(AF232+AG232)*VLOOKUP(DataByMiles!AE230,DataByMiles!$AT$5:$AU$6,2,FALSE)","v":0},0]
[null,{"$f":"DataByMiles!C231","v":"----227"},{"$f":"DataByMiles!T231*VLOOKUP(DataByMiles!AE231,DataByMiles!$AT$5:$AU$6,2,FALSE)","v":0},null,null,0,{"$f":"C233*$G$2*VLOOKUP(DataByMiles!AE231,DataByMiles!$AT$5:$AU$6,2,FALSE)","v":0},{"$f":"DataByMiles!U231*VLOOKUP(DataByMiles!AE231,DataByMiles!$AT$5:$AU$6,2,FALSE)","v":0},null,null,0,{"$f":"H233*$L$2*VLOOKUP(DataByMiles!AE231,DataByMiles!$AT$5:$AU$6,2,FALSE)","v":0},{"$f":"DataByMiles!V231*VLOOKUP(DataByMiles!AE231,DataByMiles!$AT$5:$AU$6,2,FALSE)","v":0},null,null,{"$f":"M233*$P$2*VLOOKUP(DataByMiles!AE231,DataByMiles!$AT$5:$AU$6,2,FALSE)","v":0},{"$f":"DataByMiles!W231*VLOOKUP(DataByMiles!AE231,DataByMiles!$AT$5:$AU$6,2,FALSE)","v":0},null,null,{"$f":"Q233*$T$2*VLOOKUP(DataByMiles!AE231,DataByMiles!$AT$5:$AU$6,2,FALSE)","v":0},{"$f":"DataByMiles!X231*VLOOKUP(DataByMiles!AE231,DataByMiles!$AT$5:$AU$6,2,FALSE)","v":0},null,null,{"$f":"U233*$X$2*VLOOKUP(DataByMiles!AE231,DataByMiles!$AT$5:$AU$6,2,FALSE)","v":0},{"$f":"DataByMiles!Y231*VLOOKUP(DataByMiles!AE231,DataByMiles!$AT$5:$AU$6,2,FALSE)","v":0},{"$f":"DataByMiles!Z231","v":0},{"$f":"DataByMiles!AA231","v":0},null,null,{"$f":"(Y233/IF(Z233=0,$AD$1,Z233)*$AD$2)/IF(AA233=0,1,AA233)*VLOOKUP(DataByMiles!AE231,DataByMiles!$AT$5:$AU$6,2,FALSE)","v":0},"",0,0,{"$f":"(AF233+AG233)*VLOOKUP(DataByMiles!AE231,DataByMiles!$AT$5:$AU$6,2,FALSE)","v":0},0]
[null,{"$f":"DataByMiles!C232","v":"----228"},{"$f":"DataByMiles!T232*VLOOKUP(DataByMiles!AE232,DataByMiles!$AT$5:$AU$6,2,FALSE)","v":0},null,null,0,{"$f":"C234*$G$2*VLOOKUP(DataByMiles!AE232,DataByMiles!$AT$5:$AU$6,2,FALSE)","v":0},{"$f":"DataByMiles!U232*VLOOKUP(DataByMiles!AE232,DataByMiles!$AT$5:$AU$6,2,FALSE)","v":0},null,null,0,{"$f":"H234*$L$2*VLOOKUP(DataByMiles!AE232,DataByMiles!$AT$5:$AU$6,2,FALSE)","v":0},{"$f":"DataByMiles!V232*VLOOKUP(DataByMiles!AE232,DataByMiles!$AT$5:$AU$6,2,FALSE)","v":0},null,null,{"$f":"M234*$P$2*VLOOKUP(DataByMiles!AE232,DataByMiles!$AT$5:$AU$6,2,FALSE)","v":0},{"$f":"DataByMiles!W232*VLOOKUP(DataByMiles!AE232,DataByMiles!$AT$5:$AU$6,2,FALSE)","v":0},null,null,{"$f":"Q234*$T$2*VLOOKUP(DataByMiles!AE232,DataByMiles!$AT$5:$AU$6,2,FALSE)","v":0},{"$f":"DataByMiles!X232*VLOOKUP(DataByMiles!AE232,DataByMiles!$AT$5:$AU$6,2,FALSE)","v":0},null,null,{"$f":"U234*$X$2*VLOOKUP(DataByMiles!AE232,DataByMiles!$AT$5:$AU$6,2,FALSE)","v":0},{"$f":"DataByMiles!Y232*VLOOKUP(DataByMiles!AE232,DataByMiles!$AT$5:$AU$6,2,FALSE)","v":0},{"$f":"DataByMiles!Z232","v":0},{"$f":"DataByMiles!AA232","v":0},null,null,{"$f":"(Y234/IF(Z234=0,$AD$1,Z234)*$AD$2)/IF(AA234=0,1,AA234)*VLOOKUP(DataByMiles!AE232,DataByMiles!$AT$5:$AU$6,2,FALSE)","v":0},"",0,0,{"$f":"(AF234+AG234)*VLOOKUP(DataByMiles!AE232,DataByMiles!$AT$5:$AU$6,2,FALSE)","v":0},0]
[null,{"$f":"DataByMiles!C233","v":"----229"},{"$f":"DataByMiles!T233*VLOOKUP(DataByMiles!AE233,DataByMiles!$AT$5:$AU$6,2,FALSE)","v":0},null,null,0,{"$f":"C235*$G$2*VLOOKUP(DataByMiles!AE233,DataByMiles!$AT$5:$AU$6,2,FALSE)","v":0},{"$f":"DataByMiles!U233*VLOOKUP(DataByMiles!AE233,DataByMiles!$AT$5:$AU$6,2,FALSE)","v":0},null,null,0,{"$f":"H235*$L$2*VLOOKUP(DataByMiles!AE233,DataByMiles!$AT$5:$AU$6,2,FALSE)","v":0},{"$f":"DataByMiles!V233*VLOOKUP(DataByMiles!AE233,DataByMiles!$AT$5:$AU$6,2,FALSE)","v":0},null,null,{"$f":"M235*$P$2*VLOOKUP(DataByMiles!AE233,DataByMiles!$AT$5:$AU$6,2,FALSE)","v":0},{"$f":"DataByMiles!W233*VLOOKUP(DataByMiles!AE233,DataByMiles!$AT$5:$AU$6,2,FALSE)","v":0},null,null,{"$f":"Q235*$T$2*VLOOKUP(DataByMiles!AE233,DataByMiles!$AT$5:$AU$6,2,FALSE)","v":0},{"$f":"DataByMiles!X233*VLOOKUP(DataByMiles!AE233,DataByMiles!$AT$5:$AU$6,2,FALSE)","v":0},null,null,{"$f":"U235*$X$2*VLOOKUP(DataByMiles!AE233,DataByMiles!$AT$5:$AU$6,2,FALSE)","v":0},{"$f":"DataByMiles!Y233*VLOOKUP(DataByMiles!AE233,DataByMiles!$AT$5:$AU$6,2,FALSE)","v":0},{"$f":"DataByMiles!Z233","v":0},{"$f":"DataByMiles!AA233","v":0},null,null,{"$f":"(Y235/IF(Z235=0,$AD$1,Z235)*$AD$2)/IF(AA235=0,1,AA235)*VLOOKUP(DataByMiles!AE233,DataByMiles!$AT$5:$AU$6,2,FALSE)","v":0},"",0,0,{"$f":"(AF235+AG235)*VLOOKUP(DataByMiles!AE233,DataByMiles!$AT$5:$AU$6,2,FALSE)","v":0},0]
[null,{"$f":"DataByMiles!C234","v":"----230"},{"$f":"DataByMiles!T234*VLOOKUP(DataByMiles!AE234,DataByMiles!$AT$5:$AU$6,2,FALSE)","v":0},null,null,0,{"$f":"C236*$G$2*VLOOKUP(DataByMiles!AE234,DataByMiles!$AT$5:$AU$6,2,FALSE)","v":0},{"$f":"DataByMiles!U234*VLOOKUP(DataByMiles!AE234,DataByMiles!$AT$5:$AU$6,2,FALSE)","v":0},null,null,0,{"$f":"H236*$L$2*VLOOKUP(DataByMiles!AE234,DataByMiles!$AT$5:$AU$6,2,FALSE)","v":0},{"$f":"DataByMiles!V234*VLOOKUP(DataByMiles!AE234,DataByMiles!$AT$5:$AU$6,2,FALSE)","v":0},null,null,{"$f":"M236*$P$2*VLOOKUP(DataByMiles!AE234,DataByMiles!$AT$5:$AU$6,2,FALSE)","v":0},{"$f":"DataByMiles!W234*VLOOKUP(DataByMiles!AE234,DataByMiles!$AT$5:$AU$6,2,FALSE)","v":0},null,null,{"$f":"Q236*$T$2*VLOOKUP(DataByMiles!AE234,DataByMiles!$AT$5:$AU$6,2,FALSE)","v":0},{"$f":"DataByMiles!X234*VLOOKUP(DataByMiles!AE234,DataByMiles!$AT$5:$AU$6,2,FALSE)","v":0},null,null,{"$f":"U236*$X$2*VLOOKUP(DataByMiles!AE234,DataByMiles!$AT$5:$AU$6,2,FALSE)","v":0},{"$f":"DataByMiles!Y234*VLOOKUP(DataByMiles!AE234,DataByMiles!$AT$5:$AU$6,2,FALSE)","v":0},{"$f":"DataByMiles!Z234","v":0},{"$f":"DataByMiles!AA234","v":0},null,null,{"$f":"(Y236/IF(Z236=0,$AD$1,Z236)*$AD$2)/IF(AA236=0,1,AA236)*VLOOKUP(DataByMiles!AE234,DataByMiles!$AT$5:$AU$6,2,FALSE)","v":0},"",0,0,{"$f":"(AF236+AG236)*VLOOKUP(DataByMiles!AE234,DataByMiles!$AT$5:$AU$6,2,FALSE)","v":0},0]
[null,{"$f":"DataByMiles!C235","v":"----231"},{"$f":"DataByMiles!T235*VLOOKUP(DataByMiles!AE235,DataByMiles!$AT$5:$AU$6,2,FALSE)","v":0},null,null,0,{"$f":"C237*$G$2*VLOOKUP(DataByMiles!AE235,DataByMiles!$AT$5:$AU$6,2,FALSE)","v":0},{"$f":"DataByMiles!U235*VLOOKUP(DataByMiles!AE235,DataByMiles!$AT$5:$AU$6,2,FALSE)","v":0},null,null,0,{"$f":"H237*$L$2*VLOOKUP(DataByMiles!AE235,DataByMiles!$AT$5:$AU$6,2,FALSE)","v":0},{"$f":"DataByMiles!V235*VLOOKUP(DataByMiles!AE235,DataByMiles!$AT$5:$AU$6,2,FALSE)","v":0},null,null,{"$f":"M237*$P$2*VLOOKUP(DataByMiles!AE235,DataByMiles!$AT$5:$AU$6,2,FALSE)","v":0},{"$f":"DataByMiles!W235*VLOOKUP(DataByMiles!AE235,DataByMiles!$AT$5:$AU$6,2,FALSE)","v":0},null,null,{"$f":"Q237*$T$2*VLOOKUP(DataByMiles!AE235,DataByMiles!$AT$5:$AU$6,2,FALSE)","v":0},{"$f":"DataByMiles!X235*VLOOKUP(DataByMiles!AE235,DataByMiles!$AT$5:$AU$6,2,FALSE)","v":0},null,null,{"$f":"U237*$X$2*VLOOKUP(DataByMiles!AE235,DataByMiles!$AT$5:$AU$6,2,FALSE)","v":0},{"$f":"DataByMiles!Y235*VLOOKUP(DataByMiles!AE235,DataByMiles!$AT$5:$AU$6,2,FALSE)","v":0},{"$f":"DataByMiles!Z235","v":0},{"$f":"DataByMiles!AA235","v":0},null,null,{"$f":"(Y237/IF(Z237=0,$AD$1,Z237)*$AD$2)/IF(AA237=0,1,AA237)*VLOOKUP(DataByMiles!AE235,DataByMiles!$AT$5:$AU$6,2,FALSE)","v":0},"",0,0,{"$f":"(AF237+AG237)*VLOOKUP(DataByMiles!AE235,DataByMiles!$AT$5:$AU$6,2,FALSE)","v":0},0]
[null,{"$f":"DataByMiles!C236","v":"----232"},{"$f":"DataByMiles!T236*VLOOKUP(DataByMiles!AE236,DataByMiles!$AT$5:$AU$6,2,FALSE)","v":0},null,null,{"$f":"C238*$F$2","v":0},{"$f":"C238*$G$2*VLOOKUP(DataByMiles!AE236,DataByMiles!$AT$5:$AU$6,2,FALSE)","v":0},{"$f":"DataByMiles!U236*VLOOKUP(DataByMiles!AE236,DataByMiles!$AT$5:$AU$6,2,FALSE)","v":0},null,null,{"$f":"H238*$K$2","v":0},{"$f":"H238*$L$2*VLOOKUP(DataByMiles!AE236,DataByMiles!$AT$5:$AU$6,2,FALSE)","v":0},{"$f":"DataByMiles!V236*VLOOKUP(DataByMiles!AE236,DataByMiles!$AT$5:$AU$6,2,FALSE)","v":0},null,null,{"$f":"M238*$P$2*VLOOKUP(DataByMiles!AE236,DataByMiles!$AT$5:$AU$6,2,FALSE)","v":0},{"$f":"DataByMiles!W236*VLOOKUP(DataByMiles!AE236,DataByMiles!$AT$5:$AU$6,2,FALSE)","v":0},null,null,{"$f":"Q238*$T$2*VLOOKUP(DataByMiles!AE236,DataByMiles!$AT$5:$AU$6,2,FALSE)","v":0},{"$f":"DataByMiles!X236*VLOOKUP(DataByMiles!AE236,DataByMiles!$AT$5:$AU$6,2,FALSE)","v":0},null,null,{"$f":"U238*$X$2*VLOOKUP(DataByMiles!AE236,DataByMiles!$AT$5:$AU$6,2,FALSE)","v":0},{"$f":"DataByMiles!Y236*VLOOKUP(DataByMiles!AE236,DataByMiles!$AT$5:$AU$6,2,FALSE)","v":0},{"$f":"DataByMiles!Z236","v":0},{"$f":"DataByMiles!AA236","v":0},null,null,{"$f":"(Y238/IF(Z238=0,$AD$1,Z238)*$AD$2)/IF(AA238=0,1,AA238)*VLOOKUP(DataByMiles!AE236,DataByMiles!$AT$5:$AU$6,2,FALSE)","v":0},{"$f":"IF(C238+H238+M238+Q238+U238+Y238>0,C238+H238+M238+Q238+U238+Y238,\"\")","v":""},{"$f":"F238+K238+P238+T238+X238+AD238","v":0},{"$f":"G238+L238","v":0},{"$f":"(AF238+AG238)*VLOOKUP(DataByMiles!AE236,DataByMiles!$AT$5:$AU$6,2,FALSE)","v":0},{"$f":"IFERROR(AH238/AE238,0)","v":0}]
[null,{"$f":"DataByMiles!C237","v":"----233"},{"$f":"DataByMiles!T237*VLOOKUP(DataByMiles!AE237,DataByMiles!$AT$5:$AU$6,2,FALSE)","v":0},null,null,0,{"$f":"C239*$G$2*VLOOKUP(DataByMiles!AE237,DataByMiles!$AT$5:$AU$6,2,FALSE)","v":0},{"$f":"DataByMiles!U237*VLOOKUP(DataByMiles!AE237,DataByMiles!$AT$5:$AU$6,2,FALSE)","v":0},null,null,0,{"$f":"H239*$L$2*VLOOKUP(DataByMiles!AE237,DataByMiles!$AT$5:$AU$6,2,FALSE)","v":0},{"$f":"DataByMiles!V237*VLOOKUP(DataByMiles!AE237,DataByMiles!$AT$5:$AU$6,2,FALSE)","v":0},null,null,{"$f":"M239*$P$2*VLOOKUP(DataByMiles!AE237,DataByMiles!$AT$5:$AU$6,2,FALSE)","v":0},{"$f":"DataByMiles!W237*VLOOKUP(DataByMiles!AE237,DataByMiles!$AT$5:$AU$6,2,FALSE)","v":0},null,null,{"$f":"Q239*$T$2*VLOOKUP(DataByMiles!AE237,DataByMiles!$AT$5:$AU$6,2,FALSE)","v":0},{"$f":"DataByMiles!X237*VLOOKUP(DataByMiles!AE237,DataByMiles!$AT$5:$AU$6,2,FALSE)","v":0},null,null,{"$f":"U239*$X$2*VLOOKUP(DataByMiles!AE237,DataByMiles!$AT$5:$AU$6,2,FALSE)","v":0},{"$f":"DataByMiles!Y237*VLOOKUP(DataByMiles!AE237,DataByMiles!$AT$5:$AU$6,2,FALSE)","v":0},{"$f":"DataByMiles!Z237","v":0},{"$f":"DataByMiles!AA237","v":0},null,null,{"$f":"(Y239/IF(Z239=0,$AD$1,Z239)*$AD$2)/IF(AA239=0,1,AA239)*VLOOKUP(DataByMiles!AE237,DataByMiles!$AT$5:$AU$6,2,FALSE)","v":0},"",0,0,{"$f":"(AF239+AG239)*VLOOKUP(DataByMiles!AE237,DataByMiles!$AT$5:$AU$6,2,FALSE)","v":0},0]
[null,{"$f":"DataByMiles!C238","v":"----234"},{"$f":"DataByMiles!T238*VLOOKUP(DataByMiles!AE238,DataByMiles!$AT$5:$AU$6,2,FALSE)","v":0},null,null,0,{"$f":"C240*$G$2*VLOOKUP(DataByMiles!AE238,DataByMiles!$AT$5:$AU$6,2,FALSE)","v":0},{"$f":"DataByMiles!U238*VLOOKUP(DataByMiles!AE238,DataByMiles!$AT$5:$AU$6,2,FALSE)","v":0},null,null,0,{"$f":"H240*$L$2*VLOOKUP(DataByMiles!AE238,DataByMiles!$AT$5:$AU$6,2,FALSE)","v":0},{"$f":"DataByMiles!V238*VLOOKUP(DataByMiles!AE238,DataByMiles!$AT$5:$AU$6,2,FALSE)","v":0},null,null,{"$f":"M240*$P$2*VLOOKUP(DataByMiles!AE238,DataByMiles!$AT$5:$AU$6,2,FALSE)","v":0},{"$f":"DataByMiles!W238*VLOOKUP(DataByMiles!AE238,DataByMiles!$AT$5:$AU$6,2,FALSE)","v":0},null,null,{"$f":"Q240*$T$2*VLOOKUP(DataByMiles!AE238,DataByMiles!$AT$5:$AU$6,2,FALSE)","v":0},{"$f":"DataByMiles!X238*VLOOKUP(DataByMiles!AE238,DataByMiles!$AT$5:$AU$6,2,FALSE)","v":0},null,null,{"$f":"U240*$X$2*VLOOKUP(DataByMiles!AE238,DataByMiles!$AT$5:$AU$6,2,FALSE)","v":0},{"$f":"DataByMiles!Y238*VLOOKUP(DataByMiles!AE238,DataByMiles!$AT$5:$AU$6,2,FALSE)","v":0},{"$f":"DataByMiles!Z238","v":0},{"$f":"DataByMiles!AA238","v":0},null,null,{"$f":"(Y240/IF(Z240=0,$AD$1,Z240)*$AD$2)/IF(AA240=0,1,AA240)*VLOOKUP(DataByMiles!AE238,DataByMiles!$AT$5:$AU$6,2,FALSE)","v":0},"",0,0,{"$f":"(AF240+AG240)*VLOOKUP(DataByMiles!AE238,DataByMiles!$AT$5:$AU$6,2,FALSE)","v":0},0]
[null,{"$f":"DataByMiles!C239","v":"----235"},{"$f":"DataByMiles!T239*VLOOKUP(DataByMiles!AE239,DataByMiles!$AT$5:$AU$6,2,FALSE)","v":0},null,null,0,{"$f":"C241*$G$2*VLOOKUP(DataByMiles!AE239,DataByMiles!$AT$5:$AU$6,2,FALSE)","v":0},{"$f":"DataByMiles!U239*VLOOKUP(DataByMiles!AE239,DataByMiles!$AT$5:$AU$6,2,FALSE)","v":0},null,null,0,{"$f":"H241*$L$2*VLOOKUP(DataByMiles!AE239,DataByMiles!$AT$5:$AU$6,2,FALSE)","v":0},{"$f":"DataByMiles!V239*VLOOKUP(DataByMiles!AE239,DataByMiles!$AT$5:$AU$6,2,FALSE)","v":0},null,null,{"$f":"M241*$P$2*VLOOKUP(DataByMiles!AE239,DataByMiles!$AT$5:$AU$6,2,FALSE)","v":0},{"$f":"DataByMiles!W239*VLOOKUP(DataByMiles!AE239,DataByMiles!$AT$5:$AU$6,2,FALSE)","v":0},null,null,{"$f":"Q241*$T$2*VLOOKUP(DataByMiles!AE239,DataByMiles!$AT$5:$AU$6,2,FALSE)","v":0},{"$f":"DataByMiles!X239*VLOOKUP(DataByMiles!AE239,DataByMiles!$AT$5:$AU$6,2,FALSE)","v":0},null,null,{"$f":"U241*$X$2*VLOOKUP(DataByMiles!AE239,DataByMiles!$AT$5:$AU$6,2,FALSE)","v":0},{"$f":"DataByMiles!Y239*VLOOKUP(DataByMiles!AE239,DataByMiles!$AT$5:$AU$6,2,FALSE)","v":0},{"$f":"DataByMiles!Z239","v":0},{"$f":"DataByMiles!AA239","v":0},null,null,{"$f":"(Y241/IF(Z241=0,$AD$1,Z241)*$AD$2)/IF(AA241=0,1,AA241)*VLOOKUP(DataByMiles!AE239,DataByMiles!$AT$5:$AU$6,2,FALSE)","v":0},"",0,0,{"$f":"(AF241+AG241)*VLOOKUP(DataByMiles!AE239,DataByMiles!$AT$5:$AU$6,2,FALSE)","v":0},0]
[null,{"$f":"DataByMiles!C240","v":"----236"},{"$f":"DataByMiles!T240*VLOOKUP(DataByMiles!AE240,DataByMiles!$AT$5:$AU$6,2,FALSE)","v":0},null,null,0,{"$f":"C242*$G$2*VLOOKUP(DataByMiles!AE240,DataByMiles!$AT$5:$AU$6,2,FALSE)","v":0},{"$f":"DataByMiles!U240*VLOOKUP(DataByMiles!AE240,DataByMiles!$AT$5:$AU$6,2,FALSE)","v":0},null,null,0,{"$f":"H242*$L$2*VLOOKUP(DataByMiles!AE240,DataByMiles!$AT$5:$AU$6,2,FALSE)","v":0},{"$f":"DataByMiles!V240*VLOOKUP(DataByMiles!AE240,DataByMiles!$AT$5:$AU$6,2,FALSE)","v":0},null,null,{"$f":"M242*$P$2*VLOOKUP(DataByMiles!AE240,DataByMiles!$AT$5:$AU$6,2,FALSE)","v":0},{"$f":"DataByMiles!W240*VLOOKUP(DataByMiles!AE240,DataByMiles!$AT$5:$AU$6,2,FALSE)","v":0},null,null,{"$f":"Q242*$T$2*VLOOKUP(DataByMiles!AE240,DataByMiles!$AT$5:$AU$6,2,FALSE)","v":0},{"$f":"DataByMiles!X240*VLOOKUP(DataByMiles!AE240,DataByMiles!$AT$5:$AU$6,2,FALSE)","v":0},null,null,{"$f":"U242*$X$2*VLOOKUP(DataByMiles!AE240,DataByMiles!$AT$5:$AU$6,2,FALSE)","v":0},{"$f":"DataByMiles!Y240*VLOOKUP(DataByMiles!AE240,DataByMiles!$AT$5:$AU$6,2,FALSE)","v":0},{"$f":"DataByMiles!Z240","v":0},{"$f":"DataByMiles!AA240","v":0},null,null,{"$f":"(Y242/IF(Z242=0,$AD$1,Z242)*$AD$2)/IF(AA242=0,1,AA242)*VLOOKUP(DataByMiles!AE240,DataByMiles!$AT$5:$AU$6,2,FALSE)","v":0},"",0,0,{"$f":"(AF242+AG242)*VLOOKUP(DataByMiles!AE240,DataByMiles!$AT$5:$AU$6,2,FALSE)","v":0},0]
[null,{"$f":"DataByMiles!C241","v":"----237"},{"$f":"DataByMiles!T241*VLOOKUP(DataByMiles!AE241,DataByMiles!$AT$5:$AU$6,2,FALSE)","v":0},null,null,0,{"$f":"C243*$G$2*VLOOKUP(DataByMiles!AE241,DataByMiles!$AT$5:$AU$6,2,FALSE)","v":0},{"$f":"DataByMiles!U241*VLOOKUP(DataByMiles!AE241,DataByMiles!$AT$5:$AU$6,2,FALSE)","v":0},null,null,0,{"$f":"H243*$L$2*VLOOKUP(DataByMiles!AE241,DataByMiles!$AT$5:$AU$6,2,FALSE)","v":0},{"$f":"DataByMiles!V241*VLOOKUP(DataByMiles!AE241,DataByMiles!$AT$5:$AU$6,2,FALSE)","v":0},null,null,{"$f":"M243*$P$2*VLOOKUP(DataByMiles!AE241,DataByMiles!$AT$5:$AU$6,2,FALSE)","v":0},{"$f":"DataByMiles!W241*VLOOKUP(DataByMiles!AE241,DataByMiles!$AT$5:$AU$6,2,FALSE)","v":0},null,null,{"$f":"Q243*$T$2*VLOOKUP(DataByMiles!AE241,DataByMiles!$AT$5:$AU$6,2,FALSE)","v":0},{"$f":"DataByMiles!X241*VLOOKUP(DataByMiles!AE241,DataByMiles!$AT$5:$AU$6,2,FALSE)","v":0},null,null,{"$f":"U243*$X$2*VLOOKUP(DataByMiles!AE241,DataByMiles!$AT$5:$AU$6,2,FALSE)","v":0},{"$f":"DataByMiles!Y241*VLOOKUP(DataByMiles!AE241,DataByMiles!$AT$5:$AU$6,2,FALSE)","v":0},{"$f":"DataByMiles!Z241","v":0},{"$f":"DataByMiles!AA241","v":0},null,null,{"$f":"(Y243/IF(Z243=0,$AD$1,Z243)*$AD$2)/IF(AA243=0,1,AA243)*VLOOKUP(DataByMiles!AE241,DataByMiles!$AT$5:$AU$6,2,FALSE)","v":0},"",0,0,{"$f":"(AF243+AG243)*VLOOKUP(DataByMiles!AE241,DataByMiles!$AT$5:$AU$6,2,FALSE)","v":0},0]
[null,{"$f":"DataByMiles!C242","v":"----238"},{"$f":"DataByMiles!T242*VLOOKUP(DataByMiles!AE242,DataByMiles!$AT$5:$AU$6,2,FALSE)","v":0},null,null,0,{"$f":"C244*$G$2*VLOOKUP(DataByMiles!AE242,DataByMiles!$AT$5:$AU$6,2,FALSE)","v":0},{"$f":"DataByMiles!U242*VLOOKUP(DataByMiles!AE242,DataByMiles!$AT$5:$AU$6,2,FALSE)","v":0},null,null,0,{"$f":"H244*$L$2*VLOOKUP(DataByMiles!AE242,DataByMiles!$AT$5:$AU$6,2,FALSE)","v":0},{"$f":"DataByMiles!V242*VLOOKUP(DataByMiles!AE242,DataByMiles!$AT$5:$AU$6,2,FALSE)","v":0},null,null,{"$f":"M244*$P$2*VLOOKUP(DataByMiles!AE242,DataByMiles!$AT$5:$AU$6,2,FALSE)","v":0},{"$f":"DataByMiles!W242*VLOOKUP(DataByMiles!AE242,DataByMiles!$AT$5:$AU$6,2,FALSE)","v":0},null,null,{"$f":"Q244*$T$2*VLOOKUP(DataByMiles!AE242,DataByMiles!$AT$5:$AU$6,2,FALSE)","v":0},{"$f":"DataByMiles!X242*VLOOKUP(DataByMiles!AE242,DataByMiles!$AT$5:$AU$6,2,FALSE)","v":0},null,null,{"$f":"U244*$X$2*VLOOKUP(DataByMiles!AE242,DataByMiles!$AT$5:$AU$6,2,FALSE)","v":0},{"$f":"DataByMiles!Y242*VLOOKUP(DataByMiles!AE242,DataByMiles!$AT$5:$AU$6,2,FALSE)","v":0},{"$f":"DataByMiles!Z242","v":0},{"$f":"DataByMiles!AA242","v":0},null,null,{"$f":"(Y244/IF(Z244=0,$AD$1,Z244)*$AD$2)/IF(AA244=0,1,AA244)*VLOOKUP(DataByMiles!AE242,DataByMiles!$AT$5:$AU$6,2,FALSE)","v":0},"",0,0,{"$f":"(AF244+AG244)*VLOOKUP(DataByMiles!AE242,DataByMiles!$AT$5:$AU$6,2,FALSE)","v":0},0]
[null,{"$f":"DataByMiles!C243","v":"----239"},{"$f":"DataByMiles!T243*VLOOKUP(DataByMiles!AE243,DataByMiles!$AT$5:$AU$6,2,FALSE)","v":0},null,null,0,{"$f":"C245*$G$2*VLOOKUP(DataByMiles!AE243,DataByMiles!$AT$5:$AU$6,2,FALSE)","v":0},{"$f":"DataByMiles!U243*VLOOKUP(DataByMiles!AE243,DataByMiles!$AT$5:$AU$6,2,FALSE)","v":0},null,null,0,{"$f":"H245*$L$2*VLOOKUP(DataByMiles!AE243,DataByMiles!$AT$5:$AU$6,2,FALSE)","v":0},{"$f":"DataByMiles!V243*VLOOKUP(DataByMiles!AE243,DataByMiles!$AT$5:$AU$6,2,FALSE)","v":0},null,null,{"$f":"M245*$P$2*VLOOKUP(DataByMiles!AE243,DataByMiles!$AT$5:$AU$6,2,FALSE)","v":0},{"$f":"DataByMiles!W243*VLOOKUP(DataByMiles!AE243,DataByMiles!$AT$5:$AU$6,2,FALSE)","v":0},null,null,{"$f":"Q245*$T$2*VLOOKUP(DataByMiles!AE243,DataByMiles!$AT$5:$AU$6,2,FALSE)","v":0},{"$f":"DataByMiles!X243*VLOOKUP(DataByMiles!AE243,DataByMiles!$AT$5:$AU$6,2,FALSE)","v":0},null,null,{"$f":"U245*$X$2*VLOOKUP(DataByMiles!AE243,DataByMiles!$AT$5:$AU$6,2,FALSE)","v":0},{"$f":"DataByMiles!Y243*VLOOKUP(DataByMiles!AE243,DataByMiles!$AT$5:$AU$6,2,FALSE)","v":0},{"$f":"DataByMiles!Z243","v":0},{"$f":"DataByMiles!AA243","v":0},null,null,{"$f":"(Y245/IF(Z245=0,$AD$1,Z245)*$AD$2)/IF(AA245=0,1,AA245)*VLOOKUP(DataByMiles!AE243,DataByMiles!$AT$5:$AU$6,2,FALSE)","v":0},"",0,0,{"$f":"(AF245+AG245)*VLOOKUP(DataByMiles!AE243,DataByMiles!$AT$5:$AU$6,2,FALSE)","v":0},0]
[null,{"$f":"DataByMiles!C244","v":"----240"},{"$f":"DataByMiles!T244*VLOOKUP(DataByMiles!AE244,DataByMiles!$AT$5:$AU$6,2,FALSE)","v":0},null,null,0,{"$f":"C246*$G$2*VLOOKUP(DataByMiles!AE244,DataByMiles!$AT$5:$AU$6,2,FALSE)","v":0},{"$f":"DataByMiles!U244*VLOOKUP(DataByMiles!AE244,DataByMiles!$AT$5:$AU$6,2,FALSE)","v":0},null,null,0,{"$f":"H246*$L$2*VLOOKUP(DataByMiles!AE244,DataByMiles!$AT$5:$AU$6,2,FALSE)","v":0},{"$f":"DataByMiles!V244*VLOOKUP(DataByMiles!AE244,DataByMiles!$AT$5:$AU$6,2,FALSE)","v":0},null,null,{"$f":"M246*$P$2*VLOOKUP(DataByMiles!AE244,DataByMiles!$AT$5:$AU$6,2,FALSE)","v":0},{"$f":"DataByMiles!W244*VLOOKUP(DataByMiles!AE244,DataByMiles!$AT$5:$AU$6,2,FALSE)","v":0},null,null,{"$f":"Q246*$T$2*VLOOKUP(DataByMiles!AE244,DataByMiles!$AT$5:$AU$6,2,FALSE)","v":0},{"$f":"DataByMiles!X244*VLOOKUP(DataByMiles!AE244,DataByMiles!$AT$5:$AU$6,2,FALSE)","v":0},null,null,{"$f":"U246*$X$2*VLOOKUP(DataByMiles!AE244,DataByMiles!$AT$5:$AU$6,2,FALSE)","v":0},{"$f":"DataByMiles!Y244*VLOOKUP(DataByMiles!AE244,DataByMiles!$AT$5:$AU$6,2,FALSE)","v":0},{"$f":"DataByMiles!Z244","v":0},{"$f":"DataByMiles!AA244","v":0},null,null,{"$f":"(Y246/IF(Z246=0,$AD$1,Z246)*$AD$2)/IF(AA246=0,1,AA246)*VLOOKUP(DataByMiles!AE244,DataByMiles!$AT$5:$AU$6,2,FALSE)","v":0},"",0,0,{"$f":"(AF246+AG246)*VLOOKUP(DataByMiles!AE244,DataByMiles!$AT$5:$AU$6,2,FALSE)","v":0},0]
[null,{"$f":"DataByMiles!C245","v":"----241"},{"$f":"DataByMiles!T245*VLOOKUP(DataByMiles!AE245,DataByMiles!$AT$5:$AU$6,2,FALSE)","v":0},null,null,0,{"$f":"C247*$G$2*VLOOKUP(DataByMiles!AE245,DataByMiles!$AT$5:$AU$6,2,FALSE)","v":0},{"$f":"DataByMiles!U245*VLOOKUP(DataByMiles!AE245,DataByMiles!$AT$5:$AU$6,2,FALSE)","v":0},null,null,0,{"$f":"H247*$L$2*VLOOKUP(DataByMiles!AE245,DataByMiles!$AT$5:$AU$6,2,FALSE)","v":0},{"$f":"DataByMiles!V245*VLOOKUP(DataByMiles!AE245,DataByMiles!$AT$5:$AU$6,2,FALSE)","v":0},null,null,{"$f":"M247*$P$2*VLOOKUP(DataByMiles!AE245,DataByMiles!$AT$5:$AU$6,2,FALSE)","v":0},{"$f":"DataByMiles!W245*VLOOKUP(DataByMiles!AE245,DataByMiles!$AT$5:$AU$6,2,FALSE)","v":0},null,null,{"$f":"Q247*$T$2*VLOOKUP(DataByMiles!AE245,DataByMiles!$AT$5:$AU$6,2,FALSE)","v":0},{"$f":"DataByMiles!X245*VLOOKUP(DataByMiles!AE245,DataByMiles!$AT$5:$AU$6,2,FALSE)","v":0},null,null,{"$f":"U247*$X$2*VLOOKUP(DataByMiles!AE245,DataByMiles!$AT$5:$AU$6,2,FALSE)","v":0},{"$f":"DataByMiles!Y245*VLOOKUP(DataByMiles!AE245,DataByMiles!$AT$5:$AU$6,2,FALSE)","v":0},{"$f":"DataByMiles!Z245","v":0},{"$f":"DataByMiles!AA245","v":0},null,null,{"$f":"(Y247/IF(Z247=0,$AD$1,Z247)*$AD$2)/IF(AA247=0,1,AA247)*VLOOKUP(DataByMiles!AE245,DataByMiles!$AT$5:$AU$6,2,FALSE)","v":0},"",0,0,{"$f":"(AF247+AG247)*VLOOKUP(DataByMiles!AE245,DataByMiles!$AT$5:$AU$6,2,FALSE)","v":0},0]
[null,{"$f":"DataByMiles!C246","v":"----242"},{"$f":"DataByMiles!T246*VLOOKUP(DataByMiles!AE246,DataByMiles!$AT$5:$AU$6,2,FALSE)","v":0},null,null,0,{"$f":"C248*$G$2*VLOOKUP(DataByMiles!AE246,DataByMiles!$AT$5:$AU$6,2,FALSE)","v":0},{"$f":"DataByMiles!U246*VLOOKUP(DataByMiles!AE246,DataByMiles!$AT$5:$AU$6,2,FALSE)","v":0},null,null,0,{"$f":"H248*$L$2*VLOOKUP(DataByMiles!AE246,DataByMiles!$AT$5:$AU$6,2,FALSE)","v":0},{"$f":"DataByMiles!V246*VLOOKUP(DataByMiles!AE246,DataByMiles!$AT$5:$AU$6,2,FALSE)","v":0},null,null,{"$f":"M248*$P$2*VLOOKUP(DataByMiles!AE246,DataByMiles!$AT$5:$AU$6,2,FALSE)","v":0},{"$f":"DataByMiles!W246*VLOOKUP(DataByMiles!AE246,DataByMiles!$AT$5:$AU$6,2,FALSE)","v":0},null,null,{"$f":"Q248*$T$2*VLOOKUP(DataByMiles!AE246,DataByMiles!$AT$5:$AU$6,2,FALSE)","v":0},{"$f":"DataByMiles!X246*VLOOKUP(DataByMiles!AE246,DataByMiles!$AT$5:$AU$6,2,FALSE)","v":0},null,null,{"$f":"U248*$X$2*VLOOKUP(DataByMiles!AE246,DataByMiles!$AT$5:$AU$6,2,FALSE)","v":0},{"$f":"DataByMiles!Y246*VLOOKUP(DataByMiles!AE246,DataByMiles!$AT$5:$AU$6,2,FALSE)","v":0},{"$f":"DataByMiles!Z246","v":0},{"$f":"DataByMiles!AA246","v":0},null,null,{"$f":"(Y248/IF(Z248=0,$AD$1,Z248)*$AD$2)/IF(AA248=0,1,AA248)*VLOOKUP(DataByMiles!AE246,DataByMiles!$AT$5:$AU$6,2,FALSE)","v":0},"",0,0,{"$f":"(AF248+AG248)*VLOOKUP(DataByMiles!AE246,DataByMiles!$AT$5:$AU$6,2,FALSE)","v":0},0]
[null,{"$f":"DataByMiles!C247","v":"----243"},{"$f":"DataByMiles!T247*VLOOKUP(DataByMiles!AE247,DataByMiles!$AT$5:$AU$6,2,FALSE)","v":0},null,null,0,{"$f":"C249*$G$2*VLOOKUP(DataByMiles!AE247,DataByMiles!$AT$5:$AU$6,2,FALSE)","v":0},{"$f":"DataByMiles!U247*VLOOKUP(DataByMiles!AE247,DataByMiles!$AT$5:$AU$6,2,FALSE)","v":0},null,null,0,{"$f":"H249*$L$2*VLOOKUP(DataByMiles!AE247,DataByMiles!$AT$5:$AU$6,2,FALSE)","v":0},{"$f":"DataByMiles!V247*VLOOKUP(DataByMiles!AE247,DataByMiles!$AT$5:$AU$6,2,FALSE)","v":0},null,null,{"$f":"M249*$P$2*VLOOKUP(DataByMiles!AE247,DataByMiles!$AT$5:$AU$6,2,FALSE)","v":0},{"$f":"DataByMiles!W247*VLOOKUP(DataByMiles!AE247,DataByMiles!$AT$5:$AU$6,2,FALSE)","v":0},null,null,{"$f":"Q249*$T$2*VLOOKUP(DataByMiles!AE247,DataByMiles!$AT$5:$AU$6,2,FALSE)","v":0},{"$f":"DataByMiles!X247*VLOOKUP(DataByMiles!AE247,DataByMiles!$AT$5:$AU$6,2,FALSE)","v":0},null,null,{"$f":"U249*$X$2*VLOOKUP(DataByMiles!AE247,DataByMiles!$AT$5:$AU$6,2,FALSE)","v":0},{"$f":"DataByMiles!Y247*VLOOKUP(DataByMiles!AE247,DataByMiles!$AT$5:$AU$6,2,FALSE)","v":0},{"$f":"DataByMiles!Z247","v":0},{"$f":"DataByMiles!AA247","v":0},null,null,{"$f":"(Y249/IF(Z249=0,$AD$1,Z249)*$AD$2)/IF(AA249=0,1,AA249)*VLOOKUP(DataByMiles!AE247,DataByMiles!$AT$5:$AU$6,2,FALSE)","v":0},"",0,0,{"$f":"(AF249+AG249)*VLOOKUP(DataByMiles!AE247,DataByMiles!$AT$5:$AU$6,2,FALSE)","v":0},0]
[null,{"$f":"DataByMiles!C248","v":"----244"},{"$f":"DataByMiles!T248*VLOOKUP(DataByMiles!AE248,DataByMiles!$AT$5:$AU$6,2,FALSE)","v":0},null,null,0,{"$f":"C250*$G$2*VLOOKUP(DataByMiles!AE248,DataByMiles!$AT$5:$AU$6,2,FALSE)","v":0},{"$f":"DataByMiles!U248*VLOOKUP(DataByMiles!AE248,DataByMiles!$AT$5:$AU$6,2,FALSE)","v":0},null,null,0,{"$f":"H250*$L$2*VLOOKUP(DataByMiles!AE248,DataByMiles!$AT$5:$AU$6,2,FALSE)","v":0},{"$f":"DataByMiles!V248*VLOOKUP(DataByMiles!AE248,DataByMiles!$AT$5:$AU$6,2,FALSE)","v":0},null,null,{"$f":"M250*$P$2*VLOOKUP(DataByMiles!AE248,DataByMiles!$AT$5:$AU$6,2,FALSE)","v":0},{"$f":"DataByMiles!W248*VLOOKUP(DataByMiles!AE248,DataByMiles!$AT$5:$AU$6,2,FALSE)","v":0},null,null,{"$f":"Q250*$T$2*VLOOKUP(DataByMiles!AE248,DataByMiles!$AT$5:$AU$6,2,FALSE)","v":0},{"$f":"DataByMiles!X248*VLOOKUP(DataByMiles!AE248,DataByMiles!$AT$5:$AU$6,2,FALSE)","v":0},null,null,{"$f":"U250*$X$2*VLOOKUP(DataByMiles!AE248,DataByMiles!$AT$5:$AU$6,2,FALSE)","v":0},{"$f":"DataByMiles!Y248*VLOOKUP(DataByMiles!AE248,DataByMiles!$AT$5:$AU$6,2,FALSE)","v":0},{"$f":"DataByMiles!Z248","v":0},{"$f":"DataByMiles!AA248","v":0},null,null,{"$f":"(Y250/IF(Z250=0,$AD$1,Z250)*$AD$2)/IF(AA250=0,1,AA250)*VLOOKUP(DataByMiles!AE248,DataByMiles!$AT$5:$AU$6,2,FALSE)","v":0},"",0,0,{"$f":"(AF250+AG250)*VLOOKUP(DataByMiles!AE248,DataByMiles!$AT$5:$AU$6,2,FALSE)","v":0},0]
[null,{"$f":"DataByMiles!C249","v":"----245"},{"$f":"DataByMiles!T249*VLOOKUP(DataByMiles!AE249,DataByMiles!$AT$5:$AU$6,2,FALSE)","v":0},null,null,0,{"$f":"C251*$G$2*VLOOKUP(DataByMiles!AE249,DataByMiles!$AT$5:$AU$6,2,FALSE)","v":0},{"$f":"DataByMiles!U249*VLOOKUP(DataByMiles!AE249,DataByMiles!$AT$5:$AU$6,2,FALSE)","v":0},null,null,0,{"$f":"H251*$L$2*VLOOKUP(DataByMiles!AE249,DataByMiles!$AT$5:$AU$6,2,FALSE)","v":0},{"$f":"DataByMiles!V249*VLOOKUP(DataByMiles!AE249,DataByMiles!$AT$5:$AU$6,2,FALSE)","v":0},null,null,{"$f":"M251*$P$2*VLOOKUP(DataByMiles!AE249,DataByMiles!$AT$5:$AU$6,2,FALSE)","v":0},{"$f":"DataByMiles!W249*VLOOKUP(DataByMiles!AE249,DataByMiles!$AT$5:$AU$6,2,FALSE)","v":0},null,null,{"$f":"Q251*$T$2*VLOOKUP(DataByMiles!AE249,DataByMiles!$AT$5:$AU$6,2,FALSE)","v":0},{"$f":"DataByMiles!X249*VLOOKUP(DataByMiles!AE249,DataByMiles!$AT$5:$AU$6,2,FALSE)","v":0},null,null,{"$f":"U251*$X$2*VLOOKUP(DataByMiles!AE249,DataByMiles!$AT$5:$AU$6,2,FALSE)","v":0},{"$f":"DataByMiles!Y249*VLOOKUP(DataByMiles!AE249,DataByMiles!$AT$5:$AU$6,2,FALSE)","v":0},{"$f":"DataByMiles!Z249","v":0},{"$f":"DataByMiles!AA249","v":0},null,null,{"$f":"(Y251/IF(Z251=0,$AD$1,Z251)*$AD$2)/IF(AA251=0,1,AA251)*VLOOKUP(DataByMiles!AE249,DataByMiles!$AT$5:$AU$6,2,FALSE)","v":0},"",0,0,{"$f":"(AF251+AG251)*VLOOKUP(DataByMiles!AE249,DataByMiles!$AT$5:$AU$6,2,FALSE)","v":0},0]
[null,{"$f":"DataByMiles!C250","v":"----246"},{"$f":"DataByMiles!T250*VLOOKUP(DataByMiles!AE250,DataByMiles!$AT$5:$AU$6,2,FALSE)","v":0},null,null,0,{"$f":"C252*$G$2*VLOOKUP(DataByMiles!AE250,DataByMiles!$AT$5:$AU$6,2,FALSE)","v":0},{"$f":"DataByMiles!U250*VLOOKUP(DataByMiles!AE250,DataByMiles!$AT$5:$AU$6,2,FALSE)","v":0},null,null,0,{"$f":"H252*$L$2*VLOOKUP(DataByMiles!AE250,DataByMiles!$AT$5:$AU$6,2,FALSE)","v":0},{"$f":"DataByMiles!V250*VLOOKUP(DataByMiles!AE250,DataByMiles!$AT$5:$AU$6,2,FALSE)","v":0},null,null,{"$f":"M252*$P$2*VLOOKUP(DataByMiles!AE250,DataByMiles!$AT$5:$AU$6,2,FALSE)","v":0},{"$f":"DataByMiles!W250*VLOOKUP(DataByMiles!AE250,DataByMiles!$AT$5:$AU$6,2,FALSE)","v":0},null,null,{"$f":"Q252*$T$2*VLOOKUP(DataByMiles!AE250,DataByMiles!$AT$5:$AU$6,2,FALSE)","v":0},{"$f":"DataByMiles!X250*VLOOKUP(DataByMiles!AE250,DataByMiles!$AT$5:$AU$6,2,FALSE)","v":0},null,null,{"$f":"U252*$X$2*VLOOKUP(DataByMiles!AE250,DataByMiles!$AT$5:$AU$6,2,FALSE)","v":0},{"$f":"DataByMiles!Y250*VLOOKUP(DataByMiles!AE250,DataByMiles!$AT$5:$AU$6,2,FALSE)","v":0},{"$f":"DataByMiles!Z250","v":0},{"$f":"DataByMiles!AA250","v":0},null,null,{"$f":"(Y252/IF(Z252=0,$AD$1,Z252)*$AD$2)/IF(AA252=0,1,AA252)*VLOOKUP(DataByMiles!AE250,DataByMiles!$AT$5:$AU$6,2,FALSE)","v":0},"",0,0,{"$f":"(AF252+AG252)*VLOOKUP(DataByMiles!AE250,DataByMiles!$AT$5:$AU$6,2,FALSE)","v":0},0]
[null,{"$f":"DataByMiles!C251","v":"----247"},{"$f":"DataByMiles!T251*VLOOKUP(DataByMiles!AE251,DataByMiles!$AT$5:$AU$6,2,FALSE)","v":0},null,null,0,{"$f":"C253*$G$2*VLOOKUP(DataByMiles!AE251,DataByMiles!$AT$5:$AU$6,2,FALSE)","v":0},{"$f":"DataByMiles!U251*VLOOKUP(DataByMiles!AE251,DataByMiles!$AT$5:$AU$6,2,FALSE)","v":0},null,null,0,{"$f":"H253*$L$2*VLOOKUP(DataByMiles!AE251,DataByMiles!$AT$5:$AU$6,2,FALSE)","v":0},{"$f":"DataByMiles!V251*VLOOKUP(DataByMiles!AE251,DataByMiles!$AT$5:$AU$6,2,FALSE)","v":0},null,null,{"$f":"M253*$P$2*VLOOKUP(DataByMiles!AE251,DataByMiles!$AT$5:$AU$6,2,FALSE)","v":0},{"$f":"DataByMiles!W251*VLOOKUP(DataByMiles!AE251,DataByMiles!$AT$5:$AU$6,2,FALSE)","v":0},null,null,{"$f":"Q253*$T$2*VLOOKUP(DataByMiles!AE251,DataByMiles!$AT$5:$AU$6,2,FALSE)","v":0},{"$f":"DataByMiles!X251*VLOOKUP(DataByMiles!AE251,DataByMiles!$AT$5:$AU$6,2,FALSE)","v":0},null,null,{"$f":"U253*$X$2*VLOOKUP(DataByMiles!AE251,DataByMiles!$AT$5:$AU$6,2,FALSE)","v":0},{"$f":"DataByMiles!Y251*VLOOKUP(DataByMiles!AE251,DataByMiles!$AT$5:$AU$6,2,FALSE)","v":0},{"$f":"DataByMiles!Z251","v":0},{"$f":"DataByMiles!AA251","v":0},null,null,{"$f":"(Y253/IF(Z253=0,$AD$1,Z253)*$AD$2)/IF(AA253=0,1,AA253)*VLOOKUP(DataByMiles!AE251,DataByMiles!$AT$5:$AU$6,2,FALSE)","v":0},"",0,0,{"$f":"(AF253+AG253)*VLOOKUP(DataByMiles!AE251,DataByMiles!$AT$5:$AU$6,2,FALSE)","v":0},0]
[null,{"$f":"DataByMiles!C252","v":"----248"},{"$f":"DataByMiles!T252*VLOOKUP(DataByMiles!AE252,DataByMiles!$AT$5:$AU$6,2,FALSE)","v":0},null,null,0,{"$f":"C254*$G$2*VLOOKUP(DataByMiles!AE252,DataByMiles!$AT$5:$AU$6,2,FALSE)","v":0},{"$f":"DataByMiles!U252*VLOOKUP(DataByMiles!AE252,DataByMiles!$AT$5:$AU$6,2,FALSE)","v":0},null,null,0,{"$f":"H254*$L$2*VLOOKUP(DataByMiles!AE252,DataByMiles!$AT$5:$AU$6,2,FALSE)","v":0},{"$f":"DataByMiles!V252*VLOOKUP(DataByMiles!AE252,DataByMiles!$AT$5:$AU$6,2,FALSE)","v":0},null,null,{"$f":"M254*$P$2*VLOOKUP(DataByMiles!AE252,DataByMiles!$AT$5:$AU$6,2,FALSE)","v":0},{"$f":"DataByMiles!W252*VLOOKUP(DataByMiles!AE252,DataByMiles!$AT$5:$AU$6,2,FALSE)","v":0},null,null,{"$f":"Q254*$T$2*VLOOKUP(DataByMiles!AE252,DataByMiles!$AT$5:$AU$6,2,FALSE)","v":0},{"$f":"DataByMiles!X252*VLOOKUP(DataByMiles!AE252,DataByMiles!$AT$5:$AU$6,2,FALSE)","v":0},null,null,{"$f":"U254*$X$2*VLOOKUP(DataByMiles!AE252,DataByMiles!$AT$5:$AU$6,2,FALSE)","v":0},{"$f":"DataByMiles!Y252*VLOOKUP(DataByMiles!AE252,DataByMiles!$AT$5:$AU$6,2,FALSE)","v":0},{"$f":"DataByMiles!Z252","v":0},{"$f":"DataByMiles!AA252","v":0},null,null,{"$f":"(Y254/IF(Z254=0,$AD$1,Z254)*$AD$2)/IF(AA254=0,1,AA254)*VLOOKUP(DataByMiles!AE252,DataByMiles!$AT$5:$AU$6,2,FALSE)","v":0},"",0,0,{"$f":"(AF254+AG254)*VLOOKUP(DataByMiles!AE252,DataByMiles!$AT$5:$AU$6,2,FALSE)","v":0},0]
[null,{"$f":"DataByMiles!C253","v":"----249"},{"$f":"DataByMiles!T253*VLOOKUP(DataByMiles!AE253,DataByMiles!$AT$5:$AU$6,2,FALSE)","v":0},null,null,0,{"$f":"C255*$G$2*VLOOKUP(DataByMiles!AE253,DataByMiles!$AT$5:$AU$6,2,FALSE)","v":0},{"$f":"DataByMiles!U253*VLOOKUP(DataByMiles!AE253,DataByMiles!$AT$5:$AU$6,2,FALSE)","v":0},null,null,0,{"$f":"H255*$L$2*VLOOKUP(DataByMiles!AE253,DataByMiles!$AT$5:$AU$6,2,FALSE)","v":0},{"$f":"DataByMiles!V253*VLOOKUP(DataByMiles!AE253,DataByMiles!$AT$5:$AU$6,2,FALSE)","v":0},null,null,{"$f":"M255*$P$2*VLOOKUP(DataByMiles!AE253,DataByMiles!$AT$5:$AU$6,2,FALSE)","v":0},{"$f":"DataByMiles!W253*VLOOKUP(DataByMiles!AE253,DataByMiles!$AT$5:$AU$6,2,FALSE)","v":0},null,null,{"$f":"Q255*$T$2*VLOOKUP(DataByMiles!AE253,DataByMiles!$AT$5:$AU$6,2,FALSE)","v":0},{"$f":"DataByMiles!X253*VLOOKUP(DataByMiles!AE253,DataByMiles!$AT$5:$AU$6,2,FALSE)","v":0},null,null,{"$f":"U255*$X$2*VLOOKUP(DataByMiles!AE253,DataByMiles!$AT$5:$AU$6,2,FALSE)","v":0},{"$f":"DataByMiles!Y253*VLOOKUP(DataByMiles!AE253,DataByMiles!$AT$5:$AU$6,2,FALSE)","v":0},{"$f":"DataByMiles!Z253","v":0},{"$f":"DataByMiles!AA253","v":0},null,null,{"$f":"(Y255/IF(Z255=0,$AD$1,Z255)*$AD$2)/IF(AA255=0,1,AA255)*VLOOKUP(DataByMiles!AE253,DataByMiles!$AT$5:$AU$6,2,FALSE)","v":0},"",0,0,{"$f":"(AF255+AG255)*VLOOKUP(DataByMiles!AE253,DataByMiles!$AT$5:$AU$6,2,FALSE)","v":0},0]
[null,{"$f":"DataByMiles!C254","v":"----250"},{"$f":"DataByMiles!T254*VLOOKUP(DataByMiles!AE254,DataByMiles!$AT$5:$AU$6,2,FALSE)","v":0},null,null,0,{"$f":"C256*$G$2*VLOOKUP(DataByMiles!AE254,DataByMiles!$AT$5:$AU$6,2,FALSE)","v":0},{"$f":"DataByMiles!U254*VLOOKUP(DataByMiles!AE254,DataByMiles!$AT$5:$AU$6,2,FALSE)","v":0},null,null,0,{"$f":"H256*$L$2*VLOOKUP(DataByMiles!AE254,DataByMiles!$AT$5:$AU$6,2,FALSE)","v":0},{"$f":"DataByMiles!V254*VLOOKUP(DataByMiles!AE254,DataByMiles!$AT$5:$AU$6,2,FALSE)","v":0},null,null,{"$f":"M256*$P$2*VLOOKUP(DataByMiles!AE254,DataByMiles!$AT$5:$AU$6,2,FALSE)","v":0},{"$f":"DataByMiles!W254*VLOOKUP(DataByMiles!AE254,DataByMiles!$AT$5:$AU$6,2,FALSE)","v":0},null,null,{"$f":"Q256*$T$2*VLOOKUP(DataByMiles!AE254,DataByMiles!$AT$5:$AU$6,2,FALSE)","v":0},{"$f":"DataByMiles!X254*VLOOKUP(DataByMiles!AE254,DataByMiles!$AT$5:$AU$6,2,FALSE)","v":0},null,null,{"$f":"U256*$X$2*VLOOKUP(DataByMiles!AE254,DataByMiles!$AT$5:$AU$6,2,FALSE)","v":0},{"$f":"DataByMiles!Y254*VLOOKUP(DataByMiles!AE254,DataByMiles!$AT$5:$AU$6,2,FALSE)","v":0},{"$f":"DataByMiles!Z254","v":0},{"$f":"DataByMiles!AA254","v":0},null,null,{"$f":"(Y256/IF(Z256=0,$AD$1,Z256)*$AD$2)/IF(AA256=0,1,AA256)*VLOOKUP(DataByMiles!AE254,DataByMiles!$AT$5:$AU$6,2,FALSE)","v":0},"",0,0,{"$f":"(AF256+AG256)*VLOOKUP(DataByMiles!AE254,DataByMiles!$AT$5:$AU$6,2,FALSE)","v":0},0]
[null,{"$f":"DataByMiles!C255","v":"----251"},{"$f":"DataByMiles!T255*VLOOKUP(DataByMiles!AE255,DataByMiles!$AT$5:$AU$6,2,FALSE)","v":0},null,null,0,{"$f":"C257*$G$2*VLOOKUP(DataByMiles!AE255,DataByMiles!$AT$5:$AU$6,2,FALSE)","v":0},{"$f":"DataByMiles!U255*VLOOKUP(DataByMiles!AE255,DataByMiles!$AT$5:$AU$6,2,FALSE)","v":0},null,null,0,{"$f":"H257*$L$2*VLOOKUP(DataByMiles!AE255,DataByMiles!$AT$5:$AU$6,2,FALSE)","v":0},{"$f":"DataByMiles!V255*VLOOKUP(DataByMiles!AE255,DataByMiles!$AT$5:$AU$6,2,FALSE)","v":0},null,null,{"$f":"M257*$P$2*VLOOKUP(DataByMiles!AE255,DataByMiles!$AT$5:$AU$6,2,FALSE)","v":0},{"$f":"DataByMiles!W255*VLOOKUP(DataByMiles!AE255,DataByMiles!$AT$5:$AU$6,2,FALSE)","v":0},null,null,{"$f":"Q257*$T$2*VLOOKUP(DataByMiles!AE255,DataByMiles!$AT$5:$AU$6,2,FALSE)","v":0},{"$f":"DataByMiles!X255*VLOOKUP(DataByMiles!AE255,DataByMiles!$AT$5:$AU$6,2,FALSE)","v":0},null,null,{"$f":"U257*$X$2*VLOOKUP(DataByMiles!AE255,DataByMiles!$AT$5:$AU$6,2,FALSE)","v":0},{"$f":"DataByMiles!Y255*VLOOKUP(DataByMiles!AE255,DataByMiles!$AT$5:$AU$6,2,FALSE)","v":0},{"$f":"DataByMiles!Z255","v":0},{"$f":"DataByMiles!AA255","v":0},null,null,{"$f":"(Y257/IF(Z257=0,$AD$1,Z257)*$AD$2)/IF(AA257=0,1,AA257)*VLOOKUP(DataByMiles!AE255,DataByMiles!$AT$5:$AU$6,2,FALSE)","v":0},"",0,0,{"$f":"(AF257+AG257)*VLOOKUP(DataByMiles!AE255,DataByMiles!$AT$5:$AU$6,2,FALSE)","v":0},0]
[null,{"$f":"DataByMiles!C256","v":"----252"},{"$f":"DataByMiles!T256*VLOOKUP(DataByMiles!AE256,DataByMiles!$AT$5:$AU$6,2,FALSE)","v":0},null,null,0,{"$f":"C258*$G$2*VLOOKUP(DataByMiles!AE256,DataByMiles!$AT$5:$AU$6,2,FALSE)","v":0},{"$f":"DataByMiles!U256*VLOOKUP(DataByMiles!AE256,DataByMiles!$AT$5:$AU$6,2,FALSE)","v":0},null,null,0,{"$f":"H258*$L$2*VLOOKUP(DataByMiles!AE256,DataByMiles!$AT$5:$AU$6,2,FALSE)","v":0},{"$f":"DataByMiles!V256*VLOOKUP(DataByMiles!AE256,DataByMiles!$AT$5:$AU$6,2,FALSE)","v":0},null,null,{"$f":"M258*$P$2*VLOOKUP(DataByMiles!AE256,DataByMiles!$AT$5:$AU$6,2,FALSE)","v":0},{"$f":"DataByMiles!W256*VLOOKUP(DataByMiles!AE256,DataByMiles!$AT$5:$AU$6,2,FALSE)","v":0},null,null,{"$f":"Q258*$T$2*VLOOKUP(DataByMiles!AE256,DataByMiles!$AT$5:$AU$6,2,FALSE)","v":0},{"$f":"DataByMiles!X256*VLOOKUP(DataByMiles!AE256,DataByMiles!$AT$5:$AU$6,2,FALSE)","v":0},null,null,{"$f":"U258*$X$2*VLOOKUP(DataByMiles!AE256,DataByMiles!$AT$5:$AU$6,2,FALSE)","v":0},{"$f":"DataByMiles!Y256*VLOOKUP(DataByMiles!AE256,DataByMiles!$AT$5:$AU$6,2,FALSE)","v":0},{"$f":"DataByMiles!Z256","v":0},{"$f":"DataByMiles!AA256","v":0},null,null,{"$f":"(Y258/IF(Z258=0,$AD$1,Z258)*$AD$2)/IF(AA258=0,1,AA258)*VLOOKUP(DataByMiles!AE256,DataByMiles!$AT$5:$AU$6,2,FALSE)","v":0},"",0,0,{"$f":"(AF258+AG258)*VLOOKUP(DataByMiles!AE256,DataByMiles!$AT$5:$AU$6,2,FALSE)","v":0},0]
[null,{"$f":"DataByMiles!C257","v":"----253"},{"$f":"DataByMiles!T257*VLOOKUP(DataByMiles!AE257,DataByMiles!$AT$5:$AU$6,2,FALSE)","v":0},null,null,0,{"$f":"C259*$G$2*VLOOKUP(DataByMiles!AE257,DataByMiles!$AT$5:$AU$6,2,FALSE)","v":0},{"$f":"DataByMiles!U257*VLOOKUP(DataByMiles!AE257,DataByMiles!$AT$5:$AU$6,2,FALSE)","v":0},null,null,0,{"$f":"H259*$L$2*VLOOKUP(DataByMiles!AE257,DataByMiles!$AT$5:$AU$6,2,FALSE)","v":0},{"$f":"DataByMiles!V257*VLOOKUP(DataByMiles!AE257,DataByMiles!$AT$5:$AU$6,2,FALSE)","v":0},null,null,{"$f":"M259*$P$2*VLOOKUP(DataByMiles!AE257,DataByMiles!$AT$5:$AU$6,2,FALSE)","v":0},{"$f":"DataByMiles!W257*VLOOKUP(DataByMiles!AE257,DataByMiles!$AT$5:$AU$6,2,FALSE)","v":0},null,null,{"$f":"Q259*$T$2*VLOOKUP(DataByMiles!AE257,DataByMiles!$AT$5:$AU$6,2,FALSE)","v":0},{"$f":"DataByMiles!X257*VLOOKUP(DataByMiles!AE257,DataByMiles!$AT$5:$AU$6,2,FALSE)","v":0},null,null,{"$f":"U259*$X$2*VLOOKUP(DataByMiles!AE257,DataByMiles!$AT$5:$AU$6,2,FALSE)","v":0},{"$f":"DataByMiles!Y257*VLOOKUP(DataByMiles!AE257,DataByMiles!$AT$5:$AU$6,2,FALSE)","v":0},{"$f":"DataByMiles!Z257","v":0},{"$f":"DataByMiles!AA257","v":0},null,null,{"$f":"(Y259/IF(Z259=0,$AD$1,Z259)*$AD$2)/IF(AA259=0,1,AA259)*VLOOKUP(DataByMiles!AE257,DataByMiles!$AT$5:$AU$6,2,FALSE)","v":0},"",0,0,{"$f":"(AF259+AG259)*VLOOKUP(DataByMiles!AE257,DataByMiles!$AT$5:$AU$6,2,FALSE)","v":0},0]
[null,{"$f":"DataByMiles!C258","v":"----254"},{"$f":"DataByMiles!T258*VLOOKUP(DataByMiles!AE258,DataByMiles!$AT$5:$AU$6,2,FALSE)","v":0},null,null,0,{"$f":"C260*$G$2*VLOOKUP(DataByMiles!AE258,DataByMiles!$AT$5:$AU$6,2,FALSE)","v":0},{"$f":"DataByMiles!U258*VLOOKUP(DataByMiles!AE258,DataByMiles!$AT$5:$AU$6,2,FALSE)","v":0},null,null,0,{"$f":"H260*$L$2*VLOOKUP(DataByMiles!AE258,DataByMiles!$AT$5:$AU$6,2,FALSE)","v":0},{"$f":"DataByMiles!V258*VLOOKUP(DataByMiles!AE258,DataByMiles!$AT$5:$AU$6,2,FALSE)","v":0},null,null,{"$f":"M260*$P$2*VLOOKUP(DataByMiles!AE258,DataByMiles!$AT$5:$AU$6,2,FALSE)","v":0},{"$f":"DataByMiles!W258*VLOOKUP(DataByMiles!AE258,DataByMiles!$AT$5:$AU$6,2,FALSE)","v":0},null,null,{"$f":"Q260*$T$2*VLOOKUP(DataByMiles!AE258,DataByMiles!$AT$5:$AU$6,2,FALSE)","v":0},{"$f":"DataByMiles!X258*VLOOKUP(DataByMiles!AE258,DataByMiles!$AT$5:$AU$6,2,FALSE)","v":0},null,null,{"$f":"U260*$X$2*VLOOKUP(DataByMiles!AE258,DataByMiles!$AT$5:$AU$6,2,FALSE)","v":0},{"$f":"DataByMiles!Y258*VLOOKUP(DataByMiles!AE258,DataByMiles!$AT$5:$AU$6,2,FALSE)","v":0},{"$f":"DataByMiles!Z258","v":0},{"$f":"DataByMiles!AA258","v":0},null,null,{"$f":"(Y260/IF(Z260=0,$AD$1,Z260)*$AD$2)/IF(AA260=0,1,AA260)*VLOOKUP(DataByMiles!AE258,DataByMiles!$AT$5:$AU$6,2,FALSE)","v":0},"",0,0,{"$f":"(AF260+AG260)*VLOOKUP(DataByMiles!AE258,DataByMiles!$AT$5:$AU$6,2,FALSE)","v":0},0]
[null,{"$f":"DataByMiles!C259","v":"----255"},{"$f":"DataByMiles!T259*VLOOKUP(DataByMiles!AE259,DataByMiles!$AT$5:$AU$6,2,FALSE)","v":0},null,null,0,{"$f":"C261*$G$2*VLOOKUP(DataByMiles!AE259,DataByMiles!$AT$5:$AU$6,2,FALSE)","v":0},{"$f":"DataByMiles!U259*VLOOKUP(DataByMiles!AE259,DataByMiles!$AT$5:$AU$6,2,FALSE)","v":0},null,null,0,{"$f":"H261*$L$2*VLOOKUP(DataByMiles!AE259,DataByMiles!$AT$5:$AU$6,2,FALSE)","v":0},{"$f":"DataByMiles!V259*VLOOKUP(DataByMiles!AE259,DataByMiles!$AT$5:$AU$6,2,FALSE)","v":0},null,null,{"$f":"M261*$P$2*VLOOKUP(DataByMiles!AE259,DataByMiles!$AT$5:$AU$6,2,FALSE)","v":0},{"$f":"DataByMiles!W259*VLOOKUP(DataByMiles!AE259,DataByMiles!$AT$5:$AU$6,2,FALSE)","v":0},null,null,{"$f":"Q261*$T$2*VLOOKUP(DataByMiles!AE259,DataByMiles!$AT$5:$AU$6,2,FALSE)","v":0},{"$f":"DataByMiles!X259*VLOOKUP(DataByMiles!AE259,DataByMiles!$AT$5:$AU$6,2,FALSE)","v":0},null,null,{"$f":"U261*$X$2*VLOOKUP(DataByMiles!AE259,DataByMiles!$AT$5:$AU$6,2,FALSE)","v":0},{"$f":"DataByMiles!Y259*VLOOKUP(DataByMiles!AE259,DataByMiles!$AT$5:$AU$6,2,FALSE)","v":0},{"$f":"DataByMiles!Z259","v":0},{"$f":"DataByMiles!AA259","v":0},null,null,{"$f":"(Y261/IF(Z261=0,$AD$1,Z261)*$AD$2)/IF(AA261=0,1,AA261)*VLOOKUP(DataByMiles!AE259,DataByMiles!$AT$5:$AU$6,2,FALSE)","v":0},"",0,0,{"$f":"(AF261+AG261)*VLOOKUP(DataByMiles!AE259,DataByMiles!$AT$5:$AU$6,2,FALSE)","v":0},0]
[null,{"$f":"DataByMiles!C260","v":"----256"},{"$f":"DataByMiles!T260*VLOOKUP(DataByMiles!AE260,DataByMiles!$AT$5:$AU$6,2,FALSE)","v":0},null,null,0,{"$f":"C262*$G$2*VLOOKUP(DataByMiles!AE260,DataByMiles!$AT$5:$AU$6,2,FALSE)","v":0},{"$f":"DataByMiles!U260*VLOOKUP(DataByMiles!AE260,DataByMiles!$AT$5:$AU$6,2,FALSE)","v":0},null,null,0,{"$f":"H262*$L$2*VLOOKUP(DataByMiles!AE260,DataByMiles!$AT$5:$AU$6,2,FALSE)","v":0},{"$f":"DataByMiles!V260*VLOOKUP(DataByMiles!AE260,DataByMiles!$AT$5:$AU$6,2,FALSE)","v":0},null,null,{"$f":"M262*$P$2*VLOOKUP(DataByMiles!AE260,DataByMiles!$AT$5:$AU$6,2,FALSE)","v":0},{"$f":"DataByMiles!W260*VLOOKUP(DataByMiles!AE260,DataByMiles!$AT$5:$AU$6,2,FALSE)","v":0},null,null,{"$f":"Q262*$T$2*VLOOKUP(DataByMiles!AE260,DataByMiles!$AT$5:$AU$6,2,FALSE)","v":0},{"$f":"DataByMiles!X260*VLOOKUP(DataByMiles!AE260,DataByMiles!$AT$5:$AU$6,2,FALSE)","v":0},null,null,{"$f":"U262*$X$2*VLOOKUP(DataByMiles!AE260,DataByMiles!$AT$5:$AU$6,2,FALSE)","v":0},{"$f":"DataByMiles!Y260*VLOOKUP(DataByMiles!AE260,DataByMiles!$AT$5:$AU$6,2,FALSE)","v":0},{"$f":"DataByMiles!Z260","v":0},{"$f":"DataByMiles!AA260","v":0},null,null,{"$f":"(Y262/IF(Z262=0,$AD$1,Z262)*$AD$2)/IF(AA262=0,1,AA262)*VLOOKUP(DataByMiles!AE260,DataByMiles!$AT$5:$AU$6,2,FALSE)","v":0},"",0,0,{"$f":"(AF262+AG262)*VLOOKUP(DataByMiles!AE260,DataByMiles!$AT$5:$AU$6,2,FALSE)","v":0},0]
[null,{"$f":"DataByMiles!C261","v":"----257"},{"$f":"DataByMiles!T261*VLOOKUP(DataByMiles!AE261,DataByMiles!$AT$5:$AU$6,2,FALSE)","v":0},null,null,0,{"$f":"C263*$G$2*VLOOKUP(DataByMiles!AE261,DataByMiles!$AT$5:$AU$6,2,FALSE)","v":0},{"$f":"DataByMiles!U261*VLOOKUP(DataByMiles!AE261,DataByMiles!$AT$5:$AU$6,2,FALSE)","v":0},null,null,0,{"$f":"H263*$L$2*VLOOKUP(DataByMiles!AE261,DataByMiles!$AT$5:$AU$6,2,FALSE)","v":0},{"$f":"DataByMiles!V261*VLOOKUP(DataByMiles!AE261,DataByMiles!$AT$5:$AU$6,2,FALSE)","v":0},null,null,{"$f":"M263*$P$2*VLOOKUP(DataByMiles!AE261,DataByMiles!$AT$5:$AU$6,2,FALSE)","v":0},{"$f":"DataByMiles!W261*VLOOKUP(DataByMiles!AE261,DataByMiles!$AT$5:$AU$6,2,FALSE)","v":0},null,null,{"$f":"Q263*$T$2*VLOOKUP(DataByMiles!AE261,DataByMiles!$AT$5:$AU$6,2,FALSE)","v":0},{"$f":"DataByMiles!X261*VLOOKUP(DataByMiles!AE261,DataByMiles!$AT$5:$AU$6,2,FALSE)","v":0},null,null,{"$f":"U263*$X$2*VLOOKUP(DataByMiles!AE261,DataByMiles!$AT$5:$AU$6,2,FALSE)","v":0},{"$f":"DataByMiles!Y261*VLOOKUP(DataByMiles!AE261,DataByMiles!$AT$5:$AU$6,2,FALSE)","v":0},{"$f":"DataByMiles!Z261","v":0},{"$f":"DataByMiles!AA261","v":0},null,null,{"$f":"(Y263/IF(Z263=0,$AD$1,Z263)*$AD$2)/IF(AA263=0,1,AA263)*VLOOKUP(DataByMiles!AE261,DataByMiles!$AT$5:$AU$6,2,FALSE)","v":0},"",0,0,{"$f":"(AF263+AG263)*VLOOKUP(DataByMiles!AE261,DataByMiles!$AT$5:$AU$6,2,FALSE)","v":0},0]
[null,{"$f":"DataByMiles!C262","v":"----258"},{"$f":"DataByMiles!T262*VLOOKUP(DataByMiles!AE262,DataByMiles!$AT$5:$AU$6,2,FALSE)","v":0},null,null,0,{"$f":"C264*$G$2*VLOOKUP(DataByMiles!AE262,DataByMiles!$AT$5:$AU$6,2,FALSE)","v":0},{"$f":"DataByMiles!U262*VLOOKUP(DataByMiles!AE262,DataByMiles!$AT$5:$AU$6,2,FALSE)","v":0},null,null,0,{"$f":"H264*$L$2*VLOOKUP(DataByMiles!AE262,DataByMiles!$AT$5:$AU$6,2,FALSE)","v":0},{"$f":"DataByMiles!V262*VLOOKUP(DataByMiles!AE262,DataByMiles!$AT$5:$AU$6,2,FALSE)","v":0},null,null,{"$f":"M264*$P$2*VLOOKUP(DataByMiles!AE262,DataByMiles!$AT$5:$AU$6,2,FALSE)","v":0},{"$f":"DataByMiles!W262*VLOOKUP(DataByMiles!AE262,DataByMiles!$AT$5:$AU$6,2,FALSE)","v":0},null,null,{"$f":"Q264*$T$2*VLOOKUP(DataByMiles!AE262,DataByMiles!$AT$5:$AU$6,2,FALSE)","v":0},{"$f":"DataByMiles!X262*VLOOKUP(DataByMiles!AE262,DataByMiles!$AT$5:$AU$6,2,FALSE)","v":0},null,null,{"$f":"U264*$X$2*VLOOKUP(DataByMiles!AE262,DataByMiles!$AT$5:$AU$6,2,FALSE)","v":0},{"$f":"DataByMiles!Y262*VLOOKUP(DataByMiles!AE262,DataByMiles!$AT$5:$AU$6,2,FALSE)","v":0},{"$f":"DataByMiles!Z262","v":0},{"$f":"DataByMiles!AA262","v":0},null,null,{"$f":"(Y264/IF(Z264=0,$AD$1,Z264)*$AD$2)/IF(AA264=0,1,AA264)*VLOOKUP(DataByMiles!AE262,DataByMiles!$AT$5:$AU$6,2,FALSE)","v":0},"",0,0,{"$f":"(AF264+AG264)*VLOOKUP(DataByMiles!AE262,DataByMiles!$AT$5:$AU$6,2,FALSE)","v":0},0]
[null,{"$f":"DataByMiles!C263","v":"----259"},{"$f":"DataByMiles!T263*VLOOKUP(DataByMiles!AE263,DataByMiles!$AT$5:$AU$6,2,FALSE)","v":0},null,null,0,{"$f":"C265*$G$2*VLOOKUP(DataByMiles!AE263,DataByMiles!$AT$5:$AU$6,2,FALSE)","v":0},{"$f":"DataByMiles!U263*VLOOKUP(DataByMiles!AE263,DataByMiles!$AT$5:$AU$6,2,FALSE)","v":0},null,null,0,{"$f":"H265*$L$2*VLOOKUP(DataByMiles!AE263,DataByMiles!$AT$5:$AU$6,2,FALSE)","v":0},{"$f":"DataByMiles!V263*VLOOKUP(DataByMiles!AE263,DataByMiles!$AT$5:$AU$6,2,FALSE)","v":0},null,null,{"$f":"M265*$P$2*VLOOKUP(DataByMiles!AE263,DataByMiles!$AT$5:$AU$6,2,FALSE)","v":0},{"$f":"DataByMiles!W263*VLOOKUP(DataByMiles!AE263,DataByMiles!$AT$5:$AU$6,2,FALSE)","v":0},null,null,{"$f":"Q265*$T$2*VLOOKUP(DataByMiles!AE263,DataByMiles!$AT$5:$AU$6,2,FALSE)","v":0},{"$f":"DataByMiles!X263*VLOOKUP(DataByMiles!AE263,DataByMiles!$AT$5:$AU$6,2,FALSE)","v":0},null,null,{"$f":"U265*$X$2*VLOOKUP(DataByMiles!AE263,DataByMiles!$AT$5:$AU$6,2,FALSE)","v":0},{"$f":"DataByMiles!Y263*VLOOKUP(DataByMiles!AE263,DataByMiles!$AT$5:$AU$6,2,FALSE)","v":0},{"$f":"DataByMiles!Z263","v":0},{"$f":"DataByMiles!AA263","v":0},null,null,{"$f":"(Y265/IF(Z265=0,$AD$1,Z265)*$AD$2)/IF(AA265=0,1,AA265)*VLOOKUP(DataByMiles!AE263,DataByMiles!$AT$5:$AU$6,2,FALSE)","v":0},"",0,0,{"$f":"(AF265+AG265)*VLOOKUP(DataByMiles!AE263,DataByMiles!$AT$5:$AU$6,2,FALSE)","v":0},0]
[null,{"$f":"DataByMiles!C264","v":"----260"},{"$f":"DataByMiles!T264*VLOOKUP(DataByMiles!AE264,DataByMiles!$AT$5:$AU$6,2,FALSE)","v":0},null,null,0,{"$f":"C266*$G$2*VLOOKUP(DataByMiles!AE264,DataByMiles!$AT$5:$AU$6,2,FALSE)","v":0},{"$f":"DataByMiles!U264*VLOOKUP(DataByMiles!AE264,DataByMiles!$AT$5:$AU$6,2,FALSE)","v":0},null,null,0,{"$f":"H266*$L$2*VLOOKUP(DataByMiles!AE264,DataByMiles!$AT$5:$AU$6,2,FALSE)","v":0},{"$f":"DataByMiles!V264*VLOOKUP(DataByMiles!AE264,DataByMiles!$AT$5:$AU$6,2,FALSE)","v":0},null,null,{"$f":"M266*$P$2*VLOOKUP(DataByMiles!AE264,DataByMiles!$AT$5:$AU$6,2,FALSE)","v":0},{"$f":"DataByMiles!W264*VLOOKUP(DataByMiles!AE264,DataByMiles!$AT$5:$AU$6,2,FALSE)","v":0},null,null,{"$f":"Q266*$T$2*VLOOKUP(DataByMiles!AE264,DataByMiles!$AT$5:$AU$6,2,FALSE)","v":0},{"$f":"DataByMiles!X264*VLOOKUP(DataByMiles!AE264,DataByMiles!$AT$5:$AU$6,2,FALSE)","v":0},null,null,{"$f":"U266*$X$2*VLOOKUP(DataByMiles!AE264,DataByMiles!$AT$5:$AU$6,2,FALSE)","v":0},{"$f":"DataByMiles!Y264*VLOOKUP(DataByMiles!AE264,DataByMiles!$AT$5:$AU$6,2,FALSE)","v":0},{"$f":"DataByMiles!Z264","v":0},{"$f":"DataByMiles!AA264","v":0},null,null,{"$f":"(Y266/IF(Z266=0,$AD$1,Z266)*$AD$2)/IF(AA266=0,1,AA266)*VLOOKUP(DataByMiles!AE264,DataByMiles!$AT$5:$AU$6,2,FALSE)","v":0},"",0,0,{"$f":"(AF266+AG266)*VLOOKUP(DataByMiles!AE264,DataByMiles!$AT$5:$AU$6,2,FALSE)","v":0},0]
[null,{"$f":"DataByMiles!C265","v":"----261"},{"$f":"DataByMiles!T265*VLOOKUP(DataByMiles!AE265,DataByMiles!$AT$5:$AU$6,2,FALSE)","v":0},null,null,0,{"$f":"C267*$G$2*VLOOKUP(DataByMiles!AE265,DataByMiles!$AT$5:$AU$6,2,FALSE)","v":0},{"$f":"DataByMiles!U265*VLOOKUP(DataByMiles!AE265,DataByMiles!$AT$5:$AU$6,2,FALSE)","v":0},null,null,0,{"$f":"H267*$L$2*VLOOKUP(DataByMiles!AE265,DataByMiles!$AT$5:$AU$6,2,FALSE)","v":0},{"$f":"DataByMiles!V265*VLOOKUP(DataByMiles!AE265,DataByMiles!$AT$5:$AU$6,2,FALSE)","v":0},null,null,{"$f":"M267*$P$2*VLOOKUP(DataByMiles!AE265,DataByMiles!$AT$5:$AU$6,2,FALSE)","v":0},{"$f":"DataByMiles!W265*VLOOKUP(DataByMiles!AE265,DataByMiles!$AT$5:$AU$6,2,FALSE)","v":0},null,null,{"$f":"Q267*$T$2*VLOOKUP(DataByMiles!AE265,DataByMiles!$AT$5:$AU$6,2,FALSE)","v":0},{"$f":"DataByMiles!X265*VLOOKUP(DataByMiles!AE265,DataByMiles!$AT$5:$AU$6,2,FALSE)","v":0},null,null,{"$f":"U267*$X$2*VLOOKUP(DataByMiles!AE265,DataByMiles!$AT$5:$AU$6,2,FALSE)","v":0},{"$f":"DataByMiles!Y265*VLOOKUP(DataByMiles!AE265,DataByMiles!$AT$5:$AU$6,2,FALSE)","v":0},{"$f":"DataByMiles!Z265","v":0},{"$f":"DataByMiles!AA265","v":0},null,null,{"$f":"(Y267/IF(Z267=0,$AD$1,Z267)*$AD$2)/IF(AA267=0,1,AA267)*VLOOKUP(DataByMiles!AE265,DataByMiles!$AT$5:$AU$6,2,FALSE)","v":0},"",0,0,{"$f":"(AF267+AG267)*VLOOKUP(DataByMiles!AE265,DataByMiles!$AT$5:$AU$6,2,FALSE)","v":0},0]
[null,{"$f":"DataByMiles!C266","v":"----262"},{"$f":"DataByMiles!T266*VLOOKUP(DataByMiles!AE266,DataByMiles!$AT$5:$AU$6,2,FALSE)","v":0},null,null,0,{"$f":"C268*$G$2*VLOOKUP(DataByMiles!AE266,DataByMiles!$AT$5:$AU$6,2,FALSE)","v":0},{"$f":"DataByMiles!U266*VLOOKUP(DataByMiles!AE266,DataByMiles!$AT$5:$AU$6,2,FALSE)","v":0},null,null,0,{"$f":"H268*$L$2*VLOOKUP(DataByMiles!AE266,DataByMiles!$AT$5:$AU$6,2,FALSE)","v":0},{"$f":"DataByMiles!V266*VLOOKUP(DataByMiles!AE266,DataByMiles!$AT$5:$AU$6,2,FALSE)","v":0},null,null,{"$f":"M268*$P$2*VLOOKUP(DataByMiles!AE266,DataByMiles!$AT$5:$AU$6,2,FALSE)","v":0},{"$f":"DataByMiles!W266*VLOOKUP(DataByMiles!AE266,DataByMiles!$AT$5:$AU$6,2,FALSE)","v":0},null,null,{"$f":"Q268*$T$2*VLOOKUP(DataByMiles!AE266,DataByMiles!$AT$5:$AU$6,2,FALSE)","v":0},{"$f":"DataByMiles!X266*VLOOKUP(DataByMiles!AE266,DataByMiles!$AT$5:$AU$6,2,FALSE)","v":0},null,null,{"$f":"U268*$X$2*VLOOKUP(DataByMiles!AE266,DataByMiles!$AT$5:$AU$6,2,FALSE)","v":0},{"$f":"DataByMiles!Y266*VLOOKUP(DataByMiles!AE266,DataByMiles!$AT$5:$AU$6,2,FALSE)","v":0},{"$f":"DataByMiles!Z266","v":0},{"$f":"DataByMiles!AA266","v":0},null,null,{"$f":"(Y268/IF(Z268=0,$AD$1,Z268)*$AD$2)/IF(AA268=0,1,AA268)*VLOOKUP(DataByMiles!AE266,DataByMiles!$AT$5:$AU$6,2,FALSE)","v":0},"",0,0,{"$f":"(AF268+AG268)*VLOOKUP(DataByMiles!AE266,DataByMiles!$AT$5:$AU$6,2,FALSE)","v":0},0]
[null,{"$f":"DataByMiles!C267","v":"----263"},{"$f":"DataByMiles!T267*VLOOKUP(DataByMiles!AE267,DataByMiles!$AT$5:$AU$6,2,FALSE)","v":0},null,null,0,{"$f":"C269*$G$2*VLOOKUP(DataByMiles!AE267,DataByMiles!$AT$5:$AU$6,2,FALSE)","v":0},{"$f":"DataByMiles!U267*VLOOKUP(DataByMiles!AE267,DataByMiles!$AT$5:$AU$6,2,FALSE)","v":0},null,null,0,{"$f":"H269*$L$2*VLOOKUP(DataByMiles!AE267,DataByMiles!$AT$5:$AU$6,2,FALSE)","v":0},{"$f":"DataByMiles!V267*VLOOKUP(DataByMiles!AE267,DataByMiles!$AT$5:$AU$6,2,FALSE)","v":0},null,null,{"$f":"M269*$P$2*VLOOKUP(DataByMiles!AE267,DataByMiles!$AT$5:$AU$6,2,FALSE)","v":0},{"$f":"DataByMiles!W267*VLOOKUP(DataByMiles!AE267,DataByMiles!$AT$5:$AU$6,2,FALSE)","v":0},null,null,{"$f":"Q269*$T$2*VLOOKUP(DataByMiles!AE267,DataByMiles!$AT$5:$AU$6,2,FALSE)","v":0},{"$f":"DataByMiles!X267*VLOOKUP(DataByMiles!AE267,DataByMiles!$AT$5:$AU$6,2,FALSE)","v":0},null,null,{"$f":"U269*$X$2*VLOOKUP(DataByMiles!AE267,DataByMiles!$AT$5:$AU$6,2,FALSE)","v":0},{"$f":"DataByMiles!Y267*VLOOKUP(DataByMiles!AE267,DataByMiles!$AT$5:$AU$6,2,FALSE)","v":0},{"$f":"DataByMiles!Z267","v":0},{"$f":"DataByMiles!AA267","v":0},null,null,{"$f":"(Y269/IF(Z269=0,$AD$1,Z269)*$AD$2)/IF(AA269=0,1,AA269)*VLOOKUP(DataByMiles!AE267,DataByMiles!$AT$5:$AU$6,2,FALSE)","v":0},"",0,0,{"$f":"(AF269+AG269)*VLOOKUP(DataByMiles!AE267,DataByMiles!$AT$5:$AU$6,2,FALSE)","v":0},0]
[null,{"$f":"DataByMiles!C268","v":"----264"},{"$f":"DataByMiles!T268*VLOOKUP(DataByMiles!AE268,DataByMiles!$AT$5:$AU$6,2,FALSE)","v":0},null,null,0,{"$f":"C270*$G$2*VLOOKUP(DataByMiles!AE268,DataByMiles!$AT$5:$AU$6,2,FALSE)","v":0},{"$f":"DataByMiles!U268*VLOOKUP(DataByMiles!AE268,DataByMiles!$AT$5:$AU$6,2,FALSE)","v":0},null,null,0,{"$f":"H270*$L$2*VLOOKUP(DataByMiles!AE268,DataByMiles!$AT$5:$AU$6,2,FALSE)","v":0},{"$f":"DataByMiles!V268*VLOOKUP(DataByMiles!AE268,DataByMiles!$AT$5:$AU$6,2,FALSE)","v":0},null,null,{"$f":"M270*$P$2*VLOOKUP(DataByMiles!AE268,DataByMiles!$AT$5:$AU$6,2,FALSE)","v":0},{"$f":"DataByMiles!W268*VLOOKUP(DataByMiles!AE268,DataByMiles!$AT$5:$AU$6,2,FALSE)","v":0},null,null,{"$f":"Q270*$T$2*VLOOKUP(DataByMiles!AE268,DataByMiles!$AT$5:$AU$6,2,FALSE)","v":0},{"$f":"DataByMiles!X268*VLOOKUP(DataByMiles!AE268,DataByMiles!$AT$5:$AU$6,2,FALSE)","v":0},null,null,{"$f":"U270*$X$2*VLOOKUP(DataByMiles!AE268,DataByMiles!$AT$5:$AU$6,2,FALSE)","v":0},{"$f":"DataByMiles!Y268*VLOOKUP(DataByMiles!AE268,DataByMiles!$AT$5:$AU$6,2,FALSE)","v":0},{"$f":"DataByMiles!Z268","v":0},{"$f":"DataByMiles!AA268","v":0},null,null,{"$f":"(Y270/IF(Z270=0,$AD$1,Z270)*$AD$2)/IF(AA270=0,1,AA270)*VLOOKUP(DataByMiles!AE268,DataByMiles!$AT$5:$AU$6,2,FALSE)","v":0},"",0,0,{"$f":"(AF270+AG270)*VLOOKUP(DataByMiles!AE268,DataByMiles!$AT$5:$AU$6,2,FALSE)","v":0},0]
[null,{"$f":"DataByMiles!C269","v":"----265"},{"$f":"DataByMiles!T269*VLOOKUP(DataByMiles!AE269,DataByMiles!$AT$5:$AU$6,2,FALSE)","v":0},null,null,0,{"$f":"C271*$G$2*VLOOKUP(DataByMiles!AE269,DataByMiles!$AT$5:$AU$6,2,FALSE)","v":0},{"$f":"DataByMiles!U269*VLOOKUP(DataByMiles!AE269,DataByMiles!$AT$5:$AU$6,2,FALSE)","v":0},null,null,0,{"$f":"H271*$L$2*VLOOKUP(DataByMiles!AE269,DataByMiles!$AT$5:$AU$6,2,FALSE)","v":0},{"$f":"DataByMiles!V269*VLOOKUP(DataByMiles!AE269,DataByMiles!$AT$5:$AU$6,2,FALSE)","v":0},null,null,{"$f":"M271*$P$2*VLOOKUP(DataByMiles!AE269,DataByMiles!$AT$5:$AU$6,2,FALSE)","v":0},{"$f":"DataByMiles!W269*VLOOKUP(DataByMiles!AE269,DataByMiles!$AT$5:$AU$6,2,FALSE)","v":0},null,null,{"$f":"Q271*$T$2*VLOOKUP(DataByMiles!AE269,DataByMiles!$AT$5:$AU$6,2,FALSE)","v":0},{"$f":"DataByMiles!X269*VLOOKUP(DataByMiles!AE269,DataByMiles!$AT$5:$AU$6,2,FALSE)","v":0},null,null,{"$f":"U271*$X$2*VLOOKUP(DataByMiles!AE269,DataByMiles!$AT$5:$AU$6,2,FALSE)","v":0},{"$f":"DataByMiles!Y269*VLOOKUP(DataByMiles!AE269,DataByMiles!$AT$5:$AU$6,2,FALSE)","v":0},{"$f":"DataByMiles!Z269","v":0},{"$f":"DataByMiles!AA269","v":0},null,null,{"$f":"(Y271/IF(Z271=0,$AD$1,Z271)*$AD$2)/IF(AA271=0,1,AA271)*VLOOKUP(DataByMiles!AE269,DataByMiles!$AT$5:$AU$6,2,FALSE)","v":0},"",0,0,{"$f":"(AF271+AG271)*VLOOKUP(DataByMiles!AE269,DataByMiles!$AT$5:$AU$6,2,FALSE)","v":0},0]
[null,{"$f":"DataByMiles!C270","v":"----266"},{"$f":"DataByMiles!T270*VLOOKUP(DataByMiles!AE270,DataByMiles!$AT$5:$AU$6,2,FALSE)","v":0},null,null,0,{"$f":"C272*$G$2*VLOOKUP(DataByMiles!AE270,DataByMiles!$AT$5:$AU$6,2,FALSE)","v":0},{"$f":"DataByMiles!U270*VLOOKUP(DataByMiles!AE270,DataByMiles!$AT$5:$AU$6,2,FALSE)","v":0},null,null,0,{"$f":"H272*$L$2*VLOOKUP(DataByMiles!AE270,DataByMiles!$AT$5:$AU$6,2,FALSE)","v":0},{"$f":"DataByMiles!V270*VLOOKUP(DataByMiles!AE270,DataByMiles!$AT$5:$AU$6,2,FALSE)","v":0},null,null,{"$f":"M272*$P$2*VLOOKUP(DataByMiles!AE270,DataByMiles!$AT$5:$AU$6,2,FALSE)","v":0},{"$f":"DataByMiles!W270*VLOOKUP(DataByMiles!AE270,DataByMiles!$AT$5:$AU$6,2,FALSE)","v":0},null,null,{"$f":"Q272*$T$2*VLOOKUP(DataByMiles!AE270,DataByMiles!$AT$5:$AU$6,2,FALSE)","v":0},{"$f":"DataByMiles!X270*VLOOKUP(DataByMiles!AE270,DataByMiles!$AT$5:$AU$6,2,FALSE)","v":0},null,null,{"$f":"U272*$X$2*VLOOKUP(DataByMiles!AE270,DataByMiles!$AT$5:$AU$6,2,FALSE)","v":0},{"$f":"DataByMiles!Y270*VLOOKUP(DataByMiles!AE270,DataByMiles!$AT$5:$AU$6,2,FALSE)","v":0},{"$f":"DataByMiles!Z270","v":0},{"$f":"DataByMiles!AA270","v":0},null,null,{"$f":"(Y272/IF(Z272=0,$AD$1,Z272)*$AD$2)/IF(AA272=0,1,AA272)*VLOOKUP(DataByMiles!AE270,DataByMiles!$AT$5:$AU$6,2,FALSE)","v":0},"",0,0,{"$f":"(AF272+AG272)*VLOOKUP(DataByMiles!AE270,DataByMiles!$AT$5:$AU$6,2,FALSE)","v":0},0]
[null,{"$f":"DataByMiles!C271","v":"----267"},{"$f":"DataByMiles!T271*VLOOKUP(DataByMiles!AE271,DataByMiles!$AT$5:$AU$6,2,FALSE)","v":0},null,null,0,{"$f":"C273*$G$2*VLOOKUP(DataByMiles!AE271,DataByMiles!$AT$5:$AU$6,2,FALSE)","v":0},{"$f":"DataByMiles!U271*VLOOKUP(DataByMiles!AE271,DataByMiles!$AT$5:$AU$6,2,FALSE)","v":0},null,null,0,{"$f":"H273*$L$2*VLOOKUP(DataByMiles!AE271,DataByMiles!$AT$5:$AU$6,2,FALSE)","v":0},{"$f":"DataByMiles!V271*VLOOKUP(DataByMiles!AE271,DataByMiles!$AT$5:$AU$6,2,FALSE)","v":0},null,null,{"$f":"M273*$P$2*VLOOKUP(DataByMiles!AE271,DataByMiles!$AT$5:$AU$6,2,FALSE)","v":0},{"$f":"DataByMiles!W271*VLOOKUP(DataByMiles!AE271,DataByMiles!$AT$5:$AU$6,2,FALSE)","v":0},null,null,{"$f":"Q273*$T$2*VLOOKUP(DataByMiles!AE271,DataByMiles!$AT$5:$AU$6,2,FALSE)","v":0},{"$f":"DataByMiles!X271*VLOOKUP(DataByMiles!AE271,DataByMiles!$AT$5:$AU$6,2,FALSE)","v":0},null,null,{"$f":"U273*$X$2*VLOOKUP(DataByMiles!AE271,DataByMiles!$AT$5:$AU$6,2,FALSE)","v":0},{"$f":"DataByMiles!Y271*VLOOKUP(DataByMiles!AE271,DataByMiles!$AT$5:$AU$6,2,FALSE)","v":0},{"$f":"DataByMiles!Z271","v":0},{"$f":"DataByMiles!AA271","v":0},null,null,{"$f":"(Y273/IF(Z273=0,$AD$1,Z273)*$AD$2)/IF(AA273=0,1,AA273)*VLOOKUP(DataByMiles!AE271,DataByMiles!$AT$5:$AU$6,2,FALSE)","v":0},"",0,0,{"$f":"(AF273+AG273)*VLOOKUP(DataByMiles!AE271,DataByMiles!$AT$5:$AU$6,2,FALSE)","v":0},0]
[null,{"$f":"DataByMiles!C272","v":"----268"},{"$f":"DataByMiles!T272*VLOOKUP(DataByMiles!AE272,DataByMiles!$AT$5:$AU$6,2,FALSE)","v":0},null,null,0,{"$f":"C274*$G$2*VLOOKUP(DataByMiles!AE272,DataByMiles!$AT$5:$AU$6,2,FALSE)","v":0},{"$f":"DataByMiles!U272*VLOOKUP(DataByMiles!AE272,DataByMiles!$AT$5:$AU$6,2,FALSE)","v":0},null,null,0,{"$f":"H274*$L$2*VLOOKUP(DataByMiles!AE272,DataByMiles!$AT$5:$AU$6,2,FALSE)","v":0},{"$f":"DataByMiles!V272*VLOOKUP(DataByMiles!AE272,DataByMiles!$AT$5:$AU$6,2,FALSE)","v":0},null,null,{"$f":"M274*$P$2*VLOOKUP(DataByMiles!AE272,DataByMiles!$AT$5:$AU$6,2,FALSE)","v":0},{"$f":"DataByMiles!W272*VLOOKUP(DataByMiles!AE272,DataByMiles!$AT$5:$AU$6,2,FALSE)","v":0},null,null,{"$f":"Q274*$T$2*VLOOKUP(DataByMiles!AE272,DataByMiles!$AT$5:$AU$6,2,FALSE)","v":0},{"$f":"DataByMiles!X272*VLOOKUP(DataByMiles!AE272,DataByMiles!$AT$5:$AU$6,2,FALSE)","v":0},null,null,{"$f":"U274*$X$2*VLOOKUP(DataByMiles!AE272,DataByMiles!$AT$5:$AU$6,2,FALSE)","v":0},{"$f":"DataByMiles!Y272*VLOOKUP(DataByMiles!AE272,DataByMiles!$AT$5:$AU$6,2,FALSE)","v":0},{"$f":"DataByMiles!Z272","v":0},{"$f":"DataByMiles!AA272","v":0},null,null,{"$f":"(Y274/IF(Z274=0,$AD$1,Z274)*$AD$2)/IF(AA274=0,1,AA274)*VLOOKUP(DataByMiles!AE272,DataByMiles!$AT$5:$AU$6,2,FALSE)","v":0},"",0,0,{"$f":"(AF274+AG274)*VLOOKUP(DataByMiles!AE272,DataByMiles!$AT$5:$AU$6,2,FALSE)","v":0},0]
[null,{"$f":"DataByMiles!C273","v":"----269"},{"$f":"DataByMiles!T273*VLOOKUP(DataByMiles!AE273,DataByMiles!$AT$5:$AU$6,2,FALSE)","v":0},null,null,0,{"$f":"C275*$G$2*VLOOKUP(DataByMiles!AE273,DataByMiles!$AT$5:$AU$6,2,FALSE)","v":0},{"$f":"DataByMiles!U273*VLOOKUP(DataByMiles!AE273,DataByMiles!$AT$5:$AU$6,2,FALSE)","v":0},null,null,0,{"$f":"H275*$L$2*VLOOKUP(DataByMiles!AE273,DataByMiles!$AT$5:$AU$6,2,FALSE)","v":0},{"$f":"DataByMiles!V273*VLOOKUP(DataByMiles!AE273,DataByMiles!$AT$5:$AU$6,2,FALSE)","v":0},null,null,{"$f":"M275*$P$2*VLOOKUP(DataByMiles!AE273,DataByMiles!$AT$5:$AU$6,2,FALSE)","v":0},{"$f":"DataByMiles!W273*VLOOKUP(DataByMiles!AE273,DataByMiles!$AT$5:$AU$6,2,FALSE)","v":0},null,null,{"$f":"Q275*$T$2*VLOOKUP(DataByMiles!AE273,DataByMiles!$AT$5:$AU$6,2,FALSE)","v":0},{"$f":"DataByMiles!X273*VLOOKUP(DataByMiles!AE273,DataByMiles!$AT$5:$AU$6,2,FALSE)","v":0},null,null,{"$f":"U275*$X$2*VLOOKUP(DataByMiles!AE273,DataByMiles!$AT$5:$AU$6,2,FALSE)","v":0},{"$f":"DataByMiles!Y273*VLOOKUP(DataByMiles!AE273,DataByMiles!$AT$5:$AU$6,2,FALSE)","v":0},{"$f":"DataByMiles!Z273","v":0},{"$f":"DataByMiles!AA273","v":0},null,null,{"$f":"(Y275/IF(Z275=0,$AD$1,Z275)*$AD$2)/IF(AA275=0,1,AA275)*VLOOKUP(DataByMiles!AE273,DataByMiles!$AT$5:$AU$6,2,FALSE)","v":0},"",0,0,{"$f":"(AF275+AG275)*VLOOKUP(DataByMiles!AE273,DataByMiles!$AT$5:$AU$6,2,FALSE)","v":0},0]
[null,{"$f":"DataByMiles!C274","v":"----270"},{"$f":"DataByMiles!T274*VLOOKUP(DataByMiles!AE274,DataByMiles!$AT$5:$AU$6,2,FALSE)","v":0},null,null,0,{"$f":"C276*$G$2*VLOOKUP(DataByMiles!AE274,DataByMiles!$AT$5:$AU$6,2,FALSE)","v":0},{"$f":"DataByMiles!U274*VLOOKUP(DataByMiles!AE274,DataByMiles!$AT$5:$AU$6,2,FALSE)","v":0},null,null,0,{"$f":"H276*$L$2*VLOOKUP(DataByMiles!AE274,DataByMiles!$AT$5:$AU$6,2,FALSE)","v":0},{"$f":"DataByMiles!V274*VLOOKUP(DataByMiles!AE274,DataByMiles!$AT$5:$AU$6,2,FALSE)","v":0},null,null,{"$f":"M276*$P$2*VLOOKUP(DataByMiles!AE274,DataByMiles!$AT$5:$AU$6,2,FALSE)","v":0},{"$f":"DataByMiles!W274*VLOOKUP(DataByMiles!AE274,DataByMiles!$AT$5:$AU$6,2,FALSE)","v":0},null,null,{"$f":"Q276*$T$2*VLOOKUP(DataByMiles!AE274,DataByMiles!$AT$5:$AU$6,2,FALSE)","v":0},{"$f":"DataByMiles!X274*VLOOKUP(DataByMiles!AE274,DataByMiles!$AT$5:$AU$6,2,FALSE)","v":0},null,null,{"$f":"U276*$X$2*VLOOKUP(DataByMiles!AE274,DataByMiles!$AT$5:$AU$6,2,FALSE)","v":0},{"$f":"DataByMiles!Y274*VLOOKUP(DataByMiles!AE274,DataByMiles!$AT$5:$AU$6,2,FALSE)","v":0},{"$f":"DataByMiles!Z274","v":0},{"$f":"DataByMiles!AA274","v":0},null,null,{"$f":"(Y276/IF(Z276=0,$AD$1,Z276)*$AD$2)/IF(AA276=0,1,AA276)*VLOOKUP(DataByMiles!AE274,DataByMiles!$AT$5:$AU$6,2,FALSE)","v":0},"",0,0,{"$f":"(AF276+AG276)*VLOOKUP(DataByMiles!AE274,DataByMiles!$AT$5:$AU$6,2,FALSE)","v":0},0]
[null,{"$f":"DataByMiles!C275","v":"----271"},{"$f":"DataByMiles!T275*VLOOKUP(DataByMiles!AE275,DataByMiles!$AT$5:$AU$6,2,FALSE)","v":0},null,null,0,{"$f":"C277*$G$2*VLOOKUP(DataByMiles!AE275,DataByMiles!$AT$5:$AU$6,2,FALSE)","v":0},{"$f":"DataByMiles!U275*VLOOKUP(DataByMiles!AE275,DataByMiles!$AT$5:$AU$6,2,FALSE)","v":0},null,null,0,{"$f":"H277*$L$2*VLOOKUP(DataByMiles!AE275,DataByMiles!$AT$5:$AU$6,2,FALSE)","v":0},{"$f":"DataByMiles!V275*VLOOKUP(DataByMiles!AE275,DataByMiles!$AT$5:$AU$6,2,FALSE)","v":0},null,null,{"$f":"M277*$P$2*VLOOKUP(DataByMiles!AE275,DataByMiles!$AT$5:$AU$6,2,FALSE)","v":0},{"$f":"DataByMiles!W275*VLOOKUP(DataByMiles!AE275,DataByMiles!$AT$5:$AU$6,2,FALSE)","v":0},null,null,{"$f":"Q277*$T$2*VLOOKUP(DataByMiles!AE275,DataByMiles!$AT$5:$AU$6,2,FALSE)","v":0},{"$f":"DataByMiles!X275*VLOOKUP(DataByMiles!AE275,DataByMiles!$AT$5:$AU$6,2,FALSE)","v":0},null,null,{"$f":"U277*$X$2*VLOOKUP(DataByMiles!AE275,DataByMiles!$AT$5:$AU$6,2,FALSE)","v":0},{"$f":"DataByMiles!Y275*VLOOKUP(DataByMiles!AE275,DataByMiles!$AT$5:$AU$6,2,FALSE)","v":0},{"$f":"DataByMiles!Z275","v":0},{"$f":"DataByMiles!AA275","v":0},null,null,{"$f":"(Y277/IF(Z277=0,$AD$1,Z277)*$AD$2)/IF(AA277=0,1,AA277)*VLOOKUP(DataByMiles!AE275,DataByMiles!$AT$5:$AU$6,2,FALSE)","v":0},"",0,0,{"$f":"(AF277+AG277)*VLOOKUP(DataByMiles!AE275,DataByMiles!$AT$5:$AU$6,2,FALSE)","v":0},0]
[null,{"$f":"DataByMiles!C276","v":"----272"},{"$f":"DataByMiles!T276*VLOOKUP(DataByMiles!AE276,DataByMiles!$AT$5:$AU$6,2,FALSE)","v":0},null,null,0,{"$f":"C278*$G$2*VLOOKUP(DataByMiles!AE276,DataByMiles!$AT$5:$AU$6,2,FALSE)","v":0},{"$f":"DataByMiles!U276*VLOOKUP(DataByMiles!AE276,DataByMiles!$AT$5:$AU$6,2,FALSE)","v":0},null,null,0,{"$f":"H278*$L$2*VLOOKUP(DataByMiles!AE276,DataByMiles!$AT$5:$AU$6,2,FALSE)","v":0},{"$f":"DataByMiles!V276*VLOOKUP(DataByMiles!AE276,DataByMiles!$AT$5:$AU$6,2,FALSE)","v":0},null,null,{"$f":"M278*$P$2*VLOOKUP(DataByMiles!AE276,DataByMiles!$AT$5:$AU$6,2,FALSE)","v":0},{"$f":"DataByMiles!W276*VLOOKUP(DataByMiles!AE276,DataByMiles!$AT$5:$AU$6,2,FALSE)","v":0},null,null,{"$f":"Q278*$T$2*VLOOKUP(DataByMiles!AE276,DataByMiles!$AT$5:$AU$6,2,FALSE)","v":0},{"$f":"DataByMiles!X276*VLOOKUP(DataByMiles!AE276,DataByMiles!$AT$5:$AU$6,2,FALSE)","v":0},null,null,{"$f":"U278*$X$2*VLOOKUP(DataByMiles!AE276,DataByMiles!$AT$5:$AU$6,2,FALSE)","v":0},{"$f":"DataByMiles!Y276*VLOOKUP(DataByMiles!AE276,DataByMiles!$AT$5:$AU$6,2,FALSE)","v":0},{"$f":"DataByMiles!Z276","v":0},{"$f":"DataByMiles!AA276","v":0},null,null,{"$f":"(Y278/IF(Z278=0,$AD$1,Z278)*$AD$2)/IF(AA278=0,1,AA278)*VLOOKUP(DataByMiles!AE276,DataByMiles!$AT$5:$AU$6,2,FALSE)","v":0},"",0,0,{"$f":"(AF278+AG278)*VLOOKUP(DataByMiles!AE276,DataByMiles!$AT$5:$AU$6,2,FALSE)","v":0},0]
[null,{"$f":"DataByMiles!C277","v":"----273"},{"$f":"DataByMiles!T277*VLOOKUP(DataByMiles!AE277,DataByMiles!$AT$5:$AU$6,2,FALSE)","v":0},null,null,0,{"$f":"C279*$G$2*VLOOKUP(DataByMiles!AE277,DataByMiles!$AT$5:$AU$6,2,FALSE)","v":0},{"$f":"DataByMiles!U277*VLOOKUP(DataByMiles!AE277,DataByMiles!$AT$5:$AU$6,2,FALSE)","v":0},null,null,0,{"$f":"H279*$L$2*VLOOKUP(DataByMiles!AE277,DataByMiles!$AT$5:$AU$6,2,FALSE)","v":0},{"$f":"DataByMiles!V277*VLOOKUP(DataByMiles!AE277,DataByMiles!$AT$5:$AU$6,2,FALSE)","v":0},null,null,{"$f":"M279*$P$2*VLOOKUP(DataByMiles!AE277,DataByMiles!$AT$5:$AU$6,2,FALSE)","v":0},{"$f":"DataByMiles!W277*VLOOKUP(DataByMiles!AE277,DataByMiles!$AT$5:$AU$6,2,FALSE)","v":0},null,null,{"$f":"Q279*$T$2*VLOOKUP(DataByMiles!AE277,DataByMiles!$AT$5:$AU$6,2,FALSE)","v":0},{"$f":"DataByMiles!X277*VLOOKUP(DataByMiles!AE277,DataByMiles!$AT$5:$AU$6,2,FALSE)","v":0},null,null,{"$f":"U279*$X$2*VLOOKUP(DataByMiles!AE277,DataByMiles!$AT$5:$AU$6,2,FALSE)","v":0},{"$f":"DataByMiles!Y277*VLOOKUP(DataByMiles!AE277,DataByMiles!$AT$5:$AU$6,2,FALSE)","v":0},{"$f":"DataByMiles!Z277","v":0},{"$f":"DataByMiles!AA277","v":0},null,null,{"$f":"(Y279/IF(Z279=0,$AD$1,Z279)*$AD$2)/IF(AA279=0,1,AA279)*VLOOKUP(DataByMiles!AE277,DataByMiles!$AT$5:$AU$6,2,FALSE)","v":0},"",0,0,{"$f":"(AF279+AG279)*VLOOKUP(DataByMiles!AE277,DataByMiles!$AT$5:$AU$6,2,FALSE)","v":0},0]
[null,{"$f":"DataByMiles!C278","v":"----274"},{"$f":"DataByMiles!T278*VLOOKUP(DataByMiles!AE278,DataByMiles!$AT$5:$AU$6,2,FALSE)","v":0},null,null,0,{"$f":"C280*$G$2*VLOOKUP(DataByMiles!AE278,DataByMiles!$AT$5:$AU$6,2,FALSE)","v":0},{"$f":"DataByMiles!U278*VLOOKUP(DataByMiles!AE278,DataByMiles!$AT$5:$AU$6,2,FALSE)","v":0},null,null,0,{"$f":"H280*$L$2*VLOOKUP(DataByMiles!AE278,DataByMiles!$AT$5:$AU$6,2,FALSE)","v":0},{"$f":"DataByMiles!V278*VLOOKUP(DataByMiles!AE278,DataByMiles!$AT$5:$AU$6,2,FALSE)","v":0},null,null,{"$f":"M280*$P$2*VLOOKUP(DataByMiles!AE278,DataByMiles!$AT$5:$AU$6,2,FALSE)","v":0},{"$f":"DataByMiles!W278*VLOOKUP(DataByMiles!AE278,DataByMiles!$AT$5:$AU$6,2,FALSE)","v":0},null,null,{"$f":"Q280*$T$2*VLOOKUP(DataByMiles!AE278,DataByMiles!$AT$5:$AU$6,2,FALSE)","v":0},{"$f":"DataByMiles!X278*VLOOKUP(DataByMiles!AE278,DataByMiles!$AT$5:$AU$6,2,FALSE)","v":0},null,null,{"$f":"U280*$X$2*VLOOKUP(DataByMiles!AE278,DataByMiles!$AT$5:$AU$6,2,FALSE)","v":0},{"$f":"DataByMiles!Y278*VLOOKUP(DataByMiles!AE278,DataByMiles!$AT$5:$AU$6,2,FALSE)","v":0},{"$f":"DataByMiles!Z278","v":0},{"$f":"DataByMiles!AA278","v":0},null,null,{"$f":"(Y280/IF(Z280=0,$AD$1,Z280)*$AD$2)/IF(AA280=0,1,AA280)*VLOOKUP(DataByMiles!AE278,DataByMiles!$AT$5:$AU$6,2,FALSE)","v":0},"",0,0,{"$f":"(AF280+AG280)*VLOOKUP(DataByMiles!AE278,DataByMiles!$AT$5:$AU$6,2,FALSE)","v":0},0]
[null,{"$f":"DataByMiles!C279","v":"----275"},{"$f":"DataByMiles!T279*VLOOKUP(DataByMiles!AE279,DataByMiles!$AT$5:$AU$6,2,FALSE)","v":0},null,null,0,{"$f":"C281*$G$2*VLOOKUP(DataByMiles!AE279,DataByMiles!$AT$5:$AU$6,2,FALSE)","v":0},{"$f":"DataByMiles!U279*VLOOKUP(DataByMiles!AE279,DataByMiles!$AT$5:$AU$6,2,FALSE)","v":0},null,null,0,{"$f":"H281*$L$2*VLOOKUP(DataByMiles!AE279,DataByMiles!$AT$5:$AU$6,2,FALSE)","v":0},{"$f":"DataByMiles!V279*VLOOKUP(DataByMiles!AE279,DataByMiles!$AT$5:$AU$6,2,FALSE)","v":0},null,null,{"$f":"M281*$P$2*VLOOKUP(DataByMiles!AE279,DataByMiles!$AT$5:$AU$6,2,FALSE)","v":0},{"$f":"DataByMiles!W279*VLOOKUP(DataByMiles!AE279,DataByMiles!$AT$5:$AU$6,2,FALSE)","v":0},null,null,{"$f":"Q281*$T$2*VLOOKUP(DataByMiles!AE279,DataByMiles!$AT$5:$AU$6,2,FALSE)","v":0},{"$f":"DataByMiles!X279*VLOOKUP(DataByMiles!AE279,DataByMiles!$AT$5:$AU$6,2,FALSE)","v":0},null,null,{"$f":"U281*$X$2*VLOOKUP(DataByMiles!AE279,DataByMiles!$AT$5:$AU$6,2,FALSE)","v":0},{"$f":"DataByMiles!Y279*VLOOKUP(DataByMiles!AE279,DataByMiles!$AT$5:$AU$6,2,FALSE)","v":0},{"$f":"DataByMiles!Z279","v":0},{"$f":"DataByMiles!AA279","v":0},null,null,{"$f":"(Y281/IF(Z281=0,$AD$1,Z281)*$AD$2)/IF(AA281=0,1,AA281)*VLOOKUP(DataByMiles!AE279,DataByMiles!$AT$5:$AU$6,2,FALSE)","v":0},"",0,0,{"$f":"(AF281+AG281)*VLOOKUP(DataByMiles!AE279,DataByMiles!$AT$5:$AU$6,2,FALSE)","v":0},0]
[null,{"$f":"DataByMiles!C280","v":"----276"},{"$f":"DataByMiles!T280*VLOOKUP(DataByMiles!AE280,DataByMiles!$AT$5:$AU$6,2,FALSE)","v":0},null,null,0,{"$f":"C282*$G$2*VLOOKUP(DataByMiles!AE280,DataByMiles!$AT$5:$AU$6,2,FALSE)","v":0},{"$f":"DataByMiles!U280*VLOOKUP(DataByMiles!AE280,DataByMiles!$AT$5:$AU$6,2,FALSE)","v":0},null,null,0,{"$f":"H282*$L$2*VLOOKUP(DataByMiles!AE280,DataByMiles!$AT$5:$AU$6,2,FALSE)","v":0},{"$f":"DataByMiles!V280*VLOOKUP(DataByMiles!AE280,DataByMiles!$AT$5:$AU$6,2,FALSE)","v":0},null,null,{"$f":"M282*$P$2*VLOOKUP(DataByMiles!AE280,DataByMiles!$AT$5:$AU$6,2,FALSE)","v":0},{"$f":"DataByMiles!W280*VLOOKUP(DataByMiles!AE280,DataByMiles!$AT$5:$AU$6,2,FALSE)","v":0},null,null,{"$f":"Q282*$T$2*VLOOKUP(DataByMiles!AE280,DataByMiles!$AT$5:$AU$6,2,FALSE)","v":0},{"$f":"DataByMiles!X280*VLOOKUP(DataByMiles!AE280,DataByMiles!$AT$5:$AU$6,2,FALSE)","v":0},null,null,{"$f":"U282*$X$2*VLOOKUP(DataByMiles!AE280,DataByMiles!$AT$5:$AU$6,2,FALSE)","v":0},{"$f":"DataByMiles!Y280*VLOOKUP(DataByMiles!AE280,DataByMiles!$AT$5:$AU$6,2,FALSE)","v":0},{"$f":"DataByMiles!Z280","v":0},{"$f":"DataByMiles!AA280","v":0},null,null,{"$f":"(Y282/IF(Z282=0,$AD$1,Z282)*$AD$2)/IF(AA282=0,1,AA282)*VLOOKUP(DataByMiles!AE280,DataByMiles!$AT$5:$AU$6,2,FALSE)","v":0},"",0,0,{"$f":"(AF282+AG282)*VLOOKUP(DataByMiles!AE280,DataByMiles!$AT$5:$AU$6,2,FALSE)","v":0},0]
[null,{"$f":"DataByMiles!C281","v":"----277"},{"$f":"DataByMiles!T281*VLOOKUP(DataByMiles!AE281,DataByMiles!$AT$5:$AU$6,2,FALSE)","v":0},null,null,0,{"$f":"C283*$G$2*VLOOKUP(DataByMiles!AE281,DataByMiles!$AT$5:$AU$6,2,FALSE)","v":0},{"$f":"DataByMiles!U281*VLOOKUP(DataByMiles!AE281,DataByMiles!$AT$5:$AU$6,2,FALSE)","v":0},null,null,0,{"$f":"H283*$L$2*VLOOKUP(DataByMiles!AE281,DataByMiles!$AT$5:$AU$6,2,FALSE)","v":0},{"$f":"DataByMiles!V281*VLOOKUP(DataByMiles!AE281,DataByMiles!$AT$5:$AU$6,2,FALSE)","v":0},null,null,{"$f":"M283*$P$2*VLOOKUP(DataByMiles!AE281,DataByMiles!$AT$5:$AU$6,2,FALSE)","v":0},{"$f":"DataByMiles!W281*VLOOKUP(DataByMiles!AE281,DataByMiles!$AT$5:$AU$6,2,FALSE)","v":0},null,null,{"$f":"Q283*$T$2*VLOOKUP(DataByMiles!AE281,DataByMiles!$AT$5:$AU$6,2,FALSE)","v":0},{"$f":"DataByMiles!X281*VLOOKUP(DataByMiles!AE281,DataByMiles!$AT$5:$AU$6,2,FALSE)","v":0},null,null,{"$f":"U283*$X$2*VLOOKUP(DataByMiles!AE281,DataByMiles!$AT$5:$AU$6,2,FALSE)","v":0},{"$f":"DataByMiles!Y281*VLOOKUP(DataByMiles!AE281,DataByMiles!$AT$5:$AU$6,2,FALSE)","v":0},{"$f":"DataByMiles!Z281","v":0},{"$f":"DataByMiles!AA281","v":0},null,null,{"$f":"(Y283/IF(Z283=0,$AD$1,Z283)*$AD$2)/IF(AA283=0,1,AA283)*VLOOKUP(DataByMiles!AE281,DataByMiles!$AT$5:$AU$6,2,FALSE)","v":0},"",0,0,{"$f":"(AF283+AG283)*VLOOKUP(DataByMiles!AE281,DataByMiles!$AT$5:$AU$6,2,FALSE)","v":0},0]
[null,{"$f":"DataByMiles!C282","v":"----278"},{"$f":"DataByMiles!T282*VLOOKUP(DataByMiles!AE282,DataByMiles!$AT$5:$AU$6,2,FALSE)","v":0},null,null,0,{"$f":"C284*$G$2*VLOOKUP(DataByMiles!AE282,DataByMiles!$AT$5:$AU$6,2,FALSE)","v":0},{"$f":"DataByMiles!U282*VLOOKUP(DataByMiles!AE282,DataByMiles!$AT$5:$AU$6,2,FALSE)","v":0},null,null,0,{"$f":"H284*$L$2*VLOOKUP(DataByMiles!AE282,DataByMiles!$AT$5:$AU$6,2,FALSE)","v":0},{"$f":"DataByMiles!V282*VLOOKUP(DataByMiles!AE282,DataByMiles!$AT$5:$AU$6,2,FALSE)","v":0},null,null,{"$f":"M284*$P$2*VLOOKUP(DataByMiles!AE282,DataByMiles!$AT$5:$AU$6,2,FALSE)","v":0},{"$f":"DataByMiles!W282*VLOOKUP(DataByMiles!AE282,DataByMiles!$AT$5:$AU$6,2,FALSE)","v":0},null,null,{"$f":"Q284*$T$2*VLOOKUP(DataByMiles!AE282,DataByMiles!$AT$5:$AU$6,2,FALSE)","v":0},{"$f":"DataByMiles!X282*VLOOKUP(DataByMiles!AE282,DataByMiles!$AT$5:$AU$6,2,FALSE)","v":0},null,null,{"$f":"U284*$X$2*VLOOKUP(DataByMiles!AE282,DataByMiles!$AT$5:$AU$6,2,FALSE)","v":0},{"$f":"DataByMiles!Y282*VLOOKUP(DataByMiles!AE282,DataByMiles!$AT$5:$AU$6,2,FALSE)","v":0},{"$f":"DataByMiles!Z282","v":0},{"$f":"DataByMiles!AA282","v":0},null,null,{"$f":"(Y284/IF(Z284=0,$AD$1,Z284)*$AD$2)/IF(AA284=0,1,AA284)*VLOOKUP(DataByMiles!AE282,DataByMiles!$AT$5:$AU$6,2,FALSE)","v":0},"",0,0,{"$f":"(AF284+AG284)*VLOOKUP(DataByMiles!AE282,DataByMiles!$AT$5:$AU$6,2,FALSE)","v":0},0]
[null,{"$f":"DataByMiles!C283","v":"----279"},{"$f":"DataByMiles!T283*VLOOKUP(DataByMiles!AE283,DataByMiles!$AT$5:$AU$6,2,FALSE)","v":0},null,null,0,{"$f":"C285*$G$2*VLOOKUP(DataByMiles!AE283,DataByMiles!$AT$5:$AU$6,2,FALSE)","v":0},{"$f":"DataByMiles!U283*VLOOKUP(DataByMiles!AE283,DataByMiles!$AT$5:$AU$6,2,FALSE)","v":0},null,null,0,{"$f":"H285*$L$2*VLOOKUP(DataByMiles!AE283,DataByMiles!$AT$5:$AU$6,2,FALSE)","v":0},{"$f":"DataByMiles!V283*VLOOKUP(DataByMiles!AE283,DataByMiles!$AT$5:$AU$6,2,FALSE)","v":0},null,null,{"$f":"M285*$P$2*VLOOKUP(DataByMiles!AE283,DataByMiles!$AT$5:$AU$6,2,FALSE)","v":0},{"$f":"DataByMiles!W283*VLOOKUP(DataByMiles!AE283,DataByMiles!$AT$5:$AU$6,2,FALSE)","v":0},null,null,{"$f":"Q285*$T$2*VLOOKUP(DataByMiles!AE283,DataByMiles!$AT$5:$AU$6,2,FALSE)","v":0},{"$f":"DataByMiles!X283*VLOOKUP(DataByMiles!AE283,DataByMiles!$AT$5:$AU$6,2,FALSE)","v":0},null,null,{"$f":"U285*$X$2*VLOOKUP(DataByMiles!AE283,DataByMiles!$AT$5:$AU$6,2,FALSE)","v":0},{"$f":"DataByMiles!Y283*VLOOKUP(DataByMiles!AE283,DataByMiles!$AT$5:$AU$6,2,FALSE)","v":0},{"$f":"DataByMiles!Z283","v":0},{"$f":"DataByMiles!AA283","v":0},null,null,{"$f":"(Y285/IF(Z285=0,$AD$1,Z285)*$AD$2)/IF(AA285=0,1,AA285)*VLOOKUP(DataByMiles!AE283,DataByMiles!$AT$5:$AU$6,2,FALSE)","v":0},"",0,0,{"$f":"(AF285+AG285)*VLOOKUP(DataByMiles!AE283,DataByMiles!$AT$5:$AU$6,2,FALSE)","v":0},0]
[null,{"$f":"DataByMiles!C284","v":"----280"},{"$f":"DataByMiles!T284*VLOOKUP(DataByMiles!AE284,DataByMiles!$AT$5:$AU$6,2,FALSE)","v":0},null,null,0,{"$f":"C286*$G$2*VLOOKUP(DataByMiles!AE284,DataByMiles!$AT$5:$AU$6,2,FALSE)","v":0},{"$f":"DataByMiles!U284*VLOOKUP(DataByMiles!AE284,DataByMiles!$AT$5:$AU$6,2,FALSE)","v":0},null,null,0,{"$f":"H286*$L$2*VLOOKUP(DataByMiles!AE284,DataByMiles!$AT$5:$AU$6,2,FALSE)","v":0},{"$f":"DataByMiles!V284*VLOOKUP(DataByMiles!AE284,DataByMiles!$AT$5:$AU$6,2,FALSE)","v":0},null,null,{"$f":"M286*$P$2*VLOOKUP(DataByMiles!AE284,DataByMiles!$AT$5:$AU$6,2,FALSE)","v":0},{"$f":"DataByMiles!W284*VLOOKUP(DataByMiles!AE284,DataByMiles!$AT$5:$AU$6,2,FALSE)","v":0},null,null,{"$f":"Q286*$T$2*VLOOKUP(DataByMiles!AE284,DataByMiles!$AT$5:$AU$6,2,FALSE)","v":0},{"$f":"DataByMiles!X284*VLOOKUP(DataByMiles!AE284,DataByMiles!$AT$5:$AU$6,2,FALSE)","v":0},null,null,{"$f":"U286*$X$2*VLOOKUP(DataByMiles!AE284,DataByMiles!$AT$5:$AU$6,2,FALSE)","v":0},{"$f":"DataByMiles!Y284*VLOOKUP(DataByMiles!AE284,DataByMiles!$AT$5:$AU$6,2,FALSE)","v":0},{"$f":"DataByMiles!Z284","v":0},{"$f":"DataByMiles!AA284","v":0},null,null,{"$f":"(Y286/IF(Z286=0,$AD$1,Z286)*$AD$2)/IF(AA286=0,1,AA286)*VLOOKUP(DataByMiles!AE284,DataByMiles!$AT$5:$AU$6,2,FALSE)","v":0},"",0,0,{"$f":"(AF286+AG286)*VLOOKUP(DataByMiles!AE284,DataByMiles!$AT$5:$AU$6,2,FALSE)","v":0},0]
[null,{"$f":"DataByMiles!C285","v":"----281"},{"$f":"DataByMiles!T285*VLOOKUP(DataByMiles!AE285,DataByMiles!$AT$5:$AU$6,2,FALSE)","v":0},null,null,0,{"$f":"C287*$G$2*VLOOKUP(DataByMiles!AE285,DataByMiles!$AT$5:$AU$6,2,FALSE)","v":0},{"$f":"DataByMiles!U285*VLOOKUP(DataByMiles!AE285,DataByMiles!$AT$5:$AU$6,2,FALSE)","v":0},null,null,0,{"$f":"H287*$L$2*VLOOKUP(DataByMiles!AE285,DataByMiles!$AT$5:$AU$6,2,FALSE)","v":0},{"$f":"DataByMiles!V285*VLOOKUP(DataByMiles!AE285,DataByMiles!$AT$5:$AU$6,2,FALSE)","v":0},null,null,{"$f":"M287*$P$2*VLOOKUP(DataByMiles!AE285,DataByMiles!$AT$5:$AU$6,2,FALSE)","v":0},{"$f":"DataByMiles!W285*VLOOKUP(DataByMiles!AE285,DataByMiles!$AT$5:$AU$6,2,FALSE)","v":0},null,null,{"$f":"Q287*$T$2*VLOOKUP(DataByMiles!AE285,DataByMiles!$AT$5:$AU$6,2,FALSE)","v":0},{"$f":"DataByMiles!X285*VLOOKUP(DataByMiles!AE285,DataByMiles!$AT$5:$AU$6,2,FALSE)","v":0},null,null,{"$f":"U287*$X$2*VLOOKUP(DataByMiles!AE285,DataByMiles!$AT$5:$AU$6,2,FALSE)","v":0},{"$f":"DataByMiles!Y285*VLOOKUP(DataByMiles!AE285,DataByMiles!$AT$5:$AU$6,2,FALSE)","v":0},{"$f":"DataByMiles!Z285","v":0},{"$f":"DataByMiles!AA285","v":0},null,null,{"$f":"(Y287/IF(Z287=0,$AD$1,Z287)*$AD$2)/IF(AA287=0,1,AA287)*VLOOKUP(DataByMiles!AE285,DataByMiles!$AT$5:$AU$6,2,FALSE)","v":0},"",0,0,{"$f":"(AF287+AG287)*VLOOKUP(DataByMiles!AE285,DataByMiles!$AT$5:$AU$6,2,FALSE)","v":0},0]
[null,{"$f":"DataByMiles!C286","v":"----282"},{"$f":"DataByMiles!T286*VLOOKUP(DataByMiles!AE286,DataByMiles!$AT$5:$AU$6,2,FALSE)","v":0},null,null,0,{"$f":"C288*$G$2*VLOOKUP(DataByMiles!AE286,DataByMiles!$AT$5:$AU$6,2,FALSE)","v":0},{"$f":"DataByMiles!U286*VLOOKUP(DataByMiles!AE286,DataByMiles!$AT$5:$AU$6,2,FALSE)","v":0},null,null,0,{"$f":"H288*$L$2*VLOOKUP(DataByMiles!AE286,DataByMiles!$AT$5:$AU$6,2,FALSE)","v":0},{"$f":"DataByMiles!V286*VLOOKUP(DataByMiles!AE286,DataByMiles!$AT$5:$AU$6,2,FALSE)","v":0},null,null,{"$f":"M288*$P$2*VLOOKUP(DataByMiles!AE286,DataByMiles!$AT$5:$AU$6,2,FALSE)","v":0},{"$f":"DataByMiles!W286*VLOOKUP(DataByMiles!AE286,DataByMiles!$AT$5:$AU$6,2,FALSE)","v":0},null,null,{"$f":"Q288*$T$2*VLOOKUP(DataByMiles!AE286,DataByMiles!$AT$5:$AU$6,2,FALSE)","v":0},{"$f":"DataByMiles!X286*VLOOKUP(DataByMiles!AE286,DataByMiles!$AT$5:$AU$6,2,FALSE)","v":0},null,null,{"$f":"U288*$X$2*VLOOKUP(DataByMiles!AE286,DataByMiles!$AT$5:$AU$6,2,FALSE)","v":0},{"$f":"DataByMiles!Y286*VLOOKUP(DataByMiles!AE286,DataByMiles!$AT$5:$AU$6,2,FALSE)","v":0},{"$f":"DataByMiles!Z286","v":0},{"$f":"DataByMiles!AA286","v":0},null,null,{"$f":"(Y288/IF(Z288=0,$AD$1,Z288)*$AD$2)/IF(AA288=0,1,AA288)*VLOOKUP(DataByMiles!AE286,DataByMiles!$AT$5:$AU$6,2,FALSE)","v":0},"",0,0,{"$f":"(AF288+AG288)*VLOOKUP(DataByMiles!AE286,DataByMiles!$AT$5:$AU$6,2,FALSE)","v":0},0]
[null,{"$f":"DataByMiles!C287","v":"----283"},{"$f":"DataByMiles!T287*VLOOKUP(DataByMiles!AE287,DataByMiles!$AT$5:$AU$6,2,FALSE)","v":0},null,null,0,{"$f":"C289*$G$2*VLOOKUP(DataByMiles!AE287,DataByMiles!$AT$5:$AU$6,2,FALSE)","v":0},{"$f":"DataByMiles!U287*VLOOKUP(DataByMiles!AE287,DataByMiles!$AT$5:$AU$6,2,FALSE)","v":0},null,null,0,{"$f":"H289*$L$2*VLOOKUP(DataByMiles!AE287,DataByMiles!$AT$5:$AU$6,2,FALSE)","v":0},{"$f":"DataByMiles!V287*VLOOKUP(DataByMiles!AE287,DataByMiles!$AT$5:$AU$6,2,FALSE)","v":0},null,null,{"$f":"M289*$P$2*VLOOKUP(DataByMiles!AE287,DataByMiles!$AT$5:$AU$6,2,FALSE)","v":0},{"$f":"DataByMiles!W287*VLOOKUP(DataByMiles!AE287,DataByMiles!$AT$5:$AU$6,2,FALSE)","v":0},null,null,{"$f":"Q289*$T$2*VLOOKUP(DataByMiles!AE287,DataByMiles!$AT$5:$AU$6,2,FALSE)","v":0},{"$f":"DataByMiles!X287*VLOOKUP(DataByMiles!AE287,DataByMiles!$AT$5:$AU$6,2,FALSE)","v":0},null,null,{"$f":"U289*$X$2*VLOOKUP(DataByMiles!AE287,DataByMiles!$AT$5:$AU$6,2,FALSE)","v":0},{"$f":"DataByMiles!Y287*VLOOKUP(DataByMiles!AE287,DataByMiles!$AT$5:$AU$6,2,FALSE)","v":0},{"$f":"DataByMiles!Z287","v":0},{"$f":"DataByMiles!AA287","v":0},null,null,{"$f":"(Y289/IF(Z289=0,$AD$1,Z289)*$AD$2)/IF(AA289=0,1,AA289)*VLOOKUP(DataByMiles!AE287,DataByMiles!$AT$5:$AU$6,2,FALSE)","v":0},"",0,0,{"$f":"(AF289+AG289)*VLOOKUP(DataByMiles!AE287,DataByMiles!$AT$5:$AU$6,2,FALSE)","v":0},0]
[null,{"$f":"DataByMiles!C288","v":"----284"},{"$f":"DataByMiles!T288*VLOOKUP(DataByMiles!AE288,DataByMiles!$AT$5:$AU$6,2,FALSE)","v":0},null,null,0,{"$f":"C290*$G$2*VLOOKUP(DataByMiles!AE288,DataByMiles!$AT$5:$AU$6,2,FALSE)","v":0},{"$f":"DataByMiles!U288*VLOOKUP(DataByMiles!AE288,DataByMiles!$AT$5:$AU$6,2,FALSE)","v":0},null,null,0,{"$f":"H290*$L$2*VLOOKUP(DataByMiles!AE288,DataByMiles!$AT$5:$AU$6,2,FALSE)","v":0},{"$f":"DataByMiles!V288*VLOOKUP(DataByMiles!AE288,DataByMiles!$AT$5:$AU$6,2,FALSE)","v":0},null,null,{"$f":"M290*$P$2*VLOOKUP(DataByMiles!AE288,DataByMiles!$AT$5:$AU$6,2,FALSE)","v":0},{"$f":"DataByMiles!W288*VLOOKUP(DataByMiles!AE288,DataByMiles!$AT$5:$AU$6,2,FALSE)","v":0},null,null,{"$f":"Q290*$T$2*VLOOKUP(DataByMiles!AE288,DataByMiles!$AT$5:$AU$6,2,FALSE)","v":0},{"$f":"DataByMiles!X288*VLOOKUP(DataByMiles!AE288,DataByMiles!$AT$5:$AU$6,2,FALSE)","v":0},null,null,{"$f":"U290*$X$2*VLOOKUP(DataByMiles!AE288,DataByMiles!$AT$5:$AU$6,2,FALSE)","v":0},{"$f":"DataByMiles!Y288*VLOOKUP(DataByMiles!AE288,DataByMiles!$AT$5:$AU$6,2,FALSE)","v":0},{"$f":"DataByMiles!Z288","v":0},{"$f":"DataByMiles!AA288","v":0},null,null,{"$f":"(Y290/IF(Z290=0,$AD$1,Z290)*$AD$2)/IF(AA290=0,1,AA290)*VLOOKUP(DataByMiles!AE288,DataByMiles!$AT$5:$AU$6,2,FALSE)","v":0},"",0,0,{"$f":"(AF290+AG290)*VLOOKUP(DataByMiles!AE288,DataByMiles!$AT$5:$AU$6,2,FALSE)","v":0},0]
[null,{"$f":"DataByMiles!C289","v":"----285"},{"$f":"DataByMiles!T289*VLOOKUP(DataByMiles!AE289,DataByMiles!$AT$5:$AU$6,2,FALSE)","v":0},null,null,0,{"$f":"C291*$G$2*VLOOKUP(DataByMiles!AE289,DataByMiles!$AT$5:$AU$6,2,FALSE)","v":0},{"$f":"DataByMiles!U289*VLOOKUP(DataByMiles!AE289,DataByMiles!$AT$5:$AU$6,2,FALSE)","v":0},null,null,0,{"$f":"H291*$L$2*VLOOKUP(DataByMiles!AE289,DataByMiles!$AT$5:$AU$6,2,FALSE)","v":0},{"$f":"DataByMiles!V289*VLOOKUP(DataByMiles!AE289,DataByMiles!$AT$5:$AU$6,2,FALSE)","v":0},null,null,{"$f":"M291*$P$2*VLOOKUP(DataByMiles!AE289,DataByMiles!$AT$5:$AU$6,2,FALSE)","v":0},{"$f":"DataByMiles!W289*VLOOKUP(DataByMiles!AE289,DataByMiles!$AT$5:$AU$6,2,FALSE)","v":0},null,null,{"$f":"Q291*$T$2*VLOOKUP(DataByMiles!AE289,DataByMiles!$AT$5:$AU$6,2,FALSE)","v":0},{"$f":"DataByMiles!X289*VLOOKUP(DataByMiles!AE289,DataByMiles!$AT$5:$AU$6,2,FALSE)","v":0},null,null,{"$f":"U291*$X$2*VLOOKUP(DataByMiles!AE289,DataByMiles!$AT$5:$AU$6,2,FALSE)","v":0},{"$f":"DataByMiles!Y289*VLOOKUP(DataByMiles!AE289,DataByMiles!$AT$5:$AU$6,2,FALSE)","v":0},{"$f":"DataByMiles!Z289","v":0},{"$f":"DataByMiles!AA289","v":0},null,null,{"$f":"(Y291/IF(Z291=0,$AD$1,Z291)*$AD$2)/IF(AA291=0,1,AA291)*VLOOKUP(DataByMiles!AE289,DataByMiles!$AT$5:$AU$6,2,FALSE)","v":0},"",0,0,{"$f":"(AF291+AG291)*VLOOKUP(DataByMiles!AE289,DataByMiles!$AT$5:$AU$6,2,FALSE)","v":0},0]
[null,{"$f":"DataByMiles!C290","v":"----286"},{"$f":"DataByMiles!T290*VLOOKUP(DataByMiles!AE290,DataByMiles!$AT$5:$AU$6,2,FALSE)","v":0},null,null,0,{"$f":"C292*$G$2*VLOOKUP(DataByMiles!AE290,DataByMiles!$AT$5:$AU$6,2,FALSE)","v":0},{"$f":"DataByMiles!U290*VLOOKUP(DataByMiles!AE290,DataByMiles!$AT$5:$AU$6,2,FALSE)","v":0},null,null,0,{"$f":"H292*$L$2*VLOOKUP(DataByMiles!AE290,DataByMiles!$AT$5:$AU$6,2,FALSE)","v":0},{"$f":"DataByMiles!V290*VLOOKUP(DataByMiles!AE290,DataByMiles!$AT$5:$AU$6,2,FALSE)","v":0},null,null,{"$f":"M292*$P$2*VLOOKUP(DataByMiles!AE290,DataByMiles!$AT$5:$AU$6,2,FALSE)","v":0},{"$f":"DataByMiles!W290*VLOOKUP(DataByMiles!AE290,DataByMiles!$AT$5:$AU$6,2,FALSE)","v":0},null,null,{"$f":"Q292*$T$2*VLOOKUP(DataByMiles!AE290,DataByMiles!$AT$5:$AU$6,2,FALSE)","v":0},{"$f":"DataByMiles!X290*VLOOKUP(DataByMiles!AE290,DataByMiles!$AT$5:$AU$6,2,FALSE)","v":0},null,null,{"$f":"U292*$X$2*VLOOKUP(DataByMiles!AE290,DataByMiles!$AT$5:$AU$6,2,FALSE)","v":0},{"$f":"DataByMiles!Y290*VLOOKUP(DataByMiles!AE290,DataByMiles!$AT$5:$AU$6,2,FALSE)","v":0},{"$f":"DataByMiles!Z290","v":0},{"$f":"DataByMiles!AA290","v":0},null,null,{"$f":"(Y292/IF(Z292=0,$AD$1,Z292)*$AD$2)/IF(AA292=0,1,AA292)*VLOOKUP(DataByMiles!AE290,DataByMiles!$AT$5:$AU$6,2,FALSE)","v":0},"",0,0,{"$f":"(AF292+AG292)*VLOOKUP(DataByMiles!AE290,DataByMiles!$AT$5:$AU$6,2,FALSE)","v":0},0]
[null,{"$f":"DataByMiles!C291","v":"----287"},{"$f":"DataByMiles!T291*VLOOKUP(DataByMiles!AE291,DataByMiles!$AT$5:$AU$6,2,FALSE)","v":0},null,null,0,{"$f":"C293*$G$2*VLOOKUP(DataByMiles!AE291,DataByMiles!$AT$5:$AU$6,2,FALSE)","v":0},{"$f":"DataByMiles!U291*VLOOKUP(DataByMiles!AE291,DataByMiles!$AT$5:$AU$6,2,FALSE)","v":0},null,null,0,{"$f":"H293*$L$2*VLOOKUP(DataByMiles!AE291,DataByMiles!$AT$5:$AU$6,2,FALSE)","v":0},{"$f":"DataByMiles!V291*VLOOKUP(DataByMiles!AE291,DataByMiles!$AT$5:$AU$6,2,FALSE)","v":0},null,null,{"$f":"M293*$P$2*VLOOKUP(DataByMiles!AE291,DataByMiles!$AT$5:$AU$6,2,FALSE)","v":0},{"$f":"DataByMiles!W291*VLOOKUP(DataByMiles!AE291,DataByMiles!$AT$5:$AU$6,2,FALSE)","v":0},null,null,{"$f":"Q293*$T$2*VLOOKUP(DataByMiles!AE291,DataByMiles!$AT$5:$AU$6,2,FALSE)","v":0},{"$f":"DataByMiles!X291*VLOOKUP(DataByMiles!AE291,DataByMiles!$AT$5:$AU$6,2,FALSE)","v":0},null,null,{"$f":"U293*$X$2*VLOOKUP(DataByMiles!AE291,DataByMiles!$AT$5:$AU$6,2,FALSE)","v":0},{"$f":"DataByMiles!Y291*VLOOKUP(DataByMiles!AE291,DataByMiles!$AT$5:$AU$6,2,FALSE)","v":0},{"$f":"DataByMiles!Z291","v":0},{"$f":"DataByMiles!AA291","v":0},null,null,{"$f":"(Y293/IF(Z293=0,$AD$1,Z293)*$AD$2)/IF(AA293=0,1,AA293)*VLOOKUP(DataByMiles!AE291,DataByMiles!$AT$5:$AU$6,2,FALSE)","v":0},"",0,0,{"$f":"(AF293+AG293)*VLOOKUP(DataByMiles!AE291,DataByMiles!$AT$5:$AU$6,2,FALSE)","v":0},0]
[null,{"$f":"DataByMiles!C292","v":"----288"},{"$f":"DataByMiles!T292*VLOOKUP(DataByMiles!AE292,DataByMiles!$AT$5:$AU$6,2,FALSE)","v":0},null,null,0,{"$f":"C294*$G$2*VLOOKUP(DataByMiles!AE292,DataByMiles!$AT$5:$AU$6,2,FALSE)","v":0},{"$f":"DataByMiles!U292*VLOOKUP(DataByMiles!AE292,DataByMiles!$AT$5:$AU$6,2,FALSE)","v":0},null,null,0,{"$f":"H294*$L$2*VLOOKUP(DataByMiles!AE292,DataByMiles!$AT$5:$AU$6,2,FALSE)","v":0},{"$f":"DataByMiles!V292*VLOOKUP(DataByMiles!AE292,DataByMiles!$AT$5:$AU$6,2,FALSE)","v":0},null,null,{"$f":"M294*$P$2*VLOOKUP(DataByMiles!AE292,DataByMiles!$AT$5:$AU$6,2,FALSE)","v":0},{"$f":"DataByMiles!W292*VLOOKUP(DataByMiles!AE292,DataByMiles!$AT$5:$AU$6,2,FALSE)","v":0},null,null,{"$f":"Q294*$T$2*VLOOKUP(DataByMiles!AE292,DataByMiles!$AT$5:$AU$6,2,FALSE)","v":0},{"$f":"DataByMiles!X292*VLOOKUP(DataByMiles!AE292,DataByMiles!$AT$5:$AU$6,2,FALSE)","v":0},null,null,{"$f":"U294*$X$2*VLOOKUP(DataByMiles!AE292,DataByMiles!$AT$5:$AU$6,2,FALSE)","v":0},{"$f":"DataByMiles!Y292*VLOOKUP(DataByMiles!AE292,DataByMiles!$AT$5:$AU$6,2,FALSE)","v":0},{"$f":"DataByMiles!Z292","v":0},{"$f":"DataByMiles!AA292","v":0},null,null,{"$f":"(Y294/IF(Z294=0,$AD$1,Z294)*$AD$2)/IF(AA294=0,1,AA294)*VLOOKUP(DataByMiles!AE292,DataByMiles!$AT$5:$AU$6,2,FALSE)","v":0},"",0,0,{"$f":"(AF294+AG294)*VLOOKUP(DataByMiles!AE292,DataByMiles!$AT$5:$AU$6,2,FALSE)","v":0},0]
[null,{"$f":"DataByMiles!C293","v":"----289"},{"$f":"DataByMiles!T293*VLOOKUP(DataByMiles!AE293,DataByMiles!$AT$5:$AU$6,2,FALSE)","v":0},null,null,0,{"$f":"C295*$G$2*VLOOKUP(DataByMiles!AE293,DataByMiles!$AT$5:$AU$6,2,FALSE)","v":0},{"$f":"DataByMiles!U293*VLOOKUP(DataByMiles!AE293,DataByMiles!$AT$5:$AU$6,2,FALSE)","v":0},null,null,0,{"$f":"H295*$L$2*VLOOKUP(DataByMiles!AE293,DataByMiles!$AT$5:$AU$6,2,FALSE)","v":0},{"$f":"DataByMiles!V293*VLOOKUP(DataByMiles!AE293,DataByMiles!$AT$5:$AU$6,2,FALSE)","v":0},null,null,{"$f":"M295*$P$2*VLOOKUP(DataByMiles!AE293,DataByMiles!$AT$5:$AU$6,2,FALSE)","v":0},{"$f":"DataByMiles!W293*VLOOKUP(DataByMiles!AE293,DataByMiles!$AT$5:$AU$6,2,FALSE)","v":0},null,null,{"$f":"Q295*$T$2*VLOOKUP(DataByMiles!AE293,DataByMiles!$AT$5:$AU$6,2,FALSE)","v":0},{"$f":"DataByMiles!X293*VLOOKUP(DataByMiles!AE293,DataByMiles!$AT$5:$AU$6,2,FALSE)","v":0},null,null,{"$f":"U295*$X$2*VLOOKUP(DataByMiles!AE293,DataByMiles!$AT$5:$AU$6,2,FALSE)","v":0},{"$f":"DataByMiles!Y293*VLOOKUP(DataByMiles!AE293,DataByMiles!$AT$5:$AU$6,2,FALSE)","v":0},{"$f":"DataByMiles!Z293","v":0},{"$f":"DataByMiles!AA293","v":0},null,null,{"$f":"(Y295/IF(Z295=0,$AD$1,Z295)*$AD$2)/IF(AA295=0,1,AA295)*VLOOKUP(DataByMiles!AE293,DataByMiles!$AT$5:$AU$6,2,FALSE)","v":0},"",0,0,{"$f":"(AF295+AG295)*VLOOKUP(DataByMiles!AE293,DataByMiles!$AT$5:$AU$6,2,FALSE)","v":0},0]
[null,{"$f":"DataByMiles!C294","v":"----290"},{"$f":"DataByMiles!T294*VLOOKUP(DataByMiles!AE294,DataByMiles!$AT$5:$AU$6,2,FALSE)","v":0},null,null,0,{"$f":"C296*$G$2*VLOOKUP(DataByMiles!AE294,DataByMiles!$AT$5:$AU$6,2,FALSE)","v":0},{"$f":"DataByMiles!U294*VLOOKUP(DataByMiles!AE294,DataByMiles!$AT$5:$AU$6,2,FALSE)","v":0},null,null,0,{"$f":"H296*$L$2*VLOOKUP(DataByMiles!AE294,DataByMiles!$AT$5:$AU$6,2,FALSE)","v":0},{"$f":"DataByMiles!V294*VLOOKUP(DataByMiles!AE294,DataByMiles!$AT$5:$AU$6,2,FALSE)","v":0},null,null,{"$f":"M296*$P$2*VLOOKUP(DataByMiles!AE294,DataByMiles!$AT$5:$AU$6,2,FALSE)","v":0},{"$f":"DataByMiles!W294*VLOOKUP(DataByMiles!AE294,DataByMiles!$AT$5:$AU$6,2,FALSE)","v":0},null,null,{"$f":"Q296*$T$2*VLOOKUP(DataByMiles!AE294,DataByMiles!$AT$5:$AU$6,2,FALSE)","v":0},{"$f":"DataByMiles!X294*VLOOKUP(DataByMiles!AE294,DataByMiles!$AT$5:$AU$6,2,FALSE)","v":0},null,null,{"$f":"U296*$X$2*VLOOKUP(DataByMiles!AE294,DataByMiles!$AT$5:$AU$6,2,FALSE)","v":0},{"$f":"DataByMiles!Y294*VLOOKUP(DataByMiles!AE294,DataByMiles!$AT$5:$AU$6,2,FALSE)","v":0},{"$f":"DataByMiles!Z294","v":0},{"$f":"DataByMiles!AA294","v":0},null,null,{"$f":"(Y296/IF(Z296=0,$AD$1,Z296)*$AD$2)/IF(AA296=0,1,AA296)*VLOOKUP(DataByMiles!AE294,DataByMiles!$AT$5:$AU$6,2,FALSE)","v":0},"",0,0,{"$f":"(AF296+AG296)*VLOOKUP(DataByMiles!AE294,DataByMiles!$AT$5:$AU$6,2,FALSE)","v":0},0]
[null,{"$f":"DataByMiles!C295","v":"----291"},{"$f":"DataByMiles!T295*VLOOKUP(DataByMiles!AE295,DataByMiles!$AT$5:$AU$6,2,FALSE)","v":0},null,null,0,{"$f":"C297*$G$2*VLOOKUP(DataByMiles!AE295,DataByMiles!$AT$5:$AU$6,2,FALSE)","v":0},{"$f":"DataByMiles!U295*VLOOKUP(DataByMiles!AE295,DataByMiles!$AT$5:$AU$6,2,FALSE)","v":0},null,null,0,{"$f":"H297*$L$2*VLOOKUP(DataByMiles!AE295,DataByMiles!$AT$5:$AU$6,2,FALSE)","v":0},{"$f":"DataByMiles!V295*VLOOKUP(DataByMiles!AE295,DataByMiles!$AT$5:$AU$6,2,FALSE)","v":0},null,null,{"$f":"M297*$P$2*VLOOKUP(DataByMiles!AE295,DataByMiles!$AT$5:$AU$6,2,FALSE)","v":0},{"$f":"DataByMiles!W295*VLOOKUP(DataByMiles!AE295,DataByMiles!$AT$5:$AU$6,2,FALSE)","v":0},null,null,{"$f":"Q297*$T$2*VLOOKUP(DataByMiles!AE295,DataByMiles!$AT$5:$AU$6,2,FALSE)","v":0},{"$f":"DataByMiles!X295*VLOOKUP(DataByMiles!AE295,DataByMiles!$AT$5:$AU$6,2,FALSE)","v":0},null,null,{"$f":"U297*$X$2*VLOOKUP(DataByMiles!AE295,DataByMiles!$AT$5:$AU$6,2,FALSE)","v":0},{"$f":"DataByMiles!Y295*VLOOKUP(DataByMiles!AE295,DataByMiles!$AT$5:$AU$6,2,FALSE)","v":0},{"$f":"DataByMiles!Z295","v":0},{"$f":"DataByMiles!AA295","v":0},null,null,{"$f":"(Y297/IF(Z297=0,$AD$1,Z297)*$AD$2)/IF(AA297=0,1,AA297)*VLOOKUP(DataByMiles!AE295,DataByMiles!$AT$5:$AU$6,2,FALSE)","v":0},"",0,0,{"$f":"(AF297+AG297)*VLOOKUP(DataByMiles!AE295,DataByMiles!$AT$5:$AU$6,2,FALSE)","v":0},0]
[null,{"$f":"DataByMiles!C296","v":"----292"},{"$f":"DataByMiles!T296*VLOOKUP(DataByMiles!AE296,DataByMiles!$AT$5:$AU$6,2,FALSE)","v":0},null,null,0,{"$f":"C298*$G$2*VLOOKUP(DataByMiles!AE296,DataByMiles!$AT$5:$AU$6,2,FALSE)","v":0},{"$f":"DataByMiles!U296*VLOOKUP(DataByMiles!AE296,DataByMiles!$AT$5:$AU$6,2,FALSE)","v":0},null,null,0,{"$f":"H298*$L$2*VLOOKUP(DataByMiles!AE296,DataByMiles!$AT$5:$AU$6,2,FALSE)","v":0},{"$f":"DataByMiles!V296*VLOOKUP(DataByMiles!AE296,DataByMiles!$AT$5:$AU$6,2,FALSE)","v":0},null,null,{"$f":"M298*$P$2*VLOOKUP(DataByMiles!AE296,DataByMiles!$AT$5:$AU$6,2,FALSE)","v":0},{"$f":"DataByMiles!W296*VLOOKUP(DataByMiles!AE296,DataByMiles!$AT$5:$AU$6,2,FALSE)","v":0},null,null,{"$f":"Q298*$T$2*VLOOKUP(DataByMiles!AE296,DataByMiles!$AT$5:$AU$6,2,FALSE)","v":0},{"$f":"DataByMiles!X296*VLOOKUP(DataByMiles!AE296,DataByMiles!$AT$5:$AU$6,2,FALSE)","v":0},null,null,{"$f":"U298*$X$2*VLOOKUP(DataByMiles!AE296,DataByMiles!$AT$5:$AU$6,2,FALSE)","v":0},{"$f":"DataByMiles!Y296*VLOOKUP(DataByMiles!AE296,DataByMiles!$AT$5:$AU$6,2,FALSE)","v":0},{"$f":"DataByMiles!Z296","v":0},{"$f":"DataByMiles!AA296","v":0},null,null,{"$f":"(Y298/IF(Z298=0,$AD$1,Z298)*$AD$2)/IF(AA298=0,1,AA298)*VLOOKUP(DataByMiles!AE296,DataByMiles!$AT$5:$AU$6,2,FALSE)","v":0},"",0,0,{"$f":"(AF298+AG298)*VLOOKUP(DataByMiles!AE296,DataByMiles!$AT$5:$AU$6,2,FALSE)","v":0},0]
[null,{"$f":"DataByMiles!C297","v":"----293"},{"$f":"DataByMiles!T297*VLOOKUP(DataByMiles!AE297,DataByMiles!$AT$5:$AU$6,2,FALSE)","v":0},null,null,0,{"$f":"C299*$G$2*VLOOKUP(DataByMiles!AE297,DataByMiles!$AT$5:$AU$6,2,FALSE)","v":0},{"$f":"DataByMiles!U297*VLOOKUP(DataByMiles!AE297,DataByMiles!$AT$5:$AU$6,2,FALSE)","v":0},null,null,0,{"$f":"H299*$L$2*VLOOKUP(DataByMiles!AE297,DataByMiles!$AT$5:$AU$6,2,FALSE)","v":0},{"$f":"DataByMiles!V297*VLOOKUP(DataByMiles!AE297,DataByMiles!$AT$5:$AU$6,2,FALSE)","v":0},null,null,{"$f":"M299*$P$2*VLOOKUP(DataByMiles!AE297,DataByMiles!$AT$5:$AU$6,2,FALSE)","v":0},{"$f":"DataByMiles!W297*VLOOKUP(DataByMiles!AE297,DataByMiles!$AT$5:$AU$6,2,FALSE)","v":0},null,null,{"$f":"Q299*$T$2*VLOOKUP(DataByMiles!AE297,DataByMiles!$AT$5:$AU$6,2,FALSE)","v":0},{"$f":"DataByMiles!X297*VLOOKUP(DataByMiles!AE297,DataByMiles!$AT$5:$AU$6,2,FALSE)","v":0},null,null,{"$f":"U299*$X$2*VLOOKUP(DataByMiles!AE297,DataByMiles!$AT$5:$AU$6,2,FALSE)","v":0},{"$f":"DataByMiles!Y297*VLOOKUP(DataByMiles!AE297,DataByMiles!$AT$5:$AU$6,2,FALSE)","v":0},{"$f":"DataByMiles!Z297","v":0},{"$f":"DataByMiles!AA297","v":0},null,null,{"$f":"(Y299/IF(Z299=0,$AD$1,Z299)*$AD$2)/IF(AA299=0,1,AA299)*VLOOKUP(DataByMiles!AE297,DataByMiles!$AT$5:$AU$6,2,FALSE)","v":0},"",0,0,{"$f":"(AF299+AG299)*VLOOKUP(DataByMiles!AE297,DataByMiles!$AT$5:$AU$6,2,FALSE)","v":0},0]
[null,{"$f":"DataByMiles!C298","v":"----294"},{"$f":"DataByMiles!T298*VLOOKUP(DataByMiles!AE298,DataByMiles!$AT$5:$AU$6,2,FALSE)","v":0},null,null,0,{"$f":"C300*$G$2*VLOOKUP(DataByMiles!AE298,DataByMiles!$AT$5:$AU$6,2,FALSE)","v":0},{"$f":"DataByMiles!U298*VLOOKUP(DataByMiles!AE298,DataByMiles!$AT$5:$AU$6,2,FALSE)","v":0},null,null,0,{"$f":"H300*$L$2*VLOOKUP(DataByMiles!AE298,DataByMiles!$AT$5:$AU$6,2,FALSE)","v":0},{"$f":"DataByMiles!V298*VLOOKUP(DataByMiles!AE298,DataByMiles!$AT$5:$AU$6,2,FALSE)","v":0},null,null,{"$f":"M300*$P$2*VLOOKUP(DataByMiles!AE298,DataByMiles!$AT$5:$AU$6,2,FALSE)","v":0},{"$f":"DataByMiles!W298*VLOOKUP(DataByMiles!AE298,DataByMiles!$AT$5:$AU$6,2,FALSE)","v":0},null,null,{"$f":"Q300*$T$2*VLOOKUP(DataByMiles!AE298,DataByMiles!$AT$5:$AU$6,2,FALSE)","v":0},{"$f":"DataByMiles!X298*VLOOKUP(DataByMiles!AE298,DataByMiles!$AT$5:$AU$6,2,FALSE)","v":0},null,null,{"$f":"U300*$X$2*VLOOKUP(DataByMiles!AE298,DataByMiles!$AT$5:$AU$6,2,FALSE)","v":0},{"$f":"DataByMiles!Y298*VLOOKUP(DataByMiles!AE298,DataByMiles!$AT$5:$AU$6,2,FALSE)","v":0},{"$f":"DataByMiles!Z298","v":0},{"$f":"DataByMiles!AA298","v":0},null,null,{"$f":"(Y300/IF(Z300=0,$AD$1,Z300)*$AD$2)/IF(AA300=0,1,AA300)*VLOOKUP(DataByMiles!AE298,DataByMiles!$AT$5:$AU$6,2,FALSE)","v":0},"",0,0,{"$f":"(AF300+AG300)*VLOOKUP(DataByMiles!AE298,DataByMiles!$AT$5:$AU$6,2,FALSE)","v":0},0]
[null,{"$f":"DataByMiles!C299","v":"----295"},{"$f":"DataByMiles!T299*VLOOKUP(DataByMiles!AE299,DataByMiles!$AT$5:$AU$6,2,FALSE)","v":0},null,null,0,{"$f":"C301*$G$2*VLOOKUP(DataByMiles!AE299,DataByMiles!$AT$5:$AU$6,2,FALSE)","v":0},{"$f":"DataByMiles!U299*VLOOKUP(DataByMiles!AE299,DataByMiles!$AT$5:$AU$6,2,FALSE)","v":0},null,null,0,{"$f":"H301*$L$2*VLOOKUP(DataByMiles!AE299,DataByMiles!$AT$5:$AU$6,2,FALSE)","v":0},{"$f":"DataByMiles!V299*VLOOKUP(DataByMiles!AE299,DataByMiles!$AT$5:$AU$6,2,FALSE)","v":0},null,null,{"$f":"M301*$P$2*VLOOKUP(DataByMiles!AE299,DataByMiles!$AT$5:$AU$6,2,FALSE)","v":0},{"$f":"DataByMiles!W299*VLOOKUP(DataByMiles!AE299,DataByMiles!$AT$5:$AU$6,2,FALSE)","v":0},null,null,{"$f":"Q301*$T$2*VLOOKUP(DataByMiles!AE299,DataByMiles!$AT$5:$AU$6,2,FALSE)","v":0},{"$f":"DataByMiles!X299*VLOOKUP(DataByMiles!AE299,DataByMiles!$AT$5:$AU$6,2,FALSE)","v":0},null,null,{"$f":"U301*$X$2*VLOOKUP(DataByMiles!AE299,DataByMiles!$AT$5:$AU$6,2,FALSE)","v":0},{"$f":"DataByMiles!Y299*VLOOKUP(DataByMiles!AE299,DataByMiles!$AT$5:$AU$6,2,FALSE)","v":0},{"$f":"DataByMiles!Z299","v":0},{"$f":"DataByMiles!AA299","v":0},null,null,{"$f":"(Y301/IF(Z301=0,$AD$1,Z301)*$AD$2)/IF(AA301=0,1,AA301)*VLOOKUP(DataByMiles!AE299,DataByMiles!$AT$5:$AU$6,2,FALSE)","v":0},"",0,0,{"$f":"(AF301+AG301)*VLOOKUP(DataByMiles!AE299,DataByMiles!$AT$5:$AU$6,2,FALSE)","v":0},0]
[null,{"$f":"DataByMiles!C300","v":"----296"},{"$f":"DataByMiles!T300*VLOOKUP(DataByMiles!AE300,DataByMiles!$AT$5:$AU$6,2,FALSE)","v":0},null,null,{"$f":"C302*$F$2","v":0},{"$f":"C302*$G$2*VLOOKUP(DataByMiles!AE300,DataByMiles!$AT$5:$AU$6,2,FALSE)","v":0},{"$f":"DataByMiles!U300*VLOOKUP(DataByMiles!AE300,DataByMiles!$AT$5:$AU$6,2,FALSE)","v":0},null,null,{"$f":"H302*$K$2","v":0},{"$f":"H302*$L$2*VLOOKUP(DataByMiles!AE300,DataByMiles!$AT$5:$AU$6,2,FALSE)","v":0},{"$f":"DataByMiles!V300*VLOOKUP(DataByMiles!AE300,DataByMiles!$AT$5:$AU$6,2,FALSE)","v":0},null,null,{"$f":"M302*$P$2*VLOOKUP(DataByMiles!AE300,DataByMiles!$AT$5:$AU$6,2,FALSE)","v":0},{"$f":"DataByMiles!W300*VLOOKUP(DataByMiles!AE300,DataByMiles!$AT$5:$AU$6,2,FALSE)","v":0},null,null,{"$f":"Q302*$T$2*VLOOKUP(DataByMiles!AE300,DataByMiles!$AT$5:$AU$6,2,FALSE)","v":0},{"$f":"DataByMiles!X300*VLOOKUP(DataByMiles!AE300,DataByMiles!$AT$5:$AU$6,2,FALSE)","v":0},null,null,{"$f":"U302*$X$2*VLOOKUP(DataByMiles!AE300,DataByMiles!$AT$5:$AU$6,2,FALSE)","v":0},{"$f":"DataByMiles!Y300*VLOOKUP(DataByMiles!AE300,DataByMiles!$AT$5:$AU$6,2,FALSE)","v":0},{"$f":"DataByMiles!Z300","v":0},{"$f":"DataByMiles!AA300","v":0},null,null,{"$f":"(Y302/IF(Z302=0,$AD$1,Z302)*$AD$2)/IF(AA302=0,1,AA302)*VLOOKUP(DataByMiles!AE300,DataByMiles!$AT$5:$AU$6,2,FALSE)","v":0},{"$f":"IF(C302+H302+M302+Q302+U302+Y302>0,C302+H302+M302+Q302+U302+Y302,\"\")","v":""},{"$f":"F302+K302+P302+T302+X302+AD302","v":0},{"$f":"G302+L302","v":0},{"$f":"(AF302+AG302)*VLOOKUP(DataByMiles!AE300,DataByMiles!$AT$5:$AU$6,2,FALSE)","v":0},{"$f":"IFERROR(AH302/AE302,0)","v":0}]
[null,{"$f":"DataByMiles!C301","v":"----297"},{"$f":"DataByMiles!T301*VLOOKUP(DataByMiles!AE301,DataByMiles!$AT$5:$AU$6,2,FALSE)","v":0},null,null,0,{"$f":"C303*$G$2*VLOOKUP(DataByMiles!AE301,DataByMiles!$AT$5:$AU$6,2,FALSE)","v":0},{"$f":"DataByMiles!U301*VLOOKUP(DataByMiles!AE301,DataByMiles!$AT$5:$AU$6,2,FALSE)","v":0},null,null,0,{"$f":"H303*$L$2*VLOOKUP(DataByMiles!AE301,DataByMiles!$AT$5:$AU$6,2,FALSE)","v":0},{"$f":"DataByMiles!V301*VLOOKUP(DataByMiles!AE301,DataByMiles!$AT$5:$AU$6,2,FALSE)","v":0},null,null,{"$f":"M303*$P$2*VLOOKUP(DataByMiles!AE301,DataByMiles!$AT$5:$AU$6,2,FALSE)","v":0},{"$f":"DataByMiles!W301*VLOOKUP(DataByMiles!AE301,DataByMiles!$AT$5:$AU$6,2,FALSE)","v":0},null,null,{"$f":"Q303*$T$2*VLOOKUP(DataByMiles!AE301,DataByMiles!$AT$5:$AU$6,2,FALSE)","v":0},{"$f":"DataByMiles!X301*VLOOKUP(DataByMiles!AE301,DataByMiles!$AT$5:$AU$6,2,FALSE)","v":0},null,null,{"$f":"U303*$X$2*VLOOKUP(DataByMiles!AE301,DataByMiles!$AT$5:$AU$6,2,FALSE)","v":0},{"$f":"DataByMiles!Y301*VLOOKUP(DataByMiles!AE301,DataByMiles!$AT$5:$AU$6,2,FALSE)","v":0},{"$f":"DataByMiles!Z301","v":0},{"$f":"DataByMiles!AA301","v":0},null,null,{"$f":"(Y303/IF(Z303=0,$AD$1,Z303)*$AD$2)/IF(AA303=0,1,AA303)*VLOOKUP(DataByMiles!AE301,DataByMiles!$AT$5:$AU$6,2,FALSE)","v":0},"",0,0,{"$f":"(AF303+AG303)*VLOOKUP(DataByMiles!AE301,DataByMiles!$AT$5:$AU$6,2,FALSE)","v":0},0]
[null,{"$f":"DataByMiles!C302","v":"----298"},{"$f":"DataByMiles!T302*VLOOKUP(DataByMiles!AE302,DataByMiles!$AT$5:$AU$6,2,FALSE)","v":0},null,null,0,{"$f":"C304*$G$2*VLOOKUP(DataByMiles!AE302,DataByMiles!$AT$5:$AU$6,2,FALSE)","v":0},{"$f":"DataByMiles!U302*VLOOKUP(DataByMiles!AE302,DataByMiles!$AT$5:$AU$6,2,FALSE)","v":0},null,null,0,{"$f":"H304*$L$2*VLOOKUP(DataByMiles!AE302,DataByMiles!$AT$5:$AU$6,2,FALSE)","v":0},{"$f":"DataByMiles!V302*VLOOKUP(DataByMiles!AE302,DataByMiles!$AT$5:$AU$6,2,FALSE)","v":0},null,null,{"$f":"M304*$P$2*VLOOKUP(DataByMiles!AE302,DataByMiles!$AT$5:$AU$6,2,FALSE)","v":0},{"$f":"DataByMiles!W302*VLOOKUP(DataByMiles!AE302,DataByMiles!$AT$5:$AU$6,2,FALSE)","v":0},null,null,{"$f":"Q304*$T$2*VLOOKUP(DataByMiles!AE302,DataByMiles!$AT$5:$AU$6,2,FALSE)","v":0},{"$f":"DataByMiles!X302*VLOOKUP(DataByMiles!AE302,DataByMiles!$AT$5:$AU$6,2,FALSE)","v":0},null,null,{"$f":"U304*$X$2*VLOOKUP(DataByMiles!AE302,DataByMiles!$AT$5:$AU$6,2,FALSE)","v":0},{"$f":"DataByMiles!Y302*VLOOKUP(DataByMiles!AE302,DataByMiles!$AT$5:$AU$6,2,FALSE)","v":0},{"$f":"DataByMiles!Z302","v":0},{"$f":"DataByMiles!AA302","v":0},null,null,{"$f":"(Y304/IF(Z304=0,$AD$1,Z304)*$AD$2)/IF(AA304=0,1,AA304)*VLOOKUP(DataByMiles!AE302,DataByMiles!$AT$5:$AU$6,2,FALSE)","v":0},"",0,0,{"$f":"(AF304+AG304)*VLOOKUP(DataByMiles!AE302,DataByMiles!$AT$5:$AU$6,2,FALSE)","v":0},0]
[null,{"$f":"DataByMiles!C303","v":"----299"},{"$f":"DataByMiles!T303*VLOOKUP(DataByMiles!AE303,DataByMiles!$AT$5:$AU$6,2,FALSE)","v":0},null,null,0,{"$f":"C305*$G$2*VLOOKUP(DataByMiles!AE303,DataByMiles!$AT$5:$AU$6,2,FALSE)","v":0},{"$f":"DataByMiles!U303*VLOOKUP(DataByMiles!AE303,DataByMiles!$AT$5:$AU$6,2,FALSE)","v":0},null,null,0,{"$f":"H305*$L$2*VLOOKUP(DataByMiles!AE303,DataByMiles!$AT$5:$AU$6,2,FALSE)","v":0},{"$f":"DataByMiles!V303*VLOOKUP(DataByMiles!AE303,DataByMiles!$AT$5:$AU$6,2,FALSE)","v":0},null,null,{"$f":"M305*$P$2*VLOOKUP(DataByMiles!AE303,DataByMiles!$AT$5:$AU$6,2,FALSE)","v":0},{"$f":"DataByMiles!W303*VLOOKUP(DataByMiles!AE303,DataByMiles!$AT$5:$AU$6,2,FALSE)","v":0},null,null,{"$f":"Q305*$T$2*VLOOKUP(DataByMiles!AE303,DataByMiles!$AT$5:$AU$6,2,FALSE)","v":0},{"$f":"DataByMiles!X303*VLOOKUP(DataByMiles!AE303,DataByMiles!$AT$5:$AU$6,2,FALSE)","v":0},null,null,{"$f":"U305*$X$2*VLOOKUP(DataByMiles!AE303,DataByMiles!$AT$5:$AU$6,2,FALSE)","v":0},{"$f":"DataByMiles!Y303*VLOOKUP(DataByMiles!AE303,DataByMiles!$AT$5:$AU$6,2,FALSE)","v":0},{"$f":"DataByMiles!Z303","v":0},{"$f":"DataByMiles!AA303","v":0},null,null,{"$f":"(Y305/IF(Z305=0,$AD$1,Z305)*$AD$2)/IF(AA305=0,1,AA305)*VLOOKUP(DataByMiles!AE303,DataByMiles!$AT$5:$AU$6,2,FALSE)","v":0},"",0,0,{"$f":"(AF305+AG305)*VLOOKUP(DataByMiles!AE303,DataByMiles!$AT$5:$AU$6,2,FALSE)","v":0},0]
[null,{"$f":"DataByMiles!C304","v":"----300"},{"$f":"DataByMiles!T304*VLOOKUP(DataByMiles!AE304,DataByMiles!$AT$5:$AU$6,2,FALSE)","v":0},null,null,0,{"$f":"C306*$G$2*VLOOKUP(DataByMiles!AE304,DataByMiles!$AT$5:$AU$6,2,FALSE)","v":0},{"$f":"DataByMiles!U304*VLOOKUP(DataByMiles!AE304,DataByMiles!$AT$5:$AU$6,2,FALSE)","v":0},null,null,0,{"$f":"H306*$L$2*VLOOKUP(DataByMiles!AE304,DataByMiles!$AT$5:$AU$6,2,FALSE)","v":0},{"$f":"DataByMiles!V304*VLOOKUP(DataByMiles!AE304,DataByMiles!$AT$5:$AU$6,2,FALSE)","v":0},null,null,{"$f":"M306*$P$2*VLOOKUP(DataByMiles!AE304,DataByMiles!$AT$5:$AU$6,2,FALSE)","v":0},{"$f":"DataByMiles!W304*VLOOKUP(DataByMiles!AE304,DataByMiles!$AT$5:$AU$6,2,FALSE)","v":0},null,null,{"$f":"Q306*$T$2*VLOOKUP(DataByMiles!AE304,DataByMiles!$AT$5:$AU$6,2,FALSE)","v":0},{"$f":"DataByMiles!X304*VLOOKUP(DataByMiles!AE304,DataByMiles!$AT$5:$AU$6,2,FALSE)","v":0},null,null,{"$f":"U306*$X$2*VLOOKUP(DataByMiles!AE304,DataByMiles!$AT$5:$AU$6,2,FALSE)","v":0},{"$f":"DataByMiles!Y304*VLOOKUP(DataByMiles!AE304,DataByMiles!$AT$5:$AU$6,2,FALSE)","v":0},{"$f":"DataByMiles!Z304","v":0},{"$f":"DataByMiles!AA304","v":0},null,null,{"$f":"(Y306/IF(Z306=0,$AD$1,Z306)*$AD$2)/IF(AA306=0,1,AA306)*VLOOKUP(DataByMiles!AE304,DataByMiles!$AT$5:$AU$6,2,FALSE)","v":0},"",0,0,{"$f":"(AF306+AG306)*VLOOKUP(DataByMiles!AE304,DataByMiles!$AT$5:$AU$6,2,FALSE)","v":0},0]
[null,{"$f":"DataByMiles!C305","v":"----301"},{"$f":"DataByMiles!T305*VLOOKUP(DataByMiles!AE305,DataByMiles!$AT$5:$AU$6,2,FALSE)","v":0},null,null,0,{"$f":"C307*$G$2*VLOOKUP(DataByMiles!AE305,DataByMiles!$AT$5:$AU$6,2,FALSE)","v":0},{"$f":"DataByMiles!U305*VLOOKUP(DataByMiles!AE305,DataByMiles!$AT$5:$AU$6,2,FALSE)","v":0},null,null,0,{"$f":"H307*$L$2*VLOOKUP(DataByMiles!AE305,DataByMiles!$AT$5:$AU$6,2,FALSE)","v":0},{"$f":"DataByMiles!V305*VLOOKUP(DataByMiles!AE305,DataByMiles!$AT$5:$AU$6,2,FALSE)","v":0},null,null,{"$f":"M307*$P$2*VLOOKUP(DataByMiles!AE305,DataByMiles!$AT$5:$AU$6,2,FALSE)","v":0},{"$f":"DataByMiles!W305*VLOOKUP(DataByMiles!AE305,DataByMiles!$AT$5:$AU$6,2,FALSE)","v":0},null,null,{"$f":"Q307*$T$2*VLOOKUP(DataByMiles!AE305,DataByMiles!$AT$5:$AU$6,2,FALSE)","v":0},{"$f":"DataByMiles!X305*VLOOKUP(DataByMiles!AE305,DataByMiles!$AT$5:$AU$6,2,FALSE)","v":0},null,null,{"$f":"U307*$X$2*VLOOKUP(DataByMiles!AE305,DataByMiles!$AT$5:$AU$6,2,FALSE)","v":0},{"$f":"DataByMiles!Y305*VLOOKUP(DataByMiles!AE305,DataByMiles!$AT$5:$AU$6,2,FALSE)","v":0},{"$f":"DataByMiles!Z305","v":0},{"$f":"DataByMiles!AA305","v":0},null,null,{"$f":"(Y307/IF(Z307=0,$AD$1,Z307)*$AD$2)/IF(AA307=0,1,AA307)*VLOOKUP(DataByMiles!AE305,DataByMiles!$AT$5:$AU$6,2,FALSE)","v":0},"",0,0,{"$f":"(AF307+AG307)*VLOOKUP(DataByMiles!AE305,DataByMiles!$AT$5:$AU$6,2,FALSE)","v":0},0]
[null,{"$f":"DataByMiles!C306","v":"----302"},{"$f":"DataByMiles!T306*VLOOKUP(DataByMiles!AE306,DataByMiles!$AT$5:$AU$6,2,FALSE)","v":0},null,null,0,{"$f":"C308*$G$2*VLOOKUP(DataByMiles!AE306,DataByMiles!$AT$5:$AU$6,2,FALSE)","v":0},{"$f":"DataByMiles!U306*VLOOKUP(DataByMiles!AE306,DataByMiles!$AT$5:$AU$6,2,FALSE)","v":0},null,null,0,{"$f":"H308*$L$2*VLOOKUP(DataByMiles!AE306,DataByMiles!$AT$5:$AU$6,2,FALSE)","v":0},{"$f":"DataByMiles!V306*VLOOKUP(DataByMiles!AE306,DataByMiles!$AT$5:$AU$6,2,FALSE)","v":0},null,null,{"$f":"M308*$P$2*VLOOKUP(DataByMiles!AE306,DataByMiles!$AT$5:$AU$6,2,FALSE)","v":0},{"$f":"DataByMiles!W306*VLOOKUP(DataByMiles!AE306,DataByMiles!$AT$5:$AU$6,2,FALSE)","v":0},null,null,{"$f":"Q308*$T$2*VLOOKUP(DataByMiles!AE306,DataByMiles!$AT$5:$AU$6,2,FALSE)","v":0},{"$f":"DataByMiles!X306*VLOOKUP(DataByMiles!AE306,DataByMiles!$AT$5:$AU$6,2,FALSE)","v":0},null,null,{"$f":"U308*$X$2*VLOOKUP(DataByMiles!AE306,DataByMiles!$AT$5:$AU$6,2,FALSE)","v":0},{"$f":"DataByMiles!Y306*VLOOKUP(DataByMiles!AE306,DataByMiles!$AT$5:$AU$6,2,FALSE)","v":0},{"$f":"DataByMiles!Z306","v":0},{"$f":"DataByMiles!AA306","v":0},null,null,{"$f":"(Y308/IF(Z308=0,$AD$1,Z308)*$AD$2)/IF(AA308=0,1,AA308)*VLOOKUP(DataByMiles!AE306,DataByMiles!$AT$5:$AU$6,2,FALSE)","v":0},"",0,0,{"$f":"(AF308+AG308)*VLOOKUP(DataByMiles!AE306,DataByMiles!$AT$5:$AU$6,2,FALSE)","v":0},0]
[null,{"$f":"DataByMiles!C307","v":"----303"},{"$f":"DataByMiles!T307*VLOOKUP(DataByMiles!AE307,DataByMiles!$AT$5:$AU$6,2,FALSE)","v":0},null,null,0,{"$f":"C309*$G$2*VLOOKUP(DataByMiles!AE307,DataByMiles!$AT$5:$AU$6,2,FALSE)","v":0},{"$f":"DataByMiles!U307*VLOOKUP(DataByMiles!AE307,DataByMiles!$AT$5:$AU$6,2,FALSE)","v":0},null,null,0,{"$f":"H309*$L$2*VLOOKUP(DataByMiles!AE307,DataByMiles!$AT$5:$AU$6,2,FALSE)","v":0},{"$f":"DataByMiles!V307*VLOOKUP(DataByMiles!AE307,DataByMiles!$AT$5:$AU$6,2,FALSE)","v":0},null,null,{"$f":"M309*$P$2*VLOOKUP(DataByMiles!AE307,DataByMiles!$AT$5:$AU$6,2,FALSE)","v":0},{"$f":"DataByMiles!W307*VLOOKUP(DataByMiles!AE307,DataByMiles!$AT$5:$AU$6,2,FALSE)","v":0},null,null,{"$f":"Q309*$T$2*VLOOKUP(DataByMiles!AE307,DataByMiles!$AT$5:$AU$6,2,FALSE)","v":0},{"$f":"DataByMiles!X307*VLOOKUP(DataByMiles!AE307,DataByMiles!$AT$5:$AU$6,2,FALSE)","v":0},null,null,{"$f":"U309*$X$2*VLOOKUP(DataByMiles!AE307,DataByMiles!$AT$5:$AU$6,2,FALSE)","v":0},{"$f":"DataByMiles!Y307*VLOOKUP(DataByMiles!AE307,DataByMiles!$AT$5:$AU$6,2,FALSE)","v":0},{"$f":"DataByMiles!Z307","v":0},{"$f":"DataByMiles!AA307","v":0},null,null,{"$f":"(Y309/IF(Z309=0,$AD$1,Z309)*$AD$2)/IF(AA309=0,1,AA309)*VLOOKUP(DataByMiles!AE307,DataByMiles!$AT$5:$AU$6,2,FALSE)","v":0},"",0,0,{"$f":"(AF309+AG309)*VLOOKUP(DataByMiles!AE307,DataByMiles!$AT$5:$AU$6,2,FALSE)","v":0},0]
[null,{"$f":"DataByMiles!C308","v":"----304"},{"$f":"DataByMiles!T308*VLOOKUP(DataByMiles!AE308,DataByMiles!$AT$5:$AU$6,2,FALSE)","v":0},null,null,0,{"$f":"C310*$G$2*VLOOKUP(DataByMiles!AE308,DataByMiles!$AT$5:$AU$6,2,FALSE)","v":0},{"$f":"DataByMiles!U308*VLOOKUP(DataByMiles!AE308,DataByMiles!$AT$5:$AU$6,2,FALSE)","v":0},null,null,0,{"$f":"H310*$L$2*VLOOKUP(DataByMiles!AE308,DataByMiles!$AT$5:$AU$6,2,FALSE)","v":0},{"$f":"DataByMiles!V308*VLOOKUP(DataByMiles!AE308,DataByMiles!$AT$5:$AU$6,2,FALSE)","v":0},null,null,{"$f":"M310*$P$2*VLOOKUP(DataByMiles!AE308,DataByMiles!$AT$5:$AU$6,2,FALSE)","v":0},{"$f":"DataByMiles!W308*VLOOKUP(DataByMiles!AE308,DataByMiles!$AT$5:$AU$6,2,FALSE)","v":0},null,null,{"$f":"Q310*$T$2*VLOOKUP(DataByMiles!AE308,DataByMiles!$AT$5:$AU$6,2,FALSE)","v":0},{"$f":"DataByMiles!X308*VLOOKUP(DataByMiles!AE308,DataByMiles!$AT$5:$AU$6,2,FALSE)","v":0},null,null,{"$f":"U310*$X$2*VLOOKUP(DataByMiles!AE308,DataByMiles!$AT$5:$AU$6,2,FALSE)","v":0},{"$f":"DataByMiles!Y308*VLOOKUP(DataByMiles!AE308,DataByMiles!$AT$5:$AU$6,2,FALSE)","v":0},{"$f":"DataByMiles!Z308","v":0},{"$f":"DataByMiles!AA308","v":0},null,null,{"$f":"(Y310/IF(Z310=0,$AD$1,Z310)*$AD$2)/IF(AA310=0,1,AA310)*VLOOKUP(DataByMiles!AE308,DataByMiles!$AT$5:$AU$6,2,FALSE)","v":0},"",0,0,{"$f":"(AF310+AG310)*VLOOKUP(DataByMiles!AE308,DataByMiles!$AT$5:$AU$6,2,FALSE)","v":0},0]
[null,{"$f":"DataByMiles!C309","v":"----305"},{"$f":"DataByMiles!T309*VLOOKUP(DataByMiles!AE309,DataByMiles!$AT$5:$AU$6,2,FALSE)","v":0},null,null,0,{"$f":"C311*$G$2*VLOOKUP(DataByMiles!AE309,DataByMiles!$AT$5:$AU$6,2,FALSE)","v":0},{"$f":"DataByMiles!U309*VLOOKUP(DataByMiles!AE309,DataByMiles!$AT$5:$AU$6,2,FALSE)","v":0},null,null,0,{"$f":"H311*$L$2*VLOOKUP(DataByMiles!AE309,DataByMiles!$AT$5:$AU$6,2,FALSE)","v":0},{"$f":"DataByMiles!V309*VLOOKUP(DataByMiles!AE309,DataByMiles!$AT$5:$AU$6,2,FALSE)","v":0},null,null,{"$f":"M311*$P$2*VLOOKUP(DataByMiles!AE309,DataByMiles!$AT$5:$AU$6,2,FALSE)","v":0},{"$f":"DataByMiles!W309*VLOOKUP(DataByMiles!AE309,DataByMiles!$AT$5:$AU$6,2,FALSE)","v":0},null,null,{"$f":"Q311*$T$2*VLOOKUP(DataByMiles!AE309,DataByMiles!$AT$5:$AU$6,2,FALSE)","v":0},{"$f":"DataByMiles!X309*VLOOKUP(DataByMiles!AE309,DataByMiles!$AT$5:$AU$6,2,FALSE)","v":0},null,null,{"$f":"U311*$X$2*VLOOKUP(DataByMiles!AE309,DataByMiles!$AT$5:$AU$6,2,FALSE)","v":0},{"$f":"DataByMiles!Y309*VLOOKUP(DataByMiles!AE309,DataByMiles!$AT$5:$AU$6,2,FALSE)","v":0},{"$f":"DataByMiles!Z309","v":0},{"$f":"DataByMiles!AA309","v":0},null,null,{"$f":"(Y311/IF(Z311=0,$AD$1,Z311)*$AD$2)/IF(AA311=0,1,AA311)*VLOOKUP(DataByMiles!AE309,DataByMiles!$AT$5:$AU$6,2,FALSE)","v":0},"",0,0,{"$f":"(AF311+AG311)*VLOOKUP(DataByMiles!AE309,DataByMiles!$AT$5:$AU$6,2,FALSE)","v":0},0]
[null,{"$f":"DataByMiles!C310","v":"----306"},{"$f":"DataByMiles!T310*VLOOKUP(DataByMiles!AE310,DataByMiles!$AT$5:$AU$6,2,FALSE)","v":0},null,null,0,{"$f":"C312*$G$2*VLOOKUP(DataByMiles!AE310,DataByMiles!$AT$5:$AU$6,2,FALSE)","v":0},{"$f":"DataByMiles!U310*VLOOKUP(DataByMiles!AE310,DataByMiles!$AT$5:$AU$6,2,FALSE)","v":0},null,null,0,{"$f":"H312*$L$2*VLOOKUP(DataByMiles!AE310,DataByMiles!$AT$5:$AU$6,2,FALSE)","v":0},{"$f":"DataByMiles!V310*VLOOKUP(DataByMiles!AE310,DataByMiles!$AT$5:$AU$6,2,FALSE)","v":0},null,null,{"$f":"M312*$P$2*VLOOKUP(DataByMiles!AE310,DataByMiles!$AT$5:$AU$6,2,FALSE)","v":0},{"$f":"DataByMiles!W310*VLOOKUP(DataByMiles!AE310,DataByMiles!$AT$5:$AU$6,2,FALSE)","v":0},null,null,{"$f":"Q312*$T$2*VLOOKUP(DataByMiles!AE310,DataByMiles!$AT$5:$AU$6,2,FALSE)","v":0},{"$f":"DataByMiles!X310*VLOOKUP(DataByMiles!AE310,DataByMiles!$AT$5:$AU$6,2,FALSE)","v":0},null,null,{"$f":"U312*$X$2*VLOOKUP(DataByMiles!AE310,DataByMiles!$AT$5:$AU$6,2,FALSE)","v":0},{"$f":"DataByMiles!Y310*VLOOKUP(DataByMiles!AE310,DataByMiles!$AT$5:$AU$6,2,FALSE)","v":0},{"$f":"DataByMiles!Z310","v":0},{"$f":"DataByMiles!AA310","v":0},null,null,{"$f":"(Y312/IF(Z312=0,$AD$1,Z312)*$AD$2)/IF(AA312=0,1,AA312)*VLOOKUP(DataByMiles!AE310,DataByMiles!$AT$5:$AU$6,2,FALSE)","v":0},"",0,0,{"$f":"(AF312+AG312)*VLOOKUP(DataByMiles!AE310,DataByMiles!$AT$5:$AU$6,2,FALSE)","v":0},0]
[null,{"$f":"DataByMiles!C311","v":"----307"},{"$f":"DataByMiles!T311*VLOOKUP(DataByMiles!AE311,DataByMiles!$AT$5:$AU$6,2,FALSE)","v":0},null,null,0,{"$f":"C313*$G$2*VLOOKUP(DataByMiles!AE311,DataByMiles!$AT$5:$AU$6,2,FALSE)","v":0},{"$f":"DataByMiles!U311*VLOOKUP(DataByMiles!AE311,DataByMiles!$AT$5:$AU$6,2,FALSE)","v":0},null,null,0,{"$f":"H313*$L$2*VLOOKUP(DataByMiles!AE311,DataByMiles!$AT$5:$AU$6,2,FALSE)","v":0},{"$f":"DataByMiles!V311*VLOOKUP(DataByMiles!AE311,DataByMiles!$AT$5:$AU$6,2,FALSE)","v":0},null,null,{"$f":"M313*$P$2*VLOOKUP(DataByMiles!AE311,DataByMiles!$AT$5:$AU$6,2,FALSE)","v":0},{"$f":"DataByMiles!W311*VLOOKUP(DataByMiles!AE311,DataByMiles!$AT$5:$AU$6,2,FALSE)","v":0},null,null,{"$f":"Q313*$T$2*VLOOKUP(DataByMiles!AE311,DataByMiles!$AT$5:$AU$6,2,FALSE)","v":0},{"$f":"DataByMiles!X311*VLOOKUP(DataByMiles!AE311,DataByMiles!$AT$5:$AU$6,2,FALSE)","v":0},null,null,{"$f":"U313*$X$2*VLOOKUP(DataByMiles!AE311,DataByMiles!$AT$5:$AU$6,2,FALSE)","v":0},{"$f":"DataByMiles!Y311*VLOOKUP(DataByMiles!AE311,DataByMiles!$AT$5:$AU$6,2,FALSE)","v":0},{"$f":"DataByMiles!Z311","v":0},{"$f":"DataByMiles!AA311","v":0},null,null,{"$f":"(Y313/IF(Z313=0,$AD$1,Z313)*$AD$2)/IF(AA313=0,1,AA313)*VLOOKUP(DataByMiles!AE311,DataByMiles!$AT$5:$AU$6,2,FALSE)","v":0},"",0,0,{"$f":"(AF313+AG313)*VLOOKUP(DataByMiles!AE311,DataByMiles!$AT$5:$AU$6,2,FALSE)","v":0},0]
[null,{"$f":"DataByMiles!C312","v":"----308"},{"$f":"DataByMiles!T312*VLOOKUP(DataByMiles!AE312,DataByMiles!$AT$5:$AU$6,2,FALSE)","v":0},null,null,0,{"$f":"C314*$G$2*VLOOKUP(DataByMiles!AE312,DataByMiles!$AT$5:$AU$6,2,FALSE)","v":0},{"$f":"DataByMiles!U312*VLOOKUP(DataByMiles!AE312,DataByMiles!$AT$5:$AU$6,2,FALSE)","v":0},null,null,0,{"$f":"H314*$L$2*VLOOKUP(DataByMiles!AE312,DataByMiles!$AT$5:$AU$6,2,FALSE)","v":0},{"$f":"DataByMiles!V312*VLOOKUP(DataByMiles!AE312,DataByMiles!$AT$5:$AU$6,2,FALSE)","v":0},null,null,{"$f":"M314*$P$2*VLOOKUP(DataByMiles!AE312,DataByMiles!$AT$5:$AU$6,2,FALSE)","v":0},{"$f":"DataByMiles!W312*VLOOKUP(DataByMiles!AE312,DataByMiles!$AT$5:$AU$6,2,FALSE)","v":0},null,null,{"$f":"Q314*$T$2*VLOOKUP(DataByMiles!AE312,DataByMiles!$AT$5:$AU$6,2,FALSE)","v":0},{"$f":"DataByMiles!X312*VLOOKUP(DataByMiles!AE312,DataByMiles!$AT$5:$AU$6,2,FALSE)","v":0},null,null,{"$f":"U314*$X$2*VLOOKUP(DataByMiles!AE312,DataByMiles!$AT$5:$AU$6,2,FALSE)","v":0},{"$f":"DataByMiles!Y312*VLOOKUP(DataByMiles!AE312,DataByMiles!$AT$5:$AU$6,2,FALSE)","v":0},{"$f":"DataByMiles!Z312","v":0},{"$f":"DataByMiles!AA312","v":0},null,null,{"$f":"(Y314/IF(Z314=0,$AD$1,Z314)*$AD$2)/IF(AA314=0,1,AA314)*VLOOKUP(DataByMiles!AE312,DataByMiles!$AT$5:$AU$6,2,FALSE)","v":0},"",0,0,{"$f":"(AF314+AG314)*VLOOKUP(DataByMiles!AE312,DataByMiles!$AT$5:$AU$6,2,FALSE)","v":0},0]
[null,{"$f":"DataByMiles!C313","v":"----309"},{"$f":"DataByMiles!T313*VLOOKUP(DataByMiles!AE313,DataByMiles!$AT$5:$AU$6,2,FALSE)","v":0},null,null,0,{"$f":"C315*$G$2*VLOOKUP(DataByMiles!AE313,DataByMiles!$AT$5:$AU$6,2,FALSE)","v":0},{"$f":"DataByMiles!U313*VLOOKUP(DataByMiles!AE313,DataByMiles!$AT$5:$AU$6,2,FALSE)","v":0},null,null,0,{"$f":"H315*$L$2*VLOOKUP(DataByMiles!AE313,DataByMiles!$AT$5:$AU$6,2,FALSE)","v":0},{"$f":"DataByMiles!V313*VLOOKUP(DataByMiles!AE313,DataByMiles!$AT$5:$AU$6,2,FALSE)","v":0},null,null,{"$f":"M315*$P$2*VLOOKUP(DataByMiles!AE313,DataByMiles!$AT$5:$AU$6,2,FALSE)","v":0},{"$f":"DataByMiles!W313*VLOOKUP(DataByMiles!AE313,DataByMiles!$AT$5:$AU$6,2,FALSE)","v":0},null,null,{"$f":"Q315*$T$2*VLOOKUP(DataByMiles!AE313,DataByMiles!$AT$5:$AU$6,2,FALSE)","v":0},{"$f":"DataByMiles!X313*VLOOKUP(DataByMiles!AE313,DataByMiles!$AT$5:$AU$6,2,FALSE)","v":0},null,null,{"$f":"U315*$X$2*VLOOKUP(DataByMiles!AE313,DataByMiles!$AT$5:$AU$6,2,FALSE)","v":0},{"$f":"DataByMiles!Y313*VLOOKUP(DataByMiles!AE313,DataByMiles!$AT$5:$AU$6,2,FALSE)","v":0},{"$f":"DataByMiles!Z313","v":0},{"$f":"DataByMiles!AA313","v":0},null,null,{"$f":"(Y315/IF(Z315=0,$AD$1,Z315)*$AD$2)/IF(AA315=0,1,AA315)*VLOOKUP(DataByMiles!AE313,DataByMiles!$AT$5:$AU$6,2,FALSE)","v":0},"",0,0,{"$f":"(AF315+AG315)*VLOOKUP(DataByMiles!AE313,DataByMiles!$AT$5:$AU$6,2,FALSE)","v":0},0]
[null,{"$f":"DataByMiles!C314","v":"----310"},{"$f":"DataByMiles!T314*VLOOKUP(DataByMiles!AE314,DataByMiles!$AT$5:$AU$6,2,FALSE)","v":0},null,null,0,{"$f":"C316*$G$2*VLOOKUP(DataByMiles!AE314,DataByMiles!$AT$5:$AU$6,2,FALSE)","v":0},{"$f":"DataByMiles!U314*VLOOKUP(DataByMiles!AE314,DataByMiles!$AT$5:$AU$6,2,FALSE)","v":0},null,null,0,{"$f":"H316*$L$2*VLOOKUP(DataByMiles!AE314,DataByMiles!$AT$5:$AU$6,2,FALSE)","v":0},{"$f":"DataByMiles!V314*VLOOKUP(DataByMiles!AE314,DataByMiles!$AT$5:$AU$6,2,FALSE)","v":0},null,null,{"$f":"M316*$P$2*VLOOKUP(DataByMiles!AE314,DataByMiles!$AT$5:$AU$6,2,FALSE)","v":0},{"$f":"DataByMiles!W314*VLOOKUP(DataByMiles!AE314,DataByMiles!$AT$5:$AU$6,2,FALSE)","v":0},null,null,{"$f":"Q316*$T$2*VLOOKUP(DataByMiles!AE314,DataByMiles!$AT$5:$AU$6,2,FALSE)","v":0},{"$f":"DataByMiles!X314*VLOOKUP(DataByMiles!AE314,DataByMiles!$AT$5:$AU$6,2,FALSE)","v":0},null,null,{"$f":"U316*$X$2*VLOOKUP(DataByMiles!AE314,DataByMiles!$AT$5:$AU$6,2,FALSE)","v":0},{"$f":"DataByMiles!Y314*VLOOKUP(DataByMiles!AE314,DataByMiles!$AT$5:$AU$6,2,FALSE)","v":0},{"$f":"DataByMiles!Z314","v":0},{"$f":"DataByMiles!AA314","v":0},null,null,{"$f":"(Y316/IF(Z316=0,$AD$1,Z316)*$AD$2)/IF(AA316=0,1,AA316)*VLOOKUP(DataByMiles!AE314,DataByMiles!$AT$5:$AU$6,2,FALSE)","v":0},"",0,0,{"$f":"(AF316+AG316)*VLOOKUP(DataByMiles!AE314,DataByMiles!$AT$5:$AU$6,2,FALSE)","v":0},0]
[null,{"$f":"DataByMiles!C315","v":"----311"},{"$f":"DataByMiles!T315*VLOOKUP(DataByMiles!AE315,DataByMiles!$AT$5:$AU$6,2,FALSE)","v":0},null,null,0,{"$f":"C317*$G$2*VLOOKUP(DataByMiles!AE315,DataByMiles!$AT$5:$AU$6,2,FALSE)","v":0},{"$f":"DataByMiles!U315*VLOOKUP(DataByMiles!AE315,DataByMiles!$AT$5:$AU$6,2,FALSE)","v":0},null,null,0,{"$f":"H317*$L$2*VLOOKUP(DataByMiles!AE315,DataByMiles!$AT$5:$AU$6,2,FALSE)","v":0},{"$f":"DataByMiles!V315*VLOOKUP(DataByMiles!AE315,DataByMiles!$AT$5:$AU$6,2,FALSE)","v":0},null,null,{"$f":"M317*$P$2*VLOOKUP(DataByMiles!AE315,DataByMiles!$AT$5:$AU$6,2,FALSE)","v":0},{"$f":"DataByMiles!W315*VLOOKUP(DataByMiles!AE315,DataByMiles!$AT$5:$AU$6,2,FALSE)","v":0},null,null,{"$f":"Q317*$T$2*VLOOKUP(DataByMiles!AE315,DataByMiles!$AT$5:$AU$6,2,FALSE)","v":0},{"$f":"DataByMiles!X315*VLOOKUP(DataByMiles!AE315,DataByMiles!$AT$5:$AU$6,2,FALSE)","v":0},null,null,{"$f":"U317*$X$2*VLOOKUP(DataByMiles!AE315,DataByMiles!$AT$5:$AU$6,2,FALSE)","v":0},{"$f":"DataByMiles!Y315*VLOOKUP(DataByMiles!AE315,DataByMiles!$AT$5:$AU$6,2,FALSE)","v":0},{"$f":"DataByMiles!Z315","v":0},{"$f":"DataByMiles!AA315","v":0},null,null,{"$f":"(Y317/IF(Z317=0,$AD$1,Z317)*$AD$2)/IF(AA317=0,1,AA317)*VLOOKUP(DataByMiles!AE315,DataByMiles!$AT$5:$AU$6,2,FALSE)","v":0},"",0,0,{"$f":"(AF317+AG317)*VLOOKUP(DataByMiles!AE315,DataByMiles!$AT$5:$AU$6,2,FALSE)","v":0},0]
[null,{"$f":"DataByMiles!C316","v":"----312"},{"$f":"DataByMiles!T316*VLOOKUP(DataByMiles!AE316,DataByMiles!$AT$5:$AU$6,2,FALSE)","v":0},null,null,0,{"$f":"C318*$G$2*VLOOKUP(DataByMiles!AE316,DataByMiles!$AT$5:$AU$6,2,FALSE)","v":0},{"$f":"DataByMiles!U316*VLOOKUP(DataByMiles!AE316,DataByMiles!$AT$5:$AU$6,2,FALSE)","v":0},null,null,0,{"$f":"H318*$L$2*VLOOKUP(DataByMiles!AE316,DataByMiles!$AT$5:$AU$6,2,FALSE)","v":0},{"$f":"DataByMiles!V316*VLOOKUP(DataByMiles!AE316,DataByMiles!$AT$5:$AU$6,2,FALSE)","v":0},null,null,{"$f":"M318*$P$2*VLOOKUP(DataByMiles!AE316,DataByMiles!$AT$5:$AU$6,2,FALSE)","v":0},{"$f":"DataByMiles!W316*VLOOKUP(DataByMiles!AE316,DataByMiles!$AT$5:$AU$6,2,FALSE)","v":0},null,null,{"$f":"Q318*$T$2*VLOOKUP(DataByMiles!AE316,DataByMiles!$AT$5:$AU$6,2,FALSE)","v":0},{"$f":"DataByMiles!X316*VLOOKUP(DataByMiles!AE316,DataByMiles!$AT$5:$AU$6,2,FALSE)","v":0},null,null,{"$f":"U318*$X$2*VLOOKUP(DataByMiles!AE316,DataByMiles!$AT$5:$AU$6,2,FALSE)","v":0},{"$f":"DataByMiles!Y316*VLOOKUP(DataByMiles!AE316,DataByMiles!$AT$5:$AU$6,2,FALSE)","v":0},{"$f":"DataByMiles!Z316","v":0},{"$f":"DataByMiles!AA316","v":0},null,null,{"$f":"(Y318/IF(Z318=0,$AD$1,Z318)*$AD$2)/IF(AA318=0,1,AA318)*VLOOKUP(DataByMiles!AE316,DataByMiles!$AT$5:$AU$6,2,FALSE)","v":0},"",0,0,{"$f":"(AF318+AG318)*VLOOKUP(DataByMiles!AE316,DataByMiles!$AT$5:$AU$6,2,FALSE)","v":0},0]
[null,{"$f":"DataByMiles!C317","v":"----313"},{"$f":"DataByMiles!T317*VLOOKUP(DataByMiles!AE317,DataByMiles!$AT$5:$AU$6,2,FALSE)","v":0},null,null,0,{"$f":"C319*$G$2*VLOOKUP(DataByMiles!AE317,DataByMiles!$AT$5:$AU$6,2,FALSE)","v":0},{"$f":"DataByMiles!U317*VLOOKUP(DataByMiles!AE317,DataByMiles!$AT$5:$AU$6,2,FALSE)","v":0},null,null,0,{"$f":"H319*$L$2*VLOOKUP(DataByMiles!AE317,DataByMiles!$AT$5:$AU$6,2,FALSE)","v":0},{"$f":"DataByMiles!V317*VLOOKUP(DataByMiles!AE317,DataByMiles!$AT$5:$AU$6,2,FALSE)","v":0},null,null,{"$f":"M319*$P$2*VLOOKUP(DataByMiles!AE317,DataByMiles!$AT$5:$AU$6,2,FALSE)","v":0},{"$f":"DataByMiles!W317*VLOOKUP(DataByMiles!AE317,DataByMiles!$AT$5:$AU$6,2,FALSE)","v":0},null,null,{"$f":"Q319*$T$2*VLOOKUP(DataByMiles!AE317,DataByMiles!$AT$5:$AU$6,2,FALSE)","v":0},{"$f":"DataByMiles!X317*VLOOKUP(DataByMiles!AE317,DataByMiles!$AT$5:$AU$6,2,FALSE)","v":0},null,null,{"$f":"U319*$X$2*VLOOKUP(DataByMiles!AE317,DataByMiles!$AT$5:$AU$6,2,FALSE)","v":0},{"$f":"DataByMiles!Y317*VLOOKUP(DataByMiles!AE317,DataByMiles!$AT$5:$AU$6,2,FALSE)","v":0},{"$f":"DataByMiles!Z317","v":0},{"$f":"DataByMiles!AA317","v":0},null,null,{"$f":"(Y319/IF(Z319=0,$AD$1,Z319)*$AD$2)/IF(AA319=0,1,AA319)*VLOOKUP(DataByMiles!AE317,DataByMiles!$AT$5:$AU$6,2,FALSE)","v":0},"",0,0,{"$f":"(AF319+AG319)*VLOOKUP(DataByMiles!AE317,DataByMiles!$AT$5:$AU$6,2,FALSE)","v":0},0]
[null,{"$f":"DataByMiles!C318","v":"----314"},{"$f":"DataByMiles!T318*VLOOKUP(DataByMiles!AE318,DataByMiles!$AT$5:$AU$6,2,FALSE)","v":0},null,null,0,{"$f":"C320*$G$2*VLOOKUP(DataByMiles!AE318,DataByMiles!$AT$5:$AU$6,2,FALSE)","v":0},{"$f":"DataByMiles!U318*VLOOKUP(DataByMiles!AE318,DataByMiles!$AT$5:$AU$6,2,FALSE)","v":0},null,null,0,{"$f":"H320*$L$2*VLOOKUP(DataByMiles!AE318,DataByMiles!$AT$5:$AU$6,2,FALSE)","v":0},{"$f":"DataByMiles!V318*VLOOKUP(DataByMiles!AE318,DataByMiles!$AT$5:$AU$6,2,FALSE)","v":0},null,null,{"$f":"M320*$P$2*VLOOKUP(DataByMiles!AE318,DataByMiles!$AT$5:$AU$6,2,FALSE)","v":0},{"$f":"DataByMiles!W318*VLOOKUP(DataByMiles!AE318,DataByMiles!$AT$5:$AU$6,2,FALSE)","v":0},null,null,{"$f":"Q320*$T$2*VLOOKUP(DataByMiles!AE318,DataByMiles!$AT$5:$AU$6,2,FALSE)","v":0},{"$f":"DataByMiles!X318*VLOOKUP(DataByMiles!AE318,DataByMiles!$AT$5:$AU$6,2,FALSE)","v":0},null,null,{"$f":"U320*$X$2*VLOOKUP(DataByMiles!AE318,DataByMiles!$AT$5:$AU$6,2,FALSE)","v":0},{"$f":"DataByMiles!Y318*VLOOKUP(DataByMiles!AE318,DataByMiles!$AT$5:$AU$6,2,FALSE)","v":0},{"$f":"DataByMiles!Z318","v":0},{"$f":"DataByMiles!AA318","v":0},null,null,{"$f":"(Y320/IF(Z320=0,$AD$1,Z320)*$AD$2)/IF(AA320=0,1,AA320)*VLOOKUP(DataByMiles!AE318,DataByMiles!$AT$5:$AU$6,2,FALSE)","v":0},"",0,0,{"$f":"(AF320+AG320)*VLOOKUP(DataByMiles!AE318,DataByMiles!$AT$5:$AU$6,2,FALSE)","v":0},0]
[null,{"$f":"DataByMiles!C319","v":"----315"},{"$f":"DataByMiles!T319*VLOOKUP(DataByMiles!AE319,DataByMiles!$AT$5:$AU$6,2,FALSE)","v":0},null,null,0,{"$f":"C321*$G$2*VLOOKUP(DataByMiles!AE319,DataByMiles!$AT$5:$AU$6,2,FALSE)","v":0},{"$f":"DataByMiles!U319*VLOOKUP(DataByMiles!AE319,DataByMiles!$AT$5:$AU$6,2,FALSE)","v":0},null,null,0,{"$f":"H321*$L$2*VLOOKUP(DataByMiles!AE319,DataByMiles!$AT$5:$AU$6,2,FALSE)","v":0},{"$f":"DataByMiles!V319*VLOOKUP(DataByMiles!AE319,DataByMiles!$AT$5:$AU$6,2,FALSE)","v":0},null,null,{"$f":"M321*$P$2*VLOOKUP(DataByMiles!AE319,DataByMiles!$AT$5:$AU$6,2,FALSE)","v":0},{"$f":"DataByMiles!W319*VLOOKUP(DataByMiles!AE319,DataByMiles!$AT$5:$AU$6,2,FALSE)","v":0},null,null,{"$f":"Q321*$T$2*VLOOKUP(DataByMiles!AE319,DataByMiles!$AT$5:$AU$6,2,FALSE)","v":0},{"$f":"DataByMiles!X319*VLOOKUP(DataByMiles!AE319,DataByMiles!$AT$5:$AU$6,2,FALSE)","v":0},null,null,{"$f":"U321*$X$2*VLOOKUP(DataByMiles!AE319,DataByMiles!$AT$5:$AU$6,2,FALSE)","v":0},{"$f":"DataByMiles!Y319*VLOOKUP(DataByMiles!AE319,DataByMiles!$AT$5:$AU$6,2,FALSE)","v":0},{"$f":"DataByMiles!Z319","v":0},{"$f":"DataByMiles!AA319","v":0},null,null,{"$f":"(Y321/IF(Z321=0,$AD$1,Z321)*$AD$2)/IF(AA321=0,1,AA321)*VLOOKUP(DataByMiles!AE319,DataByMiles!$AT$5:$AU$6,2,FALSE)","v":0},"",0,0,{"$f":"(AF321+AG321)*VLOOKUP(DataByMiles!AE319,DataByMiles!$AT$5:$AU$6,2,FALSE)","v":0},0]
[null,{"$f":"DataByMiles!C320","v":"----316"},{"$f":"DataByMiles!T320*VLOOKUP(DataByMiles!AE320,DataByMiles!$AT$5:$AU$6,2,FALSE)","v":0},null,null,0,{"$f":"C322*$G$2*VLOOKUP(DataByMiles!AE320,DataByMiles!$AT$5:$AU$6,2,FALSE)","v":0},{"$f":"DataByMiles!U320*VLOOKUP(DataByMiles!AE320,DataByMiles!$AT$5:$AU$6,2,FALSE)","v":0},null,null,0,{"$f":"H322*$L$2*VLOOKUP(DataByMiles!AE320,DataByMiles!$AT$5:$AU$6,2,FALSE)","v":0},{"$f":"DataByMiles!V320*VLOOKUP(DataByMiles!AE320,DataByMiles!$AT$5:$AU$6,2,FALSE)","v":0},null,null,{"$f":"M322*$P$2*VLOOKUP(DataByMiles!AE320,DataByMiles!$AT$5:$AU$6,2,FALSE)","v":0},{"$f":"DataByMiles!W320*VLOOKUP(DataByMiles!AE320,DataByMiles!$AT$5:$AU$6,2,FALSE)","v":0},null,null,{"$f":"Q322*$T$2*VLOOKUP(DataByMiles!AE320,DataByMiles!$AT$5:$AU$6,2,FALSE)","v":0},{"$f":"DataByMiles!X320*VLOOKUP(DataByMiles!AE320,DataByMiles!$AT$5:$AU$6,2,FALSE)","v":0},null,null,{"$f":"U322*$X$2*VLOOKUP(DataByMiles!AE320,DataByMiles!$AT$5:$AU$6,2,FALSE)","v":0},{"$f":"DataByMiles!Y320*VLOOKUP(DataByMiles!AE320,DataByMiles!$AT$5:$AU$6,2,FALSE)","v":0},{"$f":"DataByMiles!Z320","v":0},{"$f":"DataByMiles!AA320","v":0},null,null,{"$f":"(Y322/IF(Z322=0,$AD$1,Z322)*$AD$2)/IF(AA322=0,1,AA322)*VLOOKUP(DataByMiles!AE320,DataByMiles!$AT$5:$AU$6,2,FALSE)","v":0},"",0,0,{"$f":"(AF322+AG322)*VLOOKUP(DataByMiles!AE320,DataByMiles!$AT$5:$AU$6,2,FALSE)","v":0},0]
[null,{"$f":"DataByMiles!C321","v":"----317"},{"$f":"DataByMiles!T321*VLOOKUP(DataByMiles!AE321,DataByMiles!$AT$5:$AU$6,2,FALSE)","v":0},null,null,0,{"$f":"C323*$G$2*VLOOKUP(DataByMiles!AE321,DataByMiles!$AT$5:$AU$6,2,FALSE)","v":0},{"$f":"DataByMiles!U321*VLOOKUP(DataByMiles!AE321,DataByMiles!$AT$5:$AU$6,2,FALSE)","v":0},null,null,0,{"$f":"H323*$L$2*VLOOKUP(DataByMiles!AE321,DataByMiles!$AT$5:$AU$6,2,FALSE)","v":0},{"$f":"DataByMiles!V321*VLOOKUP(DataByMiles!AE321,DataByMiles!$AT$5:$AU$6,2,FALSE)","v":0},null,null,{"$f":"M323*$P$2*VLOOKUP(DataByMiles!AE321,DataByMiles!$AT$5:$AU$6,2,FALSE)","v":0},{"$f":"DataByMiles!W321*VLOOKUP(DataByMiles!AE321,DataByMiles!$AT$5:$AU$6,2,FALSE)","v":0},null,null,{"$f":"Q323*$T$2*VLOOKUP(DataByMiles!AE321,DataByMiles!$AT$5:$AU$6,2,FALSE)","v":0},{"$f":"DataByMiles!X321*VLOOKUP(DataByMiles!AE321,DataByMiles!$AT$5:$AU$6,2,FALSE)","v":0},null,null,{"$f":"U323*$X$2*VLOOKUP(DataByMiles!AE321,DataByMiles!$AT$5:$AU$6,2,FALSE)","v":0},{"$f":"DataByMiles!Y321*VLOOKUP(DataByMiles!AE321,DataByMiles!$AT$5:$AU$6,2,FALSE)","v":0},{"$f":"DataByMiles!Z321","v":0},{"$f":"DataByMiles!AA321","v":0},null,null,{"$f":"(Y323/IF(Z323=0,$AD$1,Z323)*$AD$2)/IF(AA323=0,1,AA323)*VLOOKUP(DataByMiles!AE321,DataByMiles!$AT$5:$AU$6,2,FALSE)","v":0},"",0,0,{"$f":"(AF323+AG323)*VLOOKUP(DataByMiles!AE321,DataByMiles!$AT$5:$AU$6,2,FALSE)","v":0},0]
[null,{"$f":"DataByMiles!C322","v":"----318"},{"$f":"DataByMiles!T322*VLOOKUP(DataByMiles!AE322,DataByMiles!$AT$5:$AU$6,2,FALSE)","v":0},null,null,0,{"$f":"C324*$G$2*VLOOKUP(DataByMiles!AE322,DataByMiles!$AT$5:$AU$6,2,FALSE)","v":0},{"$f":"DataByMiles!U322*VLOOKUP(DataByMiles!AE322,DataByMiles!$AT$5:$AU$6,2,FALSE)","v":0},null,null,0,{"$f":"H324*$L$2*VLOOKUP(DataByMiles!AE322,DataByMiles!$AT$5:$AU$6,2,FALSE)","v":0},{"$f":"DataByMiles!V322*VLOOKUP(DataByMiles!AE322,DataByMiles!$AT$5:$AU$6,2,FALSE)","v":0},null,null,{"$f":"M324*$P$2*VLOOKUP(DataByMiles!AE322,DataByMiles!$AT$5:$AU$6,2,FALSE)","v":0},{"$f":"DataByMiles!W322*VLOOKUP(DataByMiles!AE322,DataByMiles!$AT$5:$AU$6,2,FALSE)","v":0},null,null,{"$f":"Q324*$T$2*VLOOKUP(DataByMiles!AE322,DataByMiles!$AT$5:$AU$6,2,FALSE)","v":0},{"$f":"DataByMiles!X322*VLOOKUP(DataByMiles!AE322,DataByMiles!$AT$5:$AU$6,2,FALSE)","v":0},null,null,{"$f":"U324*$X$2*VLOOKUP(DataByMiles!AE322,DataByMiles!$AT$5:$AU$6,2,FALSE)","v":0},{"$f":"DataByMiles!Y322*VLOOKUP(DataByMiles!AE322,DataByMiles!$AT$5:$AU$6,2,FALSE)","v":0},{"$f":"DataByMiles!Z322","v":0},{"$f":"DataByMiles!AA322","v":0},null,null,{"$f":"(Y324/IF(Z324=0,$AD$1,Z324)*$AD$2)/IF(AA324=0,1,AA324)*VLOOKUP(DataByMiles!AE322,DataByMiles!$AT$5:$AU$6,2,FALSE)","v":0},"",0,0,{"$f":"(AF324+AG324)*VLOOKUP(DataByMiles!AE322,DataByMiles!$AT$5:$AU$6,2,FALSE)","v":0},0]
[null,{"$f":"DataByMiles!C323","v":"----319"},{"$f":"DataByMiles!T323*VLOOKUP(DataByMiles!AE323,DataByMiles!$AT$5:$AU$6,2,FALSE)","v":0},null,null,0,{"$f":"C325*$G$2*VLOOKUP(DataByMiles!AE323,DataByMiles!$AT$5:$AU$6,2,FALSE)","v":0},{"$f":"DataByMiles!U323*VLOOKUP(DataByMiles!AE323,DataByMiles!$AT$5:$AU$6,2,FALSE)","v":0},null,null,0,{"$f":"H325*$L$2*VLOOKUP(DataByMiles!AE323,DataByMiles!$AT$5:$AU$6,2,FALSE)","v":0},{"$f":"DataByMiles!V323*VLOOKUP(DataByMiles!AE323,DataByMiles!$AT$5:$AU$6,2,FALSE)","v":0},null,null,{"$f":"M325*$P$2*VLOOKUP(DataByMiles!AE323,DataByMiles!$AT$5:$AU$6,2,FALSE)","v":0},{"$f":"DataByMiles!W323*VLOOKUP(DataByMiles!AE323,DataByMiles!$AT$5:$AU$6,2,FALSE)","v":0},null,null,{"$f":"Q325*$T$2*VLOOKUP(DataByMiles!AE323,DataByMiles!$AT$5:$AU$6,2,FALSE)","v":0},{"$f":"DataByMiles!X323*VLOOKUP(DataByMiles!AE323,DataByMiles!$AT$5:$AU$6,2,FALSE)","v":0},null,null,{"$f":"U325*$X$2*VLOOKUP(DataByMiles!AE323,DataByMiles!$AT$5:$AU$6,2,FALSE)","v":0},{"$f":"DataByMiles!Y323*VLOOKUP(DataByMiles!AE323,DataByMiles!$AT$5:$AU$6,2,FALSE)","v":0},{"$f":"DataByMiles!Z323","v":0},{"$f":"DataByMiles!AA323","v":0},null,null,{"$f":"(Y325/IF(Z325=0,$AD$1,Z325)*$AD$2)/IF(AA325=0,1,AA325)*VLOOKUP(DataByMiles!AE323,DataByMiles!$AT$5:$AU$6,2,FALSE)","v":0},"",0,0,{"$f":"(AF325+AG325)*VLOOKUP(DataByMiles!AE323,DataByMiles!$AT$5:$AU$6,2,FALSE)","v":0},0]
[null,{"$f":"DataByMiles!C324","v":"----320"},{"$f":"DataByMiles!T324*VLOOKUP(DataByMiles!AE324,DataByMiles!$AT$5:$AU$6,2,FALSE)","v":0},null,null,0,{"$f":"C326*$G$2*VLOOKUP(DataByMiles!AE324,DataByMiles!$AT$5:$AU$6,2,FALSE)","v":0},{"$f":"DataByMiles!U324*VLOOKUP(DataByMiles!AE324,DataByMiles!$AT$5:$AU$6,2,FALSE)","v":0},null,null,0,{"$f":"H326*$L$2*VLOOKUP(DataByMiles!AE324,DataByMiles!$AT$5:$AU$6,2,FALSE)","v":0},{"$f":"DataByMiles!V324*VLOOKUP(DataByMiles!AE324,DataByMiles!$AT$5:$AU$6,2,FALSE)","v":0},null,null,{"$f":"M326*$P$2*VLOOKUP(DataByMiles!AE324,DataByMiles!$AT$5:$AU$6,2,FALSE)","v":0},{"$f":"DataByMiles!W324*VLOOKUP(DataByMiles!AE324,DataByMiles!$AT$5:$AU$6,2,FALSE)","v":0},null,null,{"$f":"Q326*$T$2*VLOOKUP(DataByMiles!AE324,DataByMiles!$AT$5:$AU$6,2,FALSE)","v":0},{"$f":"DataByMiles!X324*VLOOKUP(DataByMiles!AE324,DataByMiles!$AT$5:$AU$6,2,FALSE)","v":0},null,null,{"$f":"U326*$X$2*VLOOKUP(DataByMiles!AE324,DataByMiles!$AT$5:$AU$6,2,FALSE)","v":0},{"$f":"DataByMiles!Y324*VLOOKUP(DataByMiles!AE324,DataByMiles!$AT$5:$AU$6,2,FALSE)","v":0},{"$f":"DataByMiles!Z324","v":0},{"$f":"DataByMiles!AA324","v":0},null,null,{"$f":"(Y326/IF(Z326=0,$AD$1,Z326)*$AD$2)/IF(AA326=0,1,AA326)*VLOOKUP(DataByMiles!AE324,DataByMiles!$AT$5:$AU$6,2,FALSE)","v":0},"",0,0,{"$f":"(AF326+AG326)*VLOOKUP(DataByMiles!AE324,DataByMiles!$AT$5:$AU$6,2,FALSE)","v":0},0]
[null,{"$f":"DataByMiles!C325","v":"----321"},{"$f":"DataByMiles!T325*VLOOKUP(DataByMiles!AE325,DataByMiles!$AT$5:$AU$6,2,FALSE)","v":0},null,null,0,{"$f":"C327*$G$2*VLOOKUP(DataByMiles!AE325,DataByMiles!$AT$5:$AU$6,2,FALSE)","v":0},{"$f":"DataByMiles!U325*VLOOKUP(DataByMiles!AE325,DataByMiles!$AT$5:$AU$6,2,FALSE)","v":0},null,null,0,{"$f":"H327*$L$2*VLOOKUP(DataByMiles!AE325,DataByMiles!$AT$5:$AU$6,2,FALSE)","v":0},{"$f":"DataByMiles!V325*VLOOKUP(DataByMiles!AE325,DataByMiles!$AT$5:$AU$6,2,FALSE)","v":0},null,null,{"$f":"M327*$P$2*VLOOKUP(DataByMiles!AE325,DataByMiles!$AT$5:$AU$6,2,FALSE)","v":0},{"$f":"DataByMiles!W325*VLOOKUP(DataByMiles!AE325,DataByMiles!$AT$5:$AU$6,2,FALSE)","v":0},null,null,{"$f":"Q327*$T$2*VLOOKUP(DataByMiles!AE325,DataByMiles!$AT$5:$AU$6,2,FALSE)","v":0},{"$f":"DataByMiles!X325*VLOOKUP(DataByMiles!AE325,DataByMiles!$AT$5:$AU$6,2,FALSE)","v":0},null,null,{"$f":"U327*$X$2*VLOOKUP(DataByMiles!AE325,DataByMiles!$AT$5:$AU$6,2,FALSE)","v":0},{"$f":"DataByMiles!Y325*VLOOKUP(DataByMiles!AE325,DataByMiles!$AT$5:$AU$6,2,FALSE)","v":0},{"$f":"DataByMiles!Z325","v":0},{"$f":"DataByMiles!AA325","v":0},null,null,{"$f":"(Y327/IF(Z327=0,$AD$1,Z327)*$AD$2)/IF(AA327=0,1,AA327)*VLOOKUP(DataByMiles!AE325,DataByMiles!$AT$5:$AU$6,2,FALSE)","v":0},"",0,0,{"$f":"(AF327+AG327)*VLOOKUP(DataByMiles!AE325,DataByMiles!$AT$5:$AU$6,2,FALSE)","v":0},0]
[null,{"$f":"DataByMiles!C326","v":"----322"},{"$f":"DataByMiles!T326*VLOOKUP(DataByMiles!AE326,DataByMiles!$AT$5:$AU$6,2,FALSE)","v":0},null,null,0,{"$f":"C328*$G$2*VLOOKUP(DataByMiles!AE326,DataByMiles!$AT$5:$AU$6,2,FALSE)","v":0},{"$f":"DataByMiles!U326*VLOOKUP(DataByMiles!AE326,DataByMiles!$AT$5:$AU$6,2,FALSE)","v":0},null,null,0,{"$f":"H328*$L$2*VLOOKUP(DataByMiles!AE326,DataByMiles!$AT$5:$AU$6,2,FALSE)","v":0},{"$f":"DataByMiles!V326*VLOOKUP(DataByMiles!AE326,DataByMiles!$AT$5:$AU$6,2,FALSE)","v":0},null,null,{"$f":"M328*$P$2*VLOOKUP(DataByMiles!AE326,DataByMiles!$AT$5:$AU$6,2,FALSE)","v":0},{"$f":"DataByMiles!W326*VLOOKUP(DataByMiles!AE326,DataByMiles!$AT$5:$AU$6,2,FALSE)","v":0},null,null,{"$f":"Q328*$T$2*VLOOKUP(DataByMiles!AE326,DataByMiles!$AT$5:$AU$6,2,FALSE)","v":0},{"$f":"DataByMiles!X326*VLOOKUP(DataByMiles!AE326,DataByMiles!$AT$5:$AU$6,2,FALSE)","v":0},null,null,{"$f":"U328*$X$2*VLOOKUP(DataByMiles!AE326,DataByMiles!$AT$5:$AU$6,2,FALSE)","v":0},{"$f":"DataByMiles!Y326*VLOOKUP(DataByMiles!AE326,DataByMiles!$AT$5:$AU$6,2,FALSE)","v":0},{"$f":"DataByMiles!Z326","v":0},{"$f":"DataByMiles!AA326","v":0},null,null,{"$f":"(Y328/IF(Z328=0,$AD$1,Z328)*$AD$2)/IF(AA328=0,1,AA328)*VLOOKUP(DataByMiles!AE326,DataByMiles!$AT$5:$AU$6,2,FALSE)","v":0},"",0,0,{"$f":"(AF328+AG328)*VLOOKUP(DataByMiles!AE326,DataByMiles!$AT$5:$AU$6,2,FALSE)","v":0},0]
[null,{"$f":"DataByMiles!C327","v":"----323"},{"$f":"DataByMiles!T327*VLOOKUP(DataByMiles!AE327,DataByMiles!$AT$5:$AU$6,2,FALSE)","v":0},null,null,0,{"$f":"C329*$G$2*VLOOKUP(DataByMiles!AE327,DataByMiles!$AT$5:$AU$6,2,FALSE)","v":0},{"$f":"DataByMiles!U327*VLOOKUP(DataByMiles!AE327,DataByMiles!$AT$5:$AU$6,2,FALSE)","v":0},null,null,0,{"$f":"H329*$L$2*VLOOKUP(DataByMiles!AE327,DataByMiles!$AT$5:$AU$6,2,FALSE)","v":0},{"$f":"DataByMiles!V327*VLOOKUP(DataByMiles!AE327,DataByMiles!$AT$5:$AU$6,2,FALSE)","v":0},null,null,{"$f":"M329*$P$2*VLOOKUP(DataByMiles!AE327,DataByMiles!$AT$5:$AU$6,2,FALSE)","v":0},{"$f":"DataByMiles!W327*VLOOKUP(DataByMiles!AE327,DataByMiles!$AT$5:$AU$6,2,FALSE)","v":0},null,null,{"$f":"Q329*$T$2*VLOOKUP(DataByMiles!AE327,DataByMiles!$AT$5:$AU$6,2,FALSE)","v":0},{"$f":"DataByMiles!X327*VLOOKUP(DataByMiles!AE327,DataByMiles!$AT$5:$AU$6,2,FALSE)","v":0},null,null,{"$f":"U329*$X$2*VLOOKUP(DataByMiles!AE327,DataByMiles!$AT$5:$AU$6,2,FALSE)","v":0},{"$f":"DataByMiles!Y327*VLOOKUP(DataByMiles!AE327,DataByMiles!$AT$5:$AU$6,2,FALSE)","v":0},{"$f":"DataByMiles!Z327","v":0},{"$f":"DataByMiles!AA327","v":0},null,null,{"$f":"(Y329/IF(Z329=0,$AD$1,Z329)*$AD$2)/IF(AA329=0,1,AA329)*VLOOKUP(DataByMiles!AE327,DataByMiles!$AT$5:$AU$6,2,FALSE)","v":0},"",0,0,{"$f":"(AF329+AG329)*VLOOKUP(DataByMiles!AE327,DataByMiles!$AT$5:$AU$6,2,FALSE)","v":0},0]
[null,{"$f":"DataByMiles!C328","v":"----324"},{"$f":"DataByMiles!T328*VLOOKUP(DataByMiles!AE328,DataByMiles!$AT$5:$AU$6,2,FALSE)","v":0},null,null,0,{"$f":"C330*$G$2*VLOOKUP(DataByMiles!AE328,DataByMiles!$AT$5:$AU$6,2,FALSE)","v":0},{"$f":"DataByMiles!U328*VLOOKUP(DataByMiles!AE328,DataByMiles!$AT$5:$AU$6,2,FALSE)","v":0},null,null,0,{"$f":"H330*$L$2*VLOOKUP(DataByMiles!AE328,DataByMiles!$AT$5:$AU$6,2,FALSE)","v":0},{"$f":"DataByMiles!V328*VLOOKUP(DataByMiles!AE328,DataByMiles!$AT$5:$AU$6,2,FALSE)","v":0},null,null,{"$f":"M330*$P$2*VLOOKUP(DataByMiles!AE328,DataByMiles!$AT$5:$AU$6,2,FALSE)","v":0},{"$f":"DataByMiles!W328*VLOOKUP(DataByMiles!AE328,DataByMiles!$AT$5:$AU$6,2,FALSE)","v":0},null,null,{"$f":"Q330*$T$2*VLOOKUP(DataByMiles!AE328,DataByMiles!$AT$5:$AU$6,2,FALSE)","v":0},{"$f":"DataByMiles!X328*VLOOKUP(DataByMiles!AE328,DataByMiles!$AT$5:$AU$6,2,FALSE)","v":0},null,null,{"$f":"U330*$X$2*VLOOKUP(DataByMiles!AE328,DataByMiles!$AT$5:$AU$6,2,FALSE)","v":0},{"$f":"DataByMiles!Y328*VLOOKUP(DataByMiles!AE328,DataByMiles!$AT$5:$AU$6,2,FALSE)","v":0},{"$f":"DataByMiles!Z328","v":0},{"$f":"DataByMiles!AA328","v":0},null,null,{"$f":"(Y330/IF(Z330=0,$AD$1,Z330)*$AD$2)/IF(AA330=0,1,AA330)*VLOOKUP(DataByMiles!AE328,DataByMiles!$AT$5:$AU$6,2,FALSE)","v":0},"",0,0,{"$f":"(AF330+AG330)*VLOOKUP(DataByMiles!AE328,DataByMiles!$AT$5:$AU$6,2,FALSE)","v":0},0]
[null,{"$f":"DataByMiles!C329","v":"----325"},{"$f":"DataByMiles!T329*VLOOKUP(DataByMiles!AE329,DataByMiles!$AT$5:$AU$6,2,FALSE)","v":0},null,null,0,{"$f":"C331*$G$2*VLOOKUP(DataByMiles!AE329,DataByMiles!$AT$5:$AU$6,2,FALSE)","v":0},{"$f":"DataByMiles!U329*VLOOKUP(DataByMiles!AE329,DataByMiles!$AT$5:$AU$6,2,FALSE)","v":0},null,null,0,{"$f":"H331*$L$2*VLOOKUP(DataByMiles!AE329,DataByMiles!$AT$5:$AU$6,2,FALSE)","v":0},{"$f":"DataByMiles!V329*VLOOKUP(DataByMiles!AE329,DataByMiles!$AT$5:$AU$6,2,FALSE)","v":0},null,null,{"$f":"M331*$P$2*VLOOKUP(DataByMiles!AE329,DataByMiles!$AT$5:$AU$6,2,FALSE)","v":0},{"$f":"DataByMiles!W329*VLOOKUP(DataByMiles!AE329,DataByMiles!$AT$5:$AU$6,2,FALSE)","v":0},null,null,{"$f":"Q331*$T$2*VLOOKUP(DataByMiles!AE329,DataByMiles!$AT$5:$AU$6,2,FALSE)","v":0},{"$f":"DataByMiles!X329*VLOOKUP(DataByMiles!AE329,DataByMiles!$AT$5:$AU$6,2,FALSE)","v":0},null,null,{"$f":"U331*$X$2*VLOOKUP(DataByMiles!AE329,DataByMiles!$AT$5:$AU$6,2,FALSE)","v":0},{"$f":"DataByMiles!Y329*VLOOKUP(DataByMiles!AE329,DataByMiles!$AT$5:$AU$6,2,FALSE)","v":0},{"$f":"DataByMiles!Z329","v":0},{"$f":"DataByMiles!AA329","v":0},null,null,{"$f":"(Y331/IF(Z331=0,$AD$1,Z331)*$AD$2)/IF(AA331=0,1,AA331)*VLOOKUP(DataByMiles!AE329,DataByMiles!$AT$5:$AU$6,2,FALSE)","v":0},"",0,0,{"$f":"(AF331+AG331)*VLOOKUP(DataByMiles!AE329,DataByMiles!$AT$5:$AU$6,2,FALSE)","v":0},0]
[null,{"$f":"DataByMiles!C330","v":"----326"},{"$f":"DataByMiles!T330*VLOOKUP(DataByMiles!AE330,DataByMiles!$AT$5:$AU$6,2,FALSE)","v":0},null,null,0,{"$f":"C332*$G$2*VLOOKUP(DataByMiles!AE330,DataByMiles!$AT$5:$AU$6,2,FALSE)","v":0},{"$f":"DataByMiles!U330*VLOOKUP(DataByMiles!AE330,DataByMiles!$AT$5:$AU$6,2,FALSE)","v":0},null,null,0,{"$f":"H332*$L$2*VLOOKUP(DataByMiles!AE330,DataByMiles!$AT$5:$AU$6,2,FALSE)","v":0},{"$f":"DataByMiles!V330*VLOOKUP(DataByMiles!AE330,DataByMiles!$AT$5:$AU$6,2,FALSE)","v":0},null,null,{"$f":"M332*$P$2*VLOOKUP(DataByMiles!AE330,DataByMiles!$AT$5:$AU$6,2,FALSE)","v":0},{"$f":"DataByMiles!W330*VLOOKUP(DataByMiles!AE330,DataByMiles!$AT$5:$AU$6,2,FALSE)","v":0},null,null,{"$f":"Q332*$T$2*VLOOKUP(DataByMiles!AE330,DataByMiles!$AT$5:$AU$6,2,FALSE)","v":0},{"$f":"DataByMiles!X330*VLOOKUP(DataByMiles!AE330,DataByMiles!$AT$5:$AU$6,2,FALSE)","v":0},null,null,{"$f":"U332*$X$2*VLOOKUP(DataByMiles!AE330,DataByMiles!$AT$5:$AU$6,2,FALSE)","v":0},{"$f":"DataByMiles!Y330*VLOOKUP(DataByMiles!AE330,DataByMiles!$AT$5:$AU$6,2,FALSE)","v":0},{"$f":"DataByMiles!Z330","v":0},{"$f":"DataByMiles!AA330","v":0},null,null,{"$f":"(Y332/IF(Z332=0,$AD$1,Z332)*$AD$2)/IF(AA332=0,1,AA332)*VLOOKUP(DataByMiles!AE330,DataByMiles!$AT$5:$AU$6,2,FALSE)","v":0},"",0,0,{"$f":"(AF332+AG332)*VLOOKUP(DataByMiles!AE330,DataByMiles!$AT$5:$AU$6,2,FALSE)","v":0},0]
[null,{"$f":"DataByMiles!C331","v":"----327"},{"$f":"DataByMiles!T331*VLOOKUP(DataByMiles!AE331,DataByMiles!$AT$5:$AU$6,2,FALSE)","v":0},null,null,0,{"$f":"C333*$G$2*VLOOKUP(DataByMiles!AE331,DataByMiles!$AT$5:$AU$6,2,FALSE)","v":0},{"$f":"DataByMiles!U331*VLOOKUP(DataByMiles!AE331,DataByMiles!$AT$5:$AU$6,2,FALSE)","v":0},null,null,0,{"$f":"H333*$L$2*VLOOKUP(DataByMiles!AE331,DataByMiles!$AT$5:$AU$6,2,FALSE)","v":0},{"$f":"DataByMiles!V331*VLOOKUP(DataByMiles!AE331,DataByMiles!$AT$5:$AU$6,2,FALSE)","v":0},null,null,{"$f":"M333*$P$2*VLOOKUP(DataByMiles!AE331,DataByMiles!$AT$5:$AU$6,2,FALSE)","v":0},{"$f":"DataByMiles!W331*VLOOKUP(DataByMiles!AE331,DataByMiles!$AT$5:$AU$6,2,FALSE)","v":0},null,null,{"$f":"Q333*$T$2*VLOOKUP(DataByMiles!AE331,DataByMiles!$AT$5:$AU$6,2,FALSE)","v":0},{"$f":"DataByMiles!X331*VLOOKUP(DataByMiles!AE331,DataByMiles!$AT$5:$AU$6,2,FALSE)","v":0},null,null,{"$f":"U333*$X$2*VLOOKUP(DataByMiles!AE331,DataByMiles!$AT$5:$AU$6,2,FALSE)","v":0},{"$f":"DataByMiles!Y331*VLOOKUP(DataByMiles!AE331,DataByMiles!$AT$5:$AU$6,2,FALSE)","v":0},{"$f":"DataByMiles!Z331","v":0},{"$f":"DataByMiles!AA331","v":0},null,null,{"$f":"(Y333/IF(Z333=0,$AD$1,Z333)*$AD$2)/IF(AA333=0,1,AA333)*VLOOKUP(DataByMiles!AE331,DataByMiles!$AT$5:$AU$6,2,FALSE)","v":0},"",0,0,{"$f":"(AF333+AG333)*VLOOKUP(DataByMiles!AE331,DataByMiles!$AT$5:$AU$6,2,FALSE)","v":0},0]
[null,{"$f":"DataByMiles!C332","v":"----328"},{"$f":"DataByMiles!T332*VLOOKUP(DataByMiles!AE332,DataByMiles!$AT$5:$AU$6,2,FALSE)","v":0},null,null,0,{"$f":"C334*$G$2*VLOOKUP(DataByMiles!AE332,DataByMiles!$AT$5:$AU$6,2,FALSE)","v":0},{"$f":"DataByMiles!U332*VLOOKUP(DataByMiles!AE332,DataByMiles!$AT$5:$AU$6,2,FALSE)","v":0},null,null,0,{"$f":"H334*$L$2*VLOOKUP(DataByMiles!AE332,DataByMiles!$AT$5:$AU$6,2,FALSE)","v":0},{"$f":"DataByMiles!V332*VLOOKUP(DataByMiles!AE332,DataByMiles!$AT$5:$AU$6,2,FALSE)","v":0},null,null,{"$f":"M334*$P$2*VLOOKUP(DataByMiles!AE332,DataByMiles!$AT$5:$AU$6,2,FALSE)","v":0},{"$f":"DataByMiles!W332*VLOOKUP(DataByMiles!AE332,DataByMiles!$AT$5:$AU$6,2,FALSE)","v":0},null,null,{"$f":"Q334*$T$2*VLOOKUP(DataByMiles!AE332,DataByMiles!$AT$5:$AU$6,2,FALSE)","v":0},{"$f":"DataByMiles!X332*VLOOKUP(DataByMiles!AE332,DataByMiles!$AT$5:$AU$6,2,FALSE)","v":0},null,null,{"$f":"U334*$X$2*VLOOKUP(DataByMiles!AE332,DataByMiles!$AT$5:$AU$6,2,FALSE)","v":0},{"$f":"DataByMiles!Y332*VLOOKUP(DataByMiles!AE332,DataByMiles!$AT$5:$AU$6,2,FALSE)","v":0},{"$f":"DataByMiles!Z332","v":0},{"$f":"DataByMiles!AA332","v":0},null,null,{"$f":"(Y334/IF(Z334=0,$AD$1,Z334)*$AD$2)/IF(AA334=0,1,AA334)*VLOOKUP(DataByMiles!AE332,DataByMiles!$AT$5:$AU$6,2,FALSE)","v":0},"",0,0,{"$f":"(AF334+AG334)*VLOOKUP(DataByMiles!AE332,DataByMiles!$AT$5:$AU$6,2,FALSE)","v":0},0]
[null,{"$f":"DataByMiles!C333","v":"----329"},{"$f":"DataByMiles!T333*VLOOKUP(DataByMiles!AE333,DataByMiles!$AT$5:$AU$6,2,FALSE)","v":0},null,null,0,{"$f":"C335*$G$2*VLOOKUP(DataByMiles!AE333,DataByMiles!$AT$5:$AU$6,2,FALSE)","v":0},{"$f":"DataByMiles!U333*VLOOKUP(DataByMiles!AE333,DataByMiles!$AT$5:$AU$6,2,FALSE)","v":0},null,null,0,{"$f":"H335*$L$2*VLOOKUP(DataByMiles!AE333,DataByMiles!$AT$5:$AU$6,2,FALSE)","v":0},{"$f":"DataByMiles!V333*VLOOKUP(DataByMiles!AE333,DataByMiles!$AT$5:$AU$6,2,FALSE)","v":0},null,null,{"$f":"M335*$P$2*VLOOKUP(DataByMiles!AE333,DataByMiles!$AT$5:$AU$6,2,FALSE)","v":0},{"$f":"DataByMiles!W333*VLOOKUP(DataByMiles!AE333,DataByMiles!$AT$5:$AU$6,2,FALSE)","v":0},null,null,{"$f":"Q335*$T$2*VLOOKUP(DataByMiles!AE333,DataByMiles!$AT$5:$AU$6,2,FALSE)","v":0},{"$f":"DataByMiles!X333*VLOOKUP(DataByMiles!AE333,DataByMiles!$AT$5:$AU$6,2,FALSE)","v":0},null,null,{"$f":"U335*$X$2*VLOOKUP(DataByMiles!AE333,DataByMiles!$AT$5:$AU$6,2,FALSE)","v":0},{"$f":"DataByMiles!Y333*VLOOKUP(DataByMiles!AE333,DataByMiles!$AT$5:$AU$6,2,FALSE)","v":0},{"$f":"DataByMiles!Z333","v":0},{"$f":"DataByMiles!AA333","v":0},null,null,{"$f":"(Y335/IF(Z335=0,$AD$1,Z335)*$AD$2)/IF(AA335=0,1,AA335)*VLOOKUP(DataByMiles!AE333,DataByMiles!$AT$5:$AU$6,2,FALSE)","v":0},"",0,0,{"$f":"(AF335+AG335)*VLOOKUP(DataByMiles!AE333,DataByMiles!$AT$5:$AU$6,2,FALSE)","v":0},0]
[null,{"$f":"DataByMiles!C334","v":"----330"},{"$f":"DataByMiles!T334*VLOOKUP(DataByMiles!AE334,DataByMiles!$AT$5:$AU$6,2,FALSE)","v":0},null,null,0,{"$f":"C336*$G$2*VLOOKUP(DataByMiles!AE334,DataByMiles!$AT$5:$AU$6,2,FALSE)","v":0},{"$f":"DataByMiles!U334*VLOOKUP(DataByMiles!AE334,DataByMiles!$AT$5:$AU$6,2,FALSE)","v":0},null,null,0,{"$f":"H336*$L$2*VLOOKUP(DataByMiles!AE334,DataByMiles!$AT$5:$AU$6,2,FALSE)","v":0},{"$f":"DataByMiles!V334*VLOOKUP(DataByMiles!AE334,DataByMiles!$AT$5:$AU$6,2,FALSE)","v":0},null,null,{"$f":"M336*$P$2*VLOOKUP(DataByMiles!AE334,DataByMiles!$AT$5:$AU$6,2,FALSE)","v":0},{"$f":"DataByMiles!W334*VLOOKUP(DataByMiles!AE334,DataByMiles!$AT$5:$AU$6,2,FALSE)","v":0},null,null,{"$f":"Q336*$T$2*VLOOKUP(DataByMiles!AE334,DataByMiles!$AT$5:$AU$6,2,FALSE)","v":0},{"$f":"DataByMiles!X334*VLOOKUP(DataByMiles!AE334,DataByMiles!$AT$5:$AU$6,2,FALSE)","v":0},null,null,{"$f":"U336*$X$2*VLOOKUP(DataByMiles!AE334,DataByMiles!$AT$5:$AU$6,2,FALSE)","v":0},{"$f":"DataByMiles!Y334*VLOOKUP(DataByMiles!AE334,DataByMiles!$AT$5:$AU$6,2,FALSE)","v":0},{"$f":"DataByMiles!Z334","v":0},{"$f":"DataByMiles!AA334","v":0},null,null,{"$f":"(Y336/IF(Z336=0,$AD$1,Z336)*$AD$2)/IF(AA336=0,1,AA336)*VLOOKUP(DataByMiles!AE334,DataByMiles!$AT$5:$AU$6,2,FALSE)","v":0},"",0,0,{"$f":"(AF336+AG336)*VLOOKUP(DataByMiles!AE334,DataByMiles!$AT$5:$AU$6,2,FALSE)","v":0},0]
[null,{"$f":"DataByMiles!C335","v":"----331"},{"$f":"DataByMiles!T335*VLOOKUP(DataByMiles!AE335,DataByMiles!$AT$5:$AU$6,2,FALSE)","v":0},null,null,0,{"$f":"C337*$G$2*VLOOKUP(DataByMiles!AE335,DataByMiles!$AT$5:$AU$6,2,FALSE)","v":0},{"$f":"DataByMiles!U335*VLOOKUP(DataByMiles!AE335,DataByMiles!$AT$5:$AU$6,2,FALSE)","v":0},null,null,0,{"$f":"H337*$L$2*VLOOKUP(DataByMiles!AE335,DataByMiles!$AT$5:$AU$6,2,FALSE)","v":0},{"$f":"DataByMiles!V335*VLOOKUP(DataByMiles!AE335,DataByMiles!$AT$5:$AU$6,2,FALSE)","v":0},null,null,{"$f":"M337*$P$2*VLOOKUP(DataByMiles!AE335,DataByMiles!$AT$5:$AU$6,2,FALSE)","v":0},{"$f":"DataByMiles!W335*VLOOKUP(DataByMiles!AE335,DataByMiles!$AT$5:$AU$6,2,FALSE)","v":0},null,null,{"$f":"Q337*$T$2*VLOOKUP(DataByMiles!AE335,DataByMiles!$AT$5:$AU$6,2,FALSE)","v":0},{"$f":"DataByMiles!X335*VLOOKUP(DataByMiles!AE335,DataByMiles!$AT$5:$AU$6,2,FALSE)","v":0},null,null,{"$f":"U337*$X$2*VLOOKUP(DataByMiles!AE335,DataByMiles!$AT$5:$AU$6,2,FALSE)","v":0},{"$f":"DataByMiles!Y335*VLOOKUP(DataByMiles!AE335,DataByMiles!$AT$5:$AU$6,2,FALSE)","v":0},{"$f":"DataByMiles!Z335","v":0},{"$f":"DataByMiles!AA335","v":0},null,null,{"$f":"(Y337/IF(Z337=0,$AD$1,Z337)*$AD$2)/IF(AA337=0,1,AA337)*VLOOKUP(DataByMiles!AE335,DataByMiles!$AT$5:$AU$6,2,FALSE)","v":0},"",0,0,{"$f":"(AF337+AG337)*VLOOKUP(DataByMiles!AE335,DataByMiles!$AT$5:$AU$6,2,FALSE)","v":0},0]
[null,{"$f":"DataByMiles!C336","v":"----332"},{"$f":"DataByMiles!T336*VLOOKUP(DataByMiles!AE336,DataByMiles!$AT$5:$AU$6,2,FALSE)","v":0},null,null,0,{"$f":"C338*$G$2*VLOOKUP(DataByMiles!AE336,DataByMiles!$AT$5:$AU$6,2,FALSE)","v":0},{"$f":"DataByMiles!U336*VLOOKUP(DataByMiles!AE336,DataByMiles!$AT$5:$AU$6,2,FALSE)","v":0},null,null,0,{"$f":"H338*$L$2*VLOOKUP(DataByMiles!AE336,DataByMiles!$AT$5:$AU$6,2,FALSE)","v":0},{"$f":"DataByMiles!V336*VLOOKUP(DataByMiles!AE336,DataByMiles!$AT$5:$AU$6,2,FALSE)","v":0},null,null,{"$f":"M338*$P$2*VLOOKUP(DataByMiles!AE336,DataByMiles!$AT$5:$AU$6,2,FALSE)","v":0},{"$f":"DataByMiles!W336*VLOOKUP(DataByMiles!AE336,DataByMiles!$AT$5:$AU$6,2,FALSE)","v":0},null,null,{"$f":"Q338*$T$2*VLOOKUP(DataByMiles!AE336,DataByMiles!$AT$5:$AU$6,2,FALSE)","v":0},{"$f":"DataByMiles!X336*VLOOKUP(DataByMiles!AE336,DataByMiles!$AT$5:$AU$6,2,FALSE)","v":0},null,null,{"$f":"U338*$X$2*VLOOKUP(DataByMiles!AE336,DataByMiles!$AT$5:$AU$6,2,FALSE)","v":0},{"$f":"DataByMiles!Y336*VLOOKUP(DataByMiles!AE336,DataByMiles!$AT$5:$AU$6,2,FALSE)","v":0},{"$f":"DataByMiles!Z336","v":0},{"$f":"DataByMiles!AA336","v":0},null,null,{"$f":"(Y338/IF(Z338=0,$AD$1,Z338)*$AD$2)/IF(AA338=0,1,AA338)*VLOOKUP(DataByMiles!AE336,DataByMiles!$AT$5:$AU$6,2,FALSE)","v":0},"",0,0,{"$f":"(AF338+AG338)*VLOOKUP(DataByMiles!AE336,DataByMiles!$AT$5:$AU$6,2,FALSE)","v":0},0]
[null,{"$f":"DataByMiles!C337","v":"----333"},{"$f":"DataByMiles!T337*VLOOKUP(DataByMiles!AE337,DataByMiles!$AT$5:$AU$6,2,FALSE)","v":0},null,null,0,{"$f":"C339*$G$2*VLOOKUP(DataByMiles!AE337,DataByMiles!$AT$5:$AU$6,2,FALSE)","v":0},{"$f":"DataByMiles!U337*VLOOKUP(DataByMiles!AE337,DataByMiles!$AT$5:$AU$6,2,FALSE)","v":0},null,null,0,{"$f":"H339*$L$2*VLOOKUP(DataByMiles!AE337,DataByMiles!$AT$5:$AU$6,2,FALSE)","v":0},{"$f":"DataByMiles!V337*VLOOKUP(DataByMiles!AE337,DataByMiles!$AT$5:$AU$6,2,FALSE)","v":0},null,null,{"$f":"M339*$P$2*VLOOKUP(DataByMiles!AE337,DataByMiles!$AT$5:$AU$6,2,FALSE)","v":0},{"$f":"DataByMiles!W337*VLOOKUP(DataByMiles!AE337,DataByMiles!$AT$5:$AU$6,2,FALSE)","v":0},null,null,{"$f":"Q339*$T$2*VLOOKUP(DataByMiles!AE337,DataByMiles!$AT$5:$AU$6,2,FALSE)","v":0},{"$f":"DataByMiles!X337*VLOOKUP(DataByMiles!AE337,DataByMiles!$AT$5:$AU$6,2,FALSE)","v":0},null,null,{"$f":"U339*$X$2*VLOOKUP(DataByMiles!AE337,DataByMiles!$AT$5:$AU$6,2,FALSE)","v":0},{"$f":"DataByMiles!Y337*VLOOKUP(DataByMiles!AE337,DataByMiles!$AT$5:$AU$6,2,FALSE)","v":0},{"$f":"DataByMiles!Z337","v":0},{"$f":"DataByMiles!AA337","v":0},null,null,{"$f":"(Y339/IF(Z339=0,$AD$1,Z339)*$AD$2)/IF(AA339=0,1,AA339)*VLOOKUP(DataByMiles!AE337,DataByMiles!$AT$5:$AU$6,2,FALSE)","v":0},"",0,0,{"$f":"(AF339+AG339)*VLOOKUP(DataByMiles!AE337,DataByMiles!$AT$5:$AU$6,2,FALSE)","v":0},0]
[null,{"$f":"DataByMiles!C338","v":"----334"},{"$f":"DataByMiles!T338*VLOOKUP(DataByMiles!AE338,DataByMiles!$AT$5:$AU$6,2,FALSE)","v":0},null,null,0,{"$f":"C340*$G$2*VLOOKUP(DataByMiles!AE338,DataByMiles!$AT$5:$AU$6,2,FALSE)","v":0},{"$f":"DataByMiles!U338*VLOOKUP(DataByMiles!AE338,DataByMiles!$AT$5:$AU$6,2,FALSE)","v":0},null,null,0,{"$f":"H340*$L$2*VLOOKUP(DataByMiles!AE338,DataByMiles!$AT$5:$AU$6,2,FALSE)","v":0},{"$f":"DataByMiles!V338*VLOOKUP(DataByMiles!AE338,DataByMiles!$AT$5:$AU$6,2,FALSE)","v":0},null,null,{"$f":"M340*$P$2*VLOOKUP(DataByMiles!AE338,DataByMiles!$AT$5:$AU$6,2,FALSE)","v":0},{"$f":"DataByMiles!W338*VLOOKUP(DataByMiles!AE338,DataByMiles!$AT$5:$AU$6,2,FALSE)","v":0},null,null,{"$f":"Q340*$T$2*VLOOKUP(DataByMiles!AE338,DataByMiles!$AT$5:$AU$6,2,FALSE)","v":0},{"$f":"DataByMiles!X338*VLOOKUP(DataByMiles!AE338,DataByMiles!$AT$5:$AU$6,2,FALSE)","v":0},null,null,{"$f":"U340*$X$2*VLOOKUP(DataByMiles!AE338,DataByMiles!$AT$5:$AU$6,2,FALSE)","v":0},{"$f":"DataByMiles!Y338*VLOOKUP(DataByMiles!AE338,DataByMiles!$AT$5:$AU$6,2,FALSE)","v":0},{"$f":"DataByMiles!Z338","v":0},{"$f":"DataByMiles!AA338","v":0},null,null,{"$f":"(Y340/IF(Z340=0,$AD$1,Z340)*$AD$2)/IF(AA340=0,1,AA340)*VLOOKUP(DataByMiles!AE338,DataByMiles!$AT$5:$AU$6,2,FALSE)","v":0},"",0,0,{"$f":"(AF340+AG340)*VLOOKUP(DataByMiles!AE338,DataByMiles!$AT$5:$AU$6,2,FALSE)","v":0},0]
[null,{"$f":"DataByMiles!C339","v":"----335"},{"$f":"DataByMiles!T339*VLOOKUP(DataByMiles!AE339,DataByMiles!$AT$5:$AU$6,2,FALSE)","v":0},null,null,0,{"$f":"C341*$G$2*VLOOKUP(DataByMiles!AE339,DataByMiles!$AT$5:$AU$6,2,FALSE)","v":0},{"$f":"DataByMiles!U339*VLOOKUP(DataByMiles!AE339,DataByMiles!$AT$5:$AU$6,2,FALSE)","v":0},null,null,0,{"$f":"H341*$L$2*VLOOKUP(DataByMiles!AE339,DataByMiles!$AT$5:$AU$6,2,FALSE)","v":0},{"$f":"DataByMiles!V339*VLOOKUP(DataByMiles!AE339,DataByMiles!$AT$5:$AU$6,2,FALSE)","v":0},null,null,{"$f":"M341*$P$2*VLOOKUP(DataByMiles!AE339,DataByMiles!$AT$5:$AU$6,2,FALSE)","v":0},{"$f":"DataByMiles!W339*VLOOKUP(DataByMiles!AE339,DataByMiles!$AT$5:$AU$6,2,FALSE)","v":0},null,null,{"$f":"Q341*$T$2*VLOOKUP(DataByMiles!AE339,DataByMiles!$AT$5:$AU$6,2,FALSE)","v":0},{"$f":"DataByMiles!X339*VLOOKUP(DataByMiles!AE339,DataByMiles!$AT$5:$AU$6,2,FALSE)","v":0},null,null,{"$f":"U341*$X$2*VLOOKUP(DataByMiles!AE339,DataByMiles!$AT$5:$AU$6,2,FALSE)","v":0},{"$f":"DataByMiles!Y339*VLOOKUP(DataByMiles!AE339,DataByMiles!$AT$5:$AU$6,2,FALSE)","v":0},{"$f":"DataByMiles!Z339","v":0},{"$f":"DataByMiles!AA339","v":0},null,null,{"$f":"(Y341/IF(Z341=0,$AD$1,Z341)*$AD$2)/IF(AA341=0,1,AA341)*VLOOKUP(DataByMiles!AE339,DataByMiles!$AT$5:$AU$6,2,FALSE)","v":0},"",0,0,{"$f":"(AF341+AG341)*VLOOKUP(DataByMiles!AE339,DataByMiles!$AT$5:$AU$6,2,FALSE)","v":0},0]
[null,{"$f":"DataByMiles!C340","v":"----336"},{"$f":"DataByMiles!T340*VLOOKUP(DataByMiles!AE340,DataByMiles!$AT$5:$AU$6,2,FALSE)","v":0},null,null,0,{"$f":"C342*$G$2*VLOOKUP(DataByMiles!AE340,DataByMiles!$AT$5:$AU$6,2,FALSE)","v":0},{"$f":"DataByMiles!U340*VLOOKUP(DataByMiles!AE340,DataByMiles!$AT$5:$AU$6,2,FALSE)","v":0},null,null,0,{"$f":"H342*$L$2*VLOOKUP(DataByMiles!AE340,DataByMiles!$AT$5:$AU$6,2,FALSE)","v":0},{"$f":"DataByMiles!V340*VLOOKUP(DataByMiles!AE340,DataByMiles!$AT$5:$AU$6,2,FALSE)","v":0},null,null,{"$f":"M342*$P$2*VLOOKUP(DataByMiles!AE340,DataByMiles!$AT$5:$AU$6,2,FALSE)","v":0},{"$f":"DataByMiles!W340*VLOOKUP(DataByMiles!AE340,DataByMiles!$AT$5:$AU$6,2,FALSE)","v":0},null,null,{"$f":"Q342*$T$2*VLOOKUP(DataByMiles!AE340,DataByMiles!$AT$5:$AU$6,2,FALSE)","v":0},{"$f":"DataByMiles!X340*VLOOKUP(DataByMiles!AE340,DataByMiles!$AT$5:$AU$6,2,FALSE)","v":0},null,null,{"$f":"U342*$X$2*VLOOKUP(DataByMiles!AE340,DataByMiles!$AT$5:$AU$6,2,FALSE)","v":0},{"$f":"DataByMiles!Y340*VLOOKUP(DataByMiles!AE340,DataByMiles!$AT$5:$AU$6,2,FALSE)","v":0},{"$f":"DataByMiles!Z340","v":0},{"$f":"DataByMiles!AA340","v":0},null,null,{"$f":"(Y342/IF(Z342=0,$AD$1,Z342)*$AD$2)/IF(AA342=0,1,AA342)*VLOOKUP(DataByMiles!AE340,DataByMiles!$AT$5:$AU$6,2,FALSE)","v":0},"",0,0,{"$f":"(AF342+AG342)*VLOOKUP(DataByMiles!AE340,DataByMiles!$AT$5:$AU$6,2,FALSE)","v":0},0]
[null,{"$f":"DataByMiles!C341","v":"----337"},{"$f":"DataByMiles!T341*VLOOKUP(DataByMiles!AE341,DataByMiles!$AT$5:$AU$6,2,FALSE)","v":0},null,null,0,{"$f":"C343*$G$2*VLOOKUP(DataByMiles!AE341,DataByMiles!$AT$5:$AU$6,2,FALSE)","v":0},{"$f":"DataByMiles!U341*VLOOKUP(DataByMiles!AE341,DataByMiles!$AT$5:$AU$6,2,FALSE)","v":0},null,null,0,{"$f":"H343*$L$2*VLOOKUP(DataByMiles!AE341,DataByMiles!$AT$5:$AU$6,2,FALSE)","v":0},{"$f":"DataByMiles!V341*VLOOKUP(DataByMiles!AE341,DataByMiles!$AT$5:$AU$6,2,FALSE)","v":0},null,null,{"$f":"M343*$P$2*VLOOKUP(DataByMiles!AE341,DataByMiles!$AT$5:$AU$6,2,FALSE)","v":0},{"$f":"DataByMiles!W341*VLOOKUP(DataByMiles!AE341,DataByMiles!$AT$5:$AU$6,2,FALSE)","v":0},null,null,{"$f":"Q343*$T$2*VLOOKUP(DataByMiles!AE341,DataByMiles!$AT$5:$AU$6,2,FALSE)","v":0},{"$f":"DataByMiles!X341*VLOOKUP(DataByMiles!AE341,DataByMiles!$AT$5:$AU$6,2,FALSE)","v":0},null,null,{"$f":"U343*$X$2*VLOOKUP(DataByMiles!AE341,DataByMiles!$AT$5:$AU$6,2,FALSE)","v":0},{"$f":"DataByMiles!Y341*VLOOKUP(DataByMiles!AE341,DataByMiles!$AT$5:$AU$6,2,FALSE)","v":0},{"$f":"DataByMiles!Z341","v":0},{"$f":"DataByMiles!AA341","v":0},null,null,{"$f":"(Y343/IF(Z343=0,$AD$1,Z343)*$AD$2)/IF(AA343=0,1,AA343)*VLOOKUP(DataByMiles!AE341,DataByMiles!$AT$5:$AU$6,2,FALSE)","v":0},"",0,0,{"$f":"(AF343+AG343)*VLOOKUP(DataByMiles!AE341,DataByMiles!$AT$5:$AU$6,2,FALSE)","v":0},0]
[null,{"$f":"DataByMiles!C342","v":"----338"},{"$f":"DataByMiles!T342*VLOOKUP(DataByMiles!AE342,DataByMiles!$AT$5:$AU$6,2,FALSE)","v":0},null,null,0,{"$f":"C344*$G$2*VLOOKUP(DataByMiles!AE342,DataByMiles!$AT$5:$AU$6,2,FALSE)","v":0},{"$f":"DataByMiles!U342*VLOOKUP(DataByMiles!AE342,DataByMiles!$AT$5:$AU$6,2,FALSE)","v":0},null,null,0,{"$f":"H344*$L$2*VLOOKUP(DataByMiles!AE342,DataByMiles!$AT$5:$AU$6,2,FALSE)","v":0},{"$f":"DataByMiles!V342*VLOOKUP(DataByMiles!AE342,DataByMiles!$AT$5:$AU$6,2,FALSE)","v":0},null,null,{"$f":"M344*$P$2*VLOOKUP(DataByMiles!AE342,DataByMiles!$AT$5:$AU$6,2,FALSE)","v":0},{"$f":"DataByMiles!W342*VLOOKUP(DataByMiles!AE342,DataByMiles!$AT$5:$AU$6,2,FALSE)","v":0},null,null,{"$f":"Q344*$T$2*VLOOKUP(DataByMiles!AE342,DataByMiles!$AT$5:$AU$6,2,FALSE)","v":0},{"$f":"DataByMiles!X342*VLOOKUP(DataByMiles!AE342,DataByMiles!$AT$5:$AU$6,2,FALSE)","v":0},null,null,{"$f":"U344*$X$2*VLOOKUP(DataByMiles!AE342,DataByMiles!$AT$5:$AU$6,2,FALSE)","v":0},{"$f":"DataByMiles!Y342*VLOOKUP(DataByMiles!AE342,DataByMiles!$AT$5:$AU$6,2,FALSE)","v":0},{"$f":"DataByMiles!Z342","v":0},{"$f":"DataByMiles!AA342","v":0},null,null,{"$f":"(Y344/IF(Z344=0,$AD$1,Z344)*$AD$2)/IF(AA344=0,1,AA344)*VLOOKUP(DataByMiles!AE342,DataByMiles!$AT$5:$AU$6,2,FALSE)","v":0},"",0,0,{"$f":"(AF344+AG344)*VLOOKUP(DataByMiles!AE342,DataByMiles!$AT$5:$AU$6,2,FALSE)","v":0},0]
[null,{"$f":"DataByMiles!C343","v":"----339"},{"$f":"DataByMiles!T343*VLOOKUP(DataByMiles!AE343,DataByMiles!$AT$5:$AU$6,2,FALSE)","v":0},null,null,0,{"$f":"C345*$G$2*VLOOKUP(DataByMiles!AE343,DataByMiles!$AT$5:$AU$6,2,FALSE)","v":0},{"$f":"DataByMiles!U343*VLOOKUP(DataByMiles!AE343,DataByMiles!$AT$5:$AU$6,2,FALSE)","v":0},null,null,0,{"$f":"H345*$L$2*VLOOKUP(DataByMiles!AE343,DataByMiles!$AT$5:$AU$6,2,FALSE)","v":0},{"$f":"DataByMiles!V343*VLOOKUP(DataByMiles!AE343,DataByMiles!$AT$5:$AU$6,2,FALSE)","v":0},null,null,{"$f":"M345*$P$2*VLOOKUP(DataByMiles!AE343,DataByMiles!$AT$5:$AU$6,2,FALSE)","v":0},{"$f":"DataByMiles!W343*VLOOKUP(DataByMiles!AE343,DataByMiles!$AT$5:$AU$6,2,FALSE)","v":0},null,null,{"$f":"Q345*$T$2*VLOOKUP(DataByMiles!AE343,DataByMiles!$AT$5:$AU$6,2,FALSE)","v":0},{"$f":"DataByMiles!X343*VLOOKUP(DataByMiles!AE343,DataByMiles!$AT$5:$AU$6,2,FALSE)","v":0},null,null,{"$f":"U345*$X$2*VLOOKUP(DataByMiles!AE343,DataByMiles!$AT$5:$AU$6,2,FALSE)","v":0},{"$f":"DataByMiles!Y343*VLOOKUP(DataByMiles!AE343,DataByMiles!$AT$5:$AU$6,2,FALSE)","v":0},{"$f":"DataByMiles!Z343","v":0},{"$f":"DataByMiles!AA343","v":0},null,null,{"$f":"(Y345/IF(Z345=0,$AD$1,Z345)*$AD$2)/IF(AA345=0,1,AA345)*VLOOKUP(DataByMiles!AE343,DataByMiles!$AT$5:$AU$6,2,FALSE)","v":0},"",0,0,{"$f":"(AF345+AG345)*VLOOKUP(DataByMiles!AE343,DataByMiles!$AT$5:$AU$6,2,FALSE)","v":0},0]
[null,{"$f":"DataByMiles!C344","v":"----340"},{"$f":"DataByMiles!T344*VLOOKUP(DataByMiles!AE344,DataByMiles!$AT$5:$AU$6,2,FALSE)","v":0},null,null,0,{"$f":"C346*$G$2*VLOOKUP(DataByMiles!AE344,DataByMiles!$AT$5:$AU$6,2,FALSE)","v":0},{"$f":"DataByMiles!U344*VLOOKUP(DataByMiles!AE344,DataByMiles!$AT$5:$AU$6,2,FALSE)","v":0},null,null,0,{"$f":"H346*$L$2*VLOOKUP(DataByMiles!AE344,DataByMiles!$AT$5:$AU$6,2,FALSE)","v":0},{"$f":"DataByMiles!V344*VLOOKUP(DataByMiles!AE344,DataByMiles!$AT$5:$AU$6,2,FALSE)","v":0},null,null,{"$f":"M346*$P$2*VLOOKUP(DataByMiles!AE344,DataByMiles!$AT$5:$AU$6,2,FALSE)","v":0},{"$f":"DataByMiles!W344*VLOOKUP(DataByMiles!AE344,DataByMiles!$AT$5:$AU$6,2,FALSE)","v":0},null,null,{"$f":"Q346*$T$2*VLOOKUP(DataByMiles!AE344,DataByMiles!$AT$5:$AU$6,2,FALSE)","v":0},{"$f":"DataByMiles!X344*VLOOKUP(DataByMiles!AE344,DataByMiles!$AT$5:$AU$6,2,FALSE)","v":0},null,null,{"$f":"U346*$X$2*VLOOKUP(DataByMiles!AE344,DataByMiles!$AT$5:$AU$6,2,FALSE)","v":0},{"$f":"DataByMiles!Y344*VLOOKUP(DataByMiles!AE344,DataByMiles!$AT$5:$AU$6,2,FALSE)","v":0},{"$f":"DataByMiles!Z344","v":0},{"$f":"DataByMiles!AA344","v":0},null,null,{"$f":"(Y346/IF(Z346=0,$AD$1,Z346)*$AD$2)/IF(AA346=0,1,AA346)*VLOOKUP(DataByMiles!AE344,DataByMiles!$AT$5:$AU$6,2,FALSE)","v":0},"",0,0,{"$f":"(AF346+AG346)*VLOOKUP(DataByMiles!AE344,DataByMiles!$AT$5:$AU$6,2,FALSE)","v":0},0]
[null,{"$f":"DataByMiles!C345","v":"----341"},{"$f":"DataByMiles!T345*VLOOKUP(DataByMiles!AE345,DataByMiles!$AT$5:$AU$6,2,FALSE)","v":0},null,null,0,{"$f":"C347*$G$2*VLOOKUP(DataByMiles!AE345,DataByMiles!$AT$5:$AU$6,2,FALSE)","v":0},{"$f":"DataByMiles!U345*VLOOKUP(DataByMiles!AE345,DataByMiles!$AT$5:$AU$6,2,FALSE)","v":0},null,null,0,{"$f":"H347*$L$2*VLOOKUP(DataByMiles!AE345,DataByMiles!$AT$5:$AU$6,2,FALSE)","v":0},{"$f":"DataByMiles!V345*VLOOKUP(DataByMiles!AE345,DataByMiles!$AT$5:$AU$6,2,FALSE)","v":0},null,null,{"$f":"M347*$P$2*VLOOKUP(DataByMiles!AE345,DataByMiles!$AT$5:$AU$6,2,FALSE)","v":0},{"$f":"DataByMiles!W345*VLOOKUP(DataByMiles!AE345,DataByMiles!$AT$5:$AU$6,2,FALSE)","v":0},null,null,{"$f":"Q347*$T$2*VLOOKUP(DataByMiles!AE345,DataByMiles!$AT$5:$AU$6,2,FALSE)","v":0},{"$f":"DataByMiles!X345*VLOOKUP(DataByMiles!AE345,DataByMiles!$AT$5:$AU$6,2,FALSE)","v":0},null,null,{"$f":"U347*$X$2*VLOOKUP(DataByMiles!AE345,DataByMiles!$AT$5:$AU$6,2,FALSE)","v":0},{"$f":"DataByMiles!Y345*VLOOKUP(DataByMiles!AE345,DataByMiles!$AT$5:$AU$6,2,FALSE)","v":0},{"$f":"DataByMiles!Z345","v":0},{"$f":"DataByMiles!AA345","v":0},null,null,{"$f":"(Y347/IF(Z347=0,$AD$1,Z347)*$AD$2)/IF(AA347=0,1,AA347)*VLOOKUP(DataByMiles!AE345,DataByMiles!$AT$5:$AU$6,2,FALSE)","v":0},"",0,0,{"$f":"(AF347+AG347)*VLOOKUP(DataByMiles!AE345,DataByMiles!$AT$5:$AU$6,2,FALSE)","v":0},0]
[null,{"$f":"DataByMiles!C346","v":"----342"},{"$f":"DataByMiles!T346*VLOOKUP(DataByMiles!AE346,DataByMiles!$AT$5:$AU$6,2,FALSE)","v":0},null,null,0,{"$f":"C348*$G$2*VLOOKUP(DataByMiles!AE346,DataByMiles!$AT$5:$AU$6,2,FALSE)","v":0},{"$f":"DataByMiles!U346*VLOOKUP(DataByMiles!AE346,DataByMiles!$AT$5:$AU$6,2,FALSE)","v":0},null,null,0,{"$f":"H348*$L$2*VLOOKUP(DataByMiles!AE346,DataByMiles!$AT$5:$AU$6,2,FALSE)","v":0},{"$f":"DataByMiles!V346*VLOOKUP(DataByMiles!AE346,DataByMiles!$AT$5:$AU$6,2,FALSE)","v":0},null,null,{"$f":"M348*$P$2*VLOOKUP(DataByMiles!AE346,DataByMiles!$AT$5:$AU$6,2,FALSE)","v":0},{"$f":"DataByMiles!W346*VLOOKUP(DataByMiles!AE346,DataByMiles!$AT$5:$AU$6,2,FALSE)","v":0},null,null,{"$f":"Q348*$T$2*VLOOKUP(DataByMiles!AE346,DataByMiles!$AT$5:$AU$6,2,FALSE)","v":0},{"$f":"DataByMiles!X346*VLOOKUP(DataByMiles!AE346,DataByMiles!$AT$5:$AU$6,2,FALSE)","v":0},null,null,{"$f":"U348*$X$2*VLOOKUP(DataByMiles!AE346,DataByMiles!$AT$5:$AU$6,2,FALSE)","v":0},{"$f":"DataByMiles!Y346*VLOOKUP(DataByMiles!AE346,DataByMiles!$AT$5:$AU$6,2,FALSE)","v":0},{"$f":"DataByMiles!Z346","v":0},{"$f":"DataByMiles!AA346","v":0},null,null,{"$f":"(Y348/IF(Z348=0,$AD$1,Z348)*$AD$2)/IF(AA348=0,1,AA348)*VLOOKUP(DataByMiles!AE346,DataByMiles!$AT$5:$AU$6,2,FALSE)","v":0},"",0,0,{"$f":"(AF348+AG348)*VLOOKUP(DataByMiles!AE346,DataByMiles!$AT$5:$AU$6,2,FALSE)","v":0},0]
[null,{"$f":"DataByMiles!C347","v":"----343"},{"$f":"DataByMiles!T347*VLOOKUP(DataByMiles!AE347,DataByMiles!$AT$5:$AU$6,2,FALSE)","v":0},null,null,0,{"$f":"C349*$G$2*VLOOKUP(DataByMiles!AE347,DataByMiles!$AT$5:$AU$6,2,FALSE)","v":0},{"$f":"DataByMiles!U347*VLOOKUP(DataByMiles!AE347,DataByMiles!$AT$5:$AU$6,2,FALSE)","v":0},null,null,0,{"$f":"H349*$L$2*VLOOKUP(DataByMiles!AE347,DataByMiles!$AT$5:$AU$6,2,FALSE)","v":0},{"$f":"DataByMiles!V347*VLOOKUP(DataByMiles!AE347,DataByMiles!$AT$5:$AU$6,2,FALSE)","v":0},null,null,{"$f":"M349*$P$2*VLOOKUP(DataByMiles!AE347,DataByMiles!$AT$5:$AU$6,2,FALSE)","v":0},{"$f":"DataByMiles!W347*VLOOKUP(DataByMiles!AE347,DataByMiles!$AT$5:$AU$6,2,FALSE)","v":0},null,null,{"$f":"Q349*$T$2*VLOOKUP(DataByMiles!AE347,DataByMiles!$AT$5:$AU$6,2,FALSE)","v":0},{"$f":"DataByMiles!X347*VLOOKUP(DataByMiles!AE347,DataByMiles!$AT$5:$AU$6,2,FALSE)","v":0},null,null,{"$f":"U349*$X$2*VLOOKUP(DataByMiles!AE347,DataByMiles!$AT$5:$AU$6,2,FALSE)","v":0},{"$f":"DataByMiles!Y347*VLOOKUP(DataByMiles!AE347,DataByMiles!$AT$5:$AU$6,2,FALSE)","v":0},{"$f":"DataByMiles!Z347","v":0},{"$f":"DataByMiles!AA347","v":0},null,null,{"$f":"(Y349/IF(Z349=0,$AD$1,Z349)*$AD$2)/IF(AA349=0,1,AA349)*VLOOKUP(DataByMiles!AE347,DataByMiles!$AT$5:$AU$6,2,FALSE)","v":0},"",0,0,{"$f":"(AF349+AG349)*VLOOKUP(DataByMiles!AE347,DataByMiles!$AT$5:$AU$6,2,FALSE)","v":0},0]
[null,{"$f":"DataByMiles!C348","v":"----344"},{"$f":"DataByMiles!T348*VLOOKUP(DataByMiles!AE348,DataByMiles!$AT$5:$AU$6,2,FALSE)","v":0},null,null,0,{"$f":"C350*$G$2*VLOOKUP(DataByMiles!AE348,DataByMiles!$AT$5:$AU$6,2,FALSE)","v":0},{"$f":"DataByMiles!U348*VLOOKUP(DataByMiles!AE348,DataByMiles!$AT$5:$AU$6,2,FALSE)","v":0},null,null,0,{"$f":"H350*$L$2*VLOOKUP(DataByMiles!AE348,DataByMiles!$AT$5:$AU$6,2,FALSE)","v":0},{"$f":"DataByMiles!V348*VLOOKUP(DataByMiles!AE348,DataByMiles!$AT$5:$AU$6,2,FALSE)","v":0},null,null,{"$f":"M350*$P$2*VLOOKUP(DataByMiles!AE348,DataByMiles!$AT$5:$AU$6,2,FALSE)","v":0},{"$f":"DataByMiles!W348*VLOOKUP(DataByMiles!AE348,DataByMiles!$AT$5:$AU$6,2,FALSE)","v":0},null,null,{"$f":"Q350*$T$2*VLOOKUP(DataByMiles!AE348,DataByMiles!$AT$5:$AU$6,2,FALSE)","v":0},{"$f":"DataByMiles!X348*VLOOKUP(DataByMiles!AE348,DataByMiles!$AT$5:$AU$6,2,FALSE)","v":0},null,null,{"$f":"U350*$X$2*VLOOKUP(DataByMiles!AE348,DataByMiles!$AT$5:$AU$6,2,FALSE)","v":0},{"$f":"DataByMiles!Y348*VLOOKUP(DataByMiles!AE348,DataByMiles!$AT$5:$AU$6,2,FALSE)","v":0},{"$f":"DataByMiles!Z348","v":0},{"$f":"DataByMiles!AA348","v":0},null,null,{"$f":"(Y350/IF(Z350=0,$AD$1,Z350)*$AD$2)/IF(AA350=0,1,AA350)*VLOOKUP(DataByMiles!AE348,DataByMiles!$AT$5:$AU$6,2,FALSE)","v":0},"",0,0,{"$f":"(AF350+AG350)*VLOOKUP(DataByMiles!AE348,DataByMiles!$AT$5:$AU$6,2,FALSE)","v":0},0]
[null,{"$f":"DataByMiles!C349","v":"----345"},{"$f":"DataByMiles!T349*VLOOKUP(DataByMiles!AE349,DataByMiles!$AT$5:$AU$6,2,FALSE)","v":0},null,null,0,{"$f":"C351*$G$2*VLOOKUP(DataByMiles!AE349,DataByMiles!$AT$5:$AU$6,2,FALSE)","v":0},{"$f":"DataByMiles!U349*VLOOKUP(DataByMiles!AE349,DataByMiles!$AT$5:$AU$6,2,FALSE)","v":0},null,null,0,{"$f":"H351*$L$2*VLOOKUP(DataByMiles!AE349,DataByMiles!$AT$5:$AU$6,2,FALSE)","v":0},{"$f":"DataByMiles!V349*VLOOKUP(DataByMiles!AE349,DataByMiles!$AT$5:$AU$6,2,FALSE)","v":0},null,null,{"$f":"M351*$P$2*VLOOKUP(DataByMiles!AE349,DataByMiles!$AT$5:$AU$6,2,FALSE)","v":0},{"$f":"DataByMiles!W349*VLOOKUP(DataByMiles!AE349,DataByMiles!$AT$5:$AU$6,2,FALSE)","v":0},null,null,{"$f":"Q351*$T$2*VLOOKUP(DataByMiles!AE349,DataByMiles!$AT$5:$AU$6,2,FALSE)","v":0},{"$f":"DataByMiles!X349*VLOOKUP(DataByMiles!AE349,DataByMiles!$AT$5:$AU$6,2,FALSE)","v":0},null,null,{"$f":"U351*$X$2*VLOOKUP(DataByMiles!AE349,DataByMiles!$AT$5:$AU$6,2,FALSE)","v":0},{"$f":"DataByMiles!Y349*VLOOKUP(DataByMiles!AE349,DataByMiles!$AT$5:$AU$6,2,FALSE)","v":0},{"$f":"DataByMiles!Z349","v":0},{"$f":"DataByMiles!AA349","v":0},null,null,{"$f":"(Y351/IF(Z351=0,$AD$1,Z351)*$AD$2)/IF(AA351=0,1,AA351)*VLOOKUP(DataByMiles!AE349,DataByMiles!$AT$5:$AU$6,2,FALSE)","v":0},"",0,0,{"$f":"(AF351+AG351)*VLOOKUP(DataByMiles!AE349,DataByMiles!$AT$5:$AU$6,2,FALSE)","v":0},0]
[null,{"$f":"DataByMiles!C350","v":"----346"},{"$f":"DataByMiles!T350*VLOOKUP(DataByMiles!AE350,DataByMiles!$AT$5:$AU$6,2,FALSE)","v":0},null,null,0,{"$f":"C352*$G$2*VLOOKUP(DataByMiles!AE350,DataByMiles!$AT$5:$AU$6,2,FALSE)","v":0},{"$f":"DataByMiles!U350*VLOOKUP(DataByMiles!AE350,DataByMiles!$AT$5:$AU$6,2,FALSE)","v":0},null,null,0,{"$f":"H352*$L$2*VLOOKUP(DataByMiles!AE350,DataByMiles!$AT$5:$AU$6,2,FALSE)","v":0},{"$f":"DataByMiles!V350*VLOOKUP(DataByMiles!AE350,DataByMiles!$AT$5:$AU$6,2,FALSE)","v":0},null,null,{"$f":"M352*$P$2*VLOOKUP(DataByMiles!AE350,DataByMiles!$AT$5:$AU$6,2,FALSE)","v":0},{"$f":"DataByMiles!W350*VLOOKUP(DataByMiles!AE350,DataByMiles!$AT$5:$AU$6,2,FALSE)","v":0},null,null,{"$f":"Q352*$T$2*VLOOKUP(DataByMiles!AE350,DataByMiles!$AT$5:$AU$6,2,FALSE)","v":0},{"$f":"DataByMiles!X350*VLOOKUP(DataByMiles!AE350,DataByMiles!$AT$5:$AU$6,2,FALSE)","v":0},null,null,{"$f":"U352*$X$2*VLOOKUP(DataByMiles!AE350,DataByMiles!$AT$5:$AU$6,2,FALSE)","v":0},{"$f":"DataByMiles!Y350*VLOOKUP(DataByMiles!AE350,DataByMiles!$AT$5:$AU$6,2,FALSE)","v":0},{"$f":"DataByMiles!Z350","v":0},{"$f":"DataByMiles!AA350","v":0},null,null,{"$f":"(Y352/IF(Z352=0,$AD$1,Z352)*$AD$2)/IF(AA352=0,1,AA352)*VLOOKUP(DataByMiles!AE350,DataByMiles!$AT$5:$AU$6,2,FALSE)","v":0},"",0,0,{"$f":"(AF352+AG352)*VLOOKUP(DataByMiles!AE350,DataByMiles!$AT$5:$AU$6,2,FALSE)","v":0},0]
[null,{"$f":"DataByMiles!C351","v":"----347"},{"$f":"DataByMiles!T351*VLOOKUP(DataByMiles!AE351,DataByMiles!$AT$5:$AU$6,2,FALSE)","v":0},null,null,0,{"$f":"C353*$G$2*VLOOKUP(DataByMiles!AE351,DataByMiles!$AT$5:$AU$6,2,FALSE)","v":0},{"$f":"DataByMiles!U351*VLOOKUP(DataByMiles!AE351,DataByMiles!$AT$5:$AU$6,2,FALSE)","v":0},null,null,0,{"$f":"H353*$L$2*VLOOKUP(DataByMiles!AE351,DataByMiles!$AT$5:$AU$6,2,FALSE)","v":0},{"$f":"DataByMiles!V351*VLOOKUP(DataByMiles!AE351,DataByMiles!$AT$5:$AU$6,2,FALSE)","v":0},null,null,{"$f":"M353*$P$2*VLOOKUP(DataByMiles!AE351,DataByMiles!$AT$5:$AU$6,2,FALSE)","v":0},{"$f":"DataByMiles!W351*VLOOKUP(DataByMiles!AE351,DataByMiles!$AT$5:$AU$6,2,FALSE)","v":0},null,null,{"$f":"Q353*$T$2*VLOOKUP(DataByMiles!AE351,DataByMiles!$AT$5:$AU$6,2,FALSE)","v":0},{"$f":"DataByMiles!X351*VLOOKUP(DataByMiles!AE351,DataByMiles!$AT$5:$AU$6,2,FALSE)","v":0},null,null,{"$f":"U353*$X$2*VLOOKUP(DataByMiles!AE351,DataByMiles!$AT$5:$AU$6,2,FALSE)","v":0},{"$f":"DataByMiles!Y351*VLOOKUP(DataByMiles!AE351,DataByMiles!$AT$5:$AU$6,2,FALSE)","v":0},{"$f":"DataByMiles!Z351","v":0},{"$f":"DataByMiles!AA351","v":0},null,null,{"$f":"(Y353/IF(Z353=0,$AD$1,Z353)*$AD$2)/IF(AA353=0,1,AA353)*VLOOKUP(DataByMiles!AE351,DataByMiles!$AT$5:$AU$6,2,FALSE)","v":0},"",0,0,{"$f":"(AF353+AG353)*VLOOKUP(DataByMiles!AE351,DataByMiles!$AT$5:$AU$6,2,FALSE)","v":0},0]
[null,{"$f":"DataByMiles!C352","v":"----348"},{"$f":"DataByMiles!T352*VLOOKUP(DataByMiles!AE352,DataByMiles!$AT$5:$AU$6,2,FALSE)","v":0},null,null,0,{"$f":"C354*$G$2*VLOOKUP(DataByMiles!AE352,DataByMiles!$AT$5:$AU$6,2,FALSE)","v":0},{"$f":"DataByMiles!U352*VLOOKUP(DataByMiles!AE352,DataByMiles!$AT$5:$AU$6,2,FALSE)","v":0},null,null,0,{"$f":"H354*$L$2*VLOOKUP(DataByMiles!AE352,DataByMiles!$AT$5:$AU$6,2,FALSE)","v":0},{"$f":"DataByMiles!V352*VLOOKUP(DataByMiles!AE352,DataByMiles!$AT$5:$AU$6,2,FALSE)","v":0},null,null,{"$f":"M354*$P$2*VLOOKUP(DataByMiles!AE352,DataByMiles!$AT$5:$AU$6,2,FALSE)","v":0},{"$f":"DataByMiles!W352*VLOOKUP(DataByMiles!AE352,DataByMiles!$AT$5:$AU$6,2,FALSE)","v":0},null,null,{"$f":"Q354*$T$2*VLOOKUP(DataByMiles!AE352,DataByMiles!$AT$5:$AU$6,2,FALSE)","v":0},{"$f":"DataByMiles!X352*VLOOKUP(DataByMiles!AE352,DataByMiles!$AT$5:$AU$6,2,FALSE)","v":0},null,null,{"$f":"U354*$X$2*VLOOKUP(DataByMiles!AE352,DataByMiles!$AT$5:$AU$6,2,FALSE)","v":0},{"$f":"DataByMiles!Y352*VLOOKUP(DataByMiles!AE352,DataByMiles!$AT$5:$AU$6,2,FALSE)","v":0},{"$f":"DataByMiles!Z352","v":0},{"$f":"DataByMiles!AA352","v":0},null,null,{"$f":"(Y354/IF(Z354=0,$AD$1,Z354)*$AD$2)/IF(AA354=0,1,AA354)*VLOOKUP(DataByMiles!AE352,DataByMiles!$AT$5:$AU$6,2,FALSE)","v":0},"",0,0,{"$f":"(AF354+AG354)*VLOOKUP(DataByMiles!AE352,DataByMiles!$AT$5:$AU$6,2,FALSE)","v":0},0]
[null,{"$f":"DataByMiles!C353","v":"----349"},{"$f":"DataByMiles!T353*VLOOKUP(DataByMiles!AE353,DataByMiles!$AT$5:$AU$6,2,FALSE)","v":0},null,null,0,{"$f":"C355*$G$2*VLOOKUP(DataByMiles!AE353,DataByMiles!$AT$5:$AU$6,2,FALSE)","v":0},{"$f":"DataByMiles!U353*VLOOKUP(DataByMiles!AE353,DataByMiles!$AT$5:$AU$6,2,FALSE)","v":0},null,null,0,{"$f":"H355*$L$2*VLOOKUP(DataByMiles!AE353,DataByMiles!$AT$5:$AU$6,2,FALSE)","v":0},{"$f":"DataByMiles!V353*VLOOKUP(DataByMiles!AE353,DataByMiles!$AT$5:$AU$6,2,FALSE)","v":0},null,null,{"$f":"M355*$P$2*VLOOKUP(DataByMiles!AE353,DataByMiles!$AT$5:$AU$6,2,FALSE)","v":0},{"$f":"DataByMiles!W353*VLOOKUP(DataByMiles!AE353,DataByMiles!$AT$5:$AU$6,2,FALSE)","v":0},null,null,{"$f":"Q355*$T$2*VLOOKUP(DataByMiles!AE353,DataByMiles!$AT$5:$AU$6,2,FALSE)","v":0},{"$f":"DataByMiles!X353*VLOOKUP(DataByMiles!AE353,DataByMiles!$AT$5:$AU$6,2,FALSE)","v":0},null,null,{"$f":"U355*$X$2*VLOOKUP(DataByMiles!AE353,DataByMiles!$AT$5:$AU$6,2,FALSE)","v":0},{"$f":"DataByMiles!Y353*VLOOKUP(DataByMiles!AE353,DataByMiles!$AT$5:$AU$6,2,FALSE)","v":0},{"$f":"DataByMiles!Z353","v":0},{"$f":"DataByMiles!AA353","v":0},null,null,{"$f":"(Y355/IF(Z355=0,$AD$1,Z355)*$AD$2)/IF(AA355=0,1,AA355)*VLOOKUP(DataByMiles!AE353,DataByMiles!$AT$5:$AU$6,2,FALSE)","v":0},"",0,0,{"$f":"(AF355+AG355)*VLOOKUP(DataByMiles!AE353,DataByMiles!$AT$5:$AU$6,2,FALSE)","v":0},0]
[null,{"$f":"DataByMiles!C354","v":"----350"},{"$f":"DataByMiles!T354*VLOOKUP(DataByMiles!AE354,DataByMiles!$AT$5:$AU$6,2,FALSE)","v":0},null,null,0,{"$f":"C356*$G$2*VLOOKUP(DataByMiles!AE354,DataByMiles!$AT$5:$AU$6,2,FALSE)","v":0},{"$f":"DataByMiles!U354*VLOOKUP(DataByMiles!AE354,DataByMiles!$AT$5:$AU$6,2,FALSE)","v":0},null,null,0,{"$f":"H356*$L$2*VLOOKUP(DataByMiles!AE354,DataByMiles!$AT$5:$AU$6,2,FALSE)","v":0},{"$f":"DataByMiles!V354*VLOOKUP(DataByMiles!AE354,DataByMiles!$AT$5:$AU$6,2,FALSE)","v":0},null,null,{"$f":"M356*$P$2*VLOOKUP(DataByMiles!AE354,DataByMiles!$AT$5:$AU$6,2,FALSE)","v":0},{"$f":"DataByMiles!W354*VLOOKUP(DataByMiles!AE354,DataByMiles!$AT$5:$AU$6,2,FALSE)","v":0},null,null,{"$f":"Q356*$T$2*VLOOKUP(DataByMiles!AE354,DataByMiles!$AT$5:$AU$6,2,FALSE)","v":0},{"$f":"DataByMiles!X354*VLOOKUP(DataByMiles!AE354,DataByMiles!$AT$5:$AU$6,2,FALSE)","v":0},null,null,{"$f":"U356*$X$2*VLOOKUP(DataByMiles!AE354,DataByMiles!$AT$5:$AU$6,2,FALSE)","v":0},{"$f":"DataByMiles!Y354*VLOOKUP(DataByMiles!AE354,DataByMiles!$AT$5:$AU$6,2,FALSE)","v":0},{"$f":"DataByMiles!Z354","v":0},{"$f":"DataByMiles!AA354","v":0},null,null,{"$f":"(Y356/IF(Z356=0,$AD$1,Z356)*$AD$2)/IF(AA356=0,1,AA356)*VLOOKUP(DataByMiles!AE354,DataByMiles!$AT$5:$AU$6,2,FALSE)","v":0},"",0,0,{"$f":"(AF356+AG356)*VLOOKUP(DataByMiles!AE354,DataByMiles!$AT$5:$AU$6,2,FALSE)","v":0},0]
[null,{"$f":"DataByMiles!C355","v":"----351"},{"$f":"DataByMiles!T355*VLOOKUP(DataByMiles!AE355,DataByMiles!$AT$5:$AU$6,2,FALSE)","v":0},null,null,0,{"$f":"C357*$G$2*VLOOKUP(DataByMiles!AE355,DataByMiles!$AT$5:$AU$6,2,FALSE)","v":0},{"$f":"DataByMiles!U355*VLOOKUP(DataByMiles!AE355,DataByMiles!$AT$5:$AU$6,2,FALSE)","v":0},null,null,0,{"$f":"H357*$L$2*VLOOKUP(DataByMiles!AE355,DataByMiles!$AT$5:$AU$6,2,FALSE)","v":0},{"$f":"DataByMiles!V355*VLOOKUP(DataByMiles!AE355,DataByMiles!$AT$5:$AU$6,2,FALSE)","v":0},null,null,{"$f":"M357*$P$2*VLOOKUP(DataByMiles!AE355,DataByMiles!$AT$5:$AU$6,2,FALSE)","v":0},{"$f":"DataByMiles!W355*VLOOKUP(DataByMiles!AE355,DataByMiles!$AT$5:$AU$6,2,FALSE)","v":0},null,null,{"$f":"Q357*$T$2*VLOOKUP(DataByMiles!AE355,DataByMiles!$AT$5:$AU$6,2,FALSE)","v":0},{"$f":"DataByMiles!X355*VLOOKUP(DataByMiles!AE355,DataByMiles!$AT$5:$AU$6,2,FALSE)","v":0},null,null,{"$f":"U357*$X$2*VLOOKUP(DataByMiles!AE355,DataByMiles!$AT$5:$AU$6,2,FALSE)","v":0},{"$f":"DataByMiles!Y355*VLOOKUP(DataByMiles!AE355,DataByMiles!$AT$5:$AU$6,2,FALSE)","v":0},{"$f":"DataByMiles!Z355","v":0},{"$f":"DataByMiles!AA355","v":0},null,null,{"$f":"(Y357/IF(Z357=0,$AD$1,Z357)*$AD$2)/IF(AA357=0,1,AA357)*VLOOKUP(DataByMiles!AE355,DataByMiles!$AT$5:$AU$6,2,FALSE)","v":0},"",0,0,{"$f":"(AF357+AG357)*VLOOKUP(DataByMiles!AE355,DataByMiles!$AT$5:$AU$6,2,FALSE)","v":0},0]
[null,{"$f":"DataByMiles!C356","v":"----352"},{"$f":"DataByMiles!T356*VLOOKUP(DataByMiles!AE356,DataByMiles!$AT$5:$AU$6,2,FALSE)","v":0},null,null,0,{"$f":"C358*$G$2*VLOOKUP(DataByMiles!AE356,DataByMiles!$AT$5:$AU$6,2,FALSE)","v":0},{"$f":"DataByMiles!U356*VLOOKUP(DataByMiles!AE356,DataByMiles!$AT$5:$AU$6,2,FALSE)","v":0},null,null,0,{"$f":"H358*$L$2*VLOOKUP(DataByMiles!AE356,DataByMiles!$AT$5:$AU$6,2,FALSE)","v":0},{"$f":"DataByMiles!V356*VLOOKUP(DataByMiles!AE356,DataByMiles!$AT$5:$AU$6,2,FALSE)","v":0},null,null,{"$f":"M358*$P$2*VLOOKUP(DataByMiles!AE356,DataByMiles!$AT$5:$AU$6,2,FALSE)","v":0},{"$f":"DataByMiles!W356*VLOOKUP(DataByMiles!AE356,DataByMiles!$AT$5:$AU$6,2,FALSE)","v":0},null,null,{"$f":"Q358*$T$2*VLOOKUP(DataByMiles!AE356,DataByMiles!$AT$5:$AU$6,2,FALSE)","v":0},{"$f":"DataByMiles!X356*VLOOKUP(DataByMiles!AE356,DataByMiles!$AT$5:$AU$6,2,FALSE)","v":0},null,null,{"$f":"U358*$X$2*VLOOKUP(DataByMiles!AE356,DataByMiles!$AT$5:$AU$6,2,FALSE)","v":0},{"$f":"DataByMiles!Y356*VLOOKUP(DataByMiles!AE356,DataByMiles!$AT$5:$AU$6,2,FALSE)","v":0},{"$f":"DataByMiles!Z356","v":0},{"$f":"DataByMiles!AA356","v":0},null,null,{"$f":"(Y358/IF(Z358=0,$AD$1,Z358)*$AD$2)/IF(AA358=0,1,AA358)*VLOOKUP(DataByMiles!AE356,DataByMiles!$AT$5:$AU$6,2,FALSE)","v":0},"",0,0,{"$f":"(AF358+AG358)*VLOOKUP(DataByMiles!AE356,DataByMiles!$AT$5:$AU$6,2,FALSE)","v":0},0]
[null,{"$f":"DataByMiles!C357","v":"----353"},{"$f":"DataByMiles!T357*VLOOKUP(DataByMiles!AE357,DataByMiles!$AT$5:$AU$6,2,FALSE)","v":0},null,null,0,{"$f":"C359*$G$2*VLOOKUP(DataByMiles!AE357,DataByMiles!$AT$5:$AU$6,2,FALSE)","v":0},{"$f":"DataByMiles!U357*VLOOKUP(DataByMiles!AE357,DataByMiles!$AT$5:$AU$6,2,FALSE)","v":0},null,null,0,{"$f":"H359*$L$2*VLOOKUP(DataByMiles!AE357,DataByMiles!$AT$5:$AU$6,2,FALSE)","v":0},{"$f":"DataByMiles!V357*VLOOKUP(DataByMiles!AE357,DataByMiles!$AT$5:$AU$6,2,FALSE)","v":0},null,null,{"$f":"M359*$P$2*VLOOKUP(DataByMiles!AE357,DataByMiles!$AT$5:$AU$6,2,FALSE)","v":0},{"$f":"DataByMiles!W357*VLOOKUP(DataByMiles!AE357,DataByMiles!$AT$5:$AU$6,2,FALSE)","v":0},null,null,{"$f":"Q359*$T$2*VLOOKUP(DataByMiles!AE357,DataByMiles!$AT$5:$AU$6,2,FALSE)","v":0},{"$f":"DataByMiles!X357*VLOOKUP(DataByMiles!AE357,DataByMiles!$AT$5:$AU$6,2,FALSE)","v":0},null,null,{"$f":"U359*$X$2*VLOOKUP(DataByMiles!AE357,DataByMiles!$AT$5:$AU$6,2,FALSE)","v":0},{"$f":"DataByMiles!Y357*VLOOKUP(DataByMiles!AE357,DataByMiles!$AT$5:$AU$6,2,FALSE)","v":0},{"$f":"DataByMiles!Z357","v":0},{"$f":"DataByMiles!AA357","v":0},null,null,{"$f":"(Y359/IF(Z359=0,$AD$1,Z359)*$AD$2)/IF(AA359=0,1,AA359)*VLOOKUP(DataByMiles!AE357,DataByMiles!$AT$5:$AU$6,2,FALSE)","v":0},"",0,0,{"$f":"(AF359+AG359)*VLOOKUP(DataByMiles!AE357,DataByMiles!$AT$5:$AU$6,2,FALSE)","v":0},0]
[null,{"$f":"DataByMiles!C358","v":"----354"},{"$f":"DataByMiles!T358*VLOOKUP(DataByMiles!AE358,DataByMiles!$AT$5:$AU$6,2,FALSE)","v":0},null,null,0,{"$f":"C360*$G$2*VLOOKUP(DataByMiles!AE358,DataByMiles!$AT$5:$AU$6,2,FALSE)","v":0},{"$f":"DataByMiles!U358*VLOOKUP(DataByMiles!AE358,DataByMiles!$AT$5:$AU$6,2,FALSE)","v":0},null,null,0,{"$f":"H360*$L$2*VLOOKUP(DataByMiles!AE358,DataByMiles!$AT$5:$AU$6,2,FALSE)","v":0},{"$f":"DataByMiles!V358*VLOOKUP(DataByMiles!AE358,DataByMiles!$AT$5:$AU$6,2,FALSE)","v":0},null,null,{"$f":"M360*$P$2*VLOOKUP(DataByMiles!AE358,DataByMiles!$AT$5:$AU$6,2,FALSE)","v":0},{"$f":"DataByMiles!W358*VLOOKUP(DataByMiles!AE358,DataByMiles!$AT$5:$AU$6,2,FALSE)","v":0},null,null,{"$f":"Q360*$T$2*VLOOKUP(DataByMiles!AE358,DataByMiles!$AT$5:$AU$6,2,FALSE)","v":0},{"$f":"DataByMiles!X358*VLOOKUP(DataByMiles!AE358,DataByMiles!$AT$5:$AU$6,2,FALSE)","v":0},null,null,{"$f":"U360*$X$2*VLOOKUP(DataByMiles!AE358,DataByMiles!$AT$5:$AU$6,2,FALSE)","v":0},{"$f":"DataByMiles!Y358*VLOOKUP(DataByMiles!AE358,DataByMiles!$AT$5:$AU$6,2,FALSE)","v":0},{"$f":"DataByMiles!Z358","v":0},{"$f":"DataByMiles!AA358","v":0},null,null,{"$f":"(Y360/IF(Z360=0,$AD$1,Z360)*$AD$2)/IF(AA360=0,1,AA360)*VLOOKUP(DataByMiles!AE358,DataByMiles!$AT$5:$AU$6,2,FALSE)","v":0},"",0,0,{"$f":"(AF360+AG360)*VLOOKUP(DataByMiles!AE358,DataByMiles!$AT$5:$AU$6,2,FALSE)","v":0},0]
[null,{"$f":"DataByMiles!C359","v":"----355"},{"$f":"DataByMiles!T359*VLOOKUP(DataByMiles!AE359,DataByMiles!$AT$5:$AU$6,2,FALSE)","v":0},null,null,0,{"$f":"C361*$G$2*VLOOKUP(DataByMiles!AE359,DataByMiles!$AT$5:$AU$6,2,FALSE)","v":0},{"$f":"DataByMiles!U359*VLOOKUP(DataByMiles!AE359,DataByMiles!$AT$5:$AU$6,2,FALSE)","v":0},null,null,0,{"$f":"H361*$L$2*VLOOKUP(DataByMiles!AE359,DataByMiles!$AT$5:$AU$6,2,FALSE)","v":0},{"$f":"DataByMiles!V359*VLOOKUP(DataByMiles!AE359,DataByMiles!$AT$5:$AU$6,2,FALSE)","v":0},null,null,{"$f":"M361*$P$2*VLOOKUP(DataByMiles!AE359,DataByMiles!$AT$5:$AU$6,2,FALSE)","v":0},{"$f":"DataByMiles!W359*VLOOKUP(DataByMiles!AE359,DataByMiles!$AT$5:$AU$6,2,FALSE)","v":0},null,null,{"$f":"Q361*$T$2*VLOOKUP(DataByMiles!AE359,DataByMiles!$AT$5:$AU$6,2,FALSE)","v":0},{"$f":"DataByMiles!X359*VLOOKUP(DataByMiles!AE359,DataByMiles!$AT$5:$AU$6,2,FALSE)","v":0},null,null,{"$f":"U361*$X$2*VLOOKUP(DataByMiles!AE359,DataByMiles!$AT$5:$AU$6,2,FALSE)","v":0},{"$f":"DataByMiles!Y359*VLOOKUP(DataByMiles!AE359,DataByMiles!$AT$5:$AU$6,2,FALSE)","v":0},{"$f":"DataByMiles!Z359","v":0},{"$f":"DataByMiles!AA359","v":0},null,null,{"$f":"(Y361/IF(Z361=0,$AD$1,Z361)*$AD$2)/IF(AA361=0,1,AA361)*VLOOKUP(DataByMiles!AE359,DataByMiles!$AT$5:$AU$6,2,FALSE)","v":0},"",0,0,{"$f":"(AF361+AG361)*VLOOKUP(DataByMiles!AE359,DataByMiles!$AT$5:$AU$6,2,FALSE)","v":0},0]
[null,{"$f":"DataByMiles!C360","v":"----356"},{"$f":"DataByMiles!T360*VLOOKUP(DataByMiles!AE360,DataByMiles!$AT$5:$AU$6,2,FALSE)","v":0},null,null,0,{"$f":"C362*$G$2*VLOOKUP(DataByMiles!AE360,DataByMiles!$AT$5:$AU$6,2,FALSE)","v":0},{"$f":"DataByMiles!U360*VLOOKUP(DataByMiles!AE360,DataByMiles!$AT$5:$AU$6,2,FALSE)","v":0},null,null,0,{"$f":"H362*$L$2*VLOOKUP(DataByMiles!AE360,DataByMiles!$AT$5:$AU$6,2,FALSE)","v":0},{"$f":"DataByMiles!V360*VLOOKUP(DataByMiles!AE360,DataByMiles!$AT$5:$AU$6,2,FALSE)","v":0},null,null,{"$f":"M362*$P$2*VLOOKUP(DataByMiles!AE360,DataByMiles!$AT$5:$AU$6,2,FALSE)","v":0},{"$f":"DataByMiles!W360*VLOOKUP(DataByMiles!AE360,DataByMiles!$AT$5:$AU$6,2,FALSE)","v":0},null,null,{"$f":"Q362*$T$2*VLOOKUP(DataByMiles!AE360,DataByMiles!$AT$5:$AU$6,2,FALSE)","v":0},{"$f":"DataByMiles!X360*VLOOKUP(DataByMiles!AE360,DataByMiles!$AT$5:$AU$6,2,FALSE)","v":0},null,null,{"$f":"U362*$X$2*VLOOKUP(DataByMiles!AE360,DataByMiles!$AT$5:$AU$6,2,FALSE)","v":0},{"$f":"DataByMiles!Y360*VLOOKUP(DataByMiles!AE360,DataByMiles!$AT$5:$AU$6,2,FALSE)","v":0},{"$f":"DataByMiles!Z360","v":0},{"$f":"DataByMiles!AA360","v":0},null,null,{"$f":"(Y362/IF(Z362=0,$AD$1,Z362)*$AD$2)/IF(AA362=0,1,AA362)*VLOOKUP(DataByMiles!AE360,DataByMiles!$AT$5:$AU$6,2,FALSE)","v":0},"",0,0,{"$f":"(AF362+AG362)*VLOOKUP(DataByMiles!AE360,DataByMiles!$AT$5:$AU$6,2,FALSE)","v":0},0]
[null,{"$f":"DataByMiles!C361","v":"----357"},{"$f":"DataByMiles!T361*VLOOKUP(DataByMiles!AE361,DataByMiles!$AT$5:$AU$6,2,FALSE)","v":0},null,null,0,{"$f":"C363*$G$2*VLOOKUP(DataByMiles!AE361,DataByMiles!$AT$5:$AU$6,2,FALSE)","v":0},{"$f":"DataByMiles!U361*VLOOKUP(DataByMiles!AE361,DataByMiles!$AT$5:$AU$6,2,FALSE)","v":0},null,null,0,{"$f":"H363*$L$2*VLOOKUP(DataByMiles!AE361,DataByMiles!$AT$5:$AU$6,2,FALSE)","v":0},{"$f":"DataByMiles!V361*VLOOKUP(DataByMiles!AE361,DataByMiles!$AT$5:$AU$6,2,FALSE)","v":0},null,null,{"$f":"M363*$P$2*VLOOKUP(DataByMiles!AE361,DataByMiles!$AT$5:$AU$6,2,FALSE)","v":0},{"$f":"DataByMiles!W361*VLOOKUP(DataByMiles!AE361,DataByMiles!$AT$5:$AU$6,2,FALSE)","v":0},null,null,{"$f":"Q363*$T$2*VLOOKUP(DataByMiles!AE361,DataByMiles!$AT$5:$AU$6,2,FALSE)","v":0},{"$f":"DataByMiles!X361*VLOOKUP(DataByMiles!AE361,DataByMiles!$AT$5:$AU$6,2,FALSE)","v":0},null,null,{"$f":"U363*$X$2*VLOOKUP(DataByMiles!AE361,DataByMiles!$AT$5:$AU$6,2,FALSE)","v":0},{"$f":"DataByMiles!Y361*VLOOKUP(DataByMiles!AE361,DataByMiles!$AT$5:$AU$6,2,FALSE)","v":0},{"$f":"DataByMiles!Z361","v":0},{"$f":"DataByMiles!AA361","v":0},null,null,{"$f":"(Y363/IF(Z363=0,$AD$1,Z363)*$AD$2)/IF(AA363=0,1,AA363)*VLOOKUP(DataByMiles!AE361,DataByMiles!$AT$5:$AU$6,2,FALSE)","v":0},"",0,0,{"$f":"(AF363+AG363)*VLOOKUP(DataByMiles!AE361,DataByMiles!$AT$5:$AU$6,2,FALSE)","v":0},0]
[null,{"$f":"DataByMiles!C362","v":"----358"},{"$f":"DataByMiles!T362*VLOOKUP(DataByMiles!AE362,DataByMiles!$AT$5:$AU$6,2,FALSE)","v":0},null,null,0,{"$f":"C364*$G$2*VLOOKUP(DataByMiles!AE362,DataByMiles!$AT$5:$AU$6,2,FALSE)","v":0},{"$f":"DataByMiles!U362*VLOOKUP(DataByMiles!AE362,DataByMiles!$AT$5:$AU$6,2,FALSE)","v":0},null,null,0,{"$f":"H364*$L$2*VLOOKUP(DataByMiles!AE362,DataByMiles!$AT$5:$AU$6,2,FALSE)","v":0},{"$f":"DataByMiles!V362*VLOOKUP(DataByMiles!AE362,DataByMiles!$AT$5:$AU$6,2,FALSE)","v":0},null,null,{"$f":"M364*$P$2*VLOOKUP(DataByMiles!AE362,DataByMiles!$AT$5:$AU$6,2,FALSE)","v":0},{"$f":"DataByMiles!W362*VLOOKUP(DataByMiles!AE362,DataByMiles!$AT$5:$AU$6,2,FALSE)","v":0},null,null,{"$f":"Q364*$T$2*VLOOKUP(DataByMiles!AE362,DataByMiles!$AT$5:$AU$6,2,FALSE)","v":0},{"$f":"DataByMiles!X362*VLOOKUP(DataByMiles!AE362,DataByMiles!$AT$5:$AU$6,2,FALSE)","v":0},null,null,{"$f":"U364*$X$2*VLOOKUP(DataByMiles!AE362,DataByMiles!$AT$5:$AU$6,2,FALSE)","v":0},{"$f":"DataByMiles!Y362*VLOOKUP(DataByMiles!AE362,DataByMiles!$AT$5:$AU$6,2,FALSE)","v":0},{"$f":"DataByMiles!Z362","v":0},{"$f":"DataByMiles!AA362","v":0},null,null,{"$f":"(Y364/IF(Z364=0,$AD$1,Z364)*$AD$2)/IF(AA364=0,1,AA364)*VLOOKUP(DataByMiles!AE362,DataByMiles!$AT$5:$AU$6,2,FALSE)","v":0},"",0,0,{"$f":"(AF364+AG364)*VLOOKUP(DataByMiles!AE362,DataByMiles!$AT$5:$AU$6,2,FALSE)","v":0},0]
[null,{"$f":"DataByMiles!C363","v":"----359"},{"$f":"DataByMiles!T363*VLOOKUP(DataByMiles!AE363,DataByMiles!$AT$5:$AU$6,2,FALSE)","v":0},null,null,0,{"$f":"C365*$G$2*VLOOKUP(DataByMiles!AE363,DataByMiles!$AT$5:$AU$6,2,FALSE)","v":0},{"$f":"DataByMiles!U363*VLOOKUP(DataByMiles!AE363,DataByMiles!$AT$5:$AU$6,2,FALSE)","v":0},null,null,0,{"$f":"H365*$L$2*VLOOKUP(DataByMiles!AE363,DataByMiles!$AT$5:$AU$6,2,FALSE)","v":0},{"$f":"DataByMiles!V363*VLOOKUP(DataByMiles!AE363,DataByMiles!$AT$5:$AU$6,2,FALSE)","v":0},null,null,{"$f":"M365*$P$2*VLOOKUP(DataByMiles!AE363,DataByMiles!$AT$5:$AU$6,2,FALSE)","v":0},{"$f":"DataByMiles!W363*VLOOKUP(DataByMiles!AE363,DataByMiles!$AT$5:$AU$6,2,FALSE)","v":0},null,null,{"$f":"Q365*$T$2*VLOOKUP(DataByMiles!AE363,DataByMiles!$AT$5:$AU$6,2,FALSE)","v":0},{"$f":"DataByMiles!X363*VLOOKUP(DataByMiles!AE363,DataByMiles!$AT$5:$AU$6,2,FALSE)","v":0},null,null,{"$f":"U365*$X$2*VLOOKUP(DataByMiles!AE363,DataByMiles!$AT$5:$AU$6,2,FALSE)","v":0},{"$f":"DataByMiles!Y363*VLOOKUP(DataByMiles!AE363,DataByMiles!$AT$5:$AU$6,2,FALSE)","v":0},{"$f":"DataByMiles!Z363","v":0},{"$f":"DataByMiles!AA363","v":0},null,null,{"$f":"(Y365/IF(Z365=0,$AD$1,Z365)*$AD$2)/IF(AA365=0,1,AA365)*VLOOKUP(DataByMiles!AE363,DataByMiles!$AT$5:$AU$6,2,FALSE)","v":0},"",0,0,{"$f":"(AF365+AG365)*VLOOKUP(DataByMiles!AE363,DataByMiles!$AT$5:$AU$6,2,FALSE)","v":0},0]
[null,{"$f":"DataByMiles!C364","v":"----360"},{"$f":"DataByMiles!T364*VLOOKUP(DataByMiles!AE364,DataByMiles!$AT$5:$AU$6,2,FALSE)","v":0},null,null,{"$f":"C366*$F$2","v":0},{"$f":"C366*$G$2*VLOOKUP(DataByMiles!AE364,DataByMiles!$AT$5:$AU$6,2,FALSE)","v":0},{"$f":"DataByMiles!U364*VLOOKUP(DataByMiles!AE364,DataByMiles!$AT$5:$AU$6,2,FALSE)","v":0},null,null,{"$f":"H366*$K$2","v":0},{"$f":"H366*$L$2*VLOOKUP(DataByMiles!AE364,DataByMiles!$AT$5:$AU$6,2,FALSE)","v":0},{"$f":"DataByMiles!V364*VLOOKUP(DataByMiles!AE364,DataByMiles!$AT$5:$AU$6,2,FALSE)","v":0},null,null,{"$f":"M366*$P$2*VLOOKUP(DataByMiles!AE364,DataByMiles!$AT$5:$AU$6,2,FALSE)","v":0},{"$f":"DataByMiles!W364*VLOOKUP(DataByMiles!AE364,DataByMiles!$AT$5:$AU$6,2,FALSE)","v":0},null,null,{"$f":"Q366*$T$2*VLOOKUP(DataByMiles!AE364,DataByMiles!$AT$5:$AU$6,2,FALSE)","v":0},{"$f":"DataByMiles!X364*VLOOKUP(DataByMiles!AE364,DataByMiles!$AT$5:$AU$6,2,FALSE)","v":0},null,null,{"$f":"U366*$X$2*VLOOKUP(DataByMiles!AE364,DataByMiles!$AT$5:$AU$6,2,FALSE)","v":0},{"$f":"DataByMiles!Y364*VLOOKUP(DataByMiles!AE364,DataByMiles!$AT$5:$AU$6,2,FALSE)","v":0},{"$f":"DataByMiles!Z364","v":0},{"$f":"DataByMiles!AA364","v":0},null,null,{"$f":"(Y366/IF(Z366=0,$AD$1,Z366)*$AD$2)/IF(AA366=0,1,AA366)*VLOOKUP(DataByMiles!AE364,DataByMiles!$AT$5:$AU$6,2,FALSE)","v":0},{"$f":"IF(C366+H366+M366+Q366+U366+Y366>0,C366+H366+M366+Q366+U366+Y366,\"\")","v":""},{"$f":"F366+K366+P366+T366+X366+AD366","v":0},{"$f":"G366+L366","v":0},{"$f":"(AF366+AG366)*VLOOKUP(DataByMiles!AE364,DataByMiles!$AT$5:$AU$6,2,FALSE)","v":0},{"$f":"IFERROR(AH366/AE366,0)","v":0}]
[null,{"$f":"DataByMiles!C365","v":"----361"},{"$f":"DataByMiles!T365*VLOOKUP(DataByMiles!AE365,DataByMiles!$AT$5:$AU$6,2,FALSE)","v":0},null,null,0,{"$f":"C367*$G$2*VLOOKUP(DataByMiles!AE365,DataByMiles!$AT$5:$AU$6,2,FALSE)","v":0},{"$f":"DataByMiles!U365*VLOOKUP(DataByMiles!AE365,DataByMiles!$AT$5:$AU$6,2,FALSE)","v":0},null,null,0,{"$f":"H367*$L$2*VLOOKUP(DataByMiles!AE365,DataByMiles!$AT$5:$AU$6,2,FALSE)","v":0},{"$f":"DataByMiles!V365*VLOOKUP(DataByMiles!AE365,DataByMiles!$AT$5:$AU$6,2,FALSE)","v":0},null,null,{"$f":"M367*$P$2*VLOOKUP(DataByMiles!AE365,DataByMiles!$AT$5:$AU$6,2,FALSE)","v":0},{"$f":"DataByMiles!W365*VLOOKUP(DataByMiles!AE365,DataByMiles!$AT$5:$AU$6,2,FALSE)","v":0},null,null,{"$f":"Q367*$T$2*VLOOKUP(DataByMiles!AE365,DataByMiles!$AT$5:$AU$6,2,FALSE)","v":0},{"$f":"DataByMiles!X365*VLOOKUP(DataByMiles!AE365,DataByMiles!$AT$5:$AU$6,2,FALSE)","v":0},null,null,{"$f":"U367*$X$2*VLOOKUP(DataByMiles!AE365,DataByMiles!$AT$5:$AU$6,2,FALSE)","v":0},{"$f":"DataByMiles!Y365*VLOOKUP(DataByMiles!AE365,DataByMiles!$AT$5:$AU$6,2,FALSE)","v":0},{"$f":"DataByMiles!Z365","v":0},{"$f":"DataByMiles!AA365","v":0},null,null,{"$f":"(Y367/IF(Z367=0,$AD$1,Z367)*$AD$2)/IF(AA367=0,1,AA367)*VLOOKUP(DataByMiles!AE365,DataByMiles!$AT$5:$AU$6,2,FALSE)","v":0},"",0,0,{"$f":"(AF367+AG367)*VLOOKUP(DataByMiles!AE365,DataByMiles!$AT$5:$AU$6,2,FALSE)","v":0},0]
[null,{"$f":"DataByMiles!C366","v":"----362"},{"$f":"DataByMiles!T366*VLOOKUP(DataByMiles!AE366,DataByMiles!$AT$5:$AU$6,2,FALSE)","v":0},null,null,0,{"$f":"C368*$G$2*VLOOKUP(DataByMiles!AE366,DataByMiles!$AT$5:$AU$6,2,FALSE)","v":0},{"$f":"DataByMiles!U366*VLOOKUP(DataByMiles!AE366,DataByMiles!$AT$5:$AU$6,2,FALSE)","v":0},null,null,0,{"$f":"H368*$L$2*VLOOKUP(DataByMiles!AE366,DataByMiles!$AT$5:$AU$6,2,FALSE)","v":0},{"$f":"DataByMiles!V366*VLOOKUP(DataByMiles!AE366,DataByMiles!$AT$5:$AU$6,2,FALSE)","v":0},null,null,{"$f":"M368*$P$2*VLOOKUP(DataByMiles!AE366,DataByMiles!$AT$5:$AU$6,2,FALSE)","v":0},{"$f":"DataByMiles!W366*VLOOKUP(DataByMiles!AE366,DataByMiles!$AT$5:$AU$6,2,FALSE)","v":0},null,null,{"$f":"Q368*$T$2*VLOOKUP(DataByMiles!AE366,DataByMiles!$AT$5:$AU$6,2,FALSE)","v":0},{"$f":"DataByMiles!X366*VLOOKUP(DataByMiles!AE366,DataByMiles!$AT$5:$AU$6,2,FALSE)","v":0},null,null,{"$f":"U368*$X$2*VLOOKUP(DataByMiles!AE366,DataByMiles!$AT$5:$AU$6,2,FALSE)","v":0},{"$f":"DataByMiles!Y366*VLOOKUP(DataByMiles!AE366,DataByMiles!$AT$5:$AU$6,2,FALSE)","v":0},{"$f":"DataByMiles!Z366","v":0},{"$f":"DataByMiles!AA366","v":0},null,null,{"$f":"(Y368/IF(Z368=0,$AD$1,Z368)*$AD$2)/IF(AA368=0,1,AA368)*VLOOKUP(DataByMiles!AE366,DataByMiles!$AT$5:$AU$6,2,FALSE)","v":0},"",0,0,{"$f":"(AF368+AG368)*VLOOKUP(DataByMiles!AE366,DataByMiles!$AT$5:$AU$6,2,FALSE)","v":0},0]
[null,{"$f":"DataByMiles!C367","v":"----363"},{"$f":"DataByMiles!T367*VLOOKUP(DataByMiles!AE367,DataByMiles!$AT$5:$AU$6,2,FALSE)","v":0},null,null,0,{"$f":"C369*$G$2*VLOOKUP(DataByMiles!AE367,DataByMiles!$AT$5:$AU$6,2,FALSE)","v":0},{"$f":"DataByMiles!U367*VLOOKUP(DataByMiles!AE367,DataByMiles!$AT$5:$AU$6,2,FALSE)","v":0},null,null,0,{"$f":"H369*$L$2*VLOOKUP(DataByMiles!AE367,DataByMiles!$AT$5:$AU$6,2,FALSE)","v":0},{"$f":"DataByMiles!V367*VLOOKUP(DataByMiles!AE367,DataByMiles!$AT$5:$AU$6,2,FALSE)","v":0},null,null,{"$f":"M369*$P$2*VLOOKUP(DataByMiles!AE367,DataByMiles!$AT$5:$AU$6,2,FALSE)","v":0},{"$f":"DataByMiles!W367*VLOOKUP(DataByMiles!AE367,DataByMiles!$AT$5:$AU$6,2,FALSE)","v":0},null,null,{"$f":"Q369*$T$2*VLOOKUP(DataByMiles!AE367,DataByMiles!$AT$5:$AU$6,2,FALSE)","v":0},{"$f":"DataByMiles!X367*VLOOKUP(DataByMiles!AE367,DataByMiles!$AT$5:$AU$6,2,FALSE)","v":0},null,null,{"$f":"U369*$X$2*VLOOKUP(DataByMiles!AE367,DataByMiles!$AT$5:$AU$6,2,FALSE)","v":0},{"$f":"DataByMiles!Y367*VLOOKUP(DataByMiles!AE367,DataByMiles!$AT$5:$AU$6,2,FALSE)","v":0},{"$f":"DataByMiles!Z367","v":0},{"$f":"DataByMiles!AA367","v":0},null,null,{"$f":"(Y369/IF(Z369=0,$AD$1,Z369)*$AD$2)/IF(AA369=0,1,AA369)*VLOOKUP(DataByMiles!AE367,DataByMiles!$AT$5:$AU$6,2,FALSE)","v":0},"",0,0,{"$f":"(AF369+AG369)*VLOOKUP(DataByMiles!AE367,DataByMiles!$AT$5:$AU$6,2,FALSE)","v":0},0]
[null,{"$f":"DataByMiles!C368","v":"----364"},{"$f":"DataByMiles!T368*VLOOKUP(DataByMiles!AE368,DataByMiles!$AT$5:$AU$6,2,FALSE)","v":0},null,null,0,{"$f":"C370*$G$2*VLOOKUP(DataByMiles!AE368,DataByMiles!$AT$5:$AU$6,2,FALSE)","v":0},{"$f":"DataByMiles!U368*VLOOKUP(DataByMiles!AE368,DataByMiles!$AT$5:$AU$6,2,FALSE)","v":0},null,null,0,{"$f":"H370*$L$2*VLOOKUP(DataByMiles!AE368,DataByMiles!$AT$5:$AU$6,2,FALSE)","v":0},{"$f":"DataByMiles!V368*VLOOKUP(DataByMiles!AE368,DataByMiles!$AT$5:$AU$6,2,FALSE)","v":0},null,null,{"$f":"M370*$P$2*VLOOKUP(DataByMiles!AE368,DataByMiles!$AT$5:$AU$6,2,FALSE)","v":0},{"$f":"DataByMiles!W368*VLOOKUP(DataByMiles!AE368,DataByMiles!$AT$5:$AU$6,2,FALSE)","v":0},null,null,{"$f":"Q370*$T$2*VLOOKUP(DataByMiles!AE368,DataByMiles!$AT$5:$AU$6,2,FALSE)","v":0},{"$f":"DataByMiles!X368*VLOOKUP(DataByMiles!AE368,DataByMiles!$AT$5:$AU$6,2,FALSE)","v":0},null,null,{"$f":"U370*$X$2*VLOOKUP(DataByMiles!AE368,DataByMiles!$AT$5:$AU$6,2,FALSE)","v":0},{"$f":"DataByMiles!Y368*VLOOKUP(DataByMiles!AE368,DataByMiles!$AT$5:$AU$6,2,FALSE)","v":0},{"$f":"DataByMiles!Z368","v":0},{"$f":"DataByMiles!AA368","v":0},null,null,{"$f":"(Y370/IF(Z370=0,$AD$1,Z370)*$AD$2)/IF(AA370=0,1,AA370)*VLOOKUP(DataByMiles!AE368,DataByMiles!$AT$5:$AU$6,2,FALSE)","v":0},"",0,0,{"$f":"(AF370+AG370)*VLOOKUP(DataByMiles!AE368,DataByMiles!$AT$5:$AU$6,2,FALSE)","v":0},0]
[null,{"$f":"DataByMiles!C369","v":"----365"},{"$f":"DataByMiles!T369*VLOOKUP(DataByMiles!AE369,DataByMiles!$AT$5:$AU$6,2,FALSE)","v":0},null,null,0,{"$f":"C371*$G$2*VLOOKUP(DataByMiles!AE369,DataByMiles!$AT$5:$AU$6,2,FALSE)","v":0},{"$f":"DataByMiles!U369*VLOOKUP(DataByMiles!AE369,DataByMiles!$AT$5:$AU$6,2,FALSE)","v":0},null,null,0,{"$f":"H371*$L$2*VLOOKUP(DataByMiles!AE369,DataByMiles!$AT$5:$AU$6,2,FALSE)","v":0},{"$f":"DataByMiles!V369*VLOOKUP(DataByMiles!AE369,DataByMiles!$AT$5:$AU$6,2,FALSE)","v":0},null,null,{"$f":"M371*$P$2*VLOOKUP(DataByMiles!AE369,DataByMiles!$AT$5:$AU$6,2,FALSE)","v":0},{"$f":"DataByMiles!W369*VLOOKUP(DataByMiles!AE369,DataByMiles!$AT$5:$AU$6,2,FALSE)","v":0},null,null,{"$f":"Q371*$T$2*VLOOKUP(DataByMiles!AE369,DataByMiles!$AT$5:$AU$6,2,FALSE)","v":0},{"$f":"DataByMiles!X369*VLOOKUP(DataByMiles!AE369,DataByMiles!$AT$5:$AU$6,2,FALSE)","v":0},null,null,{"$f":"U371*$X$2*VLOOKUP(DataByMiles!AE369,DataByMiles!$AT$5:$AU$6,2,FALSE)","v":0},{"$f":"DataByMiles!Y369*VLOOKUP(DataByMiles!AE369,DataByMiles!$AT$5:$AU$6,2,FALSE)","v":0},{"$f":"DataByMiles!Z369","v":0},{"$f":"DataByMiles!AA369","v":0},null,null,{"$f":"(Y371/IF(Z371=0,$AD$1,Z371)*$AD$2)/IF(AA371=0,1,AA371)*VLOOKUP(DataByMiles!AE369,DataByMiles!$AT$5:$AU$6,2,FALSE)","v":0},"",0,0,{"$f":"(AF371+AG371)*VLOOKUP(DataByMiles!AE369,DataByMiles!$AT$5:$AU$6,2,FALSE)","v":0},0]
[null,{"$f":"DataByMiles!C370","v":"----366"},{"$f":"DataByMiles!T370*VLOOKUP(DataByMiles!AE370,DataByMiles!$AT$5:$AU$6,2,FALSE)","v":0},null,null,0,{"$f":"C372*$G$2*VLOOKUP(DataByMiles!AE370,DataByMiles!$AT$5:$AU$6,2,FALSE)","v":0},{"$f":"DataByMiles!U370*VLOOKUP(DataByMiles!AE370,DataByMiles!$AT$5:$AU$6,2,FALSE)","v":0},null,null,0,{"$f":"H372*$L$2*VLOOKUP(DataByMiles!AE370,DataByMiles!$AT$5:$AU$6,2,FALSE)","v":0},{"$f":"DataByMiles!V370*VLOOKUP(DataByMiles!AE370,DataByMiles!$AT$5:$AU$6,2,FALSE)","v":0},null,null,{"$f":"M372*$P$2*VLOOKUP(DataByMiles!AE370,DataByMiles!$AT$5:$AU$6,2,FALSE)","v":0},{"$f":"DataByMiles!W370*VLOOKUP(DataByMiles!AE370,DataByMiles!$AT$5:$AU$6,2,FALSE)","v":0},null,null,{"$f":"Q372*$T$2*VLOOKUP(DataByMiles!AE370,DataByMiles!$AT$5:$AU$6,2,FALSE)","v":0},{"$f":"DataByMiles!X370*VLOOKUP(DataByMiles!AE370,DataByMiles!$AT$5:$AU$6,2,FALSE)","v":0},null,null,{"$f":"U372*$X$2*VLOOKUP(DataByMiles!AE370,DataByMiles!$AT$5:$AU$6,2,FALSE)","v":0},{"$f":"DataByMiles!Y370*VLOOKUP(DataByMiles!AE370,DataByMiles!$AT$5:$AU$6,2,FALSE)","v":0},{"$f":"DataByMiles!Z370","v":0},{"$f":"DataByMiles!AA370","v":0},null,null,{"$f":"(Y372/IF(Z372=0,$AD$1,Z372)*$AD$2)/IF(AA372=0,1,AA372)*VLOOKUP(DataByMiles!AE370,DataByMiles!$AT$5:$AU$6,2,FALSE)","v":0},"",0,0,{"$f":"(AF372+AG372)*VLOOKUP(DataByMiles!AE370,DataByMiles!$AT$5:$AU$6,2,FALSE)","v":0},0]
[null,{"$f":"DataByMiles!C371","v":"----367"},{"$f":"DataByMiles!T371*VLOOKUP(DataByMiles!AE371,DataByMiles!$AT$5:$AU$6,2,FALSE)","v":0},null,null,0,{"$f":"C373*$G$2*VLOOKUP(DataByMiles!AE371,DataByMiles!$AT$5:$AU$6,2,FALSE)","v":0},{"$f":"DataByMiles!U371*VLOOKUP(DataByMiles!AE371,DataByMiles!$AT$5:$AU$6,2,FALSE)","v":0},null,null,0,{"$f":"H373*$L$2*VLOOKUP(DataByMiles!AE371,DataByMiles!$AT$5:$AU$6,2,FALSE)","v":0},{"$f":"DataByMiles!V371*VLOOKUP(DataByMiles!AE371,DataByMiles!$AT$5:$AU$6,2,FALSE)","v":0},null,null,{"$f":"M373*$P$2*VLOOKUP(DataByMiles!AE371,DataByMiles!$AT$5:$AU$6,2,FALSE)","v":0},{"$f":"DataByMiles!W371*VLOOKUP(DataByMiles!AE371,DataByMiles!$AT$5:$AU$6,2,FALSE)","v":0},null,null,{"$f":"Q373*$T$2*VLOOKUP(DataByMiles!AE371,DataByMiles!$AT$5:$AU$6,2,FALSE)","v":0},{"$f":"DataByMiles!X371*VLOOKUP(DataByMiles!AE371,DataByMiles!$AT$5:$AU$6,2,FALSE)","v":0},null,null,{"$f":"U373*$X$2*VLOOKUP(DataByMiles!AE371,DataByMiles!$AT$5:$AU$6,2,FALSE)","v":0},{"$f":"DataByMiles!Y371*VLOOKUP(DataByMiles!AE371,DataByMiles!$AT$5:$AU$6,2,FALSE)","v":0},{"$f":"DataByMiles!Z371","v":0},{"$f":"DataByMiles!AA371","v":0},null,null,{"$f":"(Y373/IF(Z373=0,$AD$1,Z373)*$AD$2)/IF(AA373=0,1,AA373)*VLOOKUP(DataByMiles!AE371,DataByMiles!$AT$5:$AU$6,2,FALSE)","v":0},"",0,0,{"$f":"(AF373+AG373)*VLOOKUP(DataByMiles!AE371,DataByMiles!$AT$5:$AU$6,2,FALSE)","v":0},0]
[null,{"$f":"DataByMiles!C372","v":"----368"},{"$f":"DataByMiles!T372*VLOOKUP(DataByMiles!AE372,DataByMiles!$AT$5:$AU$6,2,FALSE)","v":0},null,null,0,{"$f":"C374*$G$2*VLOOKUP(DataByMiles!AE372,DataByMiles!$AT$5:$AU$6,2,FALSE)","v":0},{"$f":"DataByMiles!U372*VLOOKUP(DataByMiles!AE372,DataByMiles!$AT$5:$AU$6,2,FALSE)","v":0},null,null,0,{"$f":"H374*$L$2*VLOOKUP(DataByMiles!AE372,DataByMiles!$AT$5:$AU$6,2,FALSE)","v":0},{"$f":"DataByMiles!V372*VLOOKUP(DataByMiles!AE372,DataByMiles!$AT$5:$AU$6,2,FALSE)","v":0},null,null,{"$f":"M374*$P$2*VLOOKUP(DataByMiles!AE372,DataByMiles!$AT$5:$AU$6,2,FALSE)","v":0},{"$f":"DataByMiles!W372*VLOOKUP(DataByMiles!AE372,DataByMiles!$AT$5:$AU$6,2,FALSE)","v":0},null,null,{"$f":"Q374*$T$2*VLOOKUP(DataByMiles!AE372,DataByMiles!$AT$5:$AU$6,2,FALSE)","v":0},{"$f":"DataByMiles!X372*VLOOKUP(DataByMiles!AE372,DataByMiles!$AT$5:$AU$6,2,FALSE)","v":0},null,null,{"$f":"U374*$X$2*VLOOKUP(DataByMiles!AE372,DataByMiles!$AT$5:$AU$6,2,FALSE)","v":0},{"$f":"DataByMiles!Y372*VLOOKUP(DataByMiles!AE372,DataByMiles!$AT$5:$AU$6,2,FALSE)","v":0},{"$f":"DataByMiles!Z372","v":0},{"$f":"DataByMiles!AA372","v":0},null,null,{"$f":"(Y374/IF(Z374=0,$AD$1,Z374)*$AD$2)/IF(AA374=0,1,AA374)*VLOOKUP(DataByMiles!AE372,DataByMiles!$AT$5:$AU$6,2,FALSE)","v":0},"",0,0,{"$f":"(AF374+AG374)*VLOOKUP(DataByMiles!AE372,DataByMiles!$AT$5:$AU$6,2,FALSE)","v":0},0]
[null,{"$f":"DataByMiles!C373","v":"----369"},{"$f":"DataByMiles!T373*VLOOKUP(DataByMiles!AE373,DataByMiles!$AT$5:$AU$6,2,FALSE)","v":0},null,null,0,{"$f":"C375*$G$2*VLOOKUP(DataByMiles!AE373,DataByMiles!$AT$5:$AU$6,2,FALSE)","v":0},{"$f":"DataByMiles!U373*VLOOKUP(DataByMiles!AE373,DataByMiles!$AT$5:$AU$6,2,FALSE)","v":0},null,null,0,{"$f":"H375*$L$2*VLOOKUP(DataByMiles!AE373,DataByMiles!$AT$5:$AU$6,2,FALSE)","v":0},{"$f":"DataByMiles!V373*VLOOKUP(DataByMiles!AE373,DataByMiles!$AT$5:$AU$6,2,FALSE)","v":0},null,null,{"$f":"M375*$P$2*VLOOKUP(DataByMiles!AE373,DataByMiles!$AT$5:$AU$6,2,FALSE)","v":0},{"$f":"DataByMiles!W373*VLOOKUP(DataByMiles!AE373,DataByMiles!$AT$5:$AU$6,2,FALSE)","v":0},null,null,{"$f":"Q375*$T$2*VLOOKUP(DataByMiles!AE373,DataByMiles!$AT$5:$AU$6,2,FALSE)","v":0},{"$f":"DataByMiles!X373*VLOOKUP(DataByMiles!AE373,DataByMiles!$AT$5:$AU$6,2,FALSE)","v":0},null,null,{"$f":"U375*$X$2*VLOOKUP(DataByMiles!AE373,DataByMiles!$AT$5:$AU$6,2,FALSE)","v":0},{"$f":"DataByMiles!Y373*VLOOKUP(DataByMiles!AE373,DataByMiles!$AT$5:$AU$6,2,FALSE)","v":0},{"$f":"DataByMiles!Z373","v":0},{"$f":"DataByMiles!AA373","v":0},null,null,{"$f":"(Y375/IF(Z375=0,$AD$1,Z375)*$AD$2)/IF(AA375=0,1,AA375)*VLOOKUP(DataByMiles!AE373,DataByMiles!$AT$5:$AU$6,2,FALSE)","v":0},"",0,0,{"$f":"(AF375+AG375)*VLOOKUP(DataByMiles!AE373,DataByMiles!$AT$5:$AU$6,2,FALSE)","v":0},0]
[null,{"$f":"DataByMiles!C374","v":"----370"},{"$f":"DataByMiles!T374*VLOOKUP(DataByMiles!AE374,DataByMiles!$AT$5:$AU$6,2,FALSE)","v":0},null,null,0,{"$f":"C376*$G$2*VLOOKUP(DataByMiles!AE374,DataByMiles!$AT$5:$AU$6,2,FALSE)","v":0},{"$f":"DataByMiles!U374*VLOOKUP(DataByMiles!AE374,DataByMiles!$AT$5:$AU$6,2,FALSE)","v":0},null,null,0,{"$f":"H376*$L$2*VLOOKUP(DataByMiles!AE374,DataByMiles!$AT$5:$AU$6,2,FALSE)","v":0},{"$f":"DataByMiles!V374*VLOOKUP(DataByMiles!AE374,DataByMiles!$AT$5:$AU$6,2,FALSE)","v":0},null,null,{"$f":"M376*$P$2*VLOOKUP(DataByMiles!AE374,DataByMiles!$AT$5:$AU$6,2,FALSE)","v":0},{"$f":"DataByMiles!W374*VLOOKUP(DataByMiles!AE374,DataByMiles!$AT$5:$AU$6,2,FALSE)","v":0},null,null,{"$f":"Q376*$T$2*VLOOKUP(DataByMiles!AE374,DataByMiles!$AT$5:$AU$6,2,FALSE)","v":0},{"$f":"DataByMiles!X374*VLOOKUP(DataByMiles!AE374,DataByMiles!$AT$5:$AU$6,2,FALSE)","v":0},null,null,{"$f":"U376*$X$2*VLOOKUP(DataByMiles!AE374,DataByMiles!$AT$5:$AU$6,2,FALSE)","v":0},{"$f":"DataByMiles!Y374*VLOOKUP(DataByMiles!AE374,DataByMiles!$AT$5:$AU$6,2,FALSE)","v":0},{"$f":"DataByMiles!Z374","v":0},{"$f":"DataByMiles!AA374","v":0},null,null,{"$f":"(Y376/IF(Z376=0,$AD$1,Z376)*$AD$2)/IF(AA376=0,1,AA376)*VLOOKUP(DataByMiles!AE374,DataByMiles!$AT$5:$AU$6,2,FALSE)","v":0},"",0,0,{"$f":"(AF376+AG376)*VLOOKUP(DataByMiles!AE374,DataByMiles!$AT$5:$AU$6,2,FALSE)","v":0},0]
[null,{"$f":"DataByMiles!C375","v":"----371"},{"$f":"DataByMiles!T375*VLOOKUP(DataByMiles!AE375,DataByMiles!$AT$5:$AU$6,2,FALSE)","v":0},null,null,0,{"$f":"C377*$G$2*VLOOKUP(DataByMiles!AE375,DataByMiles!$AT$5:$AU$6,2,FALSE)","v":0},{"$f":"DataByMiles!U375*VLOOKUP(DataByMiles!AE375,DataByMiles!$AT$5:$AU$6,2,FALSE)","v":0},null,null,0,{"$f":"H377*$L$2*VLOOKUP(DataByMiles!AE375,DataByMiles!$AT$5:$AU$6,2,FALSE)","v":0},{"$f":"DataByMiles!V375*VLOOKUP(DataByMiles!AE375,DataByMiles!$AT$5:$AU$6,2,FALSE)","v":0},null,null,{"$f":"M377*$P$2*VLOOKUP(DataByMiles!AE375,DataByMiles!$AT$5:$AU$6,2,FALSE)","v":0},{"$f":"DataByMiles!W375*VLOOKUP(DataByMiles!AE375,DataByMiles!$AT$5:$AU$6,2,FALSE)","v":0},null,null,{"$f":"Q377*$T$2*VLOOKUP(DataByMiles!AE375,DataByMiles!$AT$5:$AU$6,2,FALSE)","v":0},{"$f":"DataByMiles!X375*VLOOKUP(DataByMiles!AE375,DataByMiles!$AT$5:$AU$6,2,FALSE)","v":0},null,null,{"$f":"U377*$X$2*VLOOKUP(DataByMiles!AE375,DataByMiles!$AT$5:$AU$6,2,FALSE)","v":0},{"$f":"DataByMiles!Y375*VLOOKUP(DataByMiles!AE375,DataByMiles!$AT$5:$AU$6,2,FALSE)","v":0},{"$f":"DataByMiles!Z375","v":0},{"$f":"DataByMiles!AA375","v":0},null,null,{"$f":"(Y377/IF(Z377=0,$AD$1,Z377)*$AD$2)/IF(AA377=0,1,AA377)*VLOOKUP(DataByMiles!AE375,DataByMiles!$AT$5:$AU$6,2,FALSE)","v":0},"",0,0,{"$f":"(AF377+AG377)*VLOOKUP(DataByMiles!AE375,DataByMiles!$AT$5:$AU$6,2,FALSE)","v":0},0]
[null,{"$f":"DataByMiles!C376","v":"----372"},{"$f":"DataByMiles!T376*VLOOKUP(DataByMiles!AE376,DataByMiles!$AT$5:$AU$6,2,FALSE)","v":0},null,null,0,{"$f":"C378*$G$2*VLOOKUP(DataByMiles!AE376,DataByMiles!$AT$5:$AU$6,2,FALSE)","v":0},{"$f":"DataByMiles!U376*VLOOKUP(DataByMiles!AE376,DataByMiles!$AT$5:$AU$6,2,FALSE)","v":0},null,null,0,{"$f":"H378*$L$2*VLOOKUP(DataByMiles!AE376,DataByMiles!$AT$5:$AU$6,2,FALSE)","v":0},{"$f":"DataByMiles!V376*VLOOKUP(DataByMiles!AE376,DataByMiles!$AT$5:$AU$6,2,FALSE)","v":0},null,null,{"$f":"M378*$P$2*VLOOKUP(DataByMiles!AE376,DataByMiles!$AT$5:$AU$6,2,FALSE)","v":0},{"$f":"DataByMiles!W376*VLOOKUP(DataByMiles!AE376,DataByMiles!$AT$5:$AU$6,2,FALSE)","v":0},null,null,{"$f":"Q378*$T$2*VLOOKUP(DataByMiles!AE376,DataByMiles!$AT$5:$AU$6,2,FALSE)","v":0},{"$f":"DataByMiles!X376*VLOOKUP(DataByMiles!AE376,DataByMiles!$AT$5:$AU$6,2,FALSE)","v":0},null,null,{"$f":"U378*$X$2*VLOOKUP(DataByMiles!AE376,DataByMiles!$AT$5:$AU$6,2,FALSE)","v":0},{"$f":"DataByMiles!Y376*VLOOKUP(DataByMiles!AE376,DataByMiles!$AT$5:$AU$6,2,FALSE)","v":0},{"$f":"DataByMiles!Z376","v":0},{"$f":"DataByMiles!AA376","v":0},null,null,{"$f":"(Y378/IF(Z378=0,$AD$1,Z378)*$AD$2)/IF(AA378=0,1,AA378)*VLOOKUP(DataByMiles!AE376,DataByMiles!$AT$5:$AU$6,2,FALSE)","v":0},"",0,0,{"$f":"(AF378+AG378)*VLOOKUP(DataByMiles!AE376,DataByMiles!$AT$5:$AU$6,2,FALSE)","v":0},0]
[null,{"$f":"DataByMiles!C377","v":"----373"},{"$f":"DataByMiles!T377*VLOOKUP(DataByMiles!AE377,DataByMiles!$AT$5:$AU$6,2,FALSE)","v":0},null,null,0,{"$f":"C379*$G$2*VLOOKUP(DataByMiles!AE377,DataByMiles!$AT$5:$AU$6,2,FALSE)","v":0},{"$f":"DataByMiles!U377*VLOOKUP(DataByMiles!AE377,DataByMiles!$AT$5:$AU$6,2,FALSE)","v":0},null,null,0,{"$f":"H379*$L$2*VLOOKUP(DataByMiles!AE377,DataByMiles!$AT$5:$AU$6,2,FALSE)","v":0},{"$f":"DataByMiles!V377*VLOOKUP(DataByMiles!AE377,DataByMiles!$AT$5:$AU$6,2,FALSE)","v":0},null,null,{"$f":"M379*$P$2*VLOOKUP(DataByMiles!AE377,DataByMiles!$AT$5:$AU$6,2,FALSE)","v":0},{"$f":"DataByMiles!W377*VLOOKUP(DataByMiles!AE377,DataByMiles!$AT$5:$AU$6,2,FALSE)","v":0},null,null,{"$f":"Q379*$T$2*VLOOKUP(DataByMiles!AE377,DataByMiles!$AT$5:$AU$6,2,FALSE)","v":0},{"$f":"DataByMiles!X377*VLOOKUP(DataByMiles!AE377,DataByMiles!$AT$5:$AU$6,2,FALSE)","v":0},null,null,{"$f":"U379*$X$2*VLOOKUP(DataByMiles!AE377,DataByMiles!$AT$5:$AU$6,2,FALSE)","v":0},{"$f":"DataByMiles!Y377*VLOOKUP(DataByMiles!AE377,DataByMiles!$AT$5:$AU$6,2,FALSE)","v":0},{"$f":"DataByMiles!Z377","v":0},{"$f":"DataByMiles!AA377","v":0},null,null,{"$f":"(Y379/IF(Z379=0,$AD$1,Z379)*$AD$2)/IF(AA379=0,1,AA379)*VLOOKUP(DataByMiles!AE377,DataByMiles!$AT$5:$AU$6,2,FALSE)","v":0},"",0,0,{"$f":"(AF379+AG379)*VLOOKUP(DataByMiles!AE377,DataByMiles!$AT$5:$AU$6,2,FALSE)","v":0},0]
[null,{"$f":"DataByMiles!C378","v":"----374"},{"$f":"DataByMiles!T378*VLOOKUP(DataByMiles!AE378,DataByMiles!$AT$5:$AU$6,2,FALSE)","v":0},null,null,0,{"$f":"C380*$G$2*VLOOKUP(DataByMiles!AE378,DataByMiles!$AT$5:$AU$6,2,FALSE)","v":0},{"$f":"DataByMiles!U378*VLOOKUP(DataByMiles!AE378,DataByMiles!$AT$5:$AU$6,2,FALSE)","v":0},null,null,0,{"$f":"H380*$L$2*VLOOKUP(DataByMiles!AE378,DataByMiles!$AT$5:$AU$6,2,FALSE)","v":0},{"$f":"DataByMiles!V378*VLOOKUP(DataByMiles!AE378,DataByMiles!$AT$5:$AU$6,2,FALSE)","v":0},null,null,{"$f":"M380*$P$2*VLOOKUP(DataByMiles!AE378,DataByMiles!$AT$5:$AU$6,2,FALSE)","v":0},{"$f":"DataByMiles!W378*VLOOKUP(DataByMiles!AE378,DataByMiles!$AT$5:$AU$6,2,FALSE)","v":0},null,null,{"$f":"Q380*$T$2*VLOOKUP(DataByMiles!AE378,DataByMiles!$AT$5:$AU$6,2,FALSE)","v":0},{"$f":"DataByMiles!X378*VLOOKUP(DataByMiles!AE378,DataByMiles!$AT$5:$AU$6,2,FALSE)","v":0},null,null,{"$f":"U380*$X$2*VLOOKUP(DataByMiles!AE378,DataByMiles!$AT$5:$AU$6,2,FALSE)","v":0},{"$f":"DataByMiles!Y378*VLOOKUP(DataByMiles!AE378,DataByMiles!$AT$5:$AU$6,2,FALSE)","v":0},{"$f":"DataByMiles!Z378","v":0},{"$f":"DataByMiles!AA378","v":0},null,null,{"$f":"(Y380/IF(Z380=0,$AD$1,Z380)*$AD$2)/IF(AA380=0,1,AA380)*VLOOKUP(DataByMiles!AE378,DataByMiles!$AT$5:$AU$6,2,FALSE)","v":0},"",0,0,{"$f":"(AF380+AG380)*VLOOKUP(DataByMiles!AE378,DataByMiles!$AT$5:$AU$6,2,FALSE)","v":0},0]
[null,{"$f":"DataByMiles!C379","v":"----375"},{"$f":"DataByMiles!T379*VLOOKUP(DataByMiles!AE379,DataByMiles!$AT$5:$AU$6,2,FALSE)","v":0},null,null,0,{"$f":"C381*$G$2*VLOOKUP(DataByMiles!AE379,DataByMiles!$AT$5:$AU$6,2,FALSE)","v":0},{"$f":"DataByMiles!U379*VLOOKUP(DataByMiles!AE379,DataByMiles!$AT$5:$AU$6,2,FALSE)","v":0},null,null,0,{"$f":"H381*$L$2*VLOOKUP(DataByMiles!AE379,DataByMiles!$AT$5:$AU$6,2,FALSE)","v":0},{"$f":"DataByMiles!V379*VLOOKUP(DataByMiles!AE379,DataByMiles!$AT$5:$AU$6,2,FALSE)","v":0},null,null,{"$f":"M381*$P$2*VLOOKUP(DataByMiles!AE379,DataByMiles!$AT$5:$AU$6,2,FALSE)","v":0},{"$f":"DataByMiles!W379*VLOOKUP(DataByMiles!AE379,DataByMiles!$AT$5:$AU$6,2,FALSE)","v":0},null,null,{"$f":"Q381*$T$2*VLOOKUP(DataByMiles!AE379,DataByMiles!$AT$5:$AU$6,2,FALSE)","v":0},{"$f":"DataByMiles!X379*VLOOKUP(DataByMiles!AE379,DataByMiles!$AT$5:$AU$6,2,FALSE)","v":0},null,null,{"$f":"U381*$X$2*VLOOKUP(DataByMiles!AE379,DataByMiles!$AT$5:$AU$6,2,FALSE)","v":0},{"$f":"DataByMiles!Y379*VLOOKUP(DataByMiles!AE379,DataByMiles!$AT$5:$AU$6,2,FALSE)","v":0},{"$f":"DataByMiles!Z379","v":0},{"$f":"DataByMiles!AA379","v":0},null,null,{"$f":"(Y381/IF(Z381=0,$AD$1,Z381)*$AD$2)/IF(AA381=0,1,AA381)*VLOOKUP(DataByMiles!AE379,DataByMiles!$AT$5:$AU$6,2,FALSE)","v":0},"",0,0,{"$f":"(AF381+AG381)*VLOOKUP(DataByMiles!AE379,DataByMiles!$AT$5:$AU$6,2,FALSE)","v":0},0]
[null,{"$f":"DataByMiles!C380","v":"----376"},{"$f":"DataByMiles!T380*VLOOKUP(DataByMiles!AE380,DataByMiles!$AT$5:$AU$6,2,FALSE)","v":0},null,null,0,{"$f":"C382*$G$2*VLOOKUP(DataByMiles!AE380,DataByMiles!$AT$5:$AU$6,2,FALSE)","v":0},{"$f":"DataByMiles!U380*VLOOKUP(DataByMiles!AE380,DataByMiles!$AT$5:$AU$6,2,FALSE)","v":0},null,null,0,{"$f":"H382*$L$2*VLOOKUP(DataByMiles!AE380,DataByMiles!$AT$5:$AU$6,2,FALSE)","v":0},{"$f":"DataByMiles!V380*VLOOKUP(DataByMiles!AE380,DataByMiles!$AT$5:$AU$6,2,FALSE)","v":0},null,null,{"$f":"M382*$P$2*VLOOKUP(DataByMiles!AE380,DataByMiles!$AT$5:$AU$6,2,FALSE)","v":0},{"$f":"DataByMiles!W380*VLOOKUP(DataByMiles!AE380,DataByMiles!$AT$5:$AU$6,2,FALSE)","v":0},null,null,{"$f":"Q382*$T$2*VLOOKUP(DataByMiles!AE380,DataByMiles!$AT$5:$AU$6,2,FALSE)","v":0},{"$f":"DataByMiles!X380*VLOOKUP(DataByMiles!AE380,DataByMiles!$AT$5:$AU$6,2,FALSE)","v":0},null,null,{"$f":"U382*$X$2*VLOOKUP(DataByMiles!AE380,DataByMiles!$AT$5:$AU$6,2,FALSE)","v":0},{"$f":"DataByMiles!Y380*VLOOKUP(DataByMiles!AE380,DataByMiles!$AT$5:$AU$6,2,FALSE)","v":0},{"$f":"DataByMiles!Z380","v":0},{"$f":"DataByMiles!AA380","v":0},null,null,{"$f":"(Y382/IF(Z382=0,$AD$1,Z382)*$AD$2)/IF(AA382=0,1,AA382)*VLOOKUP(DataByMiles!AE380,DataByMiles!$AT$5:$AU$6,2,FALSE)","v":0},"",0,0,{"$f":"(AF382+AG382)*VLOOKUP(DataByMiles!AE380,DataByMiles!$AT$5:$AU$6,2,FALSE)","v":0},0]
[null,{"$f":"DataByMiles!C381","v":"----377"},{"$f":"DataByMiles!T381*VLOOKUP(DataByMiles!AE381,DataByMiles!$AT$5:$AU$6,2,FALSE)","v":0},null,null,0,{"$f":"C383*$G$2*VLOOKUP(DataByMiles!AE381,DataByMiles!$AT$5:$AU$6,2,FALSE)","v":0},{"$f":"DataByMiles!U381*VLOOKUP(DataByMiles!AE381,DataByMiles!$AT$5:$AU$6,2,FALSE)","v":0},null,null,0,{"$f":"H383*$L$2*VLOOKUP(DataByMiles!AE381,DataByMiles!$AT$5:$AU$6,2,FALSE)","v":0},{"$f":"DataByMiles!V381*VLOOKUP(DataByMiles!AE381,DataByMiles!$AT$5:$AU$6,2,FALSE)","v":0},null,null,{"$f":"M383*$P$2*VLOOKUP(DataByMiles!AE381,DataByMiles!$AT$5:$AU$6,2,FALSE)","v":0},{"$f":"DataByMiles!W381*VLOOKUP(DataByMiles!AE381,DataByMiles!$AT$5:$AU$6,2,FALSE)","v":0},null,null,{"$f":"Q383*$T$2*VLOOKUP(DataByMiles!AE381,DataByMiles!$AT$5:$AU$6,2,FALSE)","v":0},{"$f":"DataByMiles!X381*VLOOKUP(DataByMiles!AE381,DataByMiles!$AT$5:$AU$6,2,FALSE)","v":0},null,null,{"$f":"U383*$X$2*VLOOKUP(DataByMiles!AE381,DataByMiles!$AT$5:$AU$6,2,FALSE)","v":0},{"$f":"DataByMiles!Y381*VLOOKUP(DataByMiles!AE381,DataByMiles!$AT$5:$AU$6,2,FALSE)","v":0},{"$f":"DataByMiles!Z381","v":0},{"$f":"DataByMiles!AA381","v":0},null,null,{"$f":"(Y383/IF(Z383=0,$AD$1,Z383)*$AD$2)/IF(AA383=0,1,AA383)*VLOOKUP(DataByMiles!AE381,DataByMiles!$AT$5:$AU$6,2,FALSE)","v":0},"",0,0,{"$f":"(AF383+AG383)*VLOOKUP(DataByMiles!AE381,DataByMiles!$AT$5:$AU$6,2,FALSE)","v":0},0]
[null,{"$f":"DataByMiles!C382","v":"----378"},{"$f":"DataByMiles!T382*VLOOKUP(DataByMiles!AE382,DataByMiles!$AT$5:$AU$6,2,FALSE)","v":0},null,null,0,{"$f":"C384*$G$2*VLOOKUP(DataByMiles!AE382,DataByMiles!$AT$5:$AU$6,2,FALSE)","v":0},{"$f":"DataByMiles!U382*VLOOKUP(DataByMiles!AE382,DataByMiles!$AT$5:$AU$6,2,FALSE)","v":0},null,null,0,{"$f":"H384*$L$2*VLOOKUP(DataByMiles!AE382,DataByMiles!$AT$5:$AU$6,2,FALSE)","v":0},{"$f":"DataByMiles!V382*VLOOKUP(DataByMiles!AE382,DataByMiles!$AT$5:$AU$6,2,FALSE)","v":0},null,null,{"$f":"M384*$P$2*VLOOKUP(DataByMiles!AE382,DataByMiles!$AT$5:$AU$6,2,FALSE)","v":0},{"$f":"DataByMiles!W382*VLOOKUP(DataByMiles!AE382,DataByMiles!$AT$5:$AU$6,2,FALSE)","v":0},null,null,{"$f":"Q384*$T$2*VLOOKUP(DataByMiles!AE382,DataByMiles!$AT$5:$AU$6,2,FALSE)","v":0},{"$f":"DataByMiles!X382*VLOOKUP(DataByMiles!AE382,DataByMiles!$AT$5:$AU$6,2,FALSE)","v":0},null,null,{"$f":"U384*$X$2*VLOOKUP(DataByMiles!AE382,DataByMiles!$AT$5:$AU$6,2,FALSE)","v":0},{"$f":"DataByMiles!Y382*VLOOKUP(DataByMiles!AE382,DataByMiles!$AT$5:$AU$6,2,FALSE)","v":0},{"$f":"DataByMiles!Z382","v":0},{"$f":"DataByMiles!AA382","v":0},null,null,{"$f":"(Y384/IF(Z384=0,$AD$1,Z384)*$AD$2)/IF(AA384=0,1,AA384)*VLOOKUP(DataByMiles!AE382,DataByMiles!$AT$5:$AU$6,2,FALSE)","v":0},"",0,0,{"$f":"(AF384+AG384)*VLOOKUP(DataByMiles!AE382,DataByMiles!$AT$5:$AU$6,2,FALSE)","v":0},0]
[null,{"$f":"DataByMiles!C383","v":"----379"},{"$f":"DataByMiles!T383*VLOOKUP(DataByMiles!AE383,DataByMiles!$AT$5:$AU$6,2,FALSE)","v":0},null,null,0,{"$f":"C385*$G$2*VLOOKUP(DataByMiles!AE383,DataByMiles!$AT$5:$AU$6,2,FALSE)","v":0},{"$f":"DataByMiles!U383*VLOOKUP(DataByMiles!AE383,DataByMiles!$AT$5:$AU$6,2,FALSE)","v":0},null,null,0,{"$f":"H385*$L$2*VLOOKUP(DataByMiles!AE383,DataByMiles!$AT$5:$AU$6,2,FALSE)","v":0},{"$f":"DataByMiles!V383*VLOOKUP(DataByMiles!AE383,DataByMiles!$AT$5:$AU$6,2,FALSE)","v":0},null,null,{"$f":"M385*$P$2*VLOOKUP(DataByMiles!AE383,DataByMiles!$AT$5:$AU$6,2,FALSE)","v":0},{"$f":"DataByMiles!W383*VLOOKUP(DataByMiles!AE383,DataByMiles!$AT$5:$AU$6,2,FALSE)","v":0},null,null,{"$f":"Q385*$T$2*VLOOKUP(DataByMiles!AE383,DataByMiles!$AT$5:$AU$6,2,FALSE)","v":0},{"$f":"DataByMiles!X383*VLOOKUP(DataByMiles!AE383,DataByMiles!$AT$5:$AU$6,2,FALSE)","v":0},null,null,{"$f":"U385*$X$2*VLOOKUP(DataByMiles!AE383,DataByMiles!$AT$5:$AU$6,2,FALSE)","v":0},{"$f":"DataByMiles!Y383*VLOOKUP(DataByMiles!AE383,DataByMiles!$AT$5:$AU$6,2,FALSE)","v":0},{"$f":"DataByMiles!Z383","v":0},{"$f":"DataByMiles!AA383","v":0},null,null,{"$f":"(Y385/IF(Z385=0,$AD$1,Z385)*$AD$2)/IF(AA385=0,1,AA385)*VLOOKUP(DataByMiles!AE383,DataByMiles!$AT$5:$AU$6,2,FALSE)","v":0},"",0,0,{"$f":"(AF385+AG385)*VLOOKUP(DataByMiles!AE383,DataByMiles!$AT$5:$AU$6,2,FALSE)","v":0},0]
[null,{"$f":"DataByMiles!C384","v":"----380"},{"$f":"DataByMiles!T384*VLOOKUP(DataByMiles!AE384,DataByMiles!$AT$5:$AU$6,2,FALSE)","v":0},null,null,0,{"$f":"C386*$G$2*VLOOKUP(DataByMiles!AE384,DataByMiles!$AT$5:$AU$6,2,FALSE)","v":0},{"$f":"DataByMiles!U384*VLOOKUP(DataByMiles!AE384,DataByMiles!$AT$5:$AU$6,2,FALSE)","v":0},null,null,0,{"$f":"H386*$L$2*VLOOKUP(DataByMiles!AE384,DataByMiles!$AT$5:$AU$6,2,FALSE)","v":0},{"$f":"DataByMiles!V384*VLOOKUP(DataByMiles!AE384,DataByMiles!$AT$5:$AU$6,2,FALSE)","v":0},null,null,{"$f":"M386*$P$2*VLOOKUP(DataByMiles!AE384,DataByMiles!$AT$5:$AU$6,2,FALSE)","v":0},{"$f":"DataByMiles!W384*VLOOKUP(DataByMiles!AE384,DataByMiles!$AT$5:$AU$6,2,FALSE)","v":0},null,null,{"$f":"Q386*$T$2*VLOOKUP(DataByMiles!AE384,DataByMiles!$AT$5:$AU$6,2,FALSE)","v":0},{"$f":"DataByMiles!X384*VLOOKUP(DataByMiles!AE384,DataByMiles!$AT$5:$AU$6,2,FALSE)","v":0},null,null,{"$f":"U386*$X$2*VLOOKUP(DataByMiles!AE384,DataByMiles!$AT$5:$AU$6,2,FALSE)","v":0},{"$f":"DataByMiles!Y384*VLOOKUP(DataByMiles!AE384,DataByMiles!$AT$5:$AU$6,2,FALSE)","v":0},{"$f":"DataByMiles!Z384","v":0},{"$f":"DataByMiles!AA384","v":0},null,null,{"$f":"(Y386/IF(Z386=0,$AD$1,Z386)*$AD$2)/IF(AA386=0,1,AA386)*VLOOKUP(DataByMiles!AE384,DataByMiles!$AT$5:$AU$6,2,FALSE)","v":0},"",0,0,{"$f":"(AF386+AG386)*VLOOKUP(DataByMiles!AE384,DataByMiles!$AT$5:$AU$6,2,FALSE)","v":0},0]
[null,{"$f":"DataByMiles!C385","v":"----381"},{"$f":"DataByMiles!T385*VLOOKUP(DataByMiles!AE385,DataByMiles!$AT$5:$AU$6,2,FALSE)","v":0},null,null,0,{"$f":"C387*$G$2*VLOOKUP(DataByMiles!AE385,DataByMiles!$AT$5:$AU$6,2,FALSE)","v":0},{"$f":"DataByMiles!U385*VLOOKUP(DataByMiles!AE385,DataByMiles!$AT$5:$AU$6,2,FALSE)","v":0},null,null,0,{"$f":"H387*$L$2*VLOOKUP(DataByMiles!AE385,DataByMiles!$AT$5:$AU$6,2,FALSE)","v":0},{"$f":"DataByMiles!V385*VLOOKUP(DataByMiles!AE385,DataByMiles!$AT$5:$AU$6,2,FALSE)","v":0},null,null,{"$f":"M387*$P$2*VLOOKUP(DataByMiles!AE385,DataByMiles!$AT$5:$AU$6,2,FALSE)","v":0},{"$f":"DataByMiles!W385*VLOOKUP(DataByMiles!AE385,DataByMiles!$AT$5:$AU$6,2,FALSE)","v":0},null,null,{"$f":"Q387*$T$2*VLOOKUP(DataByMiles!AE385,DataByMiles!$AT$5:$AU$6,2,FALSE)","v":0},{"$f":"DataByMiles!X385*VLOOKUP(DataByMiles!AE385,DataByMiles!$AT$5:$AU$6,2,FALSE)","v":0},null,null,{"$f":"U387*$X$2*VLOOKUP(DataByMiles!AE385,DataByMiles!$AT$5:$AU$6,2,FALSE)","v":0},{"$f":"DataByMiles!Y385*VLOOKUP(DataByMiles!AE385,DataByMiles!$AT$5:$AU$6,2,FALSE)","v":0},{"$f":"DataByMiles!Z385","v":0},{"$f":"DataByMiles!AA385","v":0},null,null,{"$f":"(Y387/IF(Z387=0,$AD$1,Z387)*$AD$2)/IF(AA387=0,1,AA387)*VLOOKUP(DataByMiles!AE385,DataByMiles!$AT$5:$AU$6,2,FALSE)","v":0},"",0,0,{"$f":"(AF387+AG387)*VLOOKUP(DataByMiles!AE385,DataByMiles!$AT$5:$AU$6,2,FALSE)","v":0},0]
[null,{"$f":"DataByMiles!C386","v":"----382"},{"$f":"DataByMiles!T386*VLOOKUP(DataByMiles!AE386,DataByMiles!$AT$5:$AU$6,2,FALSE)","v":0},null,null,0,{"$f":"C388*$G$2*VLOOKUP(DataByMiles!AE386,DataByMiles!$AT$5:$AU$6,2,FALSE)","v":0},{"$f":"DataByMiles!U386*VLOOKUP(DataByMiles!AE386,DataByMiles!$AT$5:$AU$6,2,FALSE)","v":0},null,null,0,{"$f":"H388*$L$2*VLOOKUP(DataByMiles!AE386,DataByMiles!$AT$5:$AU$6,2,FALSE)","v":0},{"$f":"DataByMiles!V386*VLOOKUP(DataByMiles!AE386,DataByMiles!$AT$5:$AU$6,2,FALSE)","v":0},null,null,{"$f":"M388*$P$2*VLOOKUP(DataByMiles!AE386,DataByMiles!$AT$5:$AU$6,2,FALSE)","v":0},{"$f":"DataByMiles!W386*VLOOKUP(DataByMiles!AE386,DataByMiles!$AT$5:$AU$6,2,FALSE)","v":0},null,null,{"$f":"Q388*$T$2*VLOOKUP(DataByMiles!AE386,DataByMiles!$AT$5:$AU$6,2,FALSE)","v":0},{"$f":"DataByMiles!X386*VLOOKUP(DataByMiles!AE386,DataByMiles!$AT$5:$AU$6,2,FALSE)","v":0},null,null,{"$f":"U388*$X$2*VLOOKUP(DataByMiles!AE386,DataByMiles!$AT$5:$AU$6,2,FALSE)","v":0},{"$f":"DataByMiles!Y386*VLOOKUP(DataByMiles!AE386,DataByMiles!$AT$5:$AU$6,2,FALSE)","v":0},{"$f":"DataByMiles!Z386","v":0},{"$f":"DataByMiles!AA386","v":0},null,null,{"$f":"(Y388/IF(Z388=0,$AD$1,Z388)*$AD$2)/IF(AA388=0,1,AA388)*VLOOKUP(DataByMiles!AE386,DataByMiles!$AT$5:$AU$6,2,FALSE)","v":0},"",0,0,{"$f":"(AF388+AG388)*VLOOKUP(DataByMiles!AE386,DataByMiles!$AT$5:$AU$6,2,FALSE)","v":0},0]
[null,{"$f":"DataByMiles!C387","v":"----383"},{"$f":"DataByMiles!T387*VLOOKUP(DataByMiles!AE387,DataByMiles!$AT$5:$AU$6,2,FALSE)","v":0},null,null,0,{"$f":"C389*$G$2*VLOOKUP(DataByMiles!AE387,DataByMiles!$AT$5:$AU$6,2,FALSE)","v":0},{"$f":"DataByMiles!U387*VLOOKUP(DataByMiles!AE387,DataByMiles!$AT$5:$AU$6,2,FALSE)","v":0},null,null,0,{"$f":"H389*$L$2*VLOOKUP(DataByMiles!AE387,DataByMiles!$AT$5:$AU$6,2,FALSE)","v":0},{"$f":"DataByMiles!V387*VLOOKUP(DataByMiles!AE387,DataByMiles!$AT$5:$AU$6,2,FALSE)","v":0},null,null,{"$f":"M389*$P$2*VLOOKUP(DataByMiles!AE387,DataByMiles!$AT$5:$AU$6,2,FALSE)","v":0},{"$f":"DataByMiles!W387*VLOOKUP(DataByMiles!AE387,DataByMiles!$AT$5:$AU$6,2,FALSE)","v":0},null,null,{"$f":"Q389*$T$2*VLOOKUP(DataByMiles!AE387,DataByMiles!$AT$5:$AU$6,2,FALSE)","v":0},{"$f":"DataByMiles!X387*VLOOKUP(DataByMiles!AE387,DataByMiles!$AT$5:$AU$6,2,FALSE)","v":0},null,null,{"$f":"U389*$X$2*VLOOKUP(DataByMiles!AE387,DataByMiles!$AT$5:$AU$6,2,FALSE)","v":0},{"$f":"DataByMiles!Y387*VLOOKUP(DataByMiles!AE387,DataByMiles!$AT$5:$AU$6,2,FALSE)","v":0},{"$f":"DataByMiles!Z387","v":0},{"$f":"DataByMiles!AA387","v":0},null,null,{"$f":"(Y389/IF(Z389=0,$AD$1,Z389)*$AD$2)/IF(AA389=0,1,AA389)*VLOOKUP(DataByMiles!AE387,DataByMiles!$AT$5:$AU$6,2,FALSE)","v":0},"",0,0,{"$f":"(AF389+AG389)*VLOOKUP(DataByMiles!AE387,DataByMiles!$AT$5:$AU$6,2,FALSE)","v":0},0]
[null,{"$f":"DataByMiles!C388","v":"----384"},{"$f":"DataByMiles!T388*VLOOKUP(DataByMiles!AE388,DataByMiles!$AT$5:$AU$6,2,FALSE)","v":0},null,null,0,{"$f":"C390*$G$2*VLOOKUP(DataByMiles!AE388,DataByMiles!$AT$5:$AU$6,2,FALSE)","v":0},{"$f":"DataByMiles!U388*VLOOKUP(DataByMiles!AE388,DataByMiles!$AT$5:$AU$6,2,FALSE)","v":0},null,null,0,{"$f":"H390*$L$2*VLOOKUP(DataByMiles!AE388,DataByMiles!$AT$5:$AU$6,2,FALSE)","v":0},{"$f":"DataByMiles!V388*VLOOKUP(DataByMiles!AE388,DataByMiles!$AT$5:$AU$6,2,FALSE)","v":0},null,null,{"$f":"M390*$P$2*VLOOKUP(DataByMiles!AE388,DataByMiles!$AT$5:$AU$6,2,FALSE)","v":0},{"$f":"DataByMiles!W388*VLOOKUP(DataByMiles!AE388,DataByMiles!$AT$5:$AU$6,2,FALSE)","v":0},null,null,{"$f":"Q390*$T$2*VLOOKUP(DataByMiles!AE388,DataByMiles!$AT$5:$AU$6,2,FALSE)","v":0},{"$f":"DataByMiles!X388*VLOOKUP(DataByMiles!AE388,DataByMiles!$AT$5:$AU$6,2,FALSE)","v":0},null,null,{"$f":"U390*$X$2*VLOOKUP(DataByMiles!AE388,DataByMiles!$AT$5:$AU$6,2,FALSE)","v":0},{"$f":"DataByMiles!Y388*VLOOKUP(DataByMiles!AE388,DataByMiles!$AT$5:$AU$6,2,FALSE)","v":0},{"$f":"DataByMiles!Z388","v":0},{"$f":"DataByMiles!AA388","v":0},null,null,{"$f":"(Y390/IF(Z390=0,$AD$1,Z390)*$AD$2)/IF(AA390=0,1,AA390)*VLOOKUP(DataByMiles!AE388,DataByMiles!$AT$5:$AU$6,2,FALSE)","v":0},"",0,0,{"$f":"(AF390+AG390)*VLOOKUP(DataByMiles!AE388,DataByMiles!$AT$5:$AU$6,2,FALSE)","v":0},0]
[null,{"$f":"DataByMiles!C389","v":"----385"},{"$f":"DataByMiles!T389*VLOOKUP(DataByMiles!AE389,DataByMiles!$AT$5:$AU$6,2,FALSE)","v":0},null,null,0,{"$f":"C391*$G$2*VLOOKUP(DataByMiles!AE389,DataByMiles!$AT$5:$AU$6,2,FALSE)","v":0},{"$f":"DataByMiles!U389*VLOOKUP(DataByMiles!AE389,DataByMiles!$AT$5:$AU$6,2,FALSE)","v":0},null,null,0,{"$f":"H391*$L$2*VLOOKUP(DataByMiles!AE389,DataByMiles!$AT$5:$AU$6,2,FALSE)","v":0},{"$f":"DataByMiles!V389*VLOOKUP(DataByMiles!AE389,DataByMiles!$AT$5:$AU$6,2,FALSE)","v":0},null,null,{"$f":"M391*$P$2*VLOOKUP(DataByMiles!AE389,DataByMiles!$AT$5:$AU$6,2,FALSE)","v":0},{"$f":"DataByMiles!W389*VLOOKUP(DataByMiles!AE389,DataByMiles!$AT$5:$AU$6,2,FALSE)","v":0},null,null,{"$f":"Q391*$T$2*VLOOKUP(DataByMiles!AE389,DataByMiles!$AT$5:$AU$6,2,FALSE)","v":0},{"$f":"DataByMiles!X389*VLOOKUP(DataByMiles!AE389,DataByMiles!$AT$5:$AU$6,2,FALSE)","v":0},null,null,{"$f":"U391*$X$2*VLOOKUP(DataByMiles!AE389,DataByMiles!$AT$5:$AU$6,2,FALSE)","v":0},{"$f":"DataByMiles!Y389*VLOOKUP(DataByMiles!AE389,DataByMiles!$AT$5:$AU$6,2,FALSE)","v":0},{"$f":"DataByMiles!Z389","v":0},{"$f":"DataByMiles!AA389","v":0},null,null,{"$f":"(Y391/IF(Z391=0,$AD$1,Z391)*$AD$2)/IF(AA391=0,1,AA391)*VLOOKUP(DataByMiles!AE389,DataByMiles!$AT$5:$AU$6,2,FALSE)","v":0},"",0,0,{"$f":"(AF391+AG391)*VLOOKUP(DataByMiles!AE389,DataByMiles!$AT$5:$AU$6,2,FALSE)","v":0},0]
[null,{"$f":"DataByMiles!C390","v":"----386"},{"$f":"DataByMiles!T390*VLOOKUP(DataByMiles!AE390,DataByMiles!$AT$5:$AU$6,2,FALSE)","v":0},null,null,0,{"$f":"C392*$G$2*VLOOKUP(DataByMiles!AE390,DataByMiles!$AT$5:$AU$6,2,FALSE)","v":0},{"$f":"DataByMiles!U390*VLOOKUP(DataByMiles!AE390,DataByMiles!$AT$5:$AU$6,2,FALSE)","v":0},null,null,0,{"$f":"H392*$L$2*VLOOKUP(DataByMiles!AE390,DataByMiles!$AT$5:$AU$6,2,FALSE)","v":0},{"$f":"DataByMiles!V390*VLOOKUP(DataByMiles!AE390,DataByMiles!$AT$5:$AU$6,2,FALSE)","v":0},null,null,{"$f":"M392*$P$2*VLOOKUP(DataByMiles!AE390,DataByMiles!$AT$5:$AU$6,2,FALSE)","v":0},{"$f":"DataByMiles!W390*VLOOKUP(DataByMiles!AE390,DataByMiles!$AT$5:$AU$6,2,FALSE)","v":0},null,null,{"$f":"Q392*$T$2*VLOOKUP(DataByMiles!AE390,DataByMiles!$AT$5:$AU$6,2,FALSE)","v":0},{"$f":"DataByMiles!X390*VLOOKUP(DataByMiles!AE390,DataByMiles!$AT$5:$AU$6,2,FALSE)","v":0},null,null,{"$f":"U392*$X$2*VLOOKUP(DataByMiles!AE390,DataByMiles!$AT$5:$AU$6,2,FALSE)","v":0},{"$f":"DataByMiles!Y390*VLOOKUP(DataByMiles!AE390,DataByMiles!$AT$5:$AU$6,2,FALSE)","v":0},{"$f":"DataByMiles!Z390","v":0},{"$f":"DataByMiles!AA390","v":0},null,null,{"$f":"(Y392/IF(Z392=0,$AD$1,Z392)*$AD$2)/IF(AA392=0,1,AA392)*VLOOKUP(DataByMiles!AE390,DataByMiles!$AT$5:$AU$6,2,FALSE)","v":0},"",0,0,{"$f":"(AF392+AG392)*VLOOKUP(DataByMiles!AE390,DataByMiles!$AT$5:$AU$6,2,FALSE)","v":0},0]
[null,{"$f":"DataByMiles!C391","v":"----387"},{"$f":"DataByMiles!T391*VLOOKUP(DataByMiles!AE391,DataByMiles!$AT$5:$AU$6,2,FALSE)","v":0},null,null,0,{"$f":"C393*$G$2*VLOOKUP(DataByMiles!AE391,DataByMiles!$AT$5:$AU$6,2,FALSE)","v":0},{"$f":"DataByMiles!U391*VLOOKUP(DataByMiles!AE391,DataByMiles!$AT$5:$AU$6,2,FALSE)","v":0},null,null,0,{"$f":"H393*$L$2*VLOOKUP(DataByMiles!AE391,DataByMiles!$AT$5:$AU$6,2,FALSE)","v":0},{"$f":"DataByMiles!V391*VLOOKUP(DataByMiles!AE391,DataByMiles!$AT$5:$AU$6,2,FALSE)","v":0},null,null,{"$f":"M393*$P$2*VLOOKUP(DataByMiles!AE391,DataByMiles!$AT$5:$AU$6,2,FALSE)","v":0},{"$f":"DataByMiles!W391*VLOOKUP(DataByMiles!AE391,DataByMiles!$AT$5:$AU$6,2,FALSE)","v":0},null,null,{"$f":"Q393*$T$2*VLOOKUP(DataByMiles!AE391,DataByMiles!$AT$5:$AU$6,2,FALSE)","v":0},{"$f":"DataByMiles!X391*VLOOKUP(DataByMiles!AE391,DataByMiles!$AT$5:$AU$6,2,FALSE)","v":0},null,null,{"$f":"U393*$X$2*VLOOKUP(DataByMiles!AE391,DataByMiles!$AT$5:$AU$6,2,FALSE)","v":0},{"$f":"DataByMiles!Y391*VLOOKUP(DataByMiles!AE391,DataByMiles!$AT$5:$AU$6,2,FALSE)","v":0},{"$f":"DataByMiles!Z391","v":0},{"$f":"DataByMiles!AA391","v":0},null,null,{"$f":"(Y393/IF(Z393=0,$AD$1,Z393)*$AD$2)/IF(AA393=0,1,AA393)*VLOOKUP(DataByMiles!AE391,DataByMiles!$AT$5:$AU$6,2,FALSE)","v":0},"",0,0,{"$f":"(AF393+AG393)*VLOOKUP(DataByMiles!AE391,DataByMiles!$AT$5:$AU$6,2,FALSE)","v":0},0]
[null,{"$f":"DataByMiles!C392","v":"----388"},{"$f":"DataByMiles!T392*VLOOKUP(DataByMiles!AE392,DataByMiles!$AT$5:$AU$6,2,FALSE)","v":0},null,null,0,{"$f":"C394*$G$2*VLOOKUP(DataByMiles!AE392,DataByMiles!$AT$5:$AU$6,2,FALSE)","v":0},{"$f":"DataByMiles!U392*VLOOKUP(DataByMiles!AE392,DataByMiles!$AT$5:$AU$6,2,FALSE)","v":0},null,null,0,{"$f":"H394*$L$2*VLOOKUP(DataByMiles!AE392,DataByMiles!$AT$5:$AU$6,2,FALSE)","v":0},{"$f":"DataByMiles!V392*VLOOKUP(DataByMiles!AE392,DataByMiles!$AT$5:$AU$6,2,FALSE)","v":0},null,null,{"$f":"M394*$P$2*VLOOKUP(DataByMiles!AE392,DataByMiles!$AT$5:$AU$6,2,FALSE)","v":0},{"$f":"DataByMiles!W392*VLOOKUP(DataByMiles!AE392,DataByMiles!$AT$5:$AU$6,2,FALSE)","v":0},null,null,{"$f":"Q394*$T$2*VLOOKUP(DataByMiles!AE392,DataByMiles!$AT$5:$AU$6,2,FALSE)","v":0},{"$f":"DataByMiles!X392*VLOOKUP(DataByMiles!AE392,DataByMiles!$AT$5:$AU$6,2,FALSE)","v":0},null,null,{"$f":"U394*$X$2*VLOOKUP(DataByMiles!AE392,DataByMiles!$AT$5:$AU$6,2,FALSE)","v":0},{"$f":"DataByMiles!Y392*VLOOKUP(DataByMiles!AE392,DataByMiles!$AT$5:$AU$6,2,FALSE)","v":0},{"$f":"DataByMiles!Z392","v":0},{"$f":"DataByMiles!AA392","v":0},null,null,{"$f":"(Y394/IF(Z394=0,$AD$1,Z394)*$AD$2)/IF(AA394=0,1,AA394)*VLOOKUP(DataByMiles!AE392,DataByMiles!$AT$5:$AU$6,2,FALSE)","v":0},"",0,0,{"$f":"(AF394+AG394)*VLOOKUP(DataByMiles!AE392,DataByMiles!$AT$5:$AU$6,2,FALSE)","v":0},0]
[null,{"$f":"DataByMiles!C393","v":"----389"},{"$f":"DataByMiles!T393*VLOOKUP(DataByMiles!AE393,DataByMiles!$AT$5:$AU$6,2,FALSE)","v":0},null,null,0,{"$f":"C395*$G$2*VLOOKUP(DataByMiles!AE393,DataByMiles!$AT$5:$AU$6,2,FALSE)","v":0},{"$f":"DataByMiles!U393*VLOOKUP(DataByMiles!AE393,DataByMiles!$AT$5:$AU$6,2,FALSE)","v":0},null,null,0,{"$f":"H395*$L$2*VLOOKUP(DataByMiles!AE393,DataByMiles!$AT$5:$AU$6,2,FALSE)","v":0},{"$f":"DataByMiles!V393*VLOOKUP(DataByMiles!AE393,DataByMiles!$AT$5:$AU$6,2,FALSE)","v":0},null,null,{"$f":"M395*$P$2*VLOOKUP(DataByMiles!AE393,DataByMiles!$AT$5:$AU$6,2,FALSE)","v":0},{"$f":"DataByMiles!W393*VLOOKUP(DataByMiles!AE393,DataByMiles!$AT$5:$AU$6,2,FALSE)","v":0},null,null,{"$f":"Q395*$T$2*VLOOKUP(DataByMiles!AE393,DataByMiles!$AT$5:$AU$6,2,FALSE)","v":0},{"$f":"DataByMiles!X393*VLOOKUP(DataByMiles!AE393,DataByMiles!$AT$5:$AU$6,2,FALSE)","v":0},null,null,{"$f":"U395*$X$2*VLOOKUP(DataByMiles!AE393,DataByMiles!$AT$5:$AU$6,2,FALSE)","v":0},{"$f":"DataByMiles!Y393*VLOOKUP(DataByMiles!AE393,DataByMiles!$AT$5:$AU$6,2,FALSE)","v":0},{"$f":"DataByMiles!Z393","v":0},{"$f":"DataByMiles!AA393","v":0},null,null,{"$f":"(Y395/IF(Z395=0,$AD$1,Z395)*$AD$2)/IF(AA395=0,1,AA395)*VLOOKUP(DataByMiles!AE393,DataByMiles!$AT$5:$AU$6,2,FALSE)","v":0},"",0,0,{"$f":"(AF395+AG395)*VLOOKUP(DataByMiles!AE393,DataByMiles!$AT$5:$AU$6,2,FALSE)","v":0},0]
[null,{"$f":"DataByMiles!C394","v":"----390"},{"$f":"DataByMiles!T394*VLOOKUP(DataByMiles!AE394,DataByMiles!$AT$5:$AU$6,2,FALSE)","v":0},null,null,0,{"$f":"C396*$G$2*VLOOKUP(DataByMiles!AE394,DataByMiles!$AT$5:$AU$6,2,FALSE)","v":0},{"$f":"DataByMiles!U394*VLOOKUP(DataByMiles!AE394,DataByMiles!$AT$5:$AU$6,2,FALSE)","v":0},null,null,0,{"$f":"H396*$L$2*VLOOKUP(DataByMiles!AE394,DataByMiles!$AT$5:$AU$6,2,FALSE)","v":0},{"$f":"DataByMiles!V394*VLOOKUP(DataByMiles!AE394,DataByMiles!$AT$5:$AU$6,2,FALSE)","v":0},null,null,{"$f":"M396*$P$2*VLOOKUP(DataByMiles!AE394,DataByMiles!$AT$5:$AU$6,2,FALSE)","v":0},{"$f":"DataByMiles!W394*VLOOKUP(DataByMiles!AE394,DataByMiles!$AT$5:$AU$6,2,FALSE)","v":0},null,null,{"$f":"Q396*$T$2*VLOOKUP(DataByMiles!AE394,DataByMiles!$AT$5:$AU$6,2,FALSE)","v":0},{"$f":"DataByMiles!X394*VLOOKUP(DataByMiles!AE394,DataByMiles!$AT$5:$AU$6,2,FALSE)","v":0},null,null,{"$f":"U396*$X$2*VLOOKUP(DataByMiles!AE394,DataByMiles!$AT$5:$AU$6,2,FALSE)","v":0},{"$f":"DataByMiles!Y394*VLOOKUP(DataByMiles!AE394,DataByMiles!$AT$5:$AU$6,2,FALSE)","v":0},{"$f":"DataByMiles!Z394","v":0},{"$f":"DataByMiles!AA394","v":0},null,null,{"$f":"(Y396/IF(Z396=0,$AD$1,Z396)*$AD$2)/IF(AA396=0,1,AA396)*VLOOKUP(DataByMiles!AE394,DataByMiles!$AT$5:$AU$6,2,FALSE)","v":0},"",0,0,{"$f":"(AF396+AG396)*VLOOKUP(DataByMiles!AE394,DataByMiles!$AT$5:$AU$6,2,FALSE)","v":0},0]
[null,{"$f":"DataByMiles!C395","v":"----391"},{"$f":"DataByMiles!T395*VLOOKUP(DataByMiles!AE395,DataByMiles!$AT$5:$AU$6,2,FALSE)","v":0},null,null,0,{"$f":"C397*$G$2*VLOOKUP(DataByMiles!AE395,DataByMiles!$AT$5:$AU$6,2,FALSE)","v":0},{"$f":"DataByMiles!U395*VLOOKUP(DataByMiles!AE395,DataByMiles!$AT$5:$AU$6,2,FALSE)","v":0},null,null,0,{"$f":"H397*$L$2*VLOOKUP(DataByMiles!AE395,DataByMiles!$AT$5:$AU$6,2,FALSE)","v":0},{"$f":"DataByMiles!V395*VLOOKUP(DataByMiles!AE395,DataByMiles!$AT$5:$AU$6,2,FALSE)","v":0},null,null,{"$f":"M397*$P$2*VLOOKUP(DataByMiles!AE395,DataByMiles!$AT$5:$AU$6,2,FALSE)","v":0},{"$f":"DataByMiles!W395*VLOOKUP(DataByMiles!AE395,DataByMiles!$AT$5:$AU$6,2,FALSE)","v":0},null,null,{"$f":"Q397*$T$2*VLOOKUP(DataByMiles!AE395,DataByMiles!$AT$5:$AU$6,2,FALSE)","v":0},{"$f":"DataByMiles!X395*VLOOKUP(DataByMiles!AE395,DataByMiles!$AT$5:$AU$6,2,FALSE)","v":0},null,null,{"$f":"U397*$X$2*VLOOKUP(DataByMiles!AE395,DataByMiles!$AT$5:$AU$6,2,FALSE)","v":0},{"$f":"DataByMiles!Y395*VLOOKUP(DataByMiles!AE395,DataByMiles!$AT$5:$AU$6,2,FALSE)","v":0},{"$f":"DataByMiles!Z395","v":0},{"$f":"DataByMiles!AA395","v":0},null,null,{"$f":"(Y397/IF(Z397=0,$AD$1,Z397)*$AD$2)/IF(AA397=0,1,AA397)*VLOOKUP(DataByMiles!AE395,DataByMiles!$AT$5:$AU$6,2,FALSE)","v":0},"",0,0,{"$f":"(AF397+AG397)*VLOOKUP(DataByMiles!AE395,DataByMiles!$AT$5:$AU$6,2,FALSE)","v":0},0]
[null,{"$f":"DataByMiles!C396","v":"----392"},{"$f":"DataByMiles!T396*VLOOKUP(DataByMiles!AE396,DataByMiles!$AT$5:$AU$6,2,FALSE)","v":0},null,null,0,{"$f":"C398*$G$2*VLOOKUP(DataByMiles!AE396,DataByMiles!$AT$5:$AU$6,2,FALSE)","v":0},{"$f":"DataByMiles!U396*VLOOKUP(DataByMiles!AE396,DataByMiles!$AT$5:$AU$6,2,FALSE)","v":0},null,null,0,{"$f":"H398*$L$2*VLOOKUP(DataByMiles!AE396,DataByMiles!$AT$5:$AU$6,2,FALSE)","v":0},{"$f":"DataByMiles!V396*VLOOKUP(DataByMiles!AE396,DataByMiles!$AT$5:$AU$6,2,FALSE)","v":0},null,null,{"$f":"M398*$P$2*VLOOKUP(DataByMiles!AE396,DataByMiles!$AT$5:$AU$6,2,FALSE)","v":0},{"$f":"DataByMiles!W396*VLOOKUP(DataByMiles!AE396,DataByMiles!$AT$5:$AU$6,2,FALSE)","v":0},null,null,{"$f":"Q398*$T$2*VLOOKUP(DataByMiles!AE396,DataByMiles!$AT$5:$AU$6,2,FALSE)","v":0},{"$f":"DataByMiles!X396*VLOOKUP(DataByMiles!AE396,DataByMiles!$AT$5:$AU$6,2,FALSE)","v":0},null,null,{"$f":"U398*$X$2*VLOOKUP(DataByMiles!AE396,DataByMiles!$AT$5:$AU$6,2,FALSE)","v":0},{"$f":"DataByMiles!Y396*VLOOKUP(DataByMiles!AE396,DataByMiles!$AT$5:$AU$6,2,FALSE)","v":0},{"$f":"DataByMiles!Z396","v":0},{"$f":"DataByMiles!AA396","v":0},null,null,{"$f":"(Y398/IF(Z398=0,$AD$1,Z398)*$AD$2)/IF(AA398=0,1,AA398)*VLOOKUP(DataByMiles!AE396,DataByMiles!$AT$5:$AU$6,2,FALSE)","v":0},"",0,0,{"$f":"(AF398+AG398)*VLOOKUP(DataByMiles!AE396,DataByMiles!$AT$5:$AU$6,2,FALSE)","v":0},0]
[null,{"$f":"DataByMiles!C397","v":"----393"},{"$f":"DataByMiles!T397*VLOOKUP(DataByMiles!AE397,DataByMiles!$AT$5:$AU$6,2,FALSE)","v":0},null,null,0,{"$f":"C399*$G$2*VLOOKUP(DataByMiles!AE397,DataByMiles!$AT$5:$AU$6,2,FALSE)","v":0},{"$f":"DataByMiles!U397*VLOOKUP(DataByMiles!AE397,DataByMiles!$AT$5:$AU$6,2,FALSE)","v":0},null,null,0,{"$f":"H399*$L$2*VLOOKUP(DataByMiles!AE397,DataByMiles!$AT$5:$AU$6,2,FALSE)","v":0},{"$f":"DataByMiles!V397*VLOOKUP(DataByMiles!AE397,DataByMiles!$AT$5:$AU$6,2,FALSE)","v":0},null,null,{"$f":"M399*$P$2*VLOOKUP(DataByMiles!AE397,DataByMiles!$AT$5:$AU$6,2,FALSE)","v":0},{"$f":"DataByMiles!W397*VLOOKUP(DataByMiles!AE397,DataByMiles!$AT$5:$AU$6,2,FALSE)","v":0},null,null,{"$f":"Q399*$T$2*VLOOKUP(DataByMiles!AE397,DataByMiles!$AT$5:$AU$6,2,FALSE)","v":0},{"$f":"DataByMiles!X397*VLOOKUP(DataByMiles!AE397,DataByMiles!$AT$5:$AU$6,2,FALSE)","v":0},null,null,{"$f":"U399*$X$2*VLOOKUP(DataByMiles!AE397,DataByMiles!$AT$5:$AU$6,2,FALSE)","v":0},{"$f":"DataByMiles!Y397*VLOOKUP(DataByMiles!AE397,DataByMiles!$AT$5:$AU$6,2,FALSE)","v":0},{"$f":"DataByMiles!Z397","v":0},{"$f":"DataByMiles!AA397","v":0},null,null,{"$f":"(Y399/IF(Z399=0,$AD$1,Z399)*$AD$2)/IF(AA399=0,1,AA399)*VLOOKUP(DataByMiles!AE397,DataByMiles!$AT$5:$AU$6,2,FALSE)","v":0},"",0,0,{"$f":"(AF399+AG399)*VLOOKUP(DataByMiles!AE397,DataByMiles!$AT$5:$AU$6,2,FALSE)","v":0},0]
[null,{"$f":"DataByMiles!C398","v":"----394"},{"$f":"DataByMiles!T398*VLOOKUP(DataByMiles!AE398,DataByMiles!$AT$5:$AU$6,2,FALSE)","v":0},null,null,0,{"$f":"C400*$G$2*VLOOKUP(DataByMiles!AE398,DataByMiles!$AT$5:$AU$6,2,FALSE)","v":0},{"$f":"DataByMiles!U398*VLOOKUP(DataByMiles!AE398,DataByMiles!$AT$5:$AU$6,2,FALSE)","v":0},null,null,0,{"$f":"H400*$L$2*VLOOKUP(DataByMiles!AE398,DataByMiles!$AT$5:$AU$6,2,FALSE)","v":0},{"$f":"DataByMiles!V398*VLOOKUP(DataByMiles!AE398,DataByMiles!$AT$5:$AU$6,2,FALSE)","v":0},null,null,{"$f":"M400*$P$2*VLOOKUP(DataByMiles!AE398,DataByMiles!$AT$5:$AU$6,2,FALSE)","v":0},{"$f":"DataByMiles!W398*VLOOKUP(DataByMiles!AE398,DataByMiles!$AT$5:$AU$6,2,FALSE)","v":0},null,null,{"$f":"Q400*$T$2*VLOOKUP(DataByMiles!AE398,DataByMiles!$AT$5:$AU$6,2,FALSE)","v":0},{"$f":"DataByMiles!X398*VLOOKUP(DataByMiles!AE398,DataByMiles!$AT$5:$AU$6,2,FALSE)","v":0},null,null,{"$f":"U400*$X$2*VLOOKUP(DataByMiles!AE398,DataByMiles!$AT$5:$AU$6,2,FALSE)","v":0},{"$f":"DataByMiles!Y398*VLOOKUP(DataByMiles!AE398,DataByMiles!$AT$5:$AU$6,2,FALSE)","v":0},{"$f":"DataByMiles!Z398","v":0},{"$f":"DataByMiles!AA398","v":0},null,null,{"$f":"(Y400/IF(Z400=0,$AD$1,Z400)*$AD$2)/IF(AA400=0,1,AA400)*VLOOKUP(DataByMiles!AE398,DataByMiles!$AT$5:$AU$6,2,FALSE)","v":0},"",0,0,{"$f":"(AF400+AG400)*VLOOKUP(DataByMiles!AE398,DataByMiles!$AT$5:$AU$6,2,FALSE)","v":0},0]
[null,{"$f":"DataByMiles!C399","v":"----395"},{"$f":"DataByMiles!T399*VLOOKUP(DataByMiles!AE399,DataByMiles!$AT$5:$AU$6,2,FALSE)","v":0},null,null,0,{"$f":"C401*$G$2*VLOOKUP(DataByMiles!AE399,DataByMiles!$AT$5:$AU$6,2,FALSE)","v":0},{"$f":"DataByMiles!U399*VLOOKUP(DataByMiles!AE399,DataByMiles!$AT$5:$AU$6,2,FALSE)","v":0},null,null,0,{"$f":"H401*$L$2*VLOOKUP(DataByMiles!AE399,DataByMiles!$AT$5:$AU$6,2,FALSE)","v":0},{"$f":"DataByMiles!V399*VLOOKUP(DataByMiles!AE399,DataByMiles!$AT$5:$AU$6,2,FALSE)","v":0},null,null,{"$f":"M401*$P$2*VLOOKUP(DataByMiles!AE399,DataByMiles!$AT$5:$AU$6,2,FALSE)","v":0},{"$f":"DataByMiles!W399*VLOOKUP(DataByMiles!AE399,DataByMiles!$AT$5:$AU$6,2,FALSE)","v":0},null,null,{"$f":"Q401*$T$2*VLOOKUP(DataByMiles!AE399,DataByMiles!$AT$5:$AU$6,2,FALSE)","v":0},{"$f":"DataByMiles!X399*VLOOKUP(DataByMiles!AE399,DataByMiles!$AT$5:$AU$6,2,FALSE)","v":0},null,null,{"$f":"U401*$X$2*VLOOKUP(DataByMiles!AE399,DataByMiles!$AT$5:$AU$6,2,FALSE)","v":0},{"$f":"DataByMiles!Y399*VLOOKUP(DataByMiles!AE399,DataByMiles!$AT$5:$AU$6,2,FALSE)","v":0},{"$f":"DataByMiles!Z399","v":0},{"$f":"DataByMiles!AA399","v":0},null,null,{"$f":"(Y401/IF(Z401=0,$AD$1,Z401)*$AD$2)/IF(AA401=0,1,AA401)*VLOOKUP(DataByMiles!AE399,DataByMiles!$AT$5:$AU$6,2,FALSE)","v":0},"",0,0,{"$f":"(AF401+AG401)*VLOOKUP(DataByMiles!AE399,DataByMiles!$AT$5:$AU$6,2,FALSE)","v":0},0]
[null,{"$f":"DataByMiles!C400","v":"----396"},{"$f":"DataByMiles!T400*VLOOKUP(DataByMiles!AE400,DataByMiles!$AT$5:$AU$6,2,FALSE)","v":0},null,null,0,{"$f":"C402*$G$2*VLOOKUP(DataByMiles!AE400,DataByMiles!$AT$5:$AU$6,2,FALSE)","v":0},{"$f":"DataByMiles!U400*VLOOKUP(DataByMiles!AE400,DataByMiles!$AT$5:$AU$6,2,FALSE)","v":0},null,null,0,{"$f":"H402*$L$2*VLOOKUP(DataByMiles!AE400,DataByMiles!$AT$5:$AU$6,2,FALSE)","v":0},{"$f":"DataByMiles!V400*VLOOKUP(DataByMiles!AE400,DataByMiles!$AT$5:$AU$6,2,FALSE)","v":0},null,null,{"$f":"M402*$P$2*VLOOKUP(DataByMiles!AE400,DataByMiles!$AT$5:$AU$6,2,FALSE)","v":0},{"$f":"DataByMiles!W400*VLOOKUP(DataByMiles!AE400,DataByMiles!$AT$5:$AU$6,2,FALSE)","v":0},null,null,{"$f":"Q402*$T$2*VLOOKUP(DataByMiles!AE400,DataByMiles!$AT$5:$AU$6,2,FALSE)","v":0},{"$f":"DataByMiles!X400*VLOOKUP(DataByMiles!AE400,DataByMiles!$AT$5:$AU$6,2,FALSE)","v":0},null,null,{"$f":"U402*$X$2*VLOOKUP(DataByMiles!AE400,DataByMiles!$AT$5:$AU$6,2,FALSE)","v":0},{"$f":"DataByMiles!Y400*VLOOKUP(DataByMiles!AE400,DataByMiles!$AT$5:$AU$6,2,FALSE)","v":0},{"$f":"DataByMiles!Z400","v":0},{"$f":"DataByMiles!AA400","v":0},null,null,{"$f":"(Y402/IF(Z402=0,$AD$1,Z402)*$AD$2)/IF(AA402=0,1,AA402)*VLOOKUP(DataByMiles!AE400,DataByMiles!$AT$5:$AU$6,2,FALSE)","v":0},"",0,0,{"$f":"(AF402+AG402)*VLOOKUP(DataByMiles!AE400,DataByMiles!$AT$5:$AU$6,2,FALSE)","v":0},0]
[null,{"$f":"DataByMiles!C401","v":"----397"},{"$f":"DataByMiles!T401*VLOOKUP(DataByMiles!AE401,DataByMiles!$AT$5:$AU$6,2,FALSE)","v":0},null,null,0,{"$f":"C403*$G$2*VLOOKUP(DataByMiles!AE401,DataByMiles!$AT$5:$AU$6,2,FALSE)","v":0},{"$f":"DataByMiles!U401*VLOOKUP(DataByMiles!AE401,DataByMiles!$AT$5:$AU$6,2,FALSE)","v":0},null,null,0,{"$f":"H403*$L$2*VLOOKUP(DataByMiles!AE401,DataByMiles!$AT$5:$AU$6,2,FALSE)","v":0},{"$f":"DataByMiles!V401*VLOOKUP(DataByMiles!AE401,DataByMiles!$AT$5:$AU$6,2,FALSE)","v":0},null,null,{"$f":"M403*$P$2*VLOOKUP(DataByMiles!AE401,DataByMiles!$AT$5:$AU$6,2,FALSE)","v":0},{"$f":"DataByMiles!W401*VLOOKUP(DataByMiles!AE401,DataByMiles!$AT$5:$AU$6,2,FALSE)","v":0},null,null,{"$f":"Q403*$T$2*VLOOKUP(DataByMiles!AE401,DataByMiles!$AT$5:$AU$6,2,FALSE)","v":0},{"$f":"DataByMiles!X401*VLOOKUP(DataByMiles!AE401,DataByMiles!$AT$5:$AU$6,2,FALSE)","v":0},null,null,{"$f":"U403*$X$2*VLOOKUP(DataByMiles!AE401,DataByMiles!$AT$5:$AU$6,2,FALSE)","v":0},{"$f":"DataByMiles!Y401*VLOOKUP(DataByMiles!AE401,DataByMiles!$AT$5:$AU$6,2,FALSE)","v":0},{"$f":"DataByMiles!Z401","v":0},{"$f":"DataByMiles!AA401","v":0},null,null,{"$f":"(Y403/IF(Z403=0,$AD$1,Z403)*$AD$2)/IF(AA403=0,1,AA403)*VLOOKUP(DataByMiles!AE401,DataByMiles!$AT$5:$AU$6,2,FALSE)","v":0},"",0,0,{"$f":"(AF403+AG403)*VLOOKUP(DataByMiles!AE401,DataByMiles!$AT$5:$AU$6,2,FALSE)","v":0},0]
[null,{"$f":"DataByMiles!C402","v":"----398"},{"$f":"DataByMiles!T402*VLOOKUP(DataByMiles!AE402,DataByMiles!$AT$5:$AU$6,2,FALSE)","v":0},null,null,0,{"$f":"C404*$G$2*VLOOKUP(DataByMiles!AE402,DataByMiles!$AT$5:$AU$6,2,FALSE)","v":0},{"$f":"DataByMiles!U402*VLOOKUP(DataByMiles!AE402,DataByMiles!$AT$5:$AU$6,2,FALSE)","v":0},null,null,0,{"$f":"H404*$L$2*VLOOKUP(DataByMiles!AE402,DataByMiles!$AT$5:$AU$6,2,FALSE)","v":0},{"$f":"DataByMiles!V402*VLOOKUP(DataByMiles!AE402,DataByMiles!$AT$5:$AU$6,2,FALSE)","v":0},null,null,{"$f":"M404*$P$2*VLOOKUP(DataByMiles!AE402,DataByMiles!$AT$5:$AU$6,2,FALSE)","v":0},{"$f":"DataByMiles!W402*VLOOKUP(DataByMiles!AE402,DataByMiles!$AT$5:$AU$6,2,FALSE)","v":0},null,null,{"$f":"Q404*$T$2*VLOOKUP(DataByMiles!AE402,DataByMiles!$AT$5:$AU$6,2,FALSE)","v":0},{"$f":"DataByMiles!X402*VLOOKUP(DataByMiles!AE402,DataByMiles!$AT$5:$AU$6,2,FALSE)","v":0},null,null,{"$f":"U404*$X$2*VLOOKUP(DataByMiles!AE402,DataByMiles!$AT$5:$AU$6,2,FALSE)","v":0},{"$f":"DataByMiles!Y402*VLOOKUP(DataByMiles!AE402,DataByMiles!$AT$5:$AU$6,2,FALSE)","v":0},{"$f":"DataByMiles!Z402","v":0},{"$f":"DataByMiles!AA402","v":0},null,null,{"$f":"(Y404/IF(Z404=0,$AD$1,Z404)*$AD$2)/IF(AA404=0,1,AA404)*VLOOKUP(DataByMiles!AE402,DataByMiles!$AT$5:$AU$6,2,FALSE)","v":0},"",0,0,{"$f":"(AF404+AG404)*VLOOKUP(DataByMiles!AE402,DataByMiles!$AT$5:$AU$6,2,FALSE)","v":0},0]
[null,{"$f":"DataByMiles!C403","v":"----399"},{"$f":"DataByMiles!T403*VLOOKUP(DataByMiles!AE403,DataByMiles!$AT$5:$AU$6,2,FALSE)","v":0},null,null,0,{"$f":"C405*$G$2*VLOOKUP(DataByMiles!AE403,DataByMiles!$AT$5:$AU$6,2,FALSE)","v":0},{"$f":"DataByMiles!U403*VLOOKUP(DataByMiles!AE403,DataByMiles!$AT$5:$AU$6,2,FALSE)","v":0},null,null,0,{"$f":"H405*$L$2*VLOOKUP(DataByMiles!AE403,DataByMiles!$AT$5:$AU$6,2,FALSE)","v":0},{"$f":"DataByMiles!V403*VLOOKUP(DataByMiles!AE403,DataByMiles!$AT$5:$AU$6,2,FALSE)","v":0},null,null,{"$f":"M405*$P$2*VLOOKUP(DataByMiles!AE403,DataByMiles!$AT$5:$AU$6,2,FALSE)","v":0},{"$f":"DataByMiles!W403*VLOOKUP(DataByMiles!AE403,DataByMiles!$AT$5:$AU$6,2,FALSE)","v":0},null,null,{"$f":"Q405*$T$2*VLOOKUP(DataByMiles!AE403,DataByMiles!$AT$5:$AU$6,2,FALSE)","v":0},{"$f":"DataByMiles!X403*VLOOKUP(DataByMiles!AE403,DataByMiles!$AT$5:$AU$6,2,FALSE)","v":0},null,null,{"$f":"U405*$X$2*VLOOKUP(DataByMiles!AE403,DataByMiles!$AT$5:$AU$6,2,FALSE)","v":0},{"$f":"DataByMiles!Y403*VLOOKUP(DataByMiles!AE403,DataByMiles!$AT$5:$AU$6,2,FALSE)","v":0},{"$f":"DataByMiles!Z403","v":0},{"$f":"DataByMiles!AA403","v":0},null,null,{"$f":"(Y405/IF(Z405=0,$AD$1,Z405)*$AD$2)/IF(AA405=0,1,AA405)*VLOOKUP(DataByMiles!AE403,DataByMiles!$AT$5:$AU$6,2,FALSE)","v":0},"",0,0,{"$f":"(AF405+AG405)*VLOOKUP(DataByMiles!AE403,DataByMiles!$AT$5:$AU$6,2,FALSE)","v":0},0]
[null,{"$f":"DataByMiles!C404","v":"----400"},{"$f":"DataByMiles!T404*VLOOKUP(DataByMiles!AE404,DataByMiles!$AT$5:$AU$6,2,FALSE)","v":0},null,null,0,{"$f":"C406*$G$2*VLOOKUP(DataByMiles!AE404,DataByMiles!$AT$5:$AU$6,2,FALSE)","v":0},{"$f":"DataByMiles!U404*VLOOKUP(DataByMiles!AE404,DataByMiles!$AT$5:$AU$6,2,FALSE)","v":0},null,null,0,{"$f":"H406*$L$2*VLOOKUP(DataByMiles!AE404,DataByMiles!$AT$5:$AU$6,2,FALSE)","v":0},{"$f":"DataByMiles!V404*VLOOKUP(DataByMiles!AE404,DataByMiles!$AT$5:$AU$6,2,FALSE)","v":0},null,null,{"$f":"M406*$P$2*VLOOKUP(DataByMiles!AE404,DataByMiles!$AT$5:$AU$6,2,FALSE)","v":0},{"$f":"DataByMiles!W404*VLOOKUP(DataByMiles!AE404,DataByMiles!$AT$5:$AU$6,2,FALSE)","v":0},null,null,{"$f":"Q406*$T$2*VLOOKUP(DataByMiles!AE404,DataByMiles!$AT$5:$AU$6,2,FALSE)","v":0},{"$f":"DataByMiles!X404*VLOOKUP(DataByMiles!AE404,DataByMiles!$AT$5:$AU$6,2,FALSE)","v":0},null,null,{"$f":"U406*$X$2*VLOOKUP(DataByMiles!AE404,DataByMiles!$AT$5:$AU$6,2,FALSE)","v":0},{"$f":"DataByMiles!Y404*VLOOKUP(DataByMiles!AE404,DataByMiles!$AT$5:$AU$6,2,FALSE)","v":0},{"$f":"DataByMiles!Z404","v":0},{"$f":"DataByMiles!AA404","v":0},null,null,{"$f":"(Y406/IF(Z406=0,$AD$1,Z406)*$AD$2)/IF(AA406=0,1,AA406)*VLOOKUP(DataByMiles!AE404,DataByMiles!$AT$5:$AU$6,2,FALSE)","v":0},"",0,0,{"$f":"(AF406+AG406)*VLOOKUP(DataByMiles!AE404,DataByMiles!$AT$5:$AU$6,2,FALSE)","v":0},0]
[null,{"$f":"DataByMiles!C405","v":"----401"},{"$f":"DataByMiles!T405*VLOOKUP(DataByMiles!AE405,DataByMiles!$AT$5:$AU$6,2,FALSE)","v":0},null,null,0,{"$f":"C407*$G$2*VLOOKUP(DataByMiles!AE405,DataByMiles!$AT$5:$AU$6,2,FALSE)","v":0},{"$f":"DataByMiles!U405*VLOOKUP(DataByMiles!AE405,DataByMiles!$AT$5:$AU$6,2,FALSE)","v":0},null,null,0,{"$f":"H407*$L$2*VLOOKUP(DataByMiles!AE405,DataByMiles!$AT$5:$AU$6,2,FALSE)","v":0},{"$f":"DataByMiles!V405*VLOOKUP(DataByMiles!AE405,DataByMiles!$AT$5:$AU$6,2,FALSE)","v":0},null,null,{"$f":"M407*$P$2*VLOOKUP(DataByMiles!AE405,DataByMiles!$AT$5:$AU$6,2,FALSE)","v":0},{"$f":"DataByMiles!W405*VLOOKUP(DataByMiles!AE405,DataByMiles!$AT$5:$AU$6,2,FALSE)","v":0},null,null,{"$f":"Q407*$T$2*VLOOKUP(DataByMiles!AE405,DataByMiles!$AT$5:$AU$6,2,FALSE)","v":0},{"$f":"DataByMiles!X405*VLOOKUP(DataByMiles!AE405,DataByMiles!$AT$5:$AU$6,2,FALSE)","v":0},null,null,{"$f":"U407*$X$2*VLOOKUP(DataByMiles!AE405,DataByMiles!$AT$5:$AU$6,2,FALSE)","v":0},{"$f":"DataByMiles!Y405*VLOOKUP(DataByMiles!AE405,DataByMiles!$AT$5:$AU$6,2,FALSE)","v":0},{"$f":"DataByMiles!Z405","v":0},{"$f":"DataByMiles!AA405","v":0},null,null,{"$f":"(Y407/IF(Z407=0,$AD$1,Z407)*$AD$2)/IF(AA407=0,1,AA407)*VLOOKUP(DataByMiles!AE405,DataByMiles!$AT$5:$AU$6,2,FALSE)","v":0},"",0,0,{"$f":"(AF407+AG407)*VLOOKUP(DataByMiles!AE405,DataByMiles!$AT$5:$AU$6,2,FALSE)","v":0},0]
[null,{"$f":"DataByMiles!C406","v":"----402"},{"$f":"DataByMiles!T406*VLOOKUP(DataByMiles!AE406,DataByMiles!$AT$5:$AU$6,2,FALSE)","v":0},null,null,0,{"$f":"C408*$G$2*VLOOKUP(DataByMiles!AE406,DataByMiles!$AT$5:$AU$6,2,FALSE)","v":0},{"$f":"DataByMiles!U406*VLOOKUP(DataByMiles!AE406,DataByMiles!$AT$5:$AU$6,2,FALSE)","v":0},null,null,0,{"$f":"H408*$L$2*VLOOKUP(DataByMiles!AE406,DataByMiles!$AT$5:$AU$6,2,FALSE)","v":0},{"$f":"DataByMiles!V406*VLOOKUP(DataByMiles!AE406,DataByMiles!$AT$5:$AU$6,2,FALSE)","v":0},null,null,{"$f":"M408*$P$2*VLOOKUP(DataByMiles!AE406,DataByMiles!$AT$5:$AU$6,2,FALSE)","v":0},{"$f":"DataByMiles!W406*VLOOKUP(DataByMiles!AE406,DataByMiles!$AT$5:$AU$6,2,FALSE)","v":0},null,null,{"$f":"Q408*$T$2*VLOOKUP(DataByMiles!AE406,DataByMiles!$AT$5:$AU$6,2,FALSE)","v":0},{"$f":"DataByMiles!X406*VLOOKUP(DataByMiles!AE406,DataByMiles!$AT$5:$AU$6,2,FALSE)","v":0},null,null,{"$f":"U408*$X$2*VLOOKUP(DataByMiles!AE406,DataByMiles!$AT$5:$AU$6,2,FALSE)","v":0},{"$f":"DataByMiles!Y406*VLOOKUP(DataByMiles!AE406,DataByMiles!$AT$5:$AU$6,2,FALSE)","v":0},{"$f":"DataByMiles!Z406","v":0},{"$f":"DataByMiles!AA406","v":0},null,null,{"$f":"(Y408/IF(Z408=0,$AD$1,Z408)*$AD$2)/IF(AA408=0,1,AA408)*VLOOKUP(DataByMiles!AE406,DataByMiles!$AT$5:$AU$6,2,FALSE)","v":0},"",0,0,{"$f":"(AF408+AG408)*VLOOKUP(DataByMiles!AE406,DataByMiles!$AT$5:$AU$6,2,FALSE)","v":0},0]
[null,{"$f":"DataByMiles!C407","v":"----403"},{"$f":"DataByMiles!T407*VLOOKUP(DataByMiles!AE407,DataByMiles!$AT$5:$AU$6,2,FALSE)","v":0},null,null,0,{"$f":"C409*$G$2*VLOOKUP(DataByMiles!AE407,DataByMiles!$AT$5:$AU$6,2,FALSE)","v":0},{"$f":"DataByMiles!U407*VLOOKUP(DataByMiles!AE407,DataByMiles!$AT$5:$AU$6,2,FALSE)","v":0},null,null,0,{"$f":"H409*$L$2*VLOOKUP(DataByMiles!AE407,DataByMiles!$AT$5:$AU$6,2,FALSE)","v":0},{"$f":"DataByMiles!V407*VLOOKUP(DataByMiles!AE407,DataByMiles!$AT$5:$AU$6,2,FALSE)","v":0},null,null,{"$f":"M409*$P$2*VLOOKUP(DataByMiles!AE407,DataByMiles!$AT$5:$AU$6,2,FALSE)","v":0},{"$f":"DataByMiles!W407*VLOOKUP(DataByMiles!AE407,DataByMiles!$AT$5:$AU$6,2,FALSE)","v":0},null,null,{"$f":"Q409*$T$2*VLOOKUP(DataByMiles!AE407,DataByMiles!$AT$5:$AU$6,2,FALSE)","v":0},{"$f":"DataByMiles!X407*VLOOKUP(DataByMiles!AE407,DataByMiles!$AT$5:$AU$6,2,FALSE)","v":0},null,null,{"$f":"U409*$X$2*VLOOKUP(DataByMiles!AE407,DataByMiles!$AT$5:$AU$6,2,FALSE)","v":0},{"$f":"DataByMiles!Y407*VLOOKUP(DataByMiles!AE407,DataByMiles!$AT$5:$AU$6,2,FALSE)","v":0},{"$f":"DataByMiles!Z407","v":0},{"$f":"DataByMiles!AA407","v":0},null,null,{"$f":"(Y409/IF(Z409=0,$AD$1,Z409)*$AD$2)/IF(AA409=0,1,AA409)*VLOOKUP(DataByMiles!AE407,DataByMiles!$AT$5:$AU$6,2,FALSE)","v":0},"",0,0,{"$f":"(AF409+AG409)*VLOOKUP(DataByMiles!AE407,DataByMiles!$AT$5:$AU$6,2,FALSE)","v":0},0]
[null,{"$f":"DataByMiles!C408","v":"----404"},{"$f":"DataByMiles!T408*VLOOKUP(DataByMiles!AE408,DataByMiles!$AT$5:$AU$6,2,FALSE)","v":0},null,null,0,{"$f":"C410*$G$2*VLOOKUP(DataByMiles!AE408,DataByMiles!$AT$5:$AU$6,2,FALSE)","v":0},{"$f":"DataByMiles!U408*VLOOKUP(DataByMiles!AE408,DataByMiles!$AT$5:$AU$6,2,FALSE)","v":0},null,null,0,{"$f":"H410*$L$2*VLOOKUP(DataByMiles!AE408,DataByMiles!$AT$5:$AU$6,2,FALSE)","v":0},{"$f":"DataByMiles!V408*VLOOKUP(DataByMiles!AE408,DataByMiles!$AT$5:$AU$6,2,FALSE)","v":0},null,null,{"$f":"M410*$P$2*VLOOKUP(DataByMiles!AE408,DataByMiles!$AT$5:$AU$6,2,FALSE)","v":0},{"$f":"DataByMiles!W408*VLOOKUP(DataByMiles!AE408,DataByMiles!$AT$5:$AU$6,2,FALSE)","v":0},null,null,{"$f":"Q410*$T$2*VLOOKUP(DataByMiles!AE408,DataByMiles!$AT$5:$AU$6,2,FALSE)","v":0},{"$f":"DataByMiles!X408*VLOOKUP(DataByMiles!AE408,DataByMiles!$AT$5:$AU$6,2,FALSE)","v":0},null,null,{"$f":"U410*$X$2*VLOOKUP(DataByMiles!AE408,DataByMiles!$AT$5:$AU$6,2,FALSE)","v":0},{"$f":"DataByMiles!Y408*VLOOKUP(DataByMiles!AE408,DataByMiles!$AT$5:$AU$6,2,FALSE)","v":0},{"$f":"DataByMiles!Z408","v":0},{"$f":"DataByMiles!AA408","v":0},null,null,{"$f":"(Y410/IF(Z410=0,$AD$1,Z410)*$AD$2)/IF(AA410=0,1,AA410)*VLOOKUP(DataByMiles!AE408,DataByMiles!$AT$5:$AU$6,2,FALSE)","v":0},"",0,0,{"$f":"(AF410+AG410)*VLOOKUP(DataByMiles!AE408,DataByMiles!$AT$5:$AU$6,2,FALSE)","v":0},0]
[null,{"$f":"DataByMiles!C409","v":"----405"},{"$f":"DataByMiles!T409*VLOOKUP(DataByMiles!AE409,DataByMiles!$AT$5:$AU$6,2,FALSE)","v":0},null,null,0,{"$f":"C411*$G$2*VLOOKUP(DataByMiles!AE409,DataByMiles!$AT$5:$AU$6,2,FALSE)","v":0},{"$f":"DataByMiles!U409*VLOOKUP(DataByMiles!AE409,DataByMiles!$AT$5:$AU$6,2,FALSE)","v":0},null,null,0,{"$f":"H411*$L$2*VLOOKUP(DataByMiles!AE409,DataByMiles!$AT$5:$AU$6,2,FALSE)","v":0},{"$f":"DataByMiles!V409*VLOOKUP(DataByMiles!AE409,DataByMiles!$AT$5:$AU$6,2,FALSE)","v":0},null,null,{"$f":"M411*$P$2*VLOOKUP(DataByMiles!AE409,DataByMiles!$AT$5:$AU$6,2,FALSE)","v":0},{"$f":"DataByMiles!W409*VLOOKUP(DataByMiles!AE409,DataByMiles!$AT$5:$AU$6,2,FALSE)","v":0},null,null,{"$f":"Q411*$T$2*VLOOKUP(DataByMiles!AE409,DataByMiles!$AT$5:$AU$6,2,FALSE)","v":0},{"$f":"DataByMiles!X409*VLOOKUP(DataByMiles!AE409,DataByMiles!$AT$5:$AU$6,2,FALSE)","v":0},null,null,{"$f":"U411*$X$2*VLOOKUP(DataByMiles!AE409,DataByMiles!$AT$5:$AU$6,2,FALSE)","v":0},{"$f":"DataByMiles!Y409*VLOOKUP(DataByMiles!AE409,DataByMiles!$AT$5:$AU$6,2,FALSE)","v":0},{"$f":"DataByMiles!Z409","v":0},{"$f":"DataByMiles!AA409","v":0},null,null,{"$f":"(Y411/IF(Z411=0,$AD$1,Z411)*$AD$2)/IF(AA411=0,1,AA411)*VLOOKUP(DataByMiles!AE409,DataByMiles!$AT$5:$AU$6,2,FALSE)","v":0},"",0,0,{"$f":"(AF411+AG411)*VLOOKUP(DataByMiles!AE409,DataByMiles!$AT$5:$AU$6,2,FALSE)","v":0},0]
[null,{"$f":"DataByMiles!C410","v":"----406"},{"$f":"DataByMiles!T410*VLOOKUP(DataByMiles!AE410,DataByMiles!$AT$5:$AU$6,2,FALSE)","v":0},null,null,0,{"$f":"C412*$G$2*VLOOKUP(DataByMiles!AE410,DataByMiles!$AT$5:$AU$6,2,FALSE)","v":0},{"$f":"DataByMiles!U410*VLOOKUP(DataByMiles!AE410,DataByMiles!$AT$5:$AU$6,2,FALSE)","v":0},null,null,0,{"$f":"H412*$L$2*VLOOKUP(DataByMiles!AE410,DataByMiles!$AT$5:$AU$6,2,FALSE)","v":0},{"$f":"DataByMiles!V410*VLOOKUP(DataByMiles!AE410,DataByMiles!$AT$5:$AU$6,2,FALSE)","v":0},null,null,{"$f":"M412*$P$2*VLOOKUP(DataByMiles!AE410,DataByMiles!$AT$5:$AU$6,2,FALSE)","v":0},{"$f":"DataByMiles!W410*VLOOKUP(DataByMiles!AE410,DataByMiles!$AT$5:$AU$6,2,FALSE)","v":0},null,null,{"$f":"Q412*$T$2*VLOOKUP(DataByMiles!AE410,DataByMiles!$AT$5:$AU$6,2,FALSE)","v":0},{"$f":"DataByMiles!X410*VLOOKUP(DataByMiles!AE410,DataByMiles!$AT$5:$AU$6,2,FALSE)","v":0},null,null,{"$f":"U412*$X$2*VLOOKUP(DataByMiles!AE410,DataByMiles!$AT$5:$AU$6,2,FALSE)","v":0},{"$f":"DataByMiles!Y410*VLOOKUP(DataByMiles!AE410,DataByMiles!$AT$5:$AU$6,2,FALSE)","v":0},{"$f":"DataByMiles!Z410","v":0},{"$f":"DataByMiles!AA410","v":0},null,null,{"$f":"(Y412/IF(Z412=0,$AD$1,Z412)*$AD$2)/IF(AA412=0,1,AA412)*VLOOKUP(DataByMiles!AE410,DataByMiles!$AT$5:$AU$6,2,FALSE)","v":0},"",0,0,{"$f":"(AF412+AG412)*VLOOKUP(DataByMiles!AE410,DataByMiles!$AT$5:$AU$6,2,FALSE)","v":0},0]
[null,{"$f":"DataByMiles!C411","v":"----407"},{"$f":"DataByMiles!T411*VLOOKUP(DataByMiles!AE411,DataByMiles!$AT$5:$AU$6,2,FALSE)","v":0},null,null,0,{"$f":"C413*$G$2*VLOOKUP(DataByMiles!AE411,DataByMiles!$AT$5:$AU$6,2,FALSE)","v":0},{"$f":"DataByMiles!U411*VLOOKUP(DataByMiles!AE411,DataByMiles!$AT$5:$AU$6,2,FALSE)","v":0},null,null,0,{"$f":"H413*$L$2*VLOOKUP(DataByMiles!AE411,DataByMiles!$AT$5:$AU$6,2,FALSE)","v":0},{"$f":"DataByMiles!V411*VLOOKUP(DataByMiles!AE411,DataByMiles!$AT$5:$AU$6,2,FALSE)","v":0},null,null,{"$f":"M413*$P$2*VLOOKUP(DataByMiles!AE411,DataByMiles!$AT$5:$AU$6,2,FALSE)","v":0},{"$f":"DataByMiles!W411*VLOOKUP(DataByMiles!AE411,DataByMiles!$AT$5:$AU$6,2,FALSE)","v":0},null,null,{"$f":"Q413*$T$2*VLOOKUP(DataByMiles!AE411,DataByMiles!$AT$5:$AU$6,2,FALSE)","v":0},{"$f":"DataByMiles!X411*VLOOKUP(DataByMiles!AE411,DataByMiles!$AT$5:$AU$6,2,FALSE)","v":0},null,null,{"$f":"U413*$X$2*VLOOKUP(DataByMiles!AE411,DataByMiles!$AT$5:$AU$6,2,FALSE)","v":0},{"$f":"DataByMiles!Y411*VLOOKUP(DataByMiles!AE411,DataByMiles!$AT$5:$AU$6,2,FALSE)","v":0},{"$f":"DataByMiles!Z411","v":0},{"$f":"DataByMiles!AA411","v":0},null,null,{"$f":"(Y413/IF(Z413=0,$AD$1,Z413)*$AD$2)/IF(AA413=0,1,AA413)*VLOOKUP(DataByMiles!AE411,DataByMiles!$AT$5:$AU$6,2,FALSE)","v":0},"",0,0,{"$f":"(AF413+AG413)*VLOOKUP(DataByMiles!AE411,DataByMiles!$AT$5:$AU$6,2,FALSE)","v":0},0]
[null,{"$f":"DataByMiles!C412","v":"----408"},{"$f":"DataByMiles!T412*VLOOKUP(DataByMiles!AE412,DataByMiles!$AT$5:$AU$6,2,FALSE)","v":0},null,null,0,{"$f":"C414*$G$2*VLOOKUP(DataByMiles!AE412,DataByMiles!$AT$5:$AU$6,2,FALSE)","v":0},{"$f":"DataByMiles!U412*VLOOKUP(DataByMiles!AE412,DataByMiles!$AT$5:$AU$6,2,FALSE)","v":0},null,null,0,{"$f":"H414*$L$2*VLOOKUP(DataByMiles!AE412,DataByMiles!$AT$5:$AU$6,2,FALSE)","v":0},{"$f":"DataByMiles!V412*VLOOKUP(DataByMiles!AE412,DataByMiles!$AT$5:$AU$6,2,FALSE)","v":0},null,null,{"$f":"M414*$P$2*VLOOKUP(DataByMiles!AE412,DataByMiles!$AT$5:$AU$6,2,FALSE)","v":0},{"$f":"DataByMiles!W412*VLOOKUP(DataByMiles!AE412,DataByMiles!$AT$5:$AU$6,2,FALSE)","v":0},null,null,{"$f":"Q414*$T$2*VLOOKUP(DataByMiles!AE412,DataByMiles!$AT$5:$AU$6,2,FALSE)","v":0},{"$f":"DataByMiles!X412*VLOOKUP(DataByMiles!AE412,DataByMiles!$AT$5:$AU$6,2,FALSE)","v":0},null,null,{"$f":"U414*$X$2*VLOOKUP(DataByMiles!AE412,DataByMiles!$AT$5:$AU$6,2,FALSE)","v":0},{"$f":"DataByMiles!Y412*VLOOKUP(DataByMiles!AE412,DataByMiles!$AT$5:$AU$6,2,FALSE)","v":0},{"$f":"DataByMiles!Z412","v":0},{"$f":"DataByMiles!AA412","v":0},null,null,{"$f":"(Y414/IF(Z414=0,$AD$1,Z414)*$AD$2)/IF(AA414=0,1,AA414)*VLOOKUP(DataByMiles!AE412,DataByMiles!$AT$5:$AU$6,2,FALSE)","v":0},"",0,0,{"$f":"(AF414+AG414)*VLOOKUP(DataByMiles!AE412,DataByMiles!$AT$5:$AU$6,2,FALSE)","v":0},0]
[null,{"$f":"DataByMiles!C413","v":"----409"},{"$f":"DataByMiles!T413*VLOOKUP(DataByMiles!AE413,DataByMiles!$AT$5:$AU$6,2,FALSE)","v":0},null,null,0,{"$f":"C415*$G$2*VLOOKUP(DataByMiles!AE413,DataByMiles!$AT$5:$AU$6,2,FALSE)","v":0},{"$f":"DataByMiles!U413*VLOOKUP(DataByMiles!AE413,DataByMiles!$AT$5:$AU$6,2,FALSE)","v":0},null,null,0,{"$f":"H415*$L$2*VLOOKUP(DataByMiles!AE413,DataByMiles!$AT$5:$AU$6,2,FALSE)","v":0},{"$f":"DataByMiles!V413*VLOOKUP(DataByMiles!AE413,DataByMiles!$AT$5:$AU$6,2,FALSE)","v":0},null,null,{"$f":"M415*$P$2*VLOOKUP(DataByMiles!AE413,DataByMiles!$AT$5:$AU$6,2,FALSE)","v":0},{"$f":"DataByMiles!W413*VLOOKUP(DataByMiles!AE413,DataByMiles!$AT$5:$AU$6,2,FALSE)","v":0},null,null,{"$f":"Q415*$T$2*VLOOKUP(DataByMiles!AE413,DataByMiles!$AT$5:$AU$6,2,FALSE)","v":0},{"$f":"DataByMiles!X413*VLOOKUP(DataByMiles!AE413,DataByMiles!$AT$5:$AU$6,2,FALSE)","v":0},null,null,{"$f":"U415*$X$2*VLOOKUP(DataByMiles!AE413,DataByMiles!$AT$5:$AU$6,2,FALSE)","v":0},{"$f":"DataByMiles!Y413*VLOOKUP(DataByMiles!AE413,DataByMiles!$AT$5:$AU$6,2,FALSE)","v":0},{"$f":"DataByMiles!Z413","v":0},{"$f":"DataByMiles!AA413","v":0},null,null,{"$f":"(Y415/IF(Z415=0,$AD$1,Z415)*$AD$2)/IF(AA415=0,1,AA415)*VLOOKUP(DataByMiles!AE413,DataByMiles!$AT$5:$AU$6,2,FALSE)","v":0},"",0,0,{"$f":"(AF415+AG415)*VLOOKUP(DataByMiles!AE413,DataByMiles!$AT$5:$AU$6,2,FALSE)","v":0},0]
[null,{"$f":"DataByMiles!C414","v":"----410"},{"$f":"DataByMiles!T414*VLOOKUP(DataByMiles!AE414,DataByMiles!$AT$5:$AU$6,2,FALSE)","v":0},null,null,0,{"$f":"C416*$G$2*VLOOKUP(DataByMiles!AE414,DataByMiles!$AT$5:$AU$6,2,FALSE)","v":0},{"$f":"DataByMiles!U414*VLOOKUP(DataByMiles!AE414,DataByMiles!$AT$5:$AU$6,2,FALSE)","v":0},null,null,0,{"$f":"H416*$L$2*VLOOKUP(DataByMiles!AE414,DataByMiles!$AT$5:$AU$6,2,FALSE)","v":0},{"$f":"DataByMiles!V414*VLOOKUP(DataByMiles!AE414,DataByMiles!$AT$5:$AU$6,2,FALSE)","v":0},null,null,{"$f":"M416*$P$2*VLOOKUP(DataByMiles!AE414,DataByMiles!$AT$5:$AU$6,2,FALSE)","v":0},{"$f":"DataByMiles!W414*VLOOKUP(DataByMiles!AE414,DataByMiles!$AT$5:$AU$6,2,FALSE)","v":0},null,null,{"$f":"Q416*$T$2*VLOOKUP(DataByMiles!AE414,DataByMiles!$AT$5:$AU$6,2,FALSE)","v":0},{"$f":"DataByMiles!X414*VLOOKUP(DataByMiles!AE414,DataByMiles!$AT$5:$AU$6,2,FALSE)","v":0},null,null,{"$f":"U416*$X$2*VLOOKUP(DataByMiles!AE414,DataByMiles!$AT$5:$AU$6,2,FALSE)","v":0},{"$f":"DataByMiles!Y414*VLOOKUP(DataByMiles!AE414,DataByMiles!$AT$5:$AU$6,2,FALSE)","v":0},{"$f":"DataByMiles!Z414","v":0},{"$f":"DataByMiles!AA414","v":0},null,null,{"$f":"(Y416/IF(Z416=0,$AD$1,Z416)*$AD$2)/IF(AA416=0,1,AA416)*VLOOKUP(DataByMiles!AE414,DataByMiles!$AT$5:$AU$6,2,FALSE)","v":0},"",0,0,{"$f":"(AF416+AG416)*VLOOKUP(DataByMiles!AE414,DataByMiles!$AT$5:$AU$6,2,FALSE)","v":0},0]
[null,{"$f":"DataByMiles!C415","v":"----411"},{"$f":"DataByMiles!T415*VLOOKUP(DataByMiles!AE415,DataByMiles!$AT$5:$AU$6,2,FALSE)","v":0},null,null,0,{"$f":"C417*$G$2*VLOOKUP(DataByMiles!AE415,DataByMiles!$AT$5:$AU$6,2,FALSE)","v":0},{"$f":"DataByMiles!U415*VLOOKUP(DataByMiles!AE415,DataByMiles!$AT$5:$AU$6,2,FALSE)","v":0},null,null,0,{"$f":"H417*$L$2*VLOOKUP(DataByMiles!AE415,DataByMiles!$AT$5:$AU$6,2,FALSE)","v":0},{"$f":"DataByMiles!V415*VLOOKUP(DataByMiles!AE415,DataByMiles!$AT$5:$AU$6,2,FALSE)","v":0},null,null,{"$f":"M417*$P$2*VLOOKUP(DataByMiles!AE415,DataByMiles!$AT$5:$AU$6,2,FALSE)","v":0},{"$f":"DataByMiles!W415*VLOOKUP(DataByMiles!AE415,DataByMiles!$AT$5:$AU$6,2,FALSE)","v":0},null,null,{"$f":"Q417*$T$2*VLOOKUP(DataByMiles!AE415,DataByMiles!$AT$5:$AU$6,2,FALSE)","v":0},{"$f":"DataByMiles!X415*VLOOKUP(DataByMiles!AE415,DataByMiles!$AT$5:$AU$6,2,FALSE)","v":0},null,null,{"$f":"U417*$X$2*VLOOKUP(DataByMiles!AE415,DataByMiles!$AT$5:$AU$6,2,FALSE)","v":0},{"$f":"DataByMiles!Y415*VLOOKUP(DataByMiles!AE415,DataByMiles!$AT$5:$AU$6,2,FALSE)","v":0},{"$f":"DataByMiles!Z415","v":0},{"$f":"DataByMiles!AA415","v":0},null,null,{"$f":"(Y417/IF(Z417=0,$AD$1,Z417)*$AD$2)/IF(AA417=0,1,AA417)*VLOOKUP(DataByMiles!AE415,DataByMiles!$AT$5:$AU$6,2,FALSE)","v":0},"",0,0,{"$f":"(AF417+AG417)*VLOOKUP(DataByMiles!AE415,DataByMiles!$AT$5:$AU$6,2,FALSE)","v":0},0]
[null,{"$f":"DataByMiles!C416","v":"----412"},{"$f":"DataByMiles!T416*VLOOKUP(DataByMiles!AE416,DataByMiles!$AT$5:$AU$6,2,FALSE)","v":0},null,null,0,{"$f":"C418*$G$2*VLOOKUP(DataByMiles!AE416,DataByMiles!$AT$5:$AU$6,2,FALSE)","v":0},{"$f":"DataByMiles!U416*VLOOKUP(DataByMiles!AE416,DataByMiles!$AT$5:$AU$6,2,FALSE)","v":0},null,null,0,{"$f":"H418*$L$2*VLOOKUP(DataByMiles!AE416,DataByMiles!$AT$5:$AU$6,2,FALSE)","v":0},{"$f":"DataByMiles!V416*VLOOKUP(DataByMiles!AE416,DataByMiles!$AT$5:$AU$6,2,FALSE)","v":0},null,null,{"$f":"M418*$P$2*VLOOKUP(DataByMiles!AE416,DataByMiles!$AT$5:$AU$6,2,FALSE)","v":0},{"$f":"DataByMiles!W416*VLOOKUP(DataByMiles!AE416,DataByMiles!$AT$5:$AU$6,2,FALSE)","v":0},null,null,{"$f":"Q418*$T$2*VLOOKUP(DataByMiles!AE416,DataByMiles!$AT$5:$AU$6,2,FALSE)","v":0},{"$f":"DataByMiles!X416*VLOOKUP(DataByMiles!AE416,DataByMiles!$AT$5:$AU$6,2,FALSE)","v":0},null,null,{"$f":"U418*$X$2*VLOOKUP(DataByMiles!AE416,DataByMiles!$AT$5:$AU$6,2,FALSE)","v":0},{"$f":"DataByMiles!Y416*VLOOKUP(DataByMiles!AE416,DataByMiles!$AT$5:$AU$6,2,FALSE)","v":0},{"$f":"DataByMiles!Z416","v":0},{"$f":"DataByMiles!AA416","v":0},null,null,{"$f":"(Y418/IF(Z418=0,$AD$1,Z418)*$AD$2)/IF(AA418=0,1,AA418)*VLOOKUP(DataByMiles!AE416,DataByMiles!$AT$5:$AU$6,2,FALSE)","v":0},"",0,0,{"$f":"(AF418+AG418)*VLOOKUP(DataByMiles!AE416,DataByMiles!$AT$5:$AU$6,2,FALSE)","v":0},0]
[null,{"$f":"DataByMiles!C417","v":"----413"},{"$f":"DataByMiles!T417*VLOOKUP(DataByMiles!AE417,DataByMiles!$AT$5:$AU$6,2,FALSE)","v":0},null,null,0,{"$f":"C419*$G$2*VLOOKUP(DataByMiles!AE417,DataByMiles!$AT$5:$AU$6,2,FALSE)","v":0},{"$f":"DataByMiles!U417*VLOOKUP(DataByMiles!AE417,DataByMiles!$AT$5:$AU$6,2,FALSE)","v":0},null,null,0,{"$f":"H419*$L$2*VLOOKUP(DataByMiles!AE417,DataByMiles!$AT$5:$AU$6,2,FALSE)","v":0},{"$f":"DataByMiles!V417*VLOOKUP(DataByMiles!AE417,DataByMiles!$AT$5:$AU$6,2,FALSE)","v":0},null,null,{"$f":"M419*$P$2*VLOOKUP(DataByMiles!AE417,DataByMiles!$AT$5:$AU$6,2,FALSE)","v":0},{"$f":"DataByMiles!W417*VLOOKUP(DataByMiles!AE417,DataByMiles!$AT$5:$AU$6,2,FALSE)","v":0},null,null,{"$f":"Q419*$T$2*VLOOKUP(DataByMiles!AE417,DataByMiles!$AT$5:$AU$6,2,FALSE)","v":0},{"$f":"DataByMiles!X417*VLOOKUP(DataByMiles!AE417,DataByMiles!$AT$5:$AU$6,2,FALSE)","v":0},null,null,{"$f":"U419*$X$2*VLOOKUP(DataByMiles!AE417,DataByMiles!$AT$5:$AU$6,2,FALSE)","v":0},{"$f":"DataByMiles!Y417*VLOOKUP(DataByMiles!AE417,DataByMiles!$AT$5:$AU$6,2,FALSE)","v":0},{"$f":"DataByMiles!Z417","v":0},{"$f":"DataByMiles!AA417","v":0},null,null,{"$f":"(Y419/IF(Z419=0,$AD$1,Z419)*$AD$2)/IF(AA419=0,1,AA419)*VLOOKUP(DataByMiles!AE417,DataByMiles!$AT$5:$AU$6,2,FALSE)","v":0},"",0,0,{"$f":"(AF419+AG419)*VLOOKUP(DataByMiles!AE417,DataByMiles!$AT$5:$AU$6,2,FALSE)","v":0},0]
[null,{"$f":"DataByMiles!C418","v":"----414"},{"$f":"DataByMiles!T418*VLOOKUP(DataByMiles!AE418,DataByMiles!$AT$5:$AU$6,2,FALSE)","v":0},null,null,0,{"$f":"C420*$G$2*VLOOKUP(DataByMiles!AE418,DataByMiles!$AT$5:$AU$6,2,FALSE)","v":0},{"$f":"DataByMiles!U418*VLOOKUP(DataByMiles!AE418,DataByMiles!$AT$5:$AU$6,2,FALSE)","v":0},null,null,0,{"$f":"H420*$L$2*VLOOKUP(DataByMiles!AE418,DataByMiles!$AT$5:$AU$6,2,FALSE)","v":0},{"$f":"DataByMiles!V418*VLOOKUP(DataByMiles!AE418,DataByMiles!$AT$5:$AU$6,2,FALSE)","v":0},null,null,{"$f":"M420*$P$2*VLOOKUP(DataByMiles!AE418,DataByMiles!$AT$5:$AU$6,2,FALSE)","v":0},{"$f":"DataByMiles!W418*VLOOKUP(DataByMiles!AE418,DataByMiles!$AT$5:$AU$6,2,FALSE)","v":0},null,null,{"$f":"Q420*$T$2*VLOOKUP(DataByMiles!AE418,DataByMiles!$AT$5:$AU$6,2,FALSE)","v":0},{"$f":"DataByMiles!X418*VLOOKUP(DataByMiles!AE418,DataByMiles!$AT$5:$AU$6,2,FALSE)","v":0},null,null,{"$f":"U420*$X$2*VLOOKUP(DataByMiles!AE418,DataByMiles!$AT$5:$AU$6,2,FALSE)","v":0},{"$f":"DataByMiles!Y418*VLOOKUP(DataByMiles!AE418,DataByMiles!$AT$5:$AU$6,2,FALSE)","v":0},{"$f":"DataByMiles!Z418","v":0},{"$f":"DataByMiles!AA418","v":0},null,null,{"$f":"(Y420/IF(Z420=0,$AD$1,Z420)*$AD$2)/IF(AA420=0,1,AA420)*VLOOKUP(DataByMiles!AE418,DataByMiles!$AT$5:$AU$6,2,FALSE)","v":0},"",0,0,{"$f":"(AF420+AG420)*VLOOKUP(DataByMiles!AE418,DataByMiles!$AT$5:$AU$6,2,FALSE)","v":0},0]
[null,{"$f":"DataByMiles!C419","v":"----415"},{"$f":"DataByMiles!T419*VLOOKUP(DataByMiles!AE419,DataByMiles!$AT$5:$AU$6,2,FALSE)","v":0},null,null,0,{"$f":"C421*$G$2*VLOOKUP(DataByMiles!AE419,DataByMiles!$AT$5:$AU$6,2,FALSE)","v":0},{"$f":"DataByMiles!U419*VLOOKUP(DataByMiles!AE419,DataByMiles!$AT$5:$AU$6,2,FALSE)","v":0},null,null,0,{"$f":"H421*$L$2*VLOOKUP(DataByMiles!AE419,DataByMiles!$AT$5:$AU$6,2,FALSE)","v":0},{"$f":"DataByMiles!V419*VLOOKUP(DataByMiles!AE419,DataByMiles!$AT$5:$AU$6,2,FALSE)","v":0},null,null,{"$f":"M421*$P$2*VLOOKUP(DataByMiles!AE419,DataByMiles!$AT$5:$AU$6,2,FALSE)","v":0},{"$f":"DataByMiles!W419*VLOOKUP(DataByMiles!AE419,DataByMiles!$AT$5:$AU$6,2,FALSE)","v":0},null,null,{"$f":"Q421*$T$2*VLOOKUP(DataByMiles!AE419,DataByMiles!$AT$5:$AU$6,2,FALSE)","v":0},{"$f":"DataByMiles!X419*VLOOKUP(DataByMiles!AE419,DataByMiles!$AT$5:$AU$6,2,FALSE)","v":0},null,null,{"$f":"U421*$X$2*VLOOKUP(DataByMiles!AE419,DataByMiles!$AT$5:$AU$6,2,FALSE)","v":0},{"$f":"DataByMiles!Y419*VLOOKUP(DataByMiles!AE419,DataByMiles!$AT$5:$AU$6,2,FALSE)","v":0},{"$f":"DataByMiles!Z419","v":0},{"$f":"DataByMiles!AA419","v":0},null,null,{"$f":"(Y421/IF(Z421=0,$AD$1,Z421)*$AD$2)/IF(AA421=0,1,AA421)*VLOOKUP(DataByMiles!AE419,DataByMiles!$AT$5:$AU$6,2,FALSE)","v":0},"",0,0,{"$f":"(AF421+AG421)*VLOOKUP(DataByMiles!AE419,DataByMiles!$AT$5:$AU$6,2,FALSE)","v":0},0]
[null,{"$f":"DataByMiles!C420","v":"----416"},{"$f":"DataByMiles!T420*VLOOKUP(DataByMiles!AE420,DataByMiles!$AT$5:$AU$6,2,FALSE)","v":0},null,null,0,{"$f":"C422*$G$2*VLOOKUP(DataByMiles!AE420,DataByMiles!$AT$5:$AU$6,2,FALSE)","v":0},{"$f":"DataByMiles!U420*VLOOKUP(DataByMiles!AE420,DataByMiles!$AT$5:$AU$6,2,FALSE)","v":0},null,null,0,{"$f":"H422*$L$2*VLOOKUP(DataByMiles!AE420,DataByMiles!$AT$5:$AU$6,2,FALSE)","v":0},{"$f":"DataByMiles!V420*VLOOKUP(DataByMiles!AE420,DataByMiles!$AT$5:$AU$6,2,FALSE)","v":0},null,null,{"$f":"M422*$P$2*VLOOKUP(DataByMiles!AE420,DataByMiles!$AT$5:$AU$6,2,FALSE)","v":0},{"$f":"DataByMiles!W420*VLOOKUP(DataByMiles!AE420,DataByMiles!$AT$5:$AU$6,2,FALSE)","v":0},null,null,{"$f":"Q422*$T$2*VLOOKUP(DataByMiles!AE420,DataByMiles!$AT$5:$AU$6,2,FALSE)","v":0},{"$f":"DataByMiles!X420*VLOOKUP(DataByMiles!AE420,DataByMiles!$AT$5:$AU$6,2,FALSE)","v":0},null,null,{"$f":"U422*$X$2*VLOOKUP(DataByMiles!AE420,DataByMiles!$AT$5:$AU$6,2,FALSE)","v":0},{"$f":"DataByMiles!Y420*VLOOKUP(DataByMiles!AE420,DataByMiles!$AT$5:$AU$6,2,FALSE)","v":0},{"$f":"DataByMiles!Z420","v":0},{"$f":"DataByMiles!AA420","v":0},null,null,{"$f":"(Y422/IF(Z422=0,$AD$1,Z422)*$AD$2)/IF(AA422=0,1,AA422)*VLOOKUP(DataByMiles!AE420,DataByMiles!$AT$5:$AU$6,2,FALSE)","v":0},"",0,0,{"$f":"(AF422+AG422)*VLOOKUP(DataByMiles!AE420,DataByMiles!$AT$5:$AU$6,2,FALSE)","v":0},0]
[null,{"$f":"DataByMiles!C421","v":"----417"},{"$f":"DataByMiles!T421*VLOOKUP(DataByMiles!AE421,DataByMiles!$AT$5:$AU$6,2,FALSE)","v":0},null,null,0,{"$f":"C423*$G$2*VLOOKUP(DataByMiles!AE421,DataByMiles!$AT$5:$AU$6,2,FALSE)","v":0},{"$f":"DataByMiles!U421*VLOOKUP(DataByMiles!AE421,DataByMiles!$AT$5:$AU$6,2,FALSE)","v":0},null,null,0,{"$f":"H423*$L$2*VLOOKUP(DataByMiles!AE421,DataByMiles!$AT$5:$AU$6,2,FALSE)","v":0},{"$f":"DataByMiles!V421*VLOOKUP(DataByMiles!AE421,DataByMiles!$AT$5:$AU$6,2,FALSE)","v":0},null,null,{"$f":"M423*$P$2*VLOOKUP(DataByMiles!AE421,DataByMiles!$AT$5:$AU$6,2,FALSE)","v":0},{"$f":"DataByMiles!W421*VLOOKUP(DataByMiles!AE421,DataByMiles!$AT$5:$AU$6,2,FALSE)","v":0},null,null,{"$f":"Q423*$T$2*VLOOKUP(DataByMiles!AE421,DataByMiles!$AT$5:$AU$6,2,FALSE)","v":0},{"$f":"DataByMiles!X421*VLOOKUP(DataByMiles!AE421,DataByMiles!$AT$5:$AU$6,2,FALSE)","v":0},null,null,{"$f":"U423*$X$2*VLOOKUP(DataByMiles!AE421,DataByMiles!$AT$5:$AU$6,2,FALSE)","v":0},{"$f":"DataByMiles!Y421*VLOOKUP(DataByMiles!AE421,DataByMiles!$AT$5:$AU$6,2,FALSE)","v":0},{"$f":"DataByMiles!Z421","v":0},{"$f":"DataByMiles!AA421","v":0},null,null,{"$f":"(Y423/IF(Z423=0,$AD$1,Z423)*$AD$2)/IF(AA423=0,1,AA423)*VLOOKUP(DataByMiles!AE421,DataByMiles!$AT$5:$AU$6,2,FALSE)","v":0},"",0,0,{"$f":"(AF423+AG423)*VLOOKUP(DataByMiles!AE421,DataByMiles!$AT$5:$AU$6,2,FALSE)","v":0},0]
[null,{"$f":"DataByMiles!C422","v":"----418"},{"$f":"DataByMiles!T422*VLOOKUP(DataByMiles!AE422,DataByMiles!$AT$5:$AU$6,2,FALSE)","v":0},null,null,0,{"$f":"C424*$G$2*VLOOKUP(DataByMiles!AE422,DataByMiles!$AT$5:$AU$6,2,FALSE)","v":0},{"$f":"DataByMiles!U422*VLOOKUP(DataByMiles!AE422,DataByMiles!$AT$5:$AU$6,2,FALSE)","v":0},null,null,0,{"$f":"H424*$L$2*VLOOKUP(DataByMiles!AE422,DataByMiles!$AT$5:$AU$6,2,FALSE)","v":0},{"$f":"DataByMiles!V422*VLOOKUP(DataByMiles!AE422,DataByMiles!$AT$5:$AU$6,2,FALSE)","v":0},null,null,{"$f":"M424*$P$2*VLOOKUP(DataByMiles!AE422,DataByMiles!$AT$5:$AU$6,2,FALSE)","v":0},{"$f":"DataByMiles!W422*VLOOKUP(DataByMiles!AE422,DataByMiles!$AT$5:$AU$6,2,FALSE)","v":0},null,null,{"$f":"Q424*$T$2*VLOOKUP(DataByMiles!AE422,DataByMiles!$AT$5:$AU$6,2,FALSE)","v":0},{"$f":"DataByMiles!X422*VLOOKUP(DataByMiles!AE422,DataByMiles!$AT$5:$AU$6,2,FALSE)","v":0},null,null,{"$f":"U424*$X$2*VLOOKUP(DataByMiles!AE422,DataByMiles!$AT$5:$AU$6,2,FALSE)","v":0},{"$f":"DataByMiles!Y422*VLOOKUP(DataByMiles!AE422,DataByMiles!$AT$5:$AU$6,2,FALSE)","v":0},{"$f":"DataByMiles!Z422","v":0},{"$f":"DataByMiles!AA422","v":0},null,null,{"$f":"(Y424/IF(Z424=0,$AD$1,Z424)*$AD$2)/IF(AA424=0,1,AA424)*VLOOKUP(DataByMiles!AE422,DataByMiles!$AT$5:$AU$6,2,FALSE)","v":0},"",0,0,{"$f":"(AF424+AG424)*VLOOKUP(DataByMiles!AE422,DataByMiles!$AT$5:$AU$6,2,FALSE)","v":0},0]
[null,{"$f":"DataByMiles!C423","v":"----419"},{"$f":"DataByMiles!T423*VLOOKUP(DataByMiles!AE423,DataByMiles!$AT$5:$AU$6,2,FALSE)","v":0},null,null,0,{"$f":"C425*$G$2*VLOOKUP(DataByMiles!AE423,DataByMiles!$AT$5:$AU$6,2,FALSE)","v":0},{"$f":"DataByMiles!U423*VLOOKUP(DataByMiles!AE423,DataByMiles!$AT$5:$AU$6,2,FALSE)","v":0},null,null,0,{"$f":"H425*$L$2*VLOOKUP(DataByMiles!AE423,DataByMiles!$AT$5:$AU$6,2,FALSE)","v":0},{"$f":"DataByMiles!V423*VLOOKUP(DataByMiles!AE423,DataByMiles!$AT$5:$AU$6,2,FALSE)","v":0},null,null,{"$f":"M425*$P$2*VLOOKUP(DataByMiles!AE423,DataByMiles!$AT$5:$AU$6,2,FALSE)","v":0},{"$f":"DataByMiles!W423*VLOOKUP(DataByMiles!AE423,DataByMiles!$AT$5:$AU$6,2,FALSE)","v":0},null,null,{"$f":"Q425*$T$2*VLOOKUP(DataByMiles!AE423,DataByMiles!$AT$5:$AU$6,2,FALSE)","v":0},{"$f":"DataByMiles!X423*VLOOKUP(DataByMiles!AE423,DataByMiles!$AT$5:$AU$6,2,FALSE)","v":0},null,null,{"$f":"U425*$X$2*VLOOKUP(DataByMiles!AE423,DataByMiles!$AT$5:$AU$6,2,FALSE)","v":0},{"$f":"DataByMiles!Y423*VLOOKUP(DataByMiles!AE423,DataByMiles!$AT$5:$AU$6,2,FALSE)","v":0},{"$f":"DataByMiles!Z423","v":0},{"$f":"DataByMiles!AA423","v":0},null,null,{"$f":"(Y425/IF(Z425=0,$AD$1,Z425)*$AD$2)/IF(AA425=0,1,AA425)*VLOOKUP(DataByMiles!AE423,DataByMiles!$AT$5:$AU$6,2,FALSE)","v":0},"",0,0,{"$f":"(AF425+AG425)*VLOOKUP(DataByMiles!AE423,DataByMiles!$AT$5:$AU$6,2,FALSE)","v":0},0]
[null,{"$f":"DataByMiles!C424","v":"----420"},{"$f":"DataByMiles!T424*VLOOKUP(DataByMiles!AE424,DataByMiles!$AT$5:$AU$6,2,FALSE)","v":0},null,null,0,{"$f":"C426*$G$2*VLOOKUP(DataByMiles!AE424,DataByMiles!$AT$5:$AU$6,2,FALSE)","v":0},{"$f":"DataByMiles!U424*VLOOKUP(DataByMiles!AE424,DataByMiles!$AT$5:$AU$6,2,FALSE)","v":0},null,null,0,{"$f":"H426*$L$2*VLOOKUP(DataByMiles!AE424,DataByMiles!$AT$5:$AU$6,2,FALSE)","v":0},{"$f":"DataByMiles!V424*VLOOKUP(DataByMiles!AE424,DataByMiles!$AT$5:$AU$6,2,FALSE)","v":0},null,null,{"$f":"M426*$P$2*VLOOKUP(DataByMiles!AE424,DataByMiles!$AT$5:$AU$6,2,FALSE)","v":0},{"$f":"DataByMiles!W424*VLOOKUP(DataByMiles!AE424,DataByMiles!$AT$5:$AU$6,2,FALSE)","v":0},null,null,{"$f":"Q426*$T$2*VLOOKUP(DataByMiles!AE424,DataByMiles!$AT$5:$AU$6,2,FALSE)","v":0},{"$f":"DataByMiles!X424*VLOOKUP(DataByMiles!AE424,DataByMiles!$AT$5:$AU$6,2,FALSE)","v":0},null,null,{"$f":"U426*$X$2*VLOOKUP(DataByMiles!AE424,DataByMiles!$AT$5:$AU$6,2,FALSE)","v":0},{"$f":"DataByMiles!Y424*VLOOKUP(DataByMiles!AE424,DataByMiles!$AT$5:$AU$6,2,FALSE)","v":0},{"$f":"DataByMiles!Z424","v":0},{"$f":"DataByMiles!AA424","v":0},null,null,{"$f":"(Y426/IF(Z426=0,$AD$1,Z426)*$AD$2)/IF(AA426=0,1,AA426)*VLOOKUP(DataByMiles!AE424,DataByMiles!$AT$5:$AU$6,2,FALSE)","v":0},"",0,0,{"$f":"(AF426+AG426)*VLOOKUP(DataByMiles!AE424,DataByMiles!$AT$5:$AU$6,2,FALSE)","v":0},0]
[null,{"$f":"DataByMiles!C425","v":"----421"},{"$f":"DataByMiles!T425*VLOOKUP(DataByMiles!AE425,DataByMiles!$AT$5:$AU$6,2,FALSE)","v":0},null,null,0,{"$f":"C427*$G$2*VLOOKUP(DataByMiles!AE425,DataByMiles!$AT$5:$AU$6,2,FALSE)","v":0},{"$f":"DataByMiles!U425*VLOOKUP(DataByMiles!AE425,DataByMiles!$AT$5:$AU$6,2,FALSE)","v":0},null,null,0,{"$f":"H427*$L$2*VLOOKUP(DataByMiles!AE425,DataByMiles!$AT$5:$AU$6,2,FALSE)","v":0},{"$f":"DataByMiles!V425*VLOOKUP(DataByMiles!AE425,DataByMiles!$AT$5:$AU$6,2,FALSE)","v":0},null,null,{"$f":"M427*$P$2*VLOOKUP(DataByMiles!AE425,DataByMiles!$AT$5:$AU$6,2,FALSE)","v":0},{"$f":"DataByMiles!W425*VLOOKUP(DataByMiles!AE425,DataByMiles!$AT$5:$AU$6,2,FALSE)","v":0},null,null,{"$f":"Q427*$T$2*VLOOKUP(DataByMiles!AE425,DataByMiles!$AT$5:$AU$6,2,FALSE)","v":0},{"$f":"DataByMiles!X425*VLOOKUP(DataByMiles!AE425,DataByMiles!$AT$5:$AU$6,2,FALSE)","v":0},null,null,{"$f":"U427*$X$2*VLOOKUP(DataByMiles!AE425,DataByMiles!$AT$5:$AU$6,2,FALSE)","v":0},{"$f":"DataByMiles!Y425*VLOOKUP(DataByMiles!AE425,DataByMiles!$AT$5:$AU$6,2,FALSE)","v":0},{"$f":"DataByMiles!Z425","v":0},{"$f":"DataByMiles!AA425","v":0},null,null,{"$f":"(Y427/IF(Z427=0,$AD$1,Z427)*$AD$2)/IF(AA427=0,1,AA427)*VLOOKUP(DataByMiles!AE425,DataByMiles!$AT$5:$AU$6,2,FALSE)","v":0},"",0,0,{"$f":"(AF427+AG427)*VLOOKUP(DataByMiles!AE425,DataByMiles!$AT$5:$AU$6,2,FALSE)","v":0},0]
[null,{"$f":"DataByMiles!C426","v":"----422"},{"$f":"DataByMiles!T426*VLOOKUP(DataByMiles!AE426,DataByMiles!$AT$5:$AU$6,2,FALSE)","v":0},null,null,0,{"$f":"C428*$G$2*VLOOKUP(DataByMiles!AE426,DataByMiles!$AT$5:$AU$6,2,FALSE)","v":0},{"$f":"DataByMiles!U426*VLOOKUP(DataByMiles!AE426,DataByMiles!$AT$5:$AU$6,2,FALSE)","v":0},null,null,0,{"$f":"H428*$L$2*VLOOKUP(DataByMiles!AE426,DataByMiles!$AT$5:$AU$6,2,FALSE)","v":0},{"$f":"DataByMiles!V426*VLOOKUP(DataByMiles!AE426,DataByMiles!$AT$5:$AU$6,2,FALSE)","v":0},null,null,{"$f":"M428*$P$2*VLOOKUP(DataByMiles!AE426,DataByMiles!$AT$5:$AU$6,2,FALSE)","v":0},{"$f":"DataByMiles!W426*VLOOKUP(DataByMiles!AE426,DataByMiles!$AT$5:$AU$6,2,FALSE)","v":0},null,null,{"$f":"Q428*$T$2*VLOOKUP(DataByMiles!AE426,DataByMiles!$AT$5:$AU$6,2,FALSE)","v":0},{"$f":"DataByMiles!X426*VLOOKUP(DataByMiles!AE426,DataByMiles!$AT$5:$AU$6,2,FALSE)","v":0},null,null,{"$f":"U428*$X$2*VLOOKUP(DataByMiles!AE426,DataByMiles!$AT$5:$AU$6,2,FALSE)","v":0},{"$f":"DataByMiles!Y426*VLOOKUP(DataByMiles!AE426,DataByMiles!$AT$5:$AU$6,2,FALSE)","v":0},{"$f":"DataByMiles!Z426","v":0},{"$f":"DataByMiles!AA426","v":0},null,null,{"$f":"(Y428/IF(Z428=0,$AD$1,Z428)*$AD$2)/IF(AA428=0,1,AA428)*VLOOKUP(DataByMiles!AE426,DataByMiles!$AT$5:$AU$6,2,FALSE)","v":0},"",0,0,{"$f":"(AF428+AG428)*VLOOKUP(DataByMiles!AE426,DataByMiles!$AT$5:$AU$6,2,FALSE)","v":0},0]
[null,{"$f":"DataByMiles!C427","v":"----423"},{"$f":"DataByMiles!T427*VLOOKUP(DataByMiles!AE427,DataByMiles!$AT$5:$AU$6,2,FALSE)","v":0},null,null,0,{"$f":"C429*$G$2*VLOOKUP(DataByMiles!AE427,DataByMiles!$AT$5:$AU$6,2,FALSE)","v":0},{"$f":"DataByMiles!U427*VLOOKUP(DataByMiles!AE427,DataByMiles!$AT$5:$AU$6,2,FALSE)","v":0},null,null,0,{"$f":"H429*$L$2*VLOOKUP(DataByMiles!AE427,DataByMiles!$AT$5:$AU$6,2,FALSE)","v":0},{"$f":"DataByMiles!V427*VLOOKUP(DataByMiles!AE427,DataByMiles!$AT$5:$AU$6,2,FALSE)","v":0},null,null,{"$f":"M429*$P$2*VLOOKUP(DataByMiles!AE427,DataByMiles!$AT$5:$AU$6,2,FALSE)","v":0},{"$f":"DataByMiles!W427*VLOOKUP(DataByMiles!AE427,DataByMiles!$AT$5:$AU$6,2,FALSE)","v":0},null,null,{"$f":"Q429*$T$2*VLOOKUP(DataByMiles!AE427,DataByMiles!$AT$5:$AU$6,2,FALSE)","v":0},{"$f":"DataByMiles!X427*VLOOKUP(DataByMiles!AE427,DataByMiles!$AT$5:$AU$6,2,FALSE)","v":0},null,null,{"$f":"U429*$X$2*VLOOKUP(DataByMiles!AE427,DataByMiles!$AT$5:$AU$6,2,FALSE)","v":0},{"$f":"DataByMiles!Y427*VLOOKUP(DataByMiles!AE427,DataByMiles!$AT$5:$AU$6,2,FALSE)","v":0},{"$f":"DataByMiles!Z427","v":0},{"$f":"DataByMiles!AA427","v":0},null,null,{"$f":"(Y429/IF(Z429=0,$AD$1,Z429)*$AD$2)/IF(AA429=0,1,AA429)*VLOOKUP(DataByMiles!AE427,DataByMiles!$AT$5:$AU$6,2,FALSE)","v":0},"",0,0,{"$f":"(AF429+AG429)*VLOOKUP(DataByMiles!AE427,DataByMiles!$AT$5:$AU$6,2,FALSE)","v":0},0]
[null,{"$f":"DataByMiles!C428","v":"----424"},{"$f":"DataByMiles!T428*VLOOKUP(DataByMiles!AE428,DataByMiles!$AT$5:$AU$6,2,FALSE)","v":0},null,null,{"$f":"C430*$F$2","v":0},{"$f":"C430*$G$2*VLOOKUP(DataByMiles!AE428,DataByMiles!$AT$5:$AU$6,2,FALSE)","v":0},{"$f":"DataByMiles!U428*VLOOKUP(DataByMiles!AE428,DataByMiles!$AT$5:$AU$6,2,FALSE)","v":0},null,null,{"$f":"H430*$K$2","v":0},{"$f":"H430*$L$2*VLOOKUP(DataByMiles!AE428,DataByMiles!$AT$5:$AU$6,2,FALSE)","v":0},{"$f":"DataByMiles!V428*VLOOKUP(DataByMiles!AE428,DataByMiles!$AT$5:$AU$6,2,FALSE)","v":0},null,null,{"$f":"M430*$P$2*VLOOKUP(DataByMiles!AE428,DataByMiles!$AT$5:$AU$6,2,FALSE)","v":0},{"$f":"DataByMiles!W428*VLOOKUP(DataByMiles!AE428,DataByMiles!$AT$5:$AU$6,2,FALSE)","v":0},null,null,{"$f":"Q430*$T$2*VLOOKUP(DataByMiles!AE428,DataByMiles!$AT$5:$AU$6,2,FALSE)","v":0},{"$f":"DataByMiles!X428*VLOOKUP(DataByMiles!AE428,DataByMiles!$AT$5:$AU$6,2,FALSE)","v":0},null,null,{"$f":"U430*$X$2*VLOOKUP(DataByMiles!AE428,DataByMiles!$AT$5:$AU$6,2,FALSE)","v":0},{"$f":"DataByMiles!Y428*VLOOKUP(DataByMiles!AE428,DataByMiles!$AT$5:$AU$6,2,FALSE)","v":0},{"$f":"DataByMiles!Z428","v":0},{"$f":"DataByMiles!AA428","v":0},null,null,{"$f":"(Y430/IF(Z430=0,$AD$1,Z430)*$AD$2)/IF(AA430=0,1,AA430)*VLOOKUP(DataByMiles!AE428,DataByMiles!$AT$5:$AU$6,2,FALSE)","v":0},{"$f":"IF(C430+H430+M430+Q430+U430+Y430>0,C430+H430+M430+Q430+U430+Y430,\"\")","v":""},{"$f":"F430+K430+P430+T430+X430+AD430","v":0},{"$f":"G430+L430","v":0},{"$f":"(AF430+AG430)*VLOOKUP(DataByMiles!AE428,DataByMiles!$AT$5:$AU$6,2,FALSE)","v":0},{"$f":"IFERROR(AH430/AE430,0)","v":0}]
[null,{"$f":"DataByMiles!C429","v":"----425"},{"$f":"DataByMiles!T429*VLOOKUP(DataByMiles!AE429,DataByMiles!$AT$5:$AU$6,2,FALSE)","v":0},null,null,0,{"$f":"C431*$G$2*VLOOKUP(DataByMiles!AE429,DataByMiles!$AT$5:$AU$6,2,FALSE)","v":0},{"$f":"DataByMiles!U429*VLOOKUP(DataByMiles!AE429,DataByMiles!$AT$5:$AU$6,2,FALSE)","v":0},null,null,0,{"$f":"H431*$L$2*VLOOKUP(DataByMiles!AE429,DataByMiles!$AT$5:$AU$6,2,FALSE)","v":0},{"$f":"DataByMiles!V429*VLOOKUP(DataByMiles!AE429,DataByMiles!$AT$5:$AU$6,2,FALSE)","v":0},null,null,{"$f":"M431*$P$2*VLOOKUP(DataByMiles!AE429,DataByMiles!$AT$5:$AU$6,2,FALSE)","v":0},{"$f":"DataByMiles!W429*VLOOKUP(DataByMiles!AE429,DataByMiles!$AT$5:$AU$6,2,FALSE)","v":0},null,null,{"$f":"Q431*$T$2*VLOOKUP(DataByMiles!AE429,DataByMiles!$AT$5:$AU$6,2,FALSE)","v":0},{"$f":"DataByMiles!X429*VLOOKUP(DataByMiles!AE429,DataByMiles!$AT$5:$AU$6,2,FALSE)","v":0},null,null,{"$f":"U431*$X$2*VLOOKUP(DataByMiles!AE429,DataByMiles!$AT$5:$AU$6,2,FALSE)","v":0},{"$f":"DataByMiles!Y429*VLOOKUP(DataByMiles!AE429,DataByMiles!$AT$5:$AU$6,2,FALSE)","v":0},{"$f":"DataByMiles!Z429","v":0},{"$f":"DataByMiles!AA429","v":0},null,null,{"$f":"(Y431/IF(Z431=0,$AD$1,Z431)*$AD$2)/IF(AA431=0,1,AA431)*VLOOKUP(DataByMiles!AE429,DataByMiles!$AT$5:$AU$6,2,FALSE)","v":0},"",0,0,{"$f":"(AF431+AG431)*VLOOKUP(DataByMiles!AE429,DataByMiles!$AT$5:$AU$6,2,FALSE)","v":0},0]
[null,{"$f":"DataByMiles!C430","v":"----426"},{"$f":"DataByMiles!T430*VLOOKUP(DataByMiles!AE430,DataByMiles!$AT$5:$AU$6,2,FALSE)","v":0},null,null,0,{"$f":"C432*$G$2*VLOOKUP(DataByMiles!AE430,DataByMiles!$AT$5:$AU$6,2,FALSE)","v":0},{"$f":"DataByMiles!U430*VLOOKUP(DataByMiles!AE430,DataByMiles!$AT$5:$AU$6,2,FALSE)","v":0},null,null,0,{"$f":"H432*$L$2*VLOOKUP(DataByMiles!AE430,DataByMiles!$AT$5:$AU$6,2,FALSE)","v":0},{"$f":"DataByMiles!V430*VLOOKUP(DataByMiles!AE430,DataByMiles!$AT$5:$AU$6,2,FALSE)","v":0},null,null,{"$f":"M432*$P$2*VLOOKUP(DataByMiles!AE430,DataByMiles!$AT$5:$AU$6,2,FALSE)","v":0},{"$f":"DataByMiles!W430*VLOOKUP(DataByMiles!AE430,DataByMiles!$AT$5:$AU$6,2,FALSE)","v":0},null,null,{"$f":"Q432*$T$2*VLOOKUP(DataByMiles!AE430,DataByMiles!$AT$5:$AU$6,2,FALSE)","v":0},{"$f":"DataByMiles!X430*VLOOKUP(DataByMiles!AE430,DataByMiles!$AT$5:$AU$6,2,FALSE)","v":0},null,null,{"$f":"U432*$X$2*VLOOKUP(DataByMiles!AE430,DataByMiles!$AT$5:$AU$6,2,FALSE)","v":0},{"$f":"DataByMiles!Y430*VLOOKUP(DataByMiles!AE430,DataByMiles!$AT$5:$AU$6,2,FALSE)","v":0},{"$f":"DataByMiles!Z430","v":0},{"$f":"DataByMiles!AA430","v":0},null,null,{"$f":"(Y432/IF(Z432=0,$AD$1,Z432)*$AD$2)/IF(AA432=0,1,AA432)*VLOOKUP(DataByMiles!AE430,DataByMiles!$AT$5:$AU$6,2,FALSE)","v":0},"",0,0,{"$f":"(AF432+AG432)*VLOOKUP(DataByMiles!AE430,DataByMiles!$AT$5:$AU$6,2,FALSE)","v":0},0]
[null,{"$f":"DataByMiles!C431","v":"----427"},{"$f":"DataByMiles!T431*VLOOKUP(DataByMiles!AE431,DataByMiles!$AT$5:$AU$6,2,FALSE)","v":0},null,null,0,{"$f":"C433*$G$2*VLOOKUP(DataByMiles!AE431,DataByMiles!$AT$5:$AU$6,2,FALSE)","v":0},{"$f":"DataByMiles!U431*VLOOKUP(DataByMiles!AE431,DataByMiles!$AT$5:$AU$6,2,FALSE)","v":0},null,null,0,{"$f":"H433*$L$2*VLOOKUP(DataByMiles!AE431,DataByMiles!$AT$5:$AU$6,2,FALSE)","v":0},{"$f":"DataByMiles!V431*VLOOKUP(DataByMiles!AE431,DataByMiles!$AT$5:$AU$6,2,FALSE)","v":0},null,null,{"$f":"M433*$P$2*VLOOKUP(DataByMiles!AE431,DataByMiles!$AT$5:$AU$6,2,FALSE)","v":0},{"$f":"DataByMiles!W431*VLOOKUP(DataByMiles!AE431,DataByMiles!$AT$5:$AU$6,2,FALSE)","v":0},null,null,{"$f":"Q433*$T$2*VLOOKUP(DataByMiles!AE431,DataByMiles!$AT$5:$AU$6,2,FALSE)","v":0},{"$f":"DataByMiles!X431*VLOOKUP(DataByMiles!AE431,DataByMiles!$AT$5:$AU$6,2,FALSE)","v":0},null,null,{"$f":"U433*$X$2*VLOOKUP(DataByMiles!AE431,DataByMiles!$AT$5:$AU$6,2,FALSE)","v":0},{"$f":"DataByMiles!Y431*VLOOKUP(DataByMiles!AE431,DataByMiles!$AT$5:$AU$6,2,FALSE)","v":0},{"$f":"DataByMiles!Z431","v":0},{"$f":"DataByMiles!AA431","v":0},null,null,{"$f":"(Y433/IF(Z433=0,$AD$1,Z433)*$AD$2)/IF(AA433=0,1,AA433)*VLOOKUP(DataByMiles!AE431,DataByMiles!$AT$5:$AU$6,2,FALSE)","v":0},"",0,0,{"$f":"(AF433+AG433)*VLOOKUP(DataByMiles!AE431,DataByMiles!$AT$5:$AU$6,2,FALSE)","v":0},0]
[null,{"$f":"DataByMiles!C432","v":"----428"},{"$f":"DataByMiles!T432*VLOOKUP(DataByMiles!AE432,DataByMiles!$AT$5:$AU$6,2,FALSE)","v":0},null,null,0,{"$f":"C434*$G$2*VLOOKUP(DataByMiles!AE432,DataByMiles!$AT$5:$AU$6,2,FALSE)","v":0},{"$f":"DataByMiles!U432*VLOOKUP(DataByMiles!AE432,DataByMiles!$AT$5:$AU$6,2,FALSE)","v":0},null,null,0,{"$f":"H434*$L$2*VLOOKUP(DataByMiles!AE432,DataByMiles!$AT$5:$AU$6,2,FALSE)","v":0},{"$f":"DataByMiles!V432*VLOOKUP(DataByMiles!AE432,DataByMiles!$AT$5:$AU$6,2,FALSE)","v":0},null,null,{"$f":"M434*$P$2*VLOOKUP(DataByMiles!AE432,DataByMiles!$AT$5:$AU$6,2,FALSE)","v":0},{"$f":"DataByMiles!W432*VLOOKUP(DataByMiles!AE432,DataByMiles!$AT$5:$AU$6,2,FALSE)","v":0},null,null,{"$f":"Q434*$T$2*VLOOKUP(DataByMiles!AE432,DataByMiles!$AT$5:$AU$6,2,FALSE)","v":0},{"$f":"DataByMiles!X432*VLOOKUP(DataByMiles!AE432,DataByMiles!$AT$5:$AU$6,2,FALSE)","v":0},null,null,{"$f":"U434*$X$2*VLOOKUP(DataByMiles!AE432,DataByMiles!$AT$5:$AU$6,2,FALSE)","v":0},{"$f":"DataByMiles!Y432*VLOOKUP(DataByMiles!AE432,DataByMiles!$AT$5:$AU$6,2,FALSE)","v":0},{"$f":"DataByMiles!Z432","v":0},{"$f":"DataByMiles!AA432","v":0},null,null,{"$f":"(Y434/IF(Z434=0,$AD$1,Z434)*$AD$2)/IF(AA434=0,1,AA434)*VLOOKUP(DataByMiles!AE432,DataByMiles!$AT$5:$AU$6,2,FALSE)","v":0},"",0,0,{"$f":"(AF434+AG434)*VLOOKUP(DataByMiles!AE432,DataByMiles!$AT$5:$AU$6,2,FALSE)","v":0},0]
[null,{"$f":"DataByMiles!C433","v":"----429"},{"$f":"DataByMiles!T433*VLOOKUP(DataByMiles!AE433,DataByMiles!$AT$5:$AU$6,2,FALSE)","v":0},null,null,0,{"$f":"C435*$G$2*VLOOKUP(DataByMiles!AE433,DataByMiles!$AT$5:$AU$6,2,FALSE)","v":0},{"$f":"DataByMiles!U433*VLOOKUP(DataByMiles!AE433,DataByMiles!$AT$5:$AU$6,2,FALSE)","v":0},null,null,0,{"$f":"H435*$L$2*VLOOKUP(DataByMiles!AE433,DataByMiles!$AT$5:$AU$6,2,FALSE)","v":0},{"$f":"DataByMiles!V433*VLOOKUP(DataByMiles!AE433,DataByMiles!$AT$5:$AU$6,2,FALSE)","v":0},null,null,{"$f":"M435*$P$2*VLOOKUP(DataByMiles!AE433,DataByMiles!$AT$5:$AU$6,2,FALSE)","v":0},{"$f":"DataByMiles!W433*VLOOKUP(DataByMiles!AE433,DataByMiles!$AT$5:$AU$6,2,FALSE)","v":0},null,null,{"$f":"Q435*$T$2*VLOOKUP(DataByMiles!AE433,DataByMiles!$AT$5:$AU$6,2,FALSE)","v":0},{"$f":"DataByMiles!X433*VLOOKUP(DataByMiles!AE433,DataByMiles!$AT$5:$AU$6,2,FALSE)","v":0},null,null,{"$f":"U435*$X$2*VLOOKUP(DataByMiles!AE433,DataByMiles!$AT$5:$AU$6,2,FALSE)","v":0},{"$f":"DataByMiles!Y433*VLOOKUP(DataByMiles!AE433,DataByMiles!$AT$5:$AU$6,2,FALSE)","v":0},{"$f":"DataByMiles!Z433","v":0},{"$f":"DataByMiles!AA433","v":0},null,null,{"$f":"(Y435/IF(Z435=0,$AD$1,Z435)*$AD$2)/IF(AA435=0,1,AA435)*VLOOKUP(DataByMiles!AE433,DataByMiles!$AT$5:$AU$6,2,FALSE)","v":0},"",0,0,{"$f":"(AF435+AG435)*VLOOKUP(DataByMiles!AE433,DataByMiles!$AT$5:$AU$6,2,FALSE)","v":0},0]
[null,{"$f":"DataByMiles!C434","v":"----430"},{"$f":"DataByMiles!T434*VLOOKUP(DataByMiles!AE434,DataByMiles!$AT$5:$AU$6,2,FALSE)","v":0},null,null,0,{"$f":"C436*$G$2*VLOOKUP(DataByMiles!AE434,DataByMiles!$AT$5:$AU$6,2,FALSE)","v":0},{"$f":"DataByMiles!U434*VLOOKUP(DataByMiles!AE434,DataByMiles!$AT$5:$AU$6,2,FALSE)","v":0},null,null,0,{"$f":"H436*$L$2*VLOOKUP(DataByMiles!AE434,DataByMiles!$AT$5:$AU$6,2,FALSE)","v":0},{"$f":"DataByMiles!V434*VLOOKUP(DataByMiles!AE434,DataByMiles!$AT$5:$AU$6,2,FALSE)","v":0},null,null,{"$f":"M436*$P$2*VLOOKUP(DataByMiles!AE434,DataByMiles!$AT$5:$AU$6,2,FALSE)","v":0},{"$f":"DataByMiles!W434*VLOOKUP(DataByMiles!AE434,DataByMiles!$AT$5:$AU$6,2,FALSE)","v":0},null,null,{"$f":"Q436*$T$2*VLOOKUP(DataByMiles!AE434,DataByMiles!$AT$5:$AU$6,2,FALSE)","v":0},{"$f":"DataByMiles!X434*VLOOKUP(DataByMiles!AE434,DataByMiles!$AT$5:$AU$6,2,FALSE)","v":0},null,null,{"$f":"U436*$X$2*VLOOKUP(DataByMiles!AE434,DataByMiles!$AT$5:$AU$6,2,FALSE)","v":0},{"$f":"DataByMiles!Y434*VLOOKUP(DataByMiles!AE434,DataByMiles!$AT$5:$AU$6,2,FALSE)","v":0},{"$f":"DataByMiles!Z434","v":0},{"$f":"DataByMiles!AA434","v":0},null,null,{"$f":"(Y436/IF(Z436=0,$AD$1,Z436)*$AD$2)/IF(AA436=0,1,AA436)*VLOOKUP(DataByMiles!AE434,DataByMiles!$AT$5:$AU$6,2,FALSE)","v":0},"",0,0,{"$f":"(AF436+AG436)*VLOOKUP(DataByMiles!AE434,DataByMiles!$AT$5:$AU$6,2,FALSE)","v":0},0]
[null,{"$f":"DataByMiles!C435","v":"----431"},{"$f":"DataByMiles!T435*VLOOKUP(DataByMiles!AE435,DataByMiles!$AT$5:$AU$6,2,FALSE)","v":0},null,null,0,{"$f":"C437*$G$2*VLOOKUP(DataByMiles!AE435,DataByMiles!$AT$5:$AU$6,2,FALSE)","v":0},{"$f":"DataByMiles!U435*VLOOKUP(DataByMiles!AE435,DataByMiles!$AT$5:$AU$6,2,FALSE)","v":0},null,null,0,{"$f":"H437*$L$2*VLOOKUP(DataByMiles!AE435,DataByMiles!$AT$5:$AU$6,2,FALSE)","v":0},{"$f":"DataByMiles!V435*VLOOKUP(DataByMiles!AE435,DataByMiles!$AT$5:$AU$6,2,FALSE)","v":0},null,null,{"$f":"M437*$P$2*VLOOKUP(DataByMiles!AE435,DataByMiles!$AT$5:$AU$6,2,FALSE)","v":0},{"$f":"DataByMiles!W435*VLOOKUP(DataByMiles!AE435,DataByMiles!$AT$5:$AU$6,2,FALSE)","v":0},null,null,{"$f":"Q437*$T$2*VLOOKUP(DataByMiles!AE435,DataByMiles!$AT$5:$AU$6,2,FALSE)","v":0},{"$f":"DataByMiles!X435*VLOOKUP(DataByMiles!AE435,DataByMiles!$AT$5:$AU$6,2,FALSE)","v":0},null,null,{"$f":"U437*$X$2*VLOOKUP(DataByMiles!AE435,DataByMiles!$AT$5:$AU$6,2,FALSE)","v":0},{"$f":"DataByMiles!Y435*VLOOKUP(DataByMiles!AE435,DataByMiles!$AT$5:$AU$6,2,FALSE)","v":0},{"$f":"DataByMiles!Z435","v":0},{"$f":"DataByMiles!AA435","v":0},null,null,{"$f":"(Y437/IF(Z437=0,$AD$1,Z437)*$AD$2)/IF(AA437=0,1,AA437)*VLOOKUP(DataByMiles!AE435,DataByMiles!$AT$5:$AU$6,2,FALSE)","v":0},"",0,0,{"$f":"(AF437+AG437)*VLOOKUP(DataByMiles!AE435,DataByMiles!$AT$5:$AU$6,2,FALSE)","v":0},0]
[null,{"$f":"DataByMiles!C436","v":"----432"},{"$f":"DataByMiles!T436*VLOOKUP(DataByMiles!AE436,DataByMiles!$AT$5:$AU$6,2,FALSE)","v":0},null,null,0,{"$f":"C438*$G$2*VLOOKUP(DataByMiles!AE436,DataByMiles!$AT$5:$AU$6,2,FALSE)","v":0},{"$f":"DataByMiles!U436*VLOOKUP(DataByMiles!AE436,DataByMiles!$AT$5:$AU$6,2,FALSE)","v":0},null,null,0,{"$f":"H438*$L$2*VLOOKUP(DataByMiles!AE436,DataByMiles!$AT$5:$AU$6,2,FALSE)","v":0},{"$f":"DataByMiles!V436*VLOOKUP(DataByMiles!AE436,DataByMiles!$AT$5:$AU$6,2,FALSE)","v":0},null,null,{"$f":"M438*$P$2*VLOOKUP(DataByMiles!AE436,DataByMiles!$AT$5:$AU$6,2,FALSE)","v":0},{"$f":"DataByMiles!W436*VLOOKUP(DataByMiles!AE436,DataByMiles!$AT$5:$AU$6,2,FALSE)","v":0},null,null,{"$f":"Q438*$T$2*VLOOKUP(DataByMiles!AE436,DataByMiles!$AT$5:$AU$6,2,FALSE)","v":0},{"$f":"DataByMiles!X436*VLOOKUP(DataByMiles!AE436,DataByMiles!$AT$5:$AU$6,2,FALSE)","v":0},null,null,{"$f":"U438*$X$2*VLOOKUP(DataByMiles!AE436,DataByMiles!$AT$5:$AU$6,2,FALSE)","v":0},{"$f":"DataByMiles!Y436*VLOOKUP(DataByMiles!AE436,DataByMiles!$AT$5:$AU$6,2,FALSE)","v":0},{"$f":"DataByMiles!Z436","v":0},{"$f":"DataByMiles!AA436","v":0},null,null,{"$f":"(Y438/IF(Z438=0,$AD$1,Z438)*$AD$2)/IF(AA438=0,1,AA438)*VLOOKUP(DataByMiles!AE436,DataByMiles!$AT$5:$AU$6,2,FALSE)","v":0},"",0,0,{"$f":"(AF438+AG438)*VLOOKUP(DataByMiles!AE436,DataByMiles!$AT$5:$AU$6,2,FALSE)","v":0},0]
[null,{"$f":"DataByMiles!C437","v":"----433"},{"$f":"DataByMiles!T437*VLOOKUP(DataByMiles!AE437,DataByMiles!$AT$5:$AU$6,2,FALSE)","v":0},null,null,0,{"$f":"C439*$G$2*VLOOKUP(DataByMiles!AE437,DataByMiles!$AT$5:$AU$6,2,FALSE)","v":0},{"$f":"DataByMiles!U437*VLOOKUP(DataByMiles!AE437,DataByMiles!$AT$5:$AU$6,2,FALSE)","v":0},null,null,0,{"$f":"H439*$L$2*VLOOKUP(DataByMiles!AE437,DataByMiles!$AT$5:$AU$6,2,FALSE)","v":0},{"$f":"DataByMiles!V437*VLOOKUP(DataByMiles!AE437,DataByMiles!$AT$5:$AU$6,2,FALSE)","v":0},null,null,{"$f":"M439*$P$2*VLOOKUP(DataByMiles!AE437,DataByMiles!$AT$5:$AU$6,2,FALSE)","v":0},{"$f":"DataByMiles!W437*VLOOKUP(DataByMiles!AE437,DataByMiles!$AT$5:$AU$6,2,FALSE)","v":0},null,null,{"$f":"Q439*$T$2*VLOOKUP(DataByMiles!AE437,DataByMiles!$AT$5:$AU$6,2,FALSE)","v":0},{"$f":"DataByMiles!X437*VLOOKUP(DataByMiles!AE437,DataByMiles!$AT$5:$AU$6,2,FALSE)","v":0},null,null,{"$f":"U439*$X$2*VLOOKUP(DataByMiles!AE437,DataByMiles!$AT$5:$AU$6,2,FALSE)","v":0},{"$f":"DataByMiles!Y437*VLOOKUP(DataByMiles!AE437,DataByMiles!$AT$5:$AU$6,2,FALSE)","v":0},{"$f":"DataByMiles!Z437","v":0},{"$f":"DataByMiles!AA437","v":0},null,null,{"$f":"(Y439/IF(Z439=0,$AD$1,Z439)*$AD$2)/IF(AA439=0,1,AA439)*VLOOKUP(DataByMiles!AE437,DataByMiles!$AT$5:$AU$6,2,FALSE)","v":0},"",0,0,{"$f":"(AF439+AG439)*VLOOKUP(DataByMiles!AE437,DataByMiles!$AT$5:$AU$6,2,FALSE)","v":0},0]
[null,{"$f":"DataByMiles!C438","v":"----434"},{"$f":"DataByMiles!T438*VLOOKUP(DataByMiles!AE438,DataByMiles!$AT$5:$AU$6,2,FALSE)","v":0},null,null,0,{"$f":"C440*$G$2*VLOOKUP(DataByMiles!AE438,DataByMiles!$AT$5:$AU$6,2,FALSE)","v":0},{"$f":"DataByMiles!U438*VLOOKUP(DataByMiles!AE438,DataByMiles!$AT$5:$AU$6,2,FALSE)","v":0},null,null,0,{"$f":"H440*$L$2*VLOOKUP(DataByMiles!AE438,DataByMiles!$AT$5:$AU$6,2,FALSE)","v":0},{"$f":"DataByMiles!V438*VLOOKUP(DataByMiles!AE438,DataByMiles!$AT$5:$AU$6,2,FALSE)","v":0},null,null,{"$f":"M440*$P$2*VLOOKUP(DataByMiles!AE438,DataByMiles!$AT$5:$AU$6,2,FALSE)","v":0},{"$f":"DataByMiles!W438*VLOOKUP(DataByMiles!AE438,DataByMiles!$AT$5:$AU$6,2,FALSE)","v":0},null,null,{"$f":"Q440*$T$2*VLOOKUP(DataByMiles!AE438,DataByMiles!$AT$5:$AU$6,2,FALSE)","v":0},{"$f":"DataByMiles!X438*VLOOKUP(DataByMiles!AE438,DataByMiles!$AT$5:$AU$6,2,FALSE)","v":0},null,null,{"$f":"U440*$X$2*VLOOKUP(DataByMiles!AE438,DataByMiles!$AT$5:$AU$6,2,FALSE)","v":0},{"$f":"DataByMiles!Y438*VLOOKUP(DataByMiles!AE438,DataByMiles!$AT$5:$AU$6,2,FALSE)","v":0},{"$f":"DataByMiles!Z438","v":0},{"$f":"DataByMiles!AA438","v":0},null,null,{"$f":"(Y440/IF(Z440=0,$AD$1,Z440)*$AD$2)/IF(AA440=0,1,AA440)*VLOOKUP(DataByMiles!AE438,DataByMiles!$AT$5:$AU$6,2,FALSE)","v":0},"",0,0,{"$f":"(AF440+AG440)*VLOOKUP(DataByMiles!AE438,DataByMiles!$AT$5:$AU$6,2,FALSE)","v":0},0]
[null,{"$f":"DataByMiles!C439","v":"----435"},{"$f":"DataByMiles!T439*VLOOKUP(DataByMiles!AE439,DataByMiles!$AT$5:$AU$6,2,FALSE)","v":0},null,null,0,{"$f":"C441*$G$2*VLOOKUP(DataByMiles!AE439,DataByMiles!$AT$5:$AU$6,2,FALSE)","v":0},{"$f":"DataByMiles!U439*VLOOKUP(DataByMiles!AE439,DataByMiles!$AT$5:$AU$6,2,FALSE)","v":0},null,null,0,{"$f":"H441*$L$2*VLOOKUP(DataByMiles!AE439,DataByMiles!$AT$5:$AU$6,2,FALSE)","v":0},{"$f":"DataByMiles!V439*VLOOKUP(DataByMiles!AE439,DataByMiles!$AT$5:$AU$6,2,FALSE)","v":0},null,null,{"$f":"M441*$P$2*VLOOKUP(DataByMiles!AE439,DataByMiles!$AT$5:$AU$6,2,FALSE)","v":0},{"$f":"DataByMiles!W439*VLOOKUP(DataByMiles!AE439,DataByMiles!$AT$5:$AU$6,2,FALSE)","v":0},null,null,{"$f":"Q441*$T$2*VLOOKUP(DataByMiles!AE439,DataByMiles!$AT$5:$AU$6,2,FALSE)","v":0},{"$f":"DataByMiles!X439*VLOOKUP(DataByMiles!AE439,DataByMiles!$AT$5:$AU$6,2,FALSE)","v":0},null,null,{"$f":"U441*$X$2*VLOOKUP(DataByMiles!AE439,DataByMiles!$AT$5:$AU$6,2,FALSE)","v":0},{"$f":"DataByMiles!Y439*VLOOKUP(DataByMiles!AE439,DataByMiles!$AT$5:$AU$6,2,FALSE)","v":0},{"$f":"DataByMiles!Z439","v":0},{"$f":"DataByMiles!AA439","v":0},null,null,{"$f":"(Y441/IF(Z441=0,$AD$1,Z441)*$AD$2)/IF(AA441=0,1,AA441)*VLOOKUP(DataByMiles!AE439,DataByMiles!$AT$5:$AU$6,2,FALSE)","v":0},"",0,0,{"$f":"(AF441+AG441)*VLOOKUP(DataByMiles!AE439,DataByMiles!$AT$5:$AU$6,2,FALSE)","v":0},0]
[null,{"$f":"DataByMiles!C440","v":"----436"},{"$f":"DataByMiles!T440*VLOOKUP(DataByMiles!AE440,DataByMiles!$AT$5:$AU$6,2,FALSE)","v":0},null,null,0,{"$f":"C442*$G$2*VLOOKUP(DataByMiles!AE440,DataByMiles!$AT$5:$AU$6,2,FALSE)","v":0},{"$f":"DataByMiles!U440*VLOOKUP(DataByMiles!AE440,DataByMiles!$AT$5:$AU$6,2,FALSE)","v":0},null,null,0,{"$f":"H442*$L$2*VLOOKUP(DataByMiles!AE440,DataByMiles!$AT$5:$AU$6,2,FALSE)","v":0},{"$f":"DataByMiles!V440*VLOOKUP(DataByMiles!AE440,DataByMiles!$AT$5:$AU$6,2,FALSE)","v":0},null,null,{"$f":"M442*$P$2*VLOOKUP(DataByMiles!AE440,DataByMiles!$AT$5:$AU$6,2,FALSE)","v":0},{"$f":"DataByMiles!W440*VLOOKUP(DataByMiles!AE440,DataByMiles!$AT$5:$AU$6,2,FALSE)","v":0},null,null,{"$f":"Q442*$T$2*VLOOKUP(DataByMiles!AE440,DataByMiles!$AT$5:$AU$6,2,FALSE)","v":0},{"$f":"DataByMiles!X440*VLOOKUP(DataByMiles!AE440,DataByMiles!$AT$5:$AU$6,2,FALSE)","v":0},null,null,{"$f":"U442*$X$2*VLOOKUP(DataByMiles!AE440,DataByMiles!$AT$5:$AU$6,2,FALSE)","v":0},{"$f":"DataByMiles!Y440*VLOOKUP(DataByMiles!AE440,DataByMiles!$AT$5:$AU$6,2,FALSE)","v":0},{"$f":"DataByMiles!Z440","v":0},{"$f":"DataByMiles!AA440","v":0},null,null,{"$f":"(Y442/IF(Z442=0,$AD$1,Z442)*$AD$2)/IF(AA442=0,1,AA442)*VLOOKUP(DataByMiles!AE440,DataByMiles!$AT$5:$AU$6,2,FALSE)","v":0},"",0,0,{"$f":"(AF442+AG442)*VLOOKUP(DataByMiles!AE440,DataByMiles!$AT$5:$AU$6,2,FALSE)","v":0},0]
[null,{"$f":"DataByMiles!C441","v":"----437"},{"$f":"DataByMiles!T441*VLOOKUP(DataByMiles!AE441,DataByMiles!$AT$5:$AU$6,2,FALSE)","v":0},null,null,0,{"$f":"C443*$G$2*VLOOKUP(DataByMiles!AE441,DataByMiles!$AT$5:$AU$6,2,FALSE)","v":0},{"$f":"DataByMiles!U441*VLOOKUP(DataByMiles!AE441,DataByMiles!$AT$5:$AU$6,2,FALSE)","v":0},null,null,0,{"$f":"H443*$L$2*VLOOKUP(DataByMiles!AE441,DataByMiles!$AT$5:$AU$6,2,FALSE)","v":0},{"$f":"DataByMiles!V441*VLOOKUP(DataByMiles!AE441,DataByMiles!$AT$5:$AU$6,2,FALSE)","v":0},null,null,{"$f":"M443*$P$2*VLOOKUP(DataByMiles!AE441,DataByMiles!$AT$5:$AU$6,2,FALSE)","v":0},{"$f":"DataByMiles!W441*VLOOKUP(DataByMiles!AE441,DataByMiles!$AT$5:$AU$6,2,FALSE)","v":0},null,null,{"$f":"Q443*$T$2*VLOOKUP(DataByMiles!AE441,DataByMiles!$AT$5:$AU$6,2,FALSE)","v":0},{"$f":"DataByMiles!X441*VLOOKUP(DataByMiles!AE441,DataByMiles!$AT$5:$AU$6,2,FALSE)","v":0},null,null,{"$f":"U443*$X$2*VLOOKUP(DataByMiles!AE441,DataByMiles!$AT$5:$AU$6,2,FALSE)","v":0},{"$f":"DataByMiles!Y441*VLOOKUP(DataByMiles!AE441,DataByMiles!$AT$5:$AU$6,2,FALSE)","v":0},{"$f":"DataByMiles!Z441","v":0},{"$f":"DataByMiles!AA441","v":0},null,null,{"$f":"(Y443/IF(Z443=0,$AD$1,Z443)*$AD$2)/IF(AA443=0,1,AA443)*VLOOKUP(DataByMiles!AE441,DataByMiles!$AT$5:$AU$6,2,FALSE)","v":0},"",0,0,{"$f":"(AF443+AG443)*VLOOKUP(DataByMiles!AE441,DataByMiles!$AT$5:$AU$6,2,FALSE)","v":0},0]
[null,{"$f":"DataByMiles!C442","v":"----438"},{"$f":"DataByMiles!T442*VLOOKUP(DataByMiles!AE442,DataByMiles!$AT$5:$AU$6,2,FALSE)","v":0},null,null,0,{"$f":"C444*$G$2*VLOOKUP(DataByMiles!AE442,DataByMiles!$AT$5:$AU$6,2,FALSE)","v":0},{"$f":"DataByMiles!U442*VLOOKUP(DataByMiles!AE442,DataByMiles!$AT$5:$AU$6,2,FALSE)","v":0},null,null,0,{"$f":"H444*$L$2*VLOOKUP(DataByMiles!AE442,DataByMiles!$AT$5:$AU$6,2,FALSE)","v":0},{"$f":"DataByMiles!V442*VLOOKUP(DataByMiles!AE442,DataByMiles!$AT$5:$AU$6,2,FALSE)","v":0},null,null,{"$f":"M444*$P$2*VLOOKUP(DataByMiles!AE442,DataByMiles!$AT$5:$AU$6,2,FALSE)","v":0},{"$f":"DataByMiles!W442*VLOOKUP(DataByMiles!AE442,DataByMiles!$AT$5:$AU$6,2,FALSE)","v":0},null,null,{"$f":"Q444*$T$2*VLOOKUP(DataByMiles!AE442,DataByMiles!$AT$5:$AU$6,2,FALSE)","v":0},{"$f":"DataByMiles!X442*VLOOKUP(DataByMiles!AE442,DataByMiles!$AT$5:$AU$6,2,FALSE)","v":0},null,null,{"$f":"U444*$X$2*VLOOKUP(DataByMiles!AE442,DataByMiles!$AT$5:$AU$6,2,FALSE)","v":0},{"$f":"DataByMiles!Y442*VLOOKUP(DataByMiles!AE442,DataByMiles!$AT$5:$AU$6,2,FALSE)","v":0},{"$f":"DataByMiles!Z442","v":0},{"$f":"DataByMiles!AA442","v":0},null,null,{"$f":"(Y444/IF(Z444=0,$AD$1,Z444)*$AD$2)/IF(AA444=0,1,AA444)*VLOOKUP(DataByMiles!AE442,DataByMiles!$AT$5:$AU$6,2,FALSE)","v":0},"",0,0,{"$f":"(AF444+AG444)*VLOOKUP(DataByMiles!AE442,DataByMiles!$AT$5:$AU$6,2,FALSE)","v":0},0]
[null,{"$f":"DataByMiles!C443","v":"----439"},{"$f":"DataByMiles!T443*VLOOKUP(DataByMiles!AE443,DataByMiles!$AT$5:$AU$6,2,FALSE)","v":0},null,null,0,{"$f":"C445*$G$2*VLOOKUP(DataByMiles!AE443,DataByMiles!$AT$5:$AU$6,2,FALSE)","v":0},{"$f":"DataByMiles!U443*VLOOKUP(DataByMiles!AE443,DataByMiles!$AT$5:$AU$6,2,FALSE)","v":0},null,null,0,{"$f":"H445*$L$2*VLOOKUP(DataByMiles!AE443,DataByMiles!$AT$5:$AU$6,2,FALSE)","v":0},{"$f":"DataByMiles!V443*VLOOKUP(DataByMiles!AE443,DataByMiles!$AT$5:$AU$6,2,FALSE)","v":0},null,null,{"$f":"M445*$P$2*VLOOKUP(DataByMiles!AE443,DataByMiles!$AT$5:$AU$6,2,FALSE)","v":0},{"$f":"DataByMiles!W443*VLOOKUP(DataByMiles!AE443,DataByMiles!$AT$5:$AU$6,2,FALSE)","v":0},null,null,{"$f":"Q445*$T$2*VLOOKUP(DataByMiles!AE443,DataByMiles!$AT$5:$AU$6,2,FALSE)","v":0},{"$f":"DataByMiles!X443*VLOOKUP(DataByMiles!AE443,DataByMiles!$AT$5:$AU$6,2,FALSE)","v":0},null,null,{"$f":"U445*$X$2*VLOOKUP(DataByMiles!AE443,DataByMiles!$AT$5:$AU$6,2,FALSE)","v":0},{"$f":"DataByMiles!Y443*VLOOKUP(DataByMiles!AE443,DataByMiles!$AT$5:$AU$6,2,FALSE)","v":0},{"$f":"DataByMiles!Z443","v":0},{"$f":"DataByMiles!AA443","v":0},null,null,{"$f":"(Y445/IF(Z445=0,$AD$1,Z445)*$AD$2)/IF(AA445=0,1,AA445)*VLOOKUP(DataByMiles!AE443,DataByMiles!$AT$5:$AU$6,2,FALSE)","v":0},"",0,0,{"$f":"(AF445+AG445)*VLOOKUP(DataByMiles!AE443,DataByMiles!$AT$5:$AU$6,2,FALSE)","v":0},0]
[null,{"$f":"DataByMiles!C444","v":"----440"},{"$f":"DataByMiles!T444*VLOOKUP(DataByMiles!AE444,DataByMiles!$AT$5:$AU$6,2,FALSE)","v":0},null,null,0,{"$f":"C446*$G$2*VLOOKUP(DataByMiles!AE444,DataByMiles!$AT$5:$AU$6,2,FALSE)","v":0},{"$f":"DataByMiles!U444*VLOOKUP(DataByMiles!AE444,DataByMiles!$AT$5:$AU$6,2,FALSE)","v":0},null,null,0,{"$f":"H446*$L$2*VLOOKUP(DataByMiles!AE444,DataByMiles!$AT$5:$AU$6,2,FALSE)","v":0},{"$f":"DataByMiles!V444*VLOOKUP(DataByMiles!AE444,DataByMiles!$AT$5:$AU$6,2,FALSE)","v":0},null,null,{"$f":"M446*$P$2*VLOOKUP(DataByMiles!AE444,DataByMiles!$AT$5:$AU$6,2,FALSE)","v":0},{"$f":"DataByMiles!W444*VLOOKUP(DataByMiles!AE444,DataByMiles!$AT$5:$AU$6,2,FALSE)","v":0},null,null,{"$f":"Q446*$T$2*VLOOKUP(DataByMiles!AE444,DataByMiles!$AT$5:$AU$6,2,FALSE)","v":0},{"$f":"DataByMiles!X444*VLOOKUP(DataByMiles!AE444,DataByMiles!$AT$5:$AU$6,2,FALSE)","v":0},null,null,{"$f":"U446*$X$2*VLOOKUP(DataByMiles!AE444,DataByMiles!$AT$5:$AU$6,2,FALSE)","v":0},{"$f":"DataByMiles!Y444*VLOOKUP(DataByMiles!AE444,DataByMiles!$AT$5:$AU$6,2,FALSE)","v":0},{"$f":"DataByMiles!Z444","v":0},{"$f":"DataByMiles!AA444","v":0},null,null,{"$f":"(Y446/IF(Z446=0,$AD$1,Z446)*$AD$2)/IF(AA446=0,1,AA446)*VLOOKUP(DataByMiles!AE444,DataByMiles!$AT$5:$AU$6,2,FALSE)","v":0},"",0,0,{"$f":"(AF446+AG446)*VLOOKUP(DataByMiles!AE444,DataByMiles!$AT$5:$AU$6,2,FALSE)","v":0},0]
[null,{"$f":"DataByMiles!C445","v":"----441"},{"$f":"DataByMiles!T445*VLOOKUP(DataByMiles!AE445,DataByMiles!$AT$5:$AU$6,2,FALSE)","v":0},null,null,0,{"$f":"C447*$G$2*VLOOKUP(DataByMiles!AE445,DataByMiles!$AT$5:$AU$6,2,FALSE)","v":0},{"$f":"DataByMiles!U445*VLOOKUP(DataByMiles!AE445,DataByMiles!$AT$5:$AU$6,2,FALSE)","v":0},null,null,0,{"$f":"H447*$L$2*VLOOKUP(DataByMiles!AE445,DataByMiles!$AT$5:$AU$6,2,FALSE)","v":0},{"$f":"DataByMiles!V445*VLOOKUP(DataByMiles!AE445,DataByMiles!$AT$5:$AU$6,2,FALSE)","v":0},null,null,{"$f":"M447*$P$2*VLOOKUP(DataByMiles!AE445,DataByMiles!$AT$5:$AU$6,2,FALSE)","v":0},{"$f":"DataByMiles!W445*VLOOKUP(DataByMiles!AE445,DataByMiles!$AT$5:$AU$6,2,FALSE)","v":0},null,null,{"$f":"Q447*$T$2*VLOOKUP(DataByMiles!AE445,DataByMiles!$AT$5:$AU$6,2,FALSE)","v":0},{"$f":"DataByMiles!X445*VLOOKUP(DataByMiles!AE445,DataByMiles!$AT$5:$AU$6,2,FALSE)","v":0},null,null,{"$f":"U447*$X$2*VLOOKUP(DataByMiles!AE445,DataByMiles!$AT$5:$AU$6,2,FALSE)","v":0},{"$f":"DataByMiles!Y445*VLOOKUP(DataByMiles!AE445,DataByMiles!$AT$5:$AU$6,2,FALSE)","v":0},{"$f":"DataByMiles!Z445","v":0},{"$f":"DataByMiles!AA445","v":0},null,null,{"$f":"(Y447/IF(Z447=0,$AD$1,Z447)*$AD$2)/IF(AA447=0,1,AA447)*VLOOKUP(DataByMiles!AE445,DataByMiles!$AT$5:$AU$6,2,FALSE)","v":0},"",0,0,{"$f":"(AF447+AG447)*VLOOKUP(DataByMiles!AE445,DataByMiles!$AT$5:$AU$6,2,FALSE)","v":0},0]
[null,{"$f":"DataByMiles!C446","v":"----442"},{"$f":"DataByMiles!T446*VLOOKUP(DataByMiles!AE446,DataByMiles!$AT$5:$AU$6,2,FALSE)","v":0},null,null,0,{"$f":"C448*$G$2*VLOOKUP(DataByMiles!AE446,DataByMiles!$AT$5:$AU$6,2,FALSE)","v":0},{"$f":"DataByMiles!U446*VLOOKUP(DataByMiles!AE446,DataByMiles!$AT$5:$AU$6,2,FALSE)","v":0},null,null,0,{"$f":"H448*$L$2*VLOOKUP(DataByMiles!AE446,DataByMiles!$AT$5:$AU$6,2,FALSE)","v":0},{"$f":"DataByMiles!V446*VLOOKUP(DataByMiles!AE446,DataByMiles!$AT$5:$AU$6,2,FALSE)","v":0},null,null,{"$f":"M448*$P$2*VLOOKUP(DataByMiles!AE446,DataByMiles!$AT$5:$AU$6,2,FALSE)","v":0},{"$f":"DataByMiles!W446*VLOOKUP(DataByMiles!AE446,DataByMiles!$AT$5:$AU$6,2,FALSE)","v":0},null,null,{"$f":"Q448*$T$2*VLOOKUP(DataByMiles!AE446,DataByMiles!$AT$5:$AU$6,2,FALSE)","v":0},{"$f":"DataByMiles!X446*VLOOKUP(DataByMiles!AE446,DataByMiles!$AT$5:$AU$6,2,FALSE)","v":0},null,null,{"$f":"U448*$X$2*VLOOKUP(DataByMiles!AE446,DataByMiles!$AT$5:$AU$6,2,FALSE)","v":0},{"$f":"DataByMiles!Y446*VLOOKUP(DataByMiles!AE446,DataByMiles!$AT$5:$AU$6,2,FALSE)","v":0},{"$f":"DataByMiles!Z446","v":0},{"$f":"DataByMiles!AA446","v":0},null,null,{"$f":"(Y448/IF(Z448=0,$AD$1,Z448)*$AD$2)/IF(AA448=0,1,AA448)*VLOOKUP(DataByMiles!AE446,DataByMiles!$AT$5:$AU$6,2,FALSE)","v":0},"",0,0,{"$f":"(AF448+AG448)*VLOOKUP(DataByMiles!AE446,DataByMiles!$AT$5:$AU$6,2,FALSE)","v":0},0]
[null,{"$f":"DataByMiles!C447","v":"----443"},{"$f":"DataByMiles!T447*VLOOKUP(DataByMiles!AE447,DataByMiles!$AT$5:$AU$6,2,FALSE)","v":0},null,null,0,{"$f":"C449*$G$2*VLOOKUP(DataByMiles!AE447,DataByMiles!$AT$5:$AU$6,2,FALSE)","v":0},{"$f":"DataByMiles!U447*VLOOKUP(DataByMiles!AE447,DataByMiles!$AT$5:$AU$6,2,FALSE)","v":0},null,null,0,{"$f":"H449*$L$2*VLOOKUP(DataByMiles!AE447,DataByMiles!$AT$5:$AU$6,2,FALSE)","v":0},{"$f":"DataByMiles!V447*VLOOKUP(DataByMiles!AE447,DataByMiles!$AT$5:$AU$6,2,FALSE)","v":0},null,null,{"$f":"M449*$P$2*VLOOKUP(DataByMiles!AE447,DataByMiles!$AT$5:$AU$6,2,FALSE)","v":0},{"$f":"DataByMiles!W447*VLOOKUP(DataByMiles!AE447,DataByMiles!$AT$5:$AU$6,2,FALSE)","v":0},null,null,{"$f":"Q449*$T$2*VLOOKUP(DataByMiles!AE447,DataByMiles!$AT$5:$AU$6,2,FALSE)","v":0},{"$f":"DataByMiles!X447*VLOOKUP(DataByMiles!AE447,DataByMiles!$AT$5:$AU$6,2,FALSE)","v":0},null,null,{"$f":"U449*$X$2*VLOOKUP(DataByMiles!AE447,DataByMiles!$AT$5:$AU$6,2,FALSE)","v":0},{"$f":"DataByMiles!Y447*VLOOKUP(DataByMiles!AE447,DataByMiles!$AT$5:$AU$6,2,FALSE)","v":0},{"$f":"DataByMiles!Z447","v":0},{"$f":"DataByMiles!AA447","v":0},null,null,{"$f":"(Y449/IF(Z449=0,$AD$1,Z449)*$AD$2)/IF(AA449=0,1,AA449)*VLOOKUP(DataByMiles!AE447,DataByMiles!$AT$5:$AU$6,2,FALSE)","v":0},"",0,0,{"$f":"(AF449+AG449)*VLOOKUP(DataByMiles!AE447,DataByMiles!$AT$5:$AU$6,2,FALSE)","v":0},0]
[null,{"$f":"DataByMiles!C448","v":"----444"},{"$f":"DataByMiles!T448*VLOOKUP(DataByMiles!AE448,DataByMiles!$AT$5:$AU$6,2,FALSE)","v":0},null,null,0,{"$f":"C450*$G$2*VLOOKUP(DataByMiles!AE448,DataByMiles!$AT$5:$AU$6,2,FALSE)","v":0},{"$f":"DataByMiles!U448*VLOOKUP(DataByMiles!AE448,DataByMiles!$AT$5:$AU$6,2,FALSE)","v":0},null,null,0,{"$f":"H450*$L$2*VLOOKUP(DataByMiles!AE448,DataByMiles!$AT$5:$AU$6,2,FALSE)","v":0},{"$f":"DataByMiles!V448*VLOOKUP(DataByMiles!AE448,DataByMiles!$AT$5:$AU$6,2,FALSE)","v":0},null,null,{"$f":"M450*$P$2*VLOOKUP(DataByMiles!AE448,DataByMiles!$AT$5:$AU$6,2,FALSE)","v":0},{"$f":"DataByMiles!W448*VLOOKUP(DataByMiles!AE448,DataByMiles!$AT$5:$AU$6,2,FALSE)","v":0},null,null,{"$f":"Q450*$T$2*VLOOKUP(DataByMiles!AE448,DataByMiles!$AT$5:$AU$6,2,FALSE)","v":0},{"$f":"DataByMiles!X448*VLOOKUP(DataByMiles!AE448,DataByMiles!$AT$5:$AU$6,2,FALSE)","v":0},null,null,{"$f":"U450*$X$2*VLOOKUP(DataByMiles!AE448,DataByMiles!$AT$5:$AU$6,2,FALSE)","v":0},{"$f":"DataByMiles!Y448*VLOOKUP(DataByMiles!AE448,DataByMiles!$AT$5:$AU$6,2,FALSE)","v":0},{"$f":"DataByMiles!Z448","v":0},{"$f":"DataByMiles!AA448","v":0},null,null,{"$f":"(Y450/IF(Z450=0,$AD$1,Z450)*$AD$2)/IF(AA450=0,1,AA450)*VLOOKUP(DataByMiles!AE448,DataByMiles!$AT$5:$AU$6,2,FALSE)","v":0},"",0,0,{"$f":"(AF450+AG450)*VLOOKUP(DataByMiles!AE448,DataByMiles!$AT$5:$AU$6,2,FALSE)","v":0},0]
[null,{"$f":"DataByMiles!C449","v":"----445"},{"$f":"DataByMiles!T449*VLOOKUP(DataByMiles!AE449,DataByMiles!$AT$5:$AU$6,2,FALSE)","v":0},null,null,0,{"$f":"C451*$G$2*VLOOKUP(DataByMiles!AE449,DataByMiles!$AT$5:$AU$6,2,FALSE)","v":0},{"$f":"DataByMiles!U449*VLOOKUP(DataByMiles!AE449,DataByMiles!$AT$5:$AU$6,2,FALSE)","v":0},null,null,0,{"$f":"H451*$L$2*VLOOKUP(DataByMiles!AE449,DataByMiles!$AT$5:$AU$6,2,FALSE)","v":0},{"$f":"DataByMiles!V449*VLOOKUP(DataByMiles!AE449,DataByMiles!$AT$5:$AU$6,2,FALSE)","v":0},null,null,{"$f":"M451*$P$2*VLOOKUP(DataByMiles!AE449,DataByMiles!$AT$5:$AU$6,2,FALSE)","v":0},{"$f":"DataByMiles!W449*VLOOKUP(DataByMiles!AE449,DataByMiles!$AT$5:$AU$6,2,FALSE)","v":0},null,null,{"$f":"Q451*$T$2*VLOOKUP(DataByMiles!AE449,DataByMiles!$AT$5:$AU$6,2,FALSE)","v":0},{"$f":"DataByMiles!X449*VLOOKUP(DataByMiles!AE449,DataByMiles!$AT$5:$AU$6,2,FALSE)","v":0},null,null,{"$f":"U451*$X$2*VLOOKUP(DataByMiles!AE449,DataByMiles!$AT$5:$AU$6,2,FALSE)","v":0},{"$f":"DataByMiles!Y449*VLOOKUP(DataByMiles!AE449,DataByMiles!$AT$5:$AU$6,2,FALSE)","v":0},{"$f":"DataByMiles!Z449","v":0},{"$f":"DataByMiles!AA449","v":0},null,null,{"$f":"(Y451/IF(Z451=0,$AD$1,Z451)*$AD$2)/IF(AA451=0,1,AA451)*VLOOKUP(DataByMiles!AE449,DataByMiles!$AT$5:$AU$6,2,FALSE)","v":0},"",0,0,{"$f":"(AF451+AG451)*VLOOKUP(DataByMiles!AE449,DataByMiles!$AT$5:$AU$6,2,FALSE)","v":0},0]
[null,{"$f":"DataByMiles!C450","v":"----446"},{"$f":"DataByMiles!T450*VLOOKUP(DataByMiles!AE450,DataByMiles!$AT$5:$AU$6,2,FALSE)","v":0},null,null,0,{"$f":"C452*$G$2*VLOOKUP(DataByMiles!AE450,DataByMiles!$AT$5:$AU$6,2,FALSE)","v":0},{"$f":"DataByMiles!U450*VLOOKUP(DataByMiles!AE450,DataByMiles!$AT$5:$AU$6,2,FALSE)","v":0},null,null,0,{"$f":"H452*$L$2*VLOOKUP(DataByMiles!AE450,DataByMiles!$AT$5:$AU$6,2,FALSE)","v":0},{"$f":"DataByMiles!V450*VLOOKUP(DataByMiles!AE450,DataByMiles!$AT$5:$AU$6,2,FALSE)","v":0},null,null,{"$f":"M452*$P$2*VLOOKUP(DataByMiles!AE450,DataByMiles!$AT$5:$AU$6,2,FALSE)","v":0},{"$f":"DataByMiles!W450*VLOOKUP(DataByMiles!AE450,DataByMiles!$AT$5:$AU$6,2,FALSE)","v":0},null,null,{"$f":"Q452*$T$2*VLOOKUP(DataByMiles!AE450,DataByMiles!$AT$5:$AU$6,2,FALSE)","v":0},{"$f":"DataByMiles!X450*VLOOKUP(DataByMiles!AE450,DataByMiles!$AT$5:$AU$6,2,FALSE)","v":0},null,null,{"$f":"U452*$X$2*VLOOKUP(DataByMiles!AE450,DataByMiles!$AT$5:$AU$6,2,FALSE)","v":0},{"$f":"DataByMiles!Y450*VLOOKUP(DataByMiles!AE450,DataByMiles!$AT$5:$AU$6,2,FALSE)","v":0},{"$f":"DataByMiles!Z450","v":0},{"$f":"DataByMiles!AA450","v":0},null,null,{"$f":"(Y452/IF(Z452=0,$AD$1,Z452)*$AD$2)/IF(AA452=0,1,AA452)*VLOOKUP(DataByMiles!AE450,DataByMiles!$AT$5:$AU$6,2,FALSE)","v":0},"",0,0,{"$f":"(AF452+AG452)*VLOOKUP(DataByMiles!AE450,DataByMiles!$AT$5:$AU$6,2,FALSE)","v":0},0]
[null,{"$f":"DataByMiles!C451","v":"----447"},{"$f":"DataByMiles!T451*VLOOKUP(DataByMiles!AE451,DataByMiles!$AT$5:$AU$6,2,FALSE)","v":0},null,null,0,{"$f":"C453*$G$2*VLOOKUP(DataByMiles!AE451,DataByMiles!$AT$5:$AU$6,2,FALSE)","v":0},{"$f":"DataByMiles!U451*VLOOKUP(DataByMiles!AE451,DataByMiles!$AT$5:$AU$6,2,FALSE)","v":0},null,null,0,{"$f":"H453*$L$2*VLOOKUP(DataByMiles!AE451,DataByMiles!$AT$5:$AU$6,2,FALSE)","v":0},{"$f":"DataByMiles!V451*VLOOKUP(DataByMiles!AE451,DataByMiles!$AT$5:$AU$6,2,FALSE)","v":0},null,null,{"$f":"M453*$P$2*VLOOKUP(DataByMiles!AE451,DataByMiles!$AT$5:$AU$6,2,FALSE)","v":0},{"$f":"DataByMiles!W451*VLOOKUP(DataByMiles!AE451,DataByMiles!$AT$5:$AU$6,2,FALSE)","v":0},null,null,{"$f":"Q453*$T$2*VLOOKUP(DataByMiles!AE451,DataByMiles!$AT$5:$AU$6,2,FALSE)","v":0},{"$f":"DataByMiles!X451*VLOOKUP(DataByMiles!AE451,DataByMiles!$AT$5:$AU$6,2,FALSE)","v":0},null,null,{"$f":"U453*$X$2*VLOOKUP(DataByMiles!AE451,DataByMiles!$AT$5:$AU$6,2,FALSE)","v":0},{"$f":"DataByMiles!Y451*VLOOKUP(DataByMiles!AE451,DataByMiles!$AT$5:$AU$6,2,FALSE)","v":0},{"$f":"DataByMiles!Z451","v":0},{"$f":"DataByMiles!AA451","v":0},null,null,{"$f":"(Y453/IF(Z453=0,$AD$1,Z453)*$AD$2)/IF(AA453=0,1,AA453)*VLOOKUP(DataByMiles!AE451,DataByMiles!$AT$5:$AU$6,2,FALSE)","v":0},"",0,0,{"$f":"(AF453+AG453)*VLOOKUP(DataByMiles!AE451,DataByMiles!$AT$5:$AU$6,2,FALSE)","v":0},0]
[null,{"$f":"DataByMiles!C452","v":"----448"},{"$f":"DataByMiles!T452*VLOOKUP(DataByMiles!AE452,DataByMiles!$AT$5:$AU$6,2,FALSE)","v":0},null,null,0,{"$f":"C454*$G$2*VLOOKUP(DataByMiles!AE452,DataByMiles!$AT$5:$AU$6,2,FALSE)","v":0},{"$f":"DataByMiles!U452*VLOOKUP(DataByMiles!AE452,DataByMiles!$AT$5:$AU$6,2,FALSE)","v":0},null,null,0,{"$f":"H454*$L$2*VLOOKUP(DataByMiles!AE452,DataByMiles!$AT$5:$AU$6,2,FALSE)","v":0},{"$f":"DataByMiles!V452*VLOOKUP(DataByMiles!AE452,DataByMiles!$AT$5:$AU$6,2,FALSE)","v":0},null,null,{"$f":"M454*$P$2*VLOOKUP(DataByMiles!AE452,DataByMiles!$AT$5:$AU$6,2,FALSE)","v":0},{"$f":"DataByMiles!W452*VLOOKUP(DataByMiles!AE452,DataByMiles!$AT$5:$AU$6,2,FALSE)","v":0},null,null,{"$f":"Q454*$T$2*VLOOKUP(DataByMiles!AE452,DataByMiles!$AT$5:$AU$6,2,FALSE)","v":0},{"$f":"DataByMiles!X452*VLOOKUP(DataByMiles!AE452,DataByMiles!$AT$5:$AU$6,2,FALSE)","v":0},null,null,{"$f":"U454*$X$2*VLOOKUP(DataByMiles!AE452,DataByMiles!$AT$5:$AU$6,2,FALSE)","v":0},{"$f":"DataByMiles!Y452*VLOOKUP(DataByMiles!AE452,DataByMiles!$AT$5:$AU$6,2,FALSE)","v":0},{"$f":"DataByMiles!Z452","v":0},{"$f":"DataByMiles!AA452","v":0},null,null,{"$f":"(Y454/IF(Z454=0,$AD$1,Z454)*$AD$2)/IF(AA454=0,1,AA454)*VLOOKUP(DataByMiles!AE452,DataByMiles!$AT$5:$AU$6,2,FALSE)","v":0},"",0,0,{"$f":"(AF454+AG454)*VLOOKUP(DataByMiles!AE452,DataByMiles!$AT$5:$AU$6,2,FALSE)","v":0},0]
[null,{"$f":"DataByMiles!C453","v":"----449"},{"$f":"DataByMiles!T453*VLOOKUP(DataByMiles!AE453,DataByMiles!$AT$5:$AU$6,2,FALSE)","v":0},null,null,0,{"$f":"C455*$G$2*VLOOKUP(DataByMiles!AE453,DataByMiles!$AT$5:$AU$6,2,FALSE)","v":0},{"$f":"DataByMiles!U453*VLOOKUP(DataByMiles!AE453,DataByMiles!$AT$5:$AU$6,2,FALSE)","v":0},null,null,0,{"$f":"H455*$L$2*VLOOKUP(DataByMiles!AE453,DataByMiles!$AT$5:$AU$6,2,FALSE)","v":0},{"$f":"DataByMiles!V453*VLOOKUP(DataByMiles!AE453,DataByMiles!$AT$5:$AU$6,2,FALSE)","v":0},null,null,{"$f":"M455*$P$2*VLOOKUP(DataByMiles!AE453,DataByMiles!$AT$5:$AU$6,2,FALSE)","v":0},{"$f":"DataByMiles!W453*VLOOKUP(DataByMiles!AE453,DataByMiles!$AT$5:$AU$6,2,FALSE)","v":0},null,null,{"$f":"Q455*$T$2*VLOOKUP(DataByMiles!AE453,DataByMiles!$AT$5:$AU$6,2,FALSE)","v":0},{"$f":"DataByMiles!X453*VLOOKUP(DataByMiles!AE453,DataByMiles!$AT$5:$AU$6,2,FALSE)","v":0},null,null,{"$f":"U455*$X$2*VLOOKUP(DataByMiles!AE453,DataByMiles!$AT$5:$AU$6,2,FALSE)","v":0},{"$f":"DataByMiles!Y453*VLOOKUP(DataByMiles!AE453,DataByMiles!$AT$5:$AU$6,2,FALSE)","v":0},{"$f":"DataByMiles!Z453","v":0},{"$f":"DataByMiles!AA453","v":0},null,null,{"$f":"(Y455/IF(Z455=0,$AD$1,Z455)*$AD$2)/IF(AA455=0,1,AA455)*VLOOKUP(DataByMiles!AE453,DataByMiles!$AT$5:$AU$6,2,FALSE)","v":0},"",0,0,{"$f":"(AF455+AG455)*VLOOKUP(DataByMiles!AE453,DataByMiles!$AT$5:$AU$6,2,FALSE)","v":0},0]
[null,{"$f":"DataByMiles!C454","v":"----450"},{"$f":"DataByMiles!T454*VLOOKUP(DataByMiles!AE454,DataByMiles!$AT$5:$AU$6,2,FALSE)","v":0},null,null,0,{"$f":"C456*$G$2*VLOOKUP(DataByMiles!AE454,DataByMiles!$AT$5:$AU$6,2,FALSE)","v":0},{"$f":"DataByMiles!U454*VLOOKUP(DataByMiles!AE454,DataByMiles!$AT$5:$AU$6,2,FALSE)","v":0},null,null,0,{"$f":"H456*$L$2*VLOOKUP(DataByMiles!AE454,DataByMiles!$AT$5:$AU$6,2,FALSE)","v":0},{"$f":"DataByMiles!V454*VLOOKUP(DataByMiles!AE454,DataByMiles!$AT$5:$AU$6,2,FALSE)","v":0},null,null,{"$f":"M456*$P$2*VLOOKUP(DataByMiles!AE454,DataByMiles!$AT$5:$AU$6,2,FALSE)","v":0},{"$f":"DataByMiles!W454*VLOOKUP(DataByMiles!AE454,DataByMiles!$AT$5:$AU$6,2,FALSE)","v":0},null,null,{"$f":"Q456*$T$2*VLOOKUP(DataByMiles!AE454,DataByMiles!$AT$5:$AU$6,2,FALSE)","v":0},{"$f":"DataByMiles!X454*VLOOKUP(DataByMiles!AE454,DataByMiles!$AT$5:$AU$6,2,FALSE)","v":0},null,null,{"$f":"U456*$X$2*VLOOKUP(DataByMiles!AE454,DataByMiles!$AT$5:$AU$6,2,FALSE)","v":0},{"$f":"DataByMiles!Y454*VLOOKUP(DataByMiles!AE454,DataByMiles!$AT$5:$AU$6,2,FALSE)","v":0},{"$f":"DataByMiles!Z454","v":0},{"$f":"DataByMiles!AA454","v":0},null,null,{"$f":"(Y456/IF(Z456=0,$AD$1,Z456)*$AD$2)/IF(AA456=0,1,AA456)*VLOOKUP(DataByMiles!AE454,DataByMiles!$AT$5:$AU$6,2,FALSE)","v":0},"",0,0,{"$f":"(AF456+AG456)*VLOOKUP(DataByMiles!AE454,DataByMiles!$AT$5:$AU$6,2,FALSE)","v":0},0]
[null,{"$f":"DataByMiles!C455","v":"----451"},{"$f":"DataByMiles!T455*VLOOKUP(DataByMiles!AE455,DataByMiles!$AT$5:$AU$6,2,FALSE)","v":0},null,null,0,{"$f":"C457*$G$2*VLOOKUP(DataByMiles!AE455,DataByMiles!$AT$5:$AU$6,2,FALSE)","v":0},{"$f":"DataByMiles!U455*VLOOKUP(DataByMiles!AE455,DataByMiles!$AT$5:$AU$6,2,FALSE)","v":0},null,null,0,{"$f":"H457*$L$2*VLOOKUP(DataByMiles!AE455,DataByMiles!$AT$5:$AU$6,2,FALSE)","v":0},{"$f":"DataByMiles!V455*VLOOKUP(DataByMiles!AE455,DataByMiles!$AT$5:$AU$6,2,FALSE)","v":0},null,null,{"$f":"M457*$P$2*VLOOKUP(DataByMiles!AE455,DataByMiles!$AT$5:$AU$6,2,FALSE)","v":0},{"$f":"DataByMiles!W455*VLOOKUP(DataByMiles!AE455,DataByMiles!$AT$5:$AU$6,2,FALSE)","v":0},null,null,{"$f":"Q457*$T$2*VLOOKUP(DataByMiles!AE455,DataByMiles!$AT$5:$AU$6,2,FALSE)","v":0},{"$f":"DataByMiles!X455*VLOOKUP(DataByMiles!AE455,DataByMiles!$AT$5:$AU$6,2,FALSE)","v":0},null,null,{"$f":"U457*$X$2*VLOOKUP(DataByMiles!AE455,DataByMiles!$AT$5:$AU$6,2,FALSE)","v":0},{"$f":"DataByMiles!Y455*VLOOKUP(DataByMiles!AE455,DataByMiles!$AT$5:$AU$6,2,FALSE)","v":0},{"$f":"DataByMiles!Z455","v":0},{"$f":"DataByMiles!AA455","v":0},null,null,{"$f":"(Y457/IF(Z457=0,$AD$1,Z457)*$AD$2)/IF(AA457=0,1,AA457)*VLOOKUP(DataByMiles!AE455,DataByMiles!$AT$5:$AU$6,2,FALSE)","v":0},"",0,0,{"$f":"(AF457+AG457)*VLOOKUP(DataByMiles!AE455,DataByMiles!$AT$5:$AU$6,2,FALSE)","v":0},0]
[null,{"$f":"DataByMiles!C456","v":"----452"},{"$f":"DataByMiles!T456*VLOOKUP(DataByMiles!AE456,DataByMiles!$AT$5:$AU$6,2,FALSE)","v":0},null,null,0,{"$f":"C458*$G$2*VLOOKUP(DataByMiles!AE456,DataByMiles!$AT$5:$AU$6,2,FALSE)","v":0},{"$f":"DataByMiles!U456*VLOOKUP(DataByMiles!AE456,DataByMiles!$AT$5:$AU$6,2,FALSE)","v":0},null,null,0,{"$f":"H458*$L$2*VLOOKUP(DataByMiles!AE456,DataByMiles!$AT$5:$AU$6,2,FALSE)","v":0},{"$f":"DataByMiles!V456*VLOOKUP(DataByMiles!AE456,DataByMiles!$AT$5:$AU$6,2,FALSE)","v":0},null,null,{"$f":"M458*$P$2*VLOOKUP(DataByMiles!AE456,DataByMiles!$AT$5:$AU$6,2,FALSE)","v":0},{"$f":"DataByMiles!W456*VLOOKUP(DataByMiles!AE456,DataByMiles!$AT$5:$AU$6,2,FALSE)","v":0},null,null,{"$f":"Q458*$T$2*VLOOKUP(DataByMiles!AE456,DataByMiles!$AT$5:$AU$6,2,FALSE)","v":0},{"$f":"DataByMiles!X456*VLOOKUP(DataByMiles!AE456,DataByMiles!$AT$5:$AU$6,2,FALSE)","v":0},null,null,{"$f":"U458*$X$2*VLOOKUP(DataByMiles!AE456,DataByMiles!$AT$5:$AU$6,2,FALSE)","v":0},{"$f":"DataByMiles!Y456*VLOOKUP(DataByMiles!AE456,DataByMiles!$AT$5:$AU$6,2,FALSE)","v":0},{"$f":"DataByMiles!Z456","v":0},{"$f":"DataByMiles!AA456","v":0},null,null,{"$f":"(Y458/IF(Z458=0,$AD$1,Z458)*$AD$2)/IF(AA458=0,1,AA458)*VLOOKUP(DataByMiles!AE456,DataByMiles!$AT$5:$AU$6,2,FALSE)","v":0},"",0,0,{"$f":"(AF458+AG458)*VLOOKUP(DataByMiles!AE456,DataByMiles!$AT$5:$AU$6,2,FALSE)","v":0},0]
[null,{"$f":"DataByMiles!C457","v":"----453"},{"$f":"DataByMiles!T457*VLOOKUP(DataByMiles!AE457,DataByMiles!$AT$5:$AU$6,2,FALSE)","v":0},null,null,0,{"$f":"C459*$G$2*VLOOKUP(DataByMiles!AE457,DataByMiles!$AT$5:$AU$6,2,FALSE)","v":0},{"$f":"DataByMiles!U457*VLOOKUP(DataByMiles!AE457,DataByMiles!$AT$5:$AU$6,2,FALSE)","v":0},null,null,0,{"$f":"H459*$L$2*VLOOKUP(DataByMiles!AE457,DataByMiles!$AT$5:$AU$6,2,FALSE)","v":0},{"$f":"DataByMiles!V457*VLOOKUP(DataByMiles!AE457,DataByMiles!$AT$5:$AU$6,2,FALSE)","v":0},null,null,{"$f":"M459*$P$2*VLOOKUP(DataByMiles!AE457,DataByMiles!$AT$5:$AU$6,2,FALSE)","v":0},{"$f":"DataByMiles!W457*VLOOKUP(DataByMiles!AE457,DataByMiles!$AT$5:$AU$6,2,FALSE)","v":0},null,null,{"$f":"Q459*$T$2*VLOOKUP(DataByMiles!AE457,DataByMiles!$AT$5:$AU$6,2,FALSE)","v":0},{"$f":"DataByMiles!X457*VLOOKUP(DataByMiles!AE457,DataByMiles!$AT$5:$AU$6,2,FALSE)","v":0},null,null,{"$f":"U459*$X$2*VLOOKUP(DataByMiles!AE457,DataByMiles!$AT$5:$AU$6,2,FALSE)","v":0},{"$f":"DataByMiles!Y457*VLOOKUP(DataByMiles!AE457,DataByMiles!$AT$5:$AU$6,2,FALSE)","v":0},{"$f":"DataByMiles!Z457","v":0},{"$f":"DataByMiles!AA457","v":0},null,null,{"$f":"(Y459/IF(Z459=0,$AD$1,Z459)*$AD$2)/IF(AA459=0,1,AA459)*VLOOKUP(DataByMiles!AE457,DataByMiles!$AT$5:$AU$6,2,FALSE)","v":0},"",0,0,{"$f":"(AF459+AG459)*VLOOKUP(DataByMiles!AE457,DataByMiles!$AT$5:$AU$6,2,FALSE)","v":0},0]
[null,{"$f":"DataByMiles!C458","v":"----454"},{"$f":"DataByMiles!T458*VLOOKUP(DataByMiles!AE458,DataByMiles!$AT$5:$AU$6,2,FALSE)","v":0},null,null,0,{"$f":"C460*$G$2*VLOOKUP(DataByMiles!AE458,DataByMiles!$AT$5:$AU$6,2,FALSE)","v":0},{"$f":"DataByMiles!U458*VLOOKUP(DataByMiles!AE458,DataByMiles!$AT$5:$AU$6,2,FALSE)","v":0},null,null,0,{"$f":"H460*$L$2*VLOOKUP(DataByMiles!AE458,DataByMiles!$AT$5:$AU$6,2,FALSE)","v":0},{"$f":"DataByMiles!V458*VLOOKUP(DataByMiles!AE458,DataByMiles!$AT$5:$AU$6,2,FALSE)","v":0},null,null,{"$f":"M460*$P$2*VLOOKUP(DataByMiles!AE458,DataByMiles!$AT$5:$AU$6,2,FALSE)","v":0},{"$f":"DataByMiles!W458*VLOOKUP(DataByMiles!AE458,DataByMiles!$AT$5:$AU$6,2,FALSE)","v":0},null,null,{"$f":"Q460*$T$2*VLOOKUP(DataByMiles!AE458,DataByMiles!$AT$5:$AU$6,2,FALSE)","v":0},{"$f":"DataByMiles!X458*VLOOKUP(DataByMiles!AE458,DataByMiles!$AT$5:$AU$6,2,FALSE)","v":0},null,null,{"$f":"U460*$X$2*VLOOKUP(DataByMiles!AE458,DataByMiles!$AT$5:$AU$6,2,FALSE)","v":0},{"$f":"DataByMiles!Y458*VLOOKUP(DataByMiles!AE458,DataByMiles!$AT$5:$AU$6,2,FALSE)","v":0},{"$f":"DataByMiles!Z458","v":0},{"$f":"DataByMiles!AA458","v":0},null,null,{"$f":"(Y460/IF(Z460=0,$AD$1,Z460)*$AD$2)/IF(AA460=0,1,AA460)*VLOOKUP(DataByMiles!AE458,DataByMiles!$AT$5:$AU$6,2,FALSE)","v":0},"",0,0,{"$f":"(AF460+AG460)*VLOOKUP(DataByMiles!AE458,DataByMiles!$AT$5:$AU$6,2,FALSE)","v":0},0]
[null,{"$f":"DataByMiles!C459","v":"----455"},{"$f":"DataByMiles!T459*VLOOKUP(DataByMiles!AE459,DataByMiles!$AT$5:$AU$6,2,FALSE)","v":0},null,null,0,{"$f":"C461*$G$2*VLOOKUP(DataByMiles!AE459,DataByMiles!$AT$5:$AU$6,2,FALSE)","v":0},{"$f":"DataByMiles!U459*VLOOKUP(DataByMiles!AE459,DataByMiles!$AT$5:$AU$6,2,FALSE)","v":0},null,null,0,{"$f":"H461*$L$2*VLOOKUP(DataByMiles!AE459,DataByMiles!$AT$5:$AU$6,2,FALSE)","v":0},{"$f":"DataByMiles!V459*VLOOKUP(DataByMiles!AE459,DataByMiles!$AT$5:$AU$6,2,FALSE)","v":0},null,null,{"$f":"M461*$P$2*VLOOKUP(DataByMiles!AE459,DataByMiles!$AT$5:$AU$6,2,FALSE)","v":0},{"$f":"DataByMiles!W459*VLOOKUP(DataByMiles!AE459,DataByMiles!$AT$5:$AU$6,2,FALSE)","v":0},null,null,{"$f":"Q461*$T$2*VLOOKUP(DataByMiles!AE459,DataByMiles!$AT$5:$AU$6,2,FALSE)","v":0},{"$f":"DataByMiles!X459*VLOOKUP(DataByMiles!AE459,DataByMiles!$AT$5:$AU$6,2,FALSE)","v":0},null,null,{"$f":"U461*$X$2*VLOOKUP(DataByMiles!AE459,DataByMiles!$AT$5:$AU$6,2,FALSE)","v":0},{"$f":"DataByMiles!Y459*VLOOKUP(DataByMiles!AE459,DataByMiles!$AT$5:$AU$6,2,FALSE)","v":0},{"$f":"DataByMiles!Z459","v":0},{"$f":"DataByMiles!AA459","v":0},null,null,{"$f":"(Y461/IF(Z461=0,$AD$1,Z461)*$AD$2)/IF(AA461=0,1,AA461)*VLOOKUP(DataByMiles!AE459,DataByMiles!$AT$5:$AU$6,2,FALSE)","v":0},"",0,0,{"$f":"(AF461+AG461)*VLOOKUP(DataByMiles!AE459,DataByMiles!$AT$5:$AU$6,2,FALSE)","v":0},0]
[null,{"$f":"DataByMiles!C460","v":"----456"},{"$f":"DataByMiles!T460*VLOOKUP(DataByMiles!AE460,DataByMiles!$AT$5:$AU$6,2,FALSE)","v":0},null,null,0,{"$f":"C462*$G$2*VLOOKUP(DataByMiles!AE460,DataByMiles!$AT$5:$AU$6,2,FALSE)","v":0},{"$f":"DataByMiles!U460*VLOOKUP(DataByMiles!AE460,DataByMiles!$AT$5:$AU$6,2,FALSE)","v":0},null,null,0,{"$f":"H462*$L$2*VLOOKUP(DataByMiles!AE460,DataByMiles!$AT$5:$AU$6,2,FALSE)","v":0},{"$f":"DataByMiles!V460*VLOOKUP(DataByMiles!AE460,DataByMiles!$AT$5:$AU$6,2,FALSE)","v":0},null,null,{"$f":"M462*$P$2*VLOOKUP(DataByMiles!AE460,DataByMiles!$AT$5:$AU$6,2,FALSE)","v":0},{"$f":"DataByMiles!W460*VLOOKUP(DataByMiles!AE460,DataByMiles!$AT$5:$AU$6,2,FALSE)","v":0},null,null,{"$f":"Q462*$T$2*VLOOKUP(DataByMiles!AE460,DataByMiles!$AT$5:$AU$6,2,FALSE)","v":0},{"$f":"DataByMiles!X460*VLOOKUP(DataByMiles!AE460,DataByMiles!$AT$5:$AU$6,2,FALSE)","v":0},null,null,{"$f":"U462*$X$2*VLOOKUP(DataByMiles!AE460,DataByMiles!$AT$5:$AU$6,2,FALSE)","v":0},{"$f":"DataByMiles!Y460*VLOOKUP(DataByMiles!AE460,DataByMiles!$AT$5:$AU$6,2,FALSE)","v":0},{"$f":"DataByMiles!Z460","v":0},{"$f":"DataByMiles!AA460","v":0},null,null,{"$f":"(Y462/IF(Z462=0,$AD$1,Z462)*$AD$2)/IF(AA462=0,1,AA462)*VLOOKUP(DataByMiles!AE460,DataByMiles!$AT$5:$AU$6,2,FALSE)","v":0},"",0,0,{"$f":"(AF462+AG462)*VLOOKUP(DataByMiles!AE460,DataByMiles!$AT$5:$AU$6,2,FALSE)","v":0},0]
[null,{"$f":"DataByMiles!C461","v":"----457"},{"$f":"DataByMiles!T461*VLOOKUP(DataByMiles!AE461,DataByMiles!$AT$5:$AU$6,2,FALSE)","v":0},null,null,0,{"$f":"C463*$G$2*VLOOKUP(DataByMiles!AE461,DataByMiles!$AT$5:$AU$6,2,FALSE)","v":0},{"$f":"DataByMiles!U461*VLOOKUP(DataByMiles!AE461,DataByMiles!$AT$5:$AU$6,2,FALSE)","v":0},null,null,0,{"$f":"H463*$L$2*VLOOKUP(DataByMiles!AE461,DataByMiles!$AT$5:$AU$6,2,FALSE)","v":0},{"$f":"DataByMiles!V461*VLOOKUP(DataByMiles!AE461,DataByMiles!$AT$5:$AU$6,2,FALSE)","v":0},null,null,{"$f":"M463*$P$2*VLOOKUP(DataByMiles!AE461,DataByMiles!$AT$5:$AU$6,2,FALSE)","v":0},{"$f":"DataByMiles!W461*VLOOKUP(DataByMiles!AE461,DataByMiles!$AT$5:$AU$6,2,FALSE)","v":0},null,null,{"$f":"Q463*$T$2*VLOOKUP(DataByMiles!AE461,DataByMiles!$AT$5:$AU$6,2,FALSE)","v":0},{"$f":"DataByMiles!X461*VLOOKUP(DataByMiles!AE461,DataByMiles!$AT$5:$AU$6,2,FALSE)","v":0},null,null,{"$f":"U463*$X$2*VLOOKUP(DataByMiles!AE461,DataByMiles!$AT$5:$AU$6,2,FALSE)","v":0},{"$f":"DataByMiles!Y461*VLOOKUP(DataByMiles!AE461,DataByMiles!$AT$5:$AU$6,2,FALSE)","v":0},{"$f":"DataByMiles!Z461","v":0},{"$f":"DataByMiles!AA461","v":0},null,null,{"$f":"(Y463/IF(Z463=0,$AD$1,Z463)*$AD$2)/IF(AA463=0,1,AA463)*VLOOKUP(DataByMiles!AE461,DataByMiles!$AT$5:$AU$6,2,FALSE)","v":0},"",0,0,{"$f":"(AF463+AG463)*VLOOKUP(DataByMiles!AE461,DataByMiles!$AT$5:$AU$6,2,FALSE)","v":0},0]
[null,{"$f":"DataByMiles!C462","v":"----458"},{"$f":"DataByMiles!T462*VLOOKUP(DataByMiles!AE462,DataByMiles!$AT$5:$AU$6,2,FALSE)","v":0},null,null,0,{"$f":"C464*$G$2*VLOOKUP(DataByMiles!AE462,DataByMiles!$AT$5:$AU$6,2,FALSE)","v":0},{"$f":"DataByMiles!U462*VLOOKUP(DataByMiles!AE462,DataByMiles!$AT$5:$AU$6,2,FALSE)","v":0},null,null,0,{"$f":"H464*$L$2*VLOOKUP(DataByMiles!AE462,DataByMiles!$AT$5:$AU$6,2,FALSE)","v":0},{"$f":"DataByMiles!V462*VLOOKUP(DataByMiles!AE462,DataByMiles!$AT$5:$AU$6,2,FALSE)","v":0},null,null,{"$f":"M464*$P$2*VLOOKUP(DataByMiles!AE462,DataByMiles!$AT$5:$AU$6,2,FALSE)","v":0},{"$f":"DataByMiles!W462*VLOOKUP(DataByMiles!AE462,DataByMiles!$AT$5:$AU$6,2,FALSE)","v":0},null,null,{"$f":"Q464*$T$2*VLOOKUP(DataByMiles!AE462,DataByMiles!$AT$5:$AU$6,2,FALSE)","v":0},{"$f":"DataByMiles!X462*VLOOKUP(DataByMiles!AE462,DataByMiles!$AT$5:$AU$6,2,FALSE)","v":0},null,null,{"$f":"U464*$X$2*VLOOKUP(DataByMiles!AE462,DataByMiles!$AT$5:$AU$6,2,FALSE)","v":0},{"$f":"DataByMiles!Y462*VLOOKUP(DataByMiles!AE462,DataByMiles!$AT$5:$AU$6,2,FALSE)","v":0},{"$f":"DataByMiles!Z462","v":0},{"$f":"DataByMiles!AA462","v":0},null,null,{"$f":"(Y464/IF(Z464=0,$AD$1,Z464)*$AD$2)/IF(AA464=0,1,AA464)*VLOOKUP(DataByMiles!AE462,DataByMiles!$AT$5:$AU$6,2,FALSE)","v":0},"",0,0,{"$f":"(AF464+AG464)*VLOOKUP(DataByMiles!AE462,DataByMiles!$AT$5:$AU$6,2,FALSE)","v":0},0]
[null,{"$f":"DataByMiles!C463","v":"----459"},{"$f":"DataByMiles!T463*VLOOKUP(DataByMiles!AE463,DataByMiles!$AT$5:$AU$6,2,FALSE)","v":0},null,null,0,{"$f":"C465*$G$2*VLOOKUP(DataByMiles!AE463,DataByMiles!$AT$5:$AU$6,2,FALSE)","v":0},{"$f":"DataByMiles!U463*VLOOKUP(DataByMiles!AE463,DataByMiles!$AT$5:$AU$6,2,FALSE)","v":0},null,null,0,{"$f":"H465*$L$2*VLOOKUP(DataByMiles!AE463,DataByMiles!$AT$5:$AU$6,2,FALSE)","v":0},{"$f":"DataByMiles!V463*VLOOKUP(DataByMiles!AE463,DataByMiles!$AT$5:$AU$6,2,FALSE)","v":0},null,null,{"$f":"M465*$P$2*VLOOKUP(DataByMiles!AE463,DataByMiles!$AT$5:$AU$6,2,FALSE)","v":0},{"$f":"DataByMiles!W463*VLOOKUP(DataByMiles!AE463,DataByMiles!$AT$5:$AU$6,2,FALSE)","v":0},null,null,{"$f":"Q465*$T$2*VLOOKUP(DataByMiles!AE463,DataByMiles!$AT$5:$AU$6,2,FALSE)","v":0},{"$f":"DataByMiles!X463*VLOOKUP(DataByMiles!AE463,DataByMiles!$AT$5:$AU$6,2,FALSE)","v":0},null,null,{"$f":"U465*$X$2*VLOOKUP(DataByMiles!AE463,DataByMiles!$AT$5:$AU$6,2,FALSE)","v":0},{"$f":"DataByMiles!Y463*VLOOKUP(DataByMiles!AE463,DataByMiles!$AT$5:$AU$6,2,FALSE)","v":0},{"$f":"DataByMiles!Z463","v":0},{"$f":"DataByMiles!AA463","v":0},null,null,{"$f":"(Y465/IF(Z465=0,$AD$1,Z465)*$AD$2)/IF(AA465=0,1,AA465)*VLOOKUP(DataByMiles!AE463,DataByMiles!$AT$5:$AU$6,2,FALSE)","v":0},"",0,0,{"$f":"(AF465+AG465)*VLOOKUP(DataByMiles!AE463,DataByMiles!$AT$5:$AU$6,2,FALSE)","v":0},0]
[null,{"$f":"DataByMiles!C464","v":"----460"},{"$f":"DataByMiles!T464*VLOOKUP(DataByMiles!AE464,DataByMiles!$AT$5:$AU$6,2,FALSE)","v":0},null,null,0,{"$f":"C466*$G$2*VLOOKUP(DataByMiles!AE464,DataByMiles!$AT$5:$AU$6,2,FALSE)","v":0},{"$f":"DataByMiles!U464*VLOOKUP(DataByMiles!AE464,DataByMiles!$AT$5:$AU$6,2,FALSE)","v":0},null,null,0,{"$f":"H466*$L$2*VLOOKUP(DataByMiles!AE464,DataByMiles!$AT$5:$AU$6,2,FALSE)","v":0},{"$f":"DataByMiles!V464*VLOOKUP(DataByMiles!AE464,DataByMiles!$AT$5:$AU$6,2,FALSE)","v":0},null,null,{"$f":"M466*$P$2*VLOOKUP(DataByMiles!AE464,DataByMiles!$AT$5:$AU$6,2,FALSE)","v":0},{"$f":"DataByMiles!W464*VLOOKUP(DataByMiles!AE464,DataByMiles!$AT$5:$AU$6,2,FALSE)","v":0},null,null,{"$f":"Q466*$T$2*VLOOKUP(DataByMiles!AE464,DataByMiles!$AT$5:$AU$6,2,FALSE)","v":0},{"$f":"DataByMiles!X464*VLOOKUP(DataByMiles!AE464,DataByMiles!$AT$5:$AU$6,2,FALSE)","v":0},null,null,{"$f":"U466*$X$2*VLOOKUP(DataByMiles!AE464,DataByMiles!$AT$5:$AU$6,2,FALSE)","v":0},{"$f":"DataByMiles!Y464*VLOOKUP(DataByMiles!AE464,DataByMiles!$AT$5:$AU$6,2,FALSE)","v":0},{"$f":"DataByMiles!Z464","v":0},{"$f":"DataByMiles!AA464","v":0},null,null,{"$f":"(Y466/IF(Z466=0,$AD$1,Z466)*$AD$2)/IF(AA466=0,1,AA466)*VLOOKUP(DataByMiles!AE464,DataByMiles!$AT$5:$AU$6,2,FALSE)","v":0},"",0,0,{"$f":"(AF466+AG466)*VLOOKUP(DataByMiles!AE464,DataByMiles!$AT$5:$AU$6,2,FALSE)","v":0},0]
[null,{"$f":"DataByMiles!C465","v":"----461"},{"$f":"DataByMiles!T465*VLOOKUP(DataByMiles!AE465,DataByMiles!$AT$5:$AU$6,2,FALSE)","v":0},null,null,0,{"$f":"C467*$G$2*VLOOKUP(DataByMiles!AE465,DataByMiles!$AT$5:$AU$6,2,FALSE)","v":0},{"$f":"DataByMiles!U465*VLOOKUP(DataByMiles!AE465,DataByMiles!$AT$5:$AU$6,2,FALSE)","v":0},null,null,0,{"$f":"H467*$L$2*VLOOKUP(DataByMiles!AE465,DataByMiles!$AT$5:$AU$6,2,FALSE)","v":0},{"$f":"DataByMiles!V465*VLOOKUP(DataByMiles!AE465,DataByMiles!$AT$5:$AU$6,2,FALSE)","v":0},null,null,{"$f":"M467*$P$2*VLOOKUP(DataByMiles!AE465,DataByMiles!$AT$5:$AU$6,2,FALSE)","v":0},{"$f":"DataByMiles!W465*VLOOKUP(DataByMiles!AE465,DataByMiles!$AT$5:$AU$6,2,FALSE)","v":0},null,null,{"$f":"Q467*$T$2*VLOOKUP(DataByMiles!AE465,DataByMiles!$AT$5:$AU$6,2,FALSE)","v":0},{"$f":"DataByMiles!X465*VLOOKUP(DataByMiles!AE465,DataByMiles!$AT$5:$AU$6,2,FALSE)","v":0},null,null,{"$f":"U467*$X$2*VLOOKUP(DataByMiles!AE465,DataByMiles!$AT$5:$AU$6,2,FALSE)","v":0},{"$f":"DataByMiles!Y465*VLOOKUP(DataByMiles!AE465,DataByMiles!$AT$5:$AU$6,2,FALSE)","v":0},{"$f":"DataByMiles!Z465","v":0},{"$f":"DataByMiles!AA465","v":0},null,null,{"$f":"(Y467/IF(Z467=0,$AD$1,Z467)*$AD$2)/IF(AA467=0,1,AA467)*VLOOKUP(DataByMiles!AE465,DataByMiles!$AT$5:$AU$6,2,FALSE)","v":0},"",0,0,{"$f":"(AF467+AG467)*VLOOKUP(DataByMiles!AE465,DataByMiles!$AT$5:$AU$6,2,FALSE)","v":0},0]
[null,{"$f":"DataByMiles!C466","v":"----462"},{"$f":"DataByMiles!T466*VLOOKUP(DataByMiles!AE466,DataByMiles!$AT$5:$AU$6,2,FALSE)","v":0},null,null,0,{"$f":"C468*$G$2*VLOOKUP(DataByMiles!AE466,DataByMiles!$AT$5:$AU$6,2,FALSE)","v":0},{"$f":"DataByMiles!U466*VLOOKUP(DataByMiles!AE466,DataByMiles!$AT$5:$AU$6,2,FALSE)","v":0},null,null,0,{"$f":"H468*$L$2*VLOOKUP(DataByMiles!AE466,DataByMiles!$AT$5:$AU$6,2,FALSE)","v":0},{"$f":"DataByMiles!V466*VLOOKUP(DataByMiles!AE466,DataByMiles!$AT$5:$AU$6,2,FALSE)","v":0},null,null,{"$f":"M468*$P$2*VLOOKUP(DataByMiles!AE466,DataByMiles!$AT$5:$AU$6,2,FALSE)","v":0},{"$f":"DataByMiles!W466*VLOOKUP(DataByMiles!AE466,DataByMiles!$AT$5:$AU$6,2,FALSE)","v":0},null,null,{"$f":"Q468*$T$2*VLOOKUP(DataByMiles!AE466,DataByMiles!$AT$5:$AU$6,2,FALSE)","v":0},{"$f":"DataByMiles!X466*VLOOKUP(DataByMiles!AE466,DataByMiles!$AT$5:$AU$6,2,FALSE)","v":0},null,null,{"$f":"U468*$X$2*VLOOKUP(DataByMiles!AE466,DataByMiles!$AT$5:$AU$6,2,FALSE)","v":0},{"$f":"DataByMiles!Y466*VLOOKUP(DataByMiles!AE466,DataByMiles!$AT$5:$AU$6,2,FALSE)","v":0},{"$f":"DataByMiles!Z466","v":0},{"$f":"DataByMiles!AA466","v":0},null,null,{"$f":"(Y468/IF(Z468=0,$AD$1,Z468)*$AD$2)/IF(AA468=0,1,AA468)*VLOOKUP(DataByMiles!AE466,DataByMiles!$AT$5:$AU$6,2,FALSE)","v":0},"",0,0,{"$f":"(AF468+AG468)*VLOOKUP(DataByMiles!AE466,DataByMiles!$AT$5:$AU$6,2,FALSE)","v":0},0]
[null,{"$f":"DataByMiles!C467","v":"----463"},{"$f":"DataByMiles!T467*VLOOKUP(DataByMiles!AE467,DataByMiles!$AT$5:$AU$6,2,FALSE)","v":0},null,null,0,{"$f":"C469*$G$2*VLOOKUP(DataByMiles!AE467,DataByMiles!$AT$5:$AU$6,2,FALSE)","v":0},{"$f":"DataByMiles!U467*VLOOKUP(DataByMiles!AE467,DataByMiles!$AT$5:$AU$6,2,FALSE)","v":0},null,null,0,{"$f":"H469*$L$2*VLOOKUP(DataByMiles!AE467,DataByMiles!$AT$5:$AU$6,2,FALSE)","v":0},{"$f":"DataByMiles!V467*VLOOKUP(DataByMiles!AE467,DataByMiles!$AT$5:$AU$6,2,FALSE)","v":0},null,null,{"$f":"M469*$P$2*VLOOKUP(DataByMiles!AE467,DataByMiles!$AT$5:$AU$6,2,FALSE)","v":0},{"$f":"DataByMiles!W467*VLOOKUP(DataByMiles!AE467,DataByMiles!$AT$5:$AU$6,2,FALSE)","v":0},null,null,{"$f":"Q469*$T$2*VLOOKUP(DataByMiles!AE467,DataByMiles!$AT$5:$AU$6,2,FALSE)","v":0},{"$f":"DataByMiles!X467*VLOOKUP(DataByMiles!AE467,DataByMiles!$AT$5:$AU$6,2,FALSE)","v":0},null,null,{"$f":"U469*$X$2*VLOOKUP(DataByMiles!AE467,DataByMiles!$AT$5:$AU$6,2,FALSE)","v":0},{"$f":"DataByMiles!Y467*VLOOKUP(DataByMiles!AE467,DataByMiles!$AT$5:$AU$6,2,FALSE)","v":0},{"$f":"DataByMiles!Z467","v":0},{"$f":"DataByMiles!AA467","v":0},null,null,{"$f":"(Y469/IF(Z469=0,$AD$1,Z469)*$AD$2)/IF(AA469=0,1,AA469)*VLOOKUP(DataByMiles!AE467,DataByMiles!$AT$5:$AU$6,2,FALSE)","v":0},"",0,0,{"$f":"(AF469+AG469)*VLOOKUP(DataByMiles!AE467,DataByMiles!$AT$5:$AU$6,2,FALSE)","v":0},0]
[null,{"$f":"DataByMiles!C468","v":"----464"},{"$f":"DataByMiles!T468*VLOOKUP(DataByMiles!AE468,DataByMiles!$AT$5:$AU$6,2,FALSE)","v":0},null,null,0,{"$f":"C470*$G$2*VLOOKUP(DataByMiles!AE468,DataByMiles!$AT$5:$AU$6,2,FALSE)","v":0},{"$f":"DataByMiles!U468*VLOOKUP(DataByMiles!AE468,DataByMiles!$AT$5:$AU$6,2,FALSE)","v":0},null,null,0,{"$f":"H470*$L$2*VLOOKUP(DataByMiles!AE468,DataByMiles!$AT$5:$AU$6,2,FALSE)","v":0},{"$f":"DataByMiles!V468*VLOOKUP(DataByMiles!AE468,DataByMiles!$AT$5:$AU$6,2,FALSE)","v":0},null,null,{"$f":"M470*$P$2*VLOOKUP(DataByMiles!AE468,DataByMiles!$AT$5:$AU$6,2,FALSE)","v":0},{"$f":"DataByMiles!W468*VLOOKUP(DataByMiles!AE468,DataByMiles!$AT$5:$AU$6,2,FALSE)","v":0},null,null,{"$f":"Q470*$T$2*VLOOKUP(DataByMiles!AE468,DataByMiles!$AT$5:$AU$6,2,FALSE)","v":0},{"$f":"DataByMiles!X468*VLOOKUP(DataByMiles!AE468,DataByMiles!$AT$5:$AU$6,2,FALSE)","v":0},null,null,{"$f":"U470*$X$2*VLOOKUP(DataByMiles!AE468,DataByMiles!$AT$5:$AU$6,2,FALSE)","v":0},{"$f":"DataByMiles!Y468*VLOOKUP(DataByMiles!AE468,DataByMiles!$AT$5:$AU$6,2,FALSE)","v":0},{"$f":"DataByMiles!Z468","v":0},{"$f":"DataByMiles!AA468","v":0},null,null,{"$f":"(Y470/IF(Z470=0,$AD$1,Z470)*$AD$2)/IF(AA470=0,1,AA470)*VLOOKUP(DataByMiles!AE468,DataByMiles!$AT$5:$AU$6,2,FALSE)","v":0},"",0,0,{"$f":"(AF470+AG470)*VLOOKUP(DataByMiles!AE468,DataByMiles!$AT$5:$AU$6,2,FALSE)","v":0},0]
[null,{"$f":"DataByMiles!C469","v":"----465"},{"$f":"DataByMiles!T469*VLOOKUP(DataByMiles!AE469,DataByMiles!$AT$5:$AU$6,2,FALSE)","v":0},null,null,0,{"$f":"C471*$G$2*VLOOKUP(DataByMiles!AE469,DataByMiles!$AT$5:$AU$6,2,FALSE)","v":0},{"$f":"DataByMiles!U469*VLOOKUP(DataByMiles!AE469,DataByMiles!$AT$5:$AU$6,2,FALSE)","v":0},null,null,0,{"$f":"H471*$L$2*VLOOKUP(DataByMiles!AE469,DataByMiles!$AT$5:$AU$6,2,FALSE)","v":0},{"$f":"DataByMiles!V469*VLOOKUP(DataByMiles!AE469,DataByMiles!$AT$5:$AU$6,2,FALSE)","v":0},null,null,{"$f":"M471*$P$2*VLOOKUP(DataByMiles!AE469,DataByMiles!$AT$5:$AU$6,2,FALSE)","v":0},{"$f":"DataByMiles!W469*VLOOKUP(DataByMiles!AE469,DataByMiles!$AT$5:$AU$6,2,FALSE)","v":0},null,null,{"$f":"Q471*$T$2*VLOOKUP(DataByMiles!AE469,DataByMiles!$AT$5:$AU$6,2,FALSE)","v":0},{"$f":"DataByMiles!X469*VLOOKUP(DataByMiles!AE469,DataByMiles!$AT$5:$AU$6,2,FALSE)","v":0},null,null,{"$f":"U471*$X$2*VLOOKUP(DataByMiles!AE469,DataByMiles!$AT$5:$AU$6,2,FALSE)","v":0},{"$f":"DataByMiles!Y469*VLOOKUP(DataByMiles!AE469,DataByMiles!$AT$5:$AU$6,2,FALSE)","v":0},{"$f":"DataByMiles!Z469","v":0},{"$f":"DataByMiles!AA469","v":0},null,null,{"$f":"(Y471/IF(Z471=0,$AD$1,Z471)*$AD$2)/IF(AA471=0,1,AA471)*VLOOKUP(DataByMiles!AE469,DataByMiles!$AT$5:$AU$6,2,FALSE)","v":0},"",0,0,{"$f":"(AF471+AG471)*VLOOKUP(DataByMiles!AE469,DataByMiles!$AT$5:$AU$6,2,FALSE)","v":0},0]
[null,{"$f":"DataByMiles!C470","v":"----466"},{"$f":"DataByMiles!T470*VLOOKUP(DataByMiles!AE470,DataByMiles!$AT$5:$AU$6,2,FALSE)","v":0},null,null,0,{"$f":"C472*$G$2*VLOOKUP(DataByMiles!AE470,DataByMiles!$AT$5:$AU$6,2,FALSE)","v":0},{"$f":"DataByMiles!U470*VLOOKUP(DataByMiles!AE470,DataByMiles!$AT$5:$AU$6,2,FALSE)","v":0},null,null,0,{"$f":"H472*$L$2*VLOOKUP(DataByMiles!AE470,DataByMiles!$AT$5:$AU$6,2,FALSE)","v":0},{"$f":"DataByMiles!V470*VLOOKUP(DataByMiles!AE470,DataByMiles!$AT$5:$AU$6,2,FALSE)","v":0},null,null,{"$f":"M472*$P$2*VLOOKUP(DataByMiles!AE470,DataByMiles!$AT$5:$AU$6,2,FALSE)","v":0},{"$f":"DataByMiles!W470*VLOOKUP(DataByMiles!AE470,DataByMiles!$AT$5:$AU$6,2,FALSE)","v":0},null,null,{"$f":"Q472*$T$2*VLOOKUP(DataByMiles!AE470,DataByMiles!$AT$5:$AU$6,2,FALSE)","v":0},{"$f":"DataByMiles!X470*VLOOKUP(DataByMiles!AE470,DataByMiles!$AT$5:$AU$6,2,FALSE)","v":0},null,null,{"$f":"U472*$X$2*VLOOKUP(DataByMiles!AE470,DataByMiles!$AT$5:$AU$6,2,FALSE)","v":0},{"$f":"DataByMiles!Y470*VLOOKUP(DataByMiles!AE470,DataByMiles!$AT$5:$AU$6,2,FALSE)","v":0},{"$f":"DataByMiles!Z470","v":0},{"$f":"DataByMiles!AA470","v":0},null,null,{"$f":"(Y472/IF(Z472=0,$AD$1,Z472)*$AD$2)/IF(AA472=0,1,AA472)*VLOOKUP(DataByMiles!AE470,DataByMiles!$AT$5:$AU$6,2,FALSE)","v":0},"",0,0,{"$f":"(AF472+AG472)*VLOOKUP(DataByMiles!AE470,DataByMiles!$AT$5:$AU$6,2,FALSE)","v":0},0]
[null,{"$f":"DataByMiles!C471","v":"----467"},{"$f":"DataByMiles!T471*VLOOKUP(DataByMiles!AE471,DataByMiles!$AT$5:$AU$6,2,FALSE)","v":0},null,null,0,{"$f":"C473*$G$2*VLOOKUP(DataByMiles!AE471,DataByMiles!$AT$5:$AU$6,2,FALSE)","v":0},{"$f":"DataByMiles!U471*VLOOKUP(DataByMiles!AE471,DataByMiles!$AT$5:$AU$6,2,FALSE)","v":0},null,null,0,{"$f":"H473*$L$2*VLOOKUP(DataByMiles!AE471,DataByMiles!$AT$5:$AU$6,2,FALSE)","v":0},{"$f":"DataByMiles!V471*VLOOKUP(DataByMiles!AE471,DataByMiles!$AT$5:$AU$6,2,FALSE)","v":0},null,null,{"$f":"M473*$P$2*VLOOKUP(DataByMiles!AE471,DataByMiles!$AT$5:$AU$6,2,FALSE)","v":0},{"$f":"DataByMiles!W471*VLOOKUP(DataByMiles!AE471,DataByMiles!$AT$5:$AU$6,2,FALSE)","v":0},null,null,{"$f":"Q473*$T$2*VLOOKUP(DataByMiles!AE471,DataByMiles!$AT$5:$AU$6,2,FALSE)","v":0},{"$f":"DataByMiles!X471*VLOOKUP(DataByMiles!AE471,DataByMiles!$AT$5:$AU$6,2,FALSE)","v":0},null,null,{"$f":"U473*$X$2*VLOOKUP(DataByMiles!AE471,DataByMiles!$AT$5:$AU$6,2,FALSE)","v":0},{"$f":"DataByMiles!Y471*VLOOKUP(DataByMiles!AE471,DataByMiles!$AT$5:$AU$6,2,FALSE)","v":0},{"$f":"DataByMiles!Z471","v":0},{"$f":"DataByMiles!AA471","v":0},null,null,{"$f":"(Y473/IF(Z473=0,$AD$1,Z473)*$AD$2)/IF(AA473=0,1,AA473)*VLOOKUP(DataByMiles!AE471,DataByMiles!$AT$5:$AU$6,2,FALSE)","v":0},"",0,0,{"$f":"(AF473+AG473)*VLOOKUP(DataByMiles!AE471,DataByMiles!$AT$5:$AU$6,2,FALSE)","v":0},0]
[null,{"$f":"DataByMiles!C472","v":"----468"},{"$f":"DataByMiles!T472*VLOOKUP(DataByMiles!AE472,DataByMiles!$AT$5:$AU$6,2,FALSE)","v":0},null,null,0,{"$f":"C474*$G$2*VLOOKUP(DataByMiles!AE472,DataByMiles!$AT$5:$AU$6,2,FALSE)","v":0},{"$f":"DataByMiles!U472*VLOOKUP(DataByMiles!AE472,DataByMiles!$AT$5:$AU$6,2,FALSE)","v":0},null,null,0,{"$f":"H474*$L$2*VLOOKUP(DataByMiles!AE472,DataByMiles!$AT$5:$AU$6,2,FALSE)","v":0},{"$f":"DataByMiles!V472*VLOOKUP(DataByMiles!AE472,DataByMiles!$AT$5:$AU$6,2,FALSE)","v":0},null,null,{"$f":"M474*$P$2*VLOOKUP(DataByMiles!AE472,DataByMiles!$AT$5:$AU$6,2,FALSE)","v":0},{"$f":"DataByMiles!W472*VLOOKUP(DataByMiles!AE472,DataByMiles!$AT$5:$AU$6,2,FALSE)","v":0},null,null,{"$f":"Q474*$T$2*VLOOKUP(DataByMiles!AE472,DataByMiles!$AT$5:$AU$6,2,FALSE)","v":0},{"$f":"DataByMiles!X472*VLOOKUP(DataByMiles!AE472,DataByMiles!$AT$5:$AU$6,2,FALSE)","v":0},null,null,{"$f":"U474*$X$2*VLOOKUP(DataByMiles!AE472,DataByMiles!$AT$5:$AU$6,2,FALSE)","v":0},{"$f":"DataByMiles!Y472*VLOOKUP(DataByMiles!AE472,DataByMiles!$AT$5:$AU$6,2,FALSE)","v":0},{"$f":"DataByMiles!Z472","v":0},{"$f":"DataByMiles!AA472","v":0},null,null,{"$f":"(Y474/IF(Z474=0,$AD$1,Z474)*$AD$2)/IF(AA474=0,1,AA474)*VLOOKUP(DataByMiles!AE472,DataByMiles!$AT$5:$AU$6,2,FALSE)","v":0},"",0,0,{"$f":"(AF474+AG474)*VLOOKUP(DataByMiles!AE472,DataByMiles!$AT$5:$AU$6,2,FALSE)","v":0},0]
[null,{"$f":"DataByMiles!C473","v":"----469"},{"$f":"DataByMiles!T473*VLOOKUP(DataByMiles!AE473,DataByMiles!$AT$5:$AU$6,2,FALSE)","v":0},null,null,0,{"$f":"C475*$G$2*VLOOKUP(DataByMiles!AE473,DataByMiles!$AT$5:$AU$6,2,FALSE)","v":0},{"$f":"DataByMiles!U473*VLOOKUP(DataByMiles!AE473,DataByMiles!$AT$5:$AU$6,2,FALSE)","v":0},null,null,0,{"$f":"H475*$L$2*VLOOKUP(DataByMiles!AE473,DataByMiles!$AT$5:$AU$6,2,FALSE)","v":0},{"$f":"DataByMiles!V473*VLOOKUP(DataByMiles!AE473,DataByMiles!$AT$5:$AU$6,2,FALSE)","v":0},null,null,{"$f":"M475*$P$2*VLOOKUP(DataByMiles!AE473,DataByMiles!$AT$5:$AU$6,2,FALSE)","v":0},{"$f":"DataByMiles!W473*VLOOKUP(DataByMiles!AE473,DataByMiles!$AT$5:$AU$6,2,FALSE)","v":0},null,null,{"$f":"Q475*$T$2*VLOOKUP(DataByMiles!AE473,DataByMiles!$AT$5:$AU$6,2,FALSE)","v":0},{"$f":"DataByMiles!X473*VLOOKUP(DataByMiles!AE473,DataByMiles!$AT$5:$AU$6,2,FALSE)","v":0},null,null,{"$f":"U475*$X$2*VLOOKUP(DataByMiles!AE473,DataByMiles!$AT$5:$AU$6,2,FALSE)","v":0},{"$f":"DataByMiles!Y473*VLOOKUP(DataByMiles!AE473,DataByMiles!$AT$5:$AU$6,2,FALSE)","v":0},{"$f":"DataByMiles!Z473","v":0},{"$f":"DataByMiles!AA473","v":0},null,null,{"$f":"(Y475/IF(Z475=0,$AD$1,Z475)*$AD$2)/IF(AA475=0,1,AA475)*VLOOKUP(DataByMiles!AE473,DataByMiles!$AT$5:$AU$6,2,FALSE)","v":0},"",0,0,{"$f":"(AF475+AG475)*VLOOKUP(DataByMiles!AE473,DataByMiles!$AT$5:$AU$6,2,FALSE)","v":0},0]
[null,{"$f":"DataByMiles!C474","v":"----470"},{"$f":"DataByMiles!T474*VLOOKUP(DataByMiles!AE474,DataByMiles!$AT$5:$AU$6,2,FALSE)","v":0},null,null,0,{"$f":"C476*$G$2*VLOOKUP(DataByMiles!AE474,DataByMiles!$AT$5:$AU$6,2,FALSE)","v":0},{"$f":"DataByMiles!U474*VLOOKUP(DataByMiles!AE474,DataByMiles!$AT$5:$AU$6,2,FALSE)","v":0},null,null,0,{"$f":"H476*$L$2*VLOOKUP(DataByMiles!AE474,DataByMiles!$AT$5:$AU$6,2,FALSE)","v":0},{"$f":"DataByMiles!V474*VLOOKUP(DataByMiles!AE474,DataByMiles!$AT$5:$AU$6,2,FALSE)","v":0},null,null,{"$f":"M476*$P$2*VLOOKUP(DataByMiles!AE474,DataByMiles!$AT$5:$AU$6,2,FALSE)","v":0},{"$f":"DataByMiles!W474*VLOOKUP(DataByMiles!AE474,DataByMiles!$AT$5:$AU$6,2,FALSE)","v":0},null,null,{"$f":"Q476*$T$2*VLOOKUP(DataByMiles!AE474,DataByMiles!$AT$5:$AU$6,2,FALSE)","v":0},{"$f":"DataByMiles!X474*VLOOKUP(DataByMiles!AE474,DataByMiles!$AT$5:$AU$6,2,FALSE)","v":0},null,null,{"$f":"U476*$X$2*VLOOKUP(DataByMiles!AE474,DataByMiles!$AT$5:$AU$6,2,FALSE)","v":0},{"$f":"DataByMiles!Y474*VLOOKUP(DataByMiles!AE474,DataByMiles!$AT$5:$AU$6,2,FALSE)","v":0},{"$f":"DataByMiles!Z474","v":0},{"$f":"DataByMiles!AA474","v":0},null,null,{"$f":"(Y476/IF(Z476=0,$AD$1,Z476)*$AD$2)/IF(AA476=0,1,AA476)*VLOOKUP(DataByMiles!AE474,DataByMiles!$AT$5:$AU$6,2,FALSE)","v":0},"",0,0,{"$f":"(AF476+AG476)*VLOOKUP(DataByMiles!AE474,DataByMiles!$AT$5:$AU$6,2,FALSE)","v":0},0]
[null,{"$f":"DataByMiles!C475","v":"----471"},{"$f":"DataByMiles!T475*VLOOKUP(DataByMiles!AE475,DataByMiles!$AT$5:$AU$6,2,FALSE)","v":0},null,null,0,{"$f":"C477*$G$2*VLOOKUP(DataByMiles!AE475,DataByMiles!$AT$5:$AU$6,2,FALSE)","v":0},{"$f":"DataByMiles!U475*VLOOKUP(DataByMiles!AE475,DataByMiles!$AT$5:$AU$6,2,FALSE)","v":0},null,null,0,{"$f":"H477*$L$2*VLOOKUP(DataByMiles!AE475,DataByMiles!$AT$5:$AU$6,2,FALSE)","v":0},{"$f":"DataByMiles!V475*VLOOKUP(DataByMiles!AE475,DataByMiles!$AT$5:$AU$6,2,FALSE)","v":0},null,null,{"$f":"M477*$P$2*VLOOKUP(DataByMiles!AE475,DataByMiles!$AT$5:$AU$6,2,FALSE)","v":0},{"$f":"DataByMiles!W475*VLOOKUP(DataByMiles!AE475,DataByMiles!$AT$5:$AU$6,2,FALSE)","v":0},null,null,{"$f":"Q477*$T$2*VLOOKUP(DataByMiles!AE475,DataByMiles!$AT$5:$AU$6,2,FALSE)","v":0},{"$f":"DataByMiles!X475*VLOOKUP(DataByMiles!AE475,DataByMiles!$AT$5:$AU$6,2,FALSE)","v":0},null,null,{"$f":"U477*$X$2*VLOOKUP(DataByMiles!AE475,DataByMiles!$AT$5:$AU$6,2,FALSE)","v":0},{"$f":"DataByMiles!Y475*VLOOKUP(DataByMiles!AE475,DataByMiles!$AT$5:$AU$6,2,FALSE)","v":0},{"$f":"DataByMiles!Z475","v":0},{"$f":"DataByMiles!AA475","v":0},null,null,{"$f":"(Y477/IF(Z477=0,$AD$1,Z477)*$AD$2)/IF(AA477=0,1,AA477)*VLOOKUP(DataByMiles!AE475,DataByMiles!$AT$5:$AU$6,2,FALSE)","v":0},"",0,0,{"$f":"(AF477+AG477)*VLOOKUP(DataByMiles!AE475,DataByMiles!$AT$5:$AU$6,2,FALSE)","v":0},0]
[null,{"$f":"DataByMiles!C476","v":"----472"},{"$f":"DataByMiles!T476*VLOOKUP(DataByMiles!AE476,DataByMiles!$AT$5:$AU$6,2,FALSE)","v":0},null,null,0,{"$f":"C478*$G$2*VLOOKUP(DataByMiles!AE476,DataByMiles!$AT$5:$AU$6,2,FALSE)","v":0},{"$f":"DataByMiles!U476*VLOOKUP(DataByMiles!AE476,DataByMiles!$AT$5:$AU$6,2,FALSE)","v":0},null,null,0,{"$f":"H478*$L$2*VLOOKUP(DataByMiles!AE476,DataByMiles!$AT$5:$AU$6,2,FALSE)","v":0},{"$f":"DataByMiles!V476*VLOOKUP(DataByMiles!AE476,DataByMiles!$AT$5:$AU$6,2,FALSE)","v":0},null,null,{"$f":"M478*$P$2*VLOOKUP(DataByMiles!AE476,DataByMiles!$AT$5:$AU$6,2,FALSE)","v":0},{"$f":"DataByMiles!W476*VLOOKUP(DataByMiles!AE476,DataByMiles!$AT$5:$AU$6,2,FALSE)","v":0},null,null,{"$f":"Q478*$T$2*VLOOKUP(DataByMiles!AE476,DataByMiles!$AT$5:$AU$6,2,FALSE)","v":0},{"$f":"DataByMiles!X476*VLOOKUP(DataByMiles!AE476,DataByMiles!$AT$5:$AU$6,2,FALSE)","v":0},null,null,{"$f":"U478*$X$2*VLOOKUP(DataByMiles!AE476,DataByMiles!$AT$5:$AU$6,2,FALSE)","v":0},{"$f":"DataByMiles!Y476*VLOOKUP(DataByMiles!AE476,DataByMiles!$AT$5:$AU$6,2,FALSE)","v":0},{"$f":"DataByMiles!Z476","v":0},{"$f":"DataByMiles!AA476","v":0},null,null,{"$f":"(Y478/IF(Z478=0,$AD$1,Z478)*$AD$2)/IF(AA478=0,1,AA478)*VLOOKUP(DataByMiles!AE476,DataByMiles!$AT$5:$AU$6,2,FALSE)","v":0},"",0,0,{"$f":"(AF478+AG478)*VLOOKUP(DataByMiles!AE476,DataByMiles!$AT$5:$AU$6,2,FALSE)","v":0},0]
[null,{"$f":"DataByMiles!C477","v":"----473"},{"$f":"DataByMiles!T477*VLOOKUP(DataByMiles!AE477,DataByMiles!$AT$5:$AU$6,2,FALSE)","v":0},null,null,0,{"$f":"C479*$G$2*VLOOKUP(DataByMiles!AE477,DataByMiles!$AT$5:$AU$6,2,FALSE)","v":0},{"$f":"DataByMiles!U477*VLOOKUP(DataByMiles!AE477,DataByMiles!$AT$5:$AU$6,2,FALSE)","v":0},null,null,0,{"$f":"H479*$L$2*VLOOKUP(DataByMiles!AE477,DataByMiles!$AT$5:$AU$6,2,FALSE)","v":0},{"$f":"DataByMiles!V477*VLOOKUP(DataByMiles!AE477,DataByMiles!$AT$5:$AU$6,2,FALSE)","v":0},null,null,{"$f":"M479*$P$2*VLOOKUP(DataByMiles!AE477,DataByMiles!$AT$5:$AU$6,2,FALSE)","v":0},{"$f":"DataByMiles!W477*VLOOKUP(DataByMiles!AE477,DataByMiles!$AT$5:$AU$6,2,FALSE)","v":0},null,null,{"$f":"Q479*$T$2*VLOOKUP(DataByMiles!AE477,DataByMiles!$AT$5:$AU$6,2,FALSE)","v":0},{"$f":"DataByMiles!X477*VLOOKUP(DataByMiles!AE477,DataByMiles!$AT$5:$AU$6,2,FALSE)","v":0},null,null,{"$f":"U479*$X$2*VLOOKUP(DataByMiles!AE477,DataByMiles!$AT$5:$AU$6,2,FALSE)","v":0},{"$f":"DataByMiles!Y477*VLOOKUP(DataByMiles!AE477,DataByMiles!$AT$5:$AU$6,2,FALSE)","v":0},{"$f":"DataByMiles!Z477","v":0},{"$f":"DataByMiles!AA477","v":0},null,null,{"$f":"(Y479/IF(Z479=0,$AD$1,Z479)*$AD$2)/IF(AA479=0,1,AA479)*VLOOKUP(DataByMiles!AE477,DataByMiles!$AT$5:$AU$6,2,FALSE)","v":0},"",0,0,{"$f":"(AF479+AG479)*VLOOKUP(DataByMiles!AE477,DataByMiles!$AT$5:$AU$6,2,FALSE)","v":0},0]
[null,{"$f":"DataByMiles!C478","v":"----474"},{"$f":"DataByMiles!T478*VLOOKUP(DataByMiles!AE478,DataByMiles!$AT$5:$AU$6,2,FALSE)","v":0},null,null,0,{"$f":"C480*$G$2*VLOOKUP(DataByMiles!AE478,DataByMiles!$AT$5:$AU$6,2,FALSE)","v":0},{"$f":"DataByMiles!U478*VLOOKUP(DataByMiles!AE478,DataByMiles!$AT$5:$AU$6,2,FALSE)","v":0},null,null,0,{"$f":"H480*$L$2*VLOOKUP(DataByMiles!AE478,DataByMiles!$AT$5:$AU$6,2,FALSE)","v":0},{"$f":"DataByMiles!V478*VLOOKUP(DataByMiles!AE478,DataByMiles!$AT$5:$AU$6,2,FALSE)","v":0},null,null,{"$f":"M480*$P$2*VLOOKUP(DataByMiles!AE478,DataByMiles!$AT$5:$AU$6,2,FALSE)","v":0},{"$f":"DataByMiles!W478*VLOOKUP(DataByMiles!AE478,DataByMiles!$AT$5:$AU$6,2,FALSE)","v":0},null,null,{"$f":"Q480*$T$2*VLOOKUP(DataByMiles!AE478,DataByMiles!$AT$5:$AU$6,2,FALSE)","v":0},{"$f":"DataByMiles!X478*VLOOKUP(DataByMiles!AE478,DataByMiles!$AT$5:$AU$6,2,FALSE)","v":0},null,null,{"$f":"U480*$X$2*VLOOKUP(DataByMiles!AE478,DataByMiles!$AT$5:$AU$6,2,FALSE)","v":0},{"$f":"DataByMiles!Y478*VLOOKUP(DataByMiles!AE478,DataByMiles!$AT$5:$AU$6,2,FALSE)","v":0},{"$f":"DataByMiles!Z478","v":0},{"$f":"DataByMiles!AA478","v":0},null,null,{"$f":"(Y480/IF(Z480=0,$AD$1,Z480)*$AD$2)/IF(AA480=0,1,AA480)*VLOOKUP(DataByMiles!AE478,DataByMiles!$AT$5:$AU$6,2,FALSE)","v":0},"",0,0,{"$f":"(AF480+AG480)*VLOOKUP(DataByMiles!AE478,DataByMiles!$AT$5:$AU$6,2,FALSE)","v":0},0]
[null,{"$f":"DataByMiles!C479","v":"----475"},{"$f":"DataByMiles!T479*VLOOKUP(DataByMiles!AE479,DataByMiles!$AT$5:$AU$6,2,FALSE)","v":0},null,null,0,{"$f":"C481*$G$2*VLOOKUP(DataByMiles!AE479,DataByMiles!$AT$5:$AU$6,2,FALSE)","v":0},{"$f":"DataByMiles!U479*VLOOKUP(DataByMiles!AE479,DataByMiles!$AT$5:$AU$6,2,FALSE)","v":0},null,null,0,{"$f":"H481*$L$2*VLOOKUP(DataByMiles!AE479,DataByMiles!$AT$5:$AU$6,2,FALSE)","v":0},{"$f":"DataByMiles!V479*VLOOKUP(DataByMiles!AE479,DataByMiles!$AT$5:$AU$6,2,FALSE)","v":0},null,null,{"$f":"M481*$P$2*VLOOKUP(DataByMiles!AE479,DataByMiles!$AT$5:$AU$6,2,FALSE)","v":0},{"$f":"DataByMiles!W479*VLOOKUP(DataByMiles!AE479,DataByMiles!$AT$5:$AU$6,2,FALSE)","v":0},null,null,{"$f":"Q481*$T$2*VLOOKUP(DataByMiles!AE479,DataByMiles!$AT$5:$AU$6,2,FALSE)","v":0},{"$f":"DataByMiles!X479*VLOOKUP(DataByMiles!AE479,DataByMiles!$AT$5:$AU$6,2,FALSE)","v":0},null,null,{"$f":"U481*$X$2*VLOOKUP(DataByMiles!AE479,DataByMiles!$AT$5:$AU$6,2,FALSE)","v":0},{"$f":"DataByMiles!Y479*VLOOKUP(DataByMiles!AE479,DataByMiles!$AT$5:$AU$6,2,FALSE)","v":0},{"$f":"DataByMiles!Z479","v":0},{"$f":"DataByMiles!AA479","v":0},null,null,{"$f":"(Y481/IF(Z481=0,$AD$1,Z481)*$AD$2)/IF(AA481=0,1,AA481)*VLOOKUP(DataByMiles!AE479,DataByMiles!$AT$5:$AU$6,2,FALSE)","v":0},"",0,0,{"$f":"(AF481+AG481)*VLOOKUP(DataByMiles!AE479,DataByMiles!$AT$5:$AU$6,2,FALSE)","v":0},0]
[null,{"$f":"DataByMiles!C480","v":"----476"},{"$f":"DataByMiles!T480*VLOOKUP(DataByMiles!AE480,DataByMiles!$AT$5:$AU$6,2,FALSE)","v":0},null,null,0,{"$f":"C482*$G$2*VLOOKUP(DataByMiles!AE480,DataByMiles!$AT$5:$AU$6,2,FALSE)","v":0},{"$f":"DataByMiles!U480*VLOOKUP(DataByMiles!AE480,DataByMiles!$AT$5:$AU$6,2,FALSE)","v":0},null,null,0,{"$f":"H482*$L$2*VLOOKUP(DataByMiles!AE480,DataByMiles!$AT$5:$AU$6,2,FALSE)","v":0},{"$f":"DataByMiles!V480*VLOOKUP(DataByMiles!AE480,DataByMiles!$AT$5:$AU$6,2,FALSE)","v":0},null,null,{"$f":"M482*$P$2*VLOOKUP(DataByMiles!AE480,DataByMiles!$AT$5:$AU$6,2,FALSE)","v":0},{"$f":"DataByMiles!W480*VLOOKUP(DataByMiles!AE480,DataByMiles!$AT$5:$AU$6,2,FALSE)","v":0},null,null,{"$f":"Q482*$T$2*VLOOKUP(DataByMiles!AE480,DataByMiles!$AT$5:$AU$6,2,FALSE)","v":0},{"$f":"DataByMiles!X480*VLOOKUP(DataByMiles!AE480,DataByMiles!$AT$5:$AU$6,2,FALSE)","v":0},null,null,{"$f":"U482*$X$2*VLOOKUP(DataByMiles!AE480,DataByMiles!$AT$5:$AU$6,2,FALSE)","v":0},{"$f":"DataByMiles!Y480*VLOOKUP(DataByMiles!AE480,DataByMiles!$AT$5:$AU$6,2,FALSE)","v":0},{"$f":"DataByMiles!Z480","v":0},{"$f":"DataByMiles!AA480","v":0},null,null,{"$f":"(Y482/IF(Z482=0,$AD$1,Z482)*$AD$2)/IF(AA482=0,1,AA482)*VLOOKUP(DataByMiles!AE480,DataByMiles!$AT$5:$AU$6,2,FALSE)","v":0},"",0,0,{"$f":"(AF482+AG482)*VLOOKUP(DataByMiles!AE480,DataByMiles!$AT$5:$AU$6,2,FALSE)","v":0},0]
[null,{"$f":"DataByMiles!C481","v":"----477"},{"$f":"DataByMiles!T481*VLOOKUP(DataByMiles!AE481,DataByMiles!$AT$5:$AU$6,2,FALSE)","v":0},null,null,0,{"$f":"C483*$G$2*VLOOKUP(DataByMiles!AE481,DataByMiles!$AT$5:$AU$6,2,FALSE)","v":0},{"$f":"DataByMiles!U481*VLOOKUP(DataByMiles!AE481,DataByMiles!$AT$5:$AU$6,2,FALSE)","v":0},null,null,0,{"$f":"H483*$L$2*VLOOKUP(DataByMiles!AE481,DataByMiles!$AT$5:$AU$6,2,FALSE)","v":0},{"$f":"DataByMiles!V481*VLOOKUP(DataByMiles!AE481,DataByMiles!$AT$5:$AU$6,2,FALSE)","v":0},null,null,{"$f":"M483*$P$2*VLOOKUP(DataByMiles!AE481,DataByMiles!$AT$5:$AU$6,2,FALSE)","v":0},{"$f":"DataByMiles!W481*VLOOKUP(DataByMiles!AE481,DataByMiles!$AT$5:$AU$6,2,FALSE)","v":0},null,null,{"$f":"Q483*$T$2*VLOOKUP(DataByMiles!AE481,DataByMiles!$AT$5:$AU$6,2,FALSE)","v":0},{"$f":"DataByMiles!X481*VLOOKUP(DataByMiles!AE481,DataByMiles!$AT$5:$AU$6,2,FALSE)","v":0},null,null,{"$f":"U483*$X$2*VLOOKUP(DataByMiles!AE481,DataByMiles!$AT$5:$AU$6,2,FALSE)","v":0},{"$f":"DataByMiles!Y481*VLOOKUP(DataByMiles!AE481,DataByMiles!$AT$5:$AU$6,2,FALSE)","v":0},{"$f":"DataByMiles!Z481","v":0},{"$f":"DataByMiles!AA481","v":0},null,null,{"$f":"(Y483/IF(Z483=0,$AD$1,Z483)*$AD$2)/IF(AA483=0,1,AA483)*VLOOKUP(DataByMiles!AE481,DataByMiles!$AT$5:$AU$6,2,FALSE)","v":0},"",0,0,{"$f":"(AF483+AG483)*VLOOKUP(DataByMiles!AE481,DataByMiles!$AT$5:$AU$6,2,FALSE)","v":0},0]
[null,{"$f":"DataByMiles!C482","v":"----478"},{"$f":"DataByMiles!T482*VLOOKUP(DataByMiles!AE482,DataByMiles!$AT$5:$AU$6,2,FALSE)","v":0},null,null,0,{"$f":"C484*$G$2*VLOOKUP(DataByMiles!AE482,DataByMiles!$AT$5:$AU$6,2,FALSE)","v":0},{"$f":"DataByMiles!U482*VLOOKUP(DataByMiles!AE482,DataByMiles!$AT$5:$AU$6,2,FALSE)","v":0},null,null,0,{"$f":"H484*$L$2*VLOOKUP(DataByMiles!AE482,DataByMiles!$AT$5:$AU$6,2,FALSE)","v":0},{"$f":"DataByMiles!V482*VLOOKUP(DataByMiles!AE482,DataByMiles!$AT$5:$AU$6,2,FALSE)","v":0},null,null,{"$f":"M484*$P$2*VLOOKUP(DataByMiles!AE482,DataByMiles!$AT$5:$AU$6,2,FALSE)","v":0},{"$f":"DataByMiles!W482*VLOOKUP(DataByMiles!AE482,DataByMiles!$AT$5:$AU$6,2,FALSE)","v":0},null,null,{"$f":"Q484*$T$2*VLOOKUP(DataByMiles!AE482,DataByMiles!$AT$5:$AU$6,2,FALSE)","v":0},{"$f":"DataByMiles!X482*VLOOKUP(DataByMiles!AE482,DataByMiles!$AT$5:$AU$6,2,FALSE)","v":0},null,null,{"$f":"U484*$X$2*VLOOKUP(DataByMiles!AE482,DataByMiles!$AT$5:$AU$6,2,FALSE)","v":0},{"$f":"DataByMiles!Y482*VLOOKUP(DataByMiles!AE482,DataByMiles!$AT$5:$AU$6,2,FALSE)","v":0},{"$f":"DataByMiles!Z482","v":0},{"$f":"DataByMiles!AA482","v":0},null,null,{"$f":"(Y484/IF(Z484=0,$AD$1,Z484)*$AD$2)/IF(AA484=0,1,AA484)*VLOOKUP(DataByMiles!AE482,DataByMiles!$AT$5:$AU$6,2,FALSE)","v":0},"",0,0,{"$f":"(AF484+AG484)*VLOOKUP(DataByMiles!AE482,DataByMiles!$AT$5:$AU$6,2,FALSE)","v":0},0]
[null,{"$f":"DataByMiles!C483","v":"----479"},{"$f":"DataByMiles!T483*VLOOKUP(DataByMiles!AE483,DataByMiles!$AT$5:$AU$6,2,FALSE)","v":0},null,null,0,{"$f":"C485*$G$2*VLOOKUP(DataByMiles!AE483,DataByMiles!$AT$5:$AU$6,2,FALSE)","v":0},{"$f":"DataByMiles!U483*VLOOKUP(DataByMiles!AE483,DataByMiles!$AT$5:$AU$6,2,FALSE)","v":0},null,null,0,{"$f":"H485*$L$2*VLOOKUP(DataByMiles!AE483,DataByMiles!$AT$5:$AU$6,2,FALSE)","v":0},{"$f":"DataByMiles!V483*VLOOKUP(DataByMiles!AE483,DataByMiles!$AT$5:$AU$6,2,FALSE)","v":0},null,null,{"$f":"M485*$P$2*VLOOKUP(DataByMiles!AE483,DataByMiles!$AT$5:$AU$6,2,FALSE)","v":0},{"$f":"DataByMiles!W483*VLOOKUP(DataByMiles!AE483,DataByMiles!$AT$5:$AU$6,2,FALSE)","v":0},null,null,{"$f":"Q485*$T$2*VLOOKUP(DataByMiles!AE483,DataByMiles!$AT$5:$AU$6,2,FALSE)","v":0},{"$f":"DataByMiles!X483*VLOOKUP(DataByMiles!AE483,DataByMiles!$AT$5:$AU$6,2,FALSE)","v":0},null,null,{"$f":"U485*$X$2*VLOOKUP(DataByMiles!AE483,DataByMiles!$AT$5:$AU$6,2,FALSE)","v":0},{"$f":"DataByMiles!Y483*VLOOKUP(DataByMiles!AE483,DataByMiles!$AT$5:$AU$6,2,FALSE)","v":0},{"$f":"DataByMiles!Z483","v":0},{"$f":"DataByMiles!AA483","v":0},null,null,{"$f":"(Y485/IF(Z485=0,$AD$1,Z485)*$AD$2)/IF(AA485=0,1,AA485)*VLOOKUP(DataByMiles!AE483,DataByMiles!$AT$5:$AU$6,2,FALSE)","v":0},"",0,0,{"$f":"(AF485+AG485)*VLOOKUP(DataByMiles!AE483,DataByMiles!$AT$5:$AU$6,2,FALSE)","v":0},0]
[null,{"$f":"DataByMiles!C484","v":"----480"},{"$f":"DataByMiles!T484*VLOOKUP(DataByMiles!AE484,DataByMiles!$AT$5:$AU$6,2,FALSE)","v":0},null,null,0,{"$f":"C486*$G$2*VLOOKUP(DataByMiles!AE484,DataByMiles!$AT$5:$AU$6,2,FALSE)","v":0},{"$f":"DataByMiles!U484*VLOOKUP(DataByMiles!AE484,DataByMiles!$AT$5:$AU$6,2,FALSE)","v":0},null,null,0,{"$f":"H486*$L$2*VLOOKUP(DataByMiles!AE484,DataByMiles!$AT$5:$AU$6,2,FALSE)","v":0},{"$f":"DataByMiles!V484*VLOOKUP(DataByMiles!AE484,DataByMiles!$AT$5:$AU$6,2,FALSE)","v":0},null,null,{"$f":"M486*$P$2*VLOOKUP(DataByMiles!AE484,DataByMiles!$AT$5:$AU$6,2,FALSE)","v":0},{"$f":"DataByMiles!W484*VLOOKUP(DataByMiles!AE484,DataByMiles!$AT$5:$AU$6,2,FALSE)","v":0},null,null,{"$f":"Q486*$T$2*VLOOKUP(DataByMiles!AE484,DataByMiles!$AT$5:$AU$6,2,FALSE)","v":0},{"$f":"DataByMiles!X484*VLOOKUP(DataByMiles!AE484,DataByMiles!$AT$5:$AU$6,2,FALSE)","v":0},null,null,{"$f":"U486*$X$2*VLOOKUP(DataByMiles!AE484,DataByMiles!$AT$5:$AU$6,2,FALSE)","v":0},{"$f":"DataByMiles!Y484*VLOOKUP(DataByMiles!AE484,DataByMiles!$AT$5:$AU$6,2,FALSE)","v":0},{"$f":"DataByMiles!Z484","v":0},{"$f":"DataByMiles!AA484","v":0},null,null,{"$f":"(Y486/IF(Z486=0,$AD$1,Z486)*$AD$2)/IF(AA486=0,1,AA486)*VLOOKUP(DataByMiles!AE484,DataByMiles!$AT$5:$AU$6,2,FALSE)","v":0},"",0,0,{"$f":"(AF486+AG486)*VLOOKUP(DataByMiles!AE484,DataByMiles!$AT$5:$AU$6,2,FALSE)","v":0},0]
[null,{"$f":"DataByMiles!C485","v":"----481"},{"$f":"DataByMiles!T485*VLOOKUP(DataByMiles!AE485,DataByMiles!$AT$5:$AU$6,2,FALSE)","v":0},null,null,0,{"$f":"C487*$G$2*VLOOKUP(DataByMiles!AE485,DataByMiles!$AT$5:$AU$6,2,FALSE)","v":0},{"$f":"DataByMiles!U485*VLOOKUP(DataByMiles!AE485,DataByMiles!$AT$5:$AU$6,2,FALSE)","v":0},null,null,0,{"$f":"H487*$L$2*VLOOKUP(DataByMiles!AE485,DataByMiles!$AT$5:$AU$6,2,FALSE)","v":0},{"$f":"DataByMiles!V485*VLOOKUP(DataByMiles!AE485,DataByMiles!$AT$5:$AU$6,2,FALSE)","v":0},null,null,{"$f":"M487*$P$2*VLOOKUP(DataByMiles!AE485,DataByMiles!$AT$5:$AU$6,2,FALSE)","v":0},{"$f":"DataByMiles!W485*VLOOKUP(DataByMiles!AE485,DataByMiles!$AT$5:$AU$6,2,FALSE)","v":0},null,null,{"$f":"Q487*$T$2*VLOOKUP(DataByMiles!AE485,DataByMiles!$AT$5:$AU$6,2,FALSE)","v":0},{"$f":"DataByMiles!X485*VLOOKUP(DataByMiles!AE485,DataByMiles!$AT$5:$AU$6,2,FALSE)","v":0},null,null,{"$f":"U487*$X$2*VLOOKUP(DataByMiles!AE485,DataByMiles!$AT$5:$AU$6,2,FALSE)","v":0},{"$f":"DataByMiles!Y485*VLOOKUP(DataByMiles!AE485,DataByMiles!$AT$5:$AU$6,2,FALSE)","v":0},{"$f":"DataByMiles!Z485","v":0},{"$f":"DataByMiles!AA485","v":0},null,null,{"$f":"(Y487/IF(Z487=0,$AD$1,Z487)*$AD$2)/IF(AA487=0,1,AA487)*VLOOKUP(DataByMiles!AE485,DataByMiles!$AT$5:$AU$6,2,FALSE)","v":0},"",0,0,{"$f":"(AF487+AG487)*VLOOKUP(DataByMiles!AE485,DataByMiles!$AT$5:$AU$6,2,FALSE)","v":0},0]
[null,{"$f":"DataByMiles!C486","v":"----482"},{"$f":"DataByMiles!T486*VLOOKUP(DataByMiles!AE486,DataByMiles!$AT$5:$AU$6,2,FALSE)","v":0},null,null,0,{"$f":"C488*$G$2*VLOOKUP(DataByMiles!AE486,DataByMiles!$AT$5:$AU$6,2,FALSE)","v":0},{"$f":"DataByMiles!U486*VLOOKUP(DataByMiles!AE486,DataByMiles!$AT$5:$AU$6,2,FALSE)","v":0},null,null,0,{"$f":"H488*$L$2*VLOOKUP(DataByMiles!AE486,DataByMiles!$AT$5:$AU$6,2,FALSE)","v":0},{"$f":"DataByMiles!V486*VLOOKUP(DataByMiles!AE486,DataByMiles!$AT$5:$AU$6,2,FALSE)","v":0},null,null,{"$f":"M488*$P$2*VLOOKUP(DataByMiles!AE486,DataByMiles!$AT$5:$AU$6,2,FALSE)","v":0},{"$f":"DataByMiles!W486*VLOOKUP(DataByMiles!AE486,DataByMiles!$AT$5:$AU$6,2,FALSE)","v":0},null,null,{"$f":"Q488*$T$2*VLOOKUP(DataByMiles!AE486,DataByMiles!$AT$5:$AU$6,2,FALSE)","v":0},{"$f":"DataByMiles!X486*VLOOKUP(DataByMiles!AE486,DataByMiles!$AT$5:$AU$6,2,FALSE)","v":0},null,null,{"$f":"U488*$X$2*VLOOKUP(DataByMiles!AE486,DataByMiles!$AT$5:$AU$6,2,FALSE)","v":0},{"$f":"DataByMiles!Y486*VLOOKUP(DataByMiles!AE486,DataByMiles!$AT$5:$AU$6,2,FALSE)","v":0},{"$f":"DataByMiles!Z486","v":0},{"$f":"DataByMiles!AA486","v":0},null,null,{"$f":"(Y488/IF(Z488=0,$AD$1,Z488)*$AD$2)/IF(AA488=0,1,AA488)*VLOOKUP(DataByMiles!AE486,DataByMiles!$AT$5:$AU$6,2,FALSE)","v":0},"",0,0,{"$f":"(AF488+AG488)*VLOOKUP(DataByMiles!AE486,DataByMiles!$AT$5:$AU$6,2,FALSE)","v":0},0]
[null,{"$f":"DataByMiles!C487","v":"----483"},{"$f":"DataByMiles!T487*VLOOKUP(DataByMiles!AE487,DataByMiles!$AT$5:$AU$6,2,FALSE)","v":0},null,null,0,{"$f":"C489*$G$2*VLOOKUP(DataByMiles!AE487,DataByMiles!$AT$5:$AU$6,2,FALSE)","v":0},{"$f":"DataByMiles!U487*VLOOKUP(DataByMiles!AE487,DataByMiles!$AT$5:$AU$6,2,FALSE)","v":0},null,null,0,{"$f":"H489*$L$2*VLOOKUP(DataByMiles!AE487,DataByMiles!$AT$5:$AU$6,2,FALSE)","v":0},{"$f":"DataByMiles!V487*VLOOKUP(DataByMiles!AE487,DataByMiles!$AT$5:$AU$6,2,FALSE)","v":0},null,null,{"$f":"M489*$P$2*VLOOKUP(DataByMiles!AE487,DataByMiles!$AT$5:$AU$6,2,FALSE)","v":0},{"$f":"DataByMiles!W487*VLOOKUP(DataByMiles!AE487,DataByMiles!$AT$5:$AU$6,2,FALSE)","v":0},null,null,{"$f":"Q489*$T$2*VLOOKUP(DataByMiles!AE487,DataByMiles!$AT$5:$AU$6,2,FALSE)","v":0},{"$f":"DataByMiles!X487*VLOOKUP(DataByMiles!AE487,DataByMiles!$AT$5:$AU$6,2,FALSE)","v":0},null,null,{"$f":"U489*$X$2*VLOOKUP(DataByMiles!AE487,DataByMiles!$AT$5:$AU$6,2,FALSE)","v":0},{"$f":"DataByMiles!Y487*VLOOKUP(DataByMiles!AE487,DataByMiles!$AT$5:$AU$6,2,FALSE)","v":0},{"$f":"DataByMiles!Z487","v":0},{"$f":"DataByMiles!AA487","v":0},null,null,{"$f":"(Y489/IF(Z489=0,$AD$1,Z489)*$AD$2)/IF(AA489=0,1,AA489)*VLOOKUP(DataByMiles!AE487,DataByMiles!$AT$5:$AU$6,2,FALSE)","v":0},"",0,0,{"$f":"(AF489+AG489)*VLOOKUP(DataByMiles!AE487,DataByMiles!$AT$5:$AU$6,2,FALSE)","v":0},0]
[null,{"$f":"DataByMiles!C488","v":"----484"},{"$f":"DataByMiles!T488*VLOOKUP(DataByMiles!AE488,DataByMiles!$AT$5:$AU$6,2,FALSE)","v":0},null,null,0,{"$f":"C490*$G$2*VLOOKUP(DataByMiles!AE488,DataByMiles!$AT$5:$AU$6,2,FALSE)","v":0},{"$f":"DataByMiles!U488*VLOOKUP(DataByMiles!AE488,DataByMiles!$AT$5:$AU$6,2,FALSE)","v":0},null,null,0,{"$f":"H490*$L$2*VLOOKUP(DataByMiles!AE488,DataByMiles!$AT$5:$AU$6,2,FALSE)","v":0},{"$f":"DataByMiles!V488*VLOOKUP(DataByMiles!AE488,DataByMiles!$AT$5:$AU$6,2,FALSE)","v":0},null,null,{"$f":"M490*$P$2*VLOOKUP(DataByMiles!AE488,DataByMiles!$AT$5:$AU$6,2,FALSE)","v":0},{"$f":"DataByMiles!W488*VLOOKUP(DataByMiles!AE488,DataByMiles!$AT$5:$AU$6,2,FALSE)","v":0},null,null,{"$f":"Q490*$T$2*VLOOKUP(DataByMiles!AE488,DataByMiles!$AT$5:$AU$6,2,FALSE)","v":0},{"$f":"DataByMiles!X488*VLOOKUP(DataByMiles!AE488,DataByMiles!$AT$5:$AU$6,2,FALSE)","v":0},null,null,{"$f":"U490*$X$2*VLOOKUP(DataByMiles!AE488,DataByMiles!$AT$5:$AU$6,2,FALSE)","v":0},{"$f":"DataByMiles!Y488*VLOOKUP(DataByMiles!AE488,DataByMiles!$AT$5:$AU$6,2,FALSE)","v":0},{"$f":"DataByMiles!Z488","v":0},{"$f":"DataByMiles!AA488","v":0},null,null,{"$f":"(Y490/IF(Z490=0,$AD$1,Z490)*$AD$2)/IF(AA490=0,1,AA490)*VLOOKUP(DataByMiles!AE488,DataByMiles!$AT$5:$AU$6,2,FALSE)","v":0},"",0,0,{"$f":"(AF490+AG490)*VLOOKUP(DataByMiles!AE488,DataByMiles!$AT$5:$AU$6,2,FALSE)","v":0},0]
[null,{"$f":"DataByMiles!C489","v":"----485"},{"$f":"DataByMiles!T489*VLOOKUP(DataByMiles!AE489,DataByMiles!$AT$5:$AU$6,2,FALSE)","v":0},null,null,0,{"$f":"C491*$G$2*VLOOKUP(DataByMiles!AE489,DataByMiles!$AT$5:$AU$6,2,FALSE)","v":0},{"$f":"DataByMiles!U489*VLOOKUP(DataByMiles!AE489,DataByMiles!$AT$5:$AU$6,2,FALSE)","v":0},null,null,0,{"$f":"H491*$L$2*VLOOKUP(DataByMiles!AE489,DataByMiles!$AT$5:$AU$6,2,FALSE)","v":0},{"$f":"DataByMiles!V489*VLOOKUP(DataByMiles!AE489,DataByMiles!$AT$5:$AU$6,2,FALSE)","v":0},null,null,{"$f":"M491*$P$2*VLOOKUP(DataByMiles!AE489,DataByMiles!$AT$5:$AU$6,2,FALSE)","v":0},{"$f":"DataByMiles!W489*VLOOKUP(DataByMiles!AE489,DataByMiles!$AT$5:$AU$6,2,FALSE)","v":0},null,null,{"$f":"Q491*$T$2*VLOOKUP(DataByMiles!AE489,DataByMiles!$AT$5:$AU$6,2,FALSE)","v":0},{"$f":"DataByMiles!X489*VLOOKUP(DataByMiles!AE489,DataByMiles!$AT$5:$AU$6,2,FALSE)","v":0},null,null,{"$f":"U491*$X$2*VLOOKUP(DataByMiles!AE489,DataByMiles!$AT$5:$AU$6,2,FALSE)","v":0},{"$f":"DataByMiles!Y489*VLOOKUP(DataByMiles!AE489,DataByMiles!$AT$5:$AU$6,2,FALSE)","v":0},{"$f":"DataByMiles!Z489","v":0},{"$f":"DataByMiles!AA489","v":0},null,null,{"$f":"(Y491/IF(Z491=0,$AD$1,Z491)*$AD$2)/IF(AA491=0,1,AA491)*VLOOKUP(DataByMiles!AE489,DataByMiles!$AT$5:$AU$6,2,FALSE)","v":0},"",0,0,{"$f":"(AF491+AG491)*VLOOKUP(DataByMiles!AE489,DataByMiles!$AT$5:$AU$6,2,FALSE)","v":0},0]
[null,{"$f":"DataByMiles!C490","v":"----486"},{"$f":"DataByMiles!T490*VLOOKUP(DataByMiles!AE490,DataByMiles!$AT$5:$AU$6,2,FALSE)","v":0},null,null,0,{"$f":"C492*$G$2*VLOOKUP(DataByMiles!AE490,DataByMiles!$AT$5:$AU$6,2,FALSE)","v":0},{"$f":"DataByMiles!U490*VLOOKUP(DataByMiles!AE490,DataByMiles!$AT$5:$AU$6,2,FALSE)","v":0},null,null,0,{"$f":"H492*$L$2*VLOOKUP(DataByMiles!AE490,DataByMiles!$AT$5:$AU$6,2,FALSE)","v":0},{"$f":"DataByMiles!V490*VLOOKUP(DataByMiles!AE490,DataByMiles!$AT$5:$AU$6,2,FALSE)","v":0},null,null,{"$f":"M492*$P$2*VLOOKUP(DataByMiles!AE490,DataByMiles!$AT$5:$AU$6,2,FALSE)","v":0},{"$f":"DataByMiles!W490*VLOOKUP(DataByMiles!AE490,DataByMiles!$AT$5:$AU$6,2,FALSE)","v":0},null,null,{"$f":"Q492*$T$2*VLOOKUP(DataByMiles!AE490,DataByMiles!$AT$5:$AU$6,2,FALSE)","v":0},{"$f":"DataByMiles!X490*VLOOKUP(DataByMiles!AE490,DataByMiles!$AT$5:$AU$6,2,FALSE)","v":0},null,null,{"$f":"U492*$X$2*VLOOKUP(DataByMiles!AE490,DataByMiles!$AT$5:$AU$6,2,FALSE)","v":0},{"$f":"DataByMiles!Y490*VLOOKUP(DataByMiles!AE490,DataByMiles!$AT$5:$AU$6,2,FALSE)","v":0},{"$f":"DataByMiles!Z490","v":0},{"$f":"DataByMiles!AA490","v":0},null,null,{"$f":"(Y492/IF(Z492=0,$AD$1,Z492)*$AD$2)/IF(AA492=0,1,AA492)*VLOOKUP(DataByMiles!AE490,DataByMiles!$AT$5:$AU$6,2,FALSE)","v":0},"",0,0,{"$f":"(AF492+AG492)*VLOOKUP(DataByMiles!AE490,DataByMiles!$AT$5:$AU$6,2,FALSE)","v":0},0]
[null,{"$f":"DataByMiles!C491","v":"----487"},{"$f":"DataByMiles!T491*VLOOKUP(DataByMiles!AE491,DataByMiles!$AT$5:$AU$6,2,FALSE)","v":0},null,null,0,{"$f":"C493*$G$2*VLOOKUP(DataByMiles!AE491,DataByMiles!$AT$5:$AU$6,2,FALSE)","v":0},{"$f":"DataByMiles!U491*VLOOKUP(DataByMiles!AE491,DataByMiles!$AT$5:$AU$6,2,FALSE)","v":0},null,null,0,{"$f":"H493*$L$2*VLOOKUP(DataByMiles!AE491,DataByMiles!$AT$5:$AU$6,2,FALSE)","v":0},{"$f":"DataByMiles!V491*VLOOKUP(DataByMiles!AE491,DataByMiles!$AT$5:$AU$6,2,FALSE)","v":0},null,null,{"$f":"M493*$P$2*VLOOKUP(DataByMiles!AE491,DataByMiles!$AT$5:$AU$6,2,FALSE)","v":0},{"$f":"DataByMiles!W491*VLOOKUP(DataByMiles!AE491,DataByMiles!$AT$5:$AU$6,2,FALSE)","v":0},null,null,{"$f":"Q493*$T$2*VLOOKUP(DataByMiles!AE491,DataByMiles!$AT$5:$AU$6,2,FALSE)","v":0},{"$f":"DataByMiles!X491*VLOOKUP(DataByMiles!AE491,DataByMiles!$AT$5:$AU$6,2,FALSE)","v":0},null,null,{"$f":"U493*$X$2*VLOOKUP(DataByMiles!AE491,DataByMiles!$AT$5:$AU$6,2,FALSE)","v":0},{"$f":"DataByMiles!Y491*VLOOKUP(DataByMiles!AE491,DataByMiles!$AT$5:$AU$6,2,FALSE)","v":0},{"$f":"DataByMiles!Z491","v":0},{"$f":"DataByMiles!AA491","v":0},null,null,{"$f":"(Y493/IF(Z493=0,$AD$1,Z493)*$AD$2)/IF(AA493=0,1,AA493)*VLOOKUP(DataByMiles!AE491,DataByMiles!$AT$5:$AU$6,2,FALSE)","v":0},"",0,0,{"$f":"(AF493+AG493)*VLOOKUP(DataByMiles!AE491,DataByMiles!$AT$5:$AU$6,2,FALSE)","v":0},0]
[null,{"$f":"DataByMiles!C492","v":"----488"},{"$f":"DataByMiles!T492*VLOOKUP(DataByMiles!AE492,DataByMiles!$AT$5:$AU$6,2,FALSE)","v":0},null,null,{"$f":"C494*$F$2","v":0},{"$f":"C494*$G$2*VLOOKUP(DataByMiles!AE492,DataByMiles!$AT$5:$AU$6,2,FALSE)","v":0},{"$f":"DataByMiles!U492*VLOOKUP(DataByMiles!AE492,DataByMiles!$AT$5:$AU$6,2,FALSE)","v":0},null,null,{"$f":"H494*$K$2","v":0},{"$f":"H494*$L$2*VLOOKUP(DataByMiles!AE492,DataByMiles!$AT$5:$AU$6,2,FALSE)","v":0},{"$f":"DataByMiles!V492*VLOOKUP(DataByMiles!AE492,DataByMiles!$AT$5:$AU$6,2,FALSE)","v":0},null,null,{"$f":"M494*$P$2*VLOOKUP(DataByMiles!AE492,DataByMiles!$AT$5:$AU$6,2,FALSE)","v":0},{"$f":"DataByMiles!W492*VLOOKUP(DataByMiles!AE492,DataByMiles!$AT$5:$AU$6,2,FALSE)","v":0},null,null,{"$f":"Q494*$T$2*VLOOKUP(DataByMiles!AE492,DataByMiles!$AT$5:$AU$6,2,FALSE)","v":0},{"$f":"DataByMiles!X492*VLOOKUP(DataByMiles!AE492,DataByMiles!$AT$5:$AU$6,2,FALSE)","v":0},null,null,{"$f":"U494*$X$2*VLOOKUP(DataByMiles!AE492,DataByMiles!$AT$5:$AU$6,2,FALSE)","v":0},{"$f":"DataByMiles!Y492*VLOOKUP(DataByMiles!AE492,DataByMiles!$AT$5:$AU$6,2,FALSE)","v":0},{"$f":"DataByMiles!Z492","v":0},{"$f":"DataByMiles!AA492","v":0},null,null,{"$f":"(Y494/IF(Z494=0,$AD$1,Z494)*$AD$2)/IF(AA494=0,1,AA494)*VLOOKUP(DataByMiles!AE492,DataByMiles!$AT$5:$AU$6,2,FALSE)","v":0},{"$f":"IF(C494+H494+M494+Q494+U494+Y494>0,C494+H494+M494+Q494+U494+Y494,\"\")","v":""},{"$f":"F494+K494+P494+T494+X494+AD494","v":0},{"$f":"G494+L494","v":0},{"$f":"(AF494+AG494)*VLOOKUP(DataByMiles!AE492,DataByMiles!$AT$5:$AU$6,2,FALSE)","v":0},{"$f":"IFERROR(AH494/AE494,0)","v":0}]
[null,{"$f":"DataByMiles!C493","v":"----489"},{"$f":"DataByMiles!T493*VLOOKUP(DataByMiles!AE493,DataByMiles!$AT$5:$AU$6,2,FALSE)","v":0},null,null,0,{"$f":"C495*$G$2*VLOOKUP(DataByMiles!AE493,DataByMiles!$AT$5:$AU$6,2,FALSE)","v":0},{"$f":"DataByMiles!U493*VLOOKUP(DataByMiles!AE493,DataByMiles!$AT$5:$AU$6,2,FALSE)","v":0},null,null,0,{"$f":"H495*$L$2*VLOOKUP(DataByMiles!AE493,DataByMiles!$AT$5:$AU$6,2,FALSE)","v":0},{"$f":"DataByMiles!V493*VLOOKUP(DataByMiles!AE493,DataByMiles!$AT$5:$AU$6,2,FALSE)","v":0},null,null,{"$f":"M495*$P$2*VLOOKUP(DataByMiles!AE493,DataByMiles!$AT$5:$AU$6,2,FALSE)","v":0},{"$f":"DataByMiles!W493*VLOOKUP(DataByMiles!AE493,DataByMiles!$AT$5:$AU$6,2,FALSE)","v":0},null,null,{"$f":"Q495*$T$2*VLOOKUP(DataByMiles!AE493,DataByMiles!$AT$5:$AU$6,2,FALSE)","v":0},{"$f":"DataByMiles!X493*VLOOKUP(DataByMiles!AE493,DataByMiles!$AT$5:$AU$6,2,FALSE)","v":0},null,null,{"$f":"U495*$X$2*VLOOKUP(DataByMiles!AE493,DataByMiles!$AT$5:$AU$6,2,FALSE)","v":0},{"$f":"DataByMiles!Y493*VLOOKUP(DataByMiles!AE493,DataByMiles!$AT$5:$AU$6,2,FALSE)","v":0},{"$f":"DataByMiles!Z493","v":0},{"$f":"DataByMiles!AA493","v":0},null,null,{"$f":"(Y495/IF(Z495=0,$AD$1,Z495)*$AD$2)/IF(AA495=0,1,AA495)*VLOOKUP(DataByMiles!AE493,DataByMiles!$AT$5:$AU$6,2,FALSE)","v":0},"",0,0,{"$f":"(AF495+AG495)*VLOOKUP(DataByMiles!AE493,DataByMiles!$AT$5:$AU$6,2,FALSE)","v":0},0]
[null,{"$f":"DataByMiles!C494","v":"----490"},{"$f":"DataByMiles!T494*VLOOKUP(DataByMiles!AE494,DataByMiles!$AT$5:$AU$6,2,FALSE)","v":0},null,null,0,{"$f":"C496*$G$2*VLOOKUP(DataByMiles!AE494,DataByMiles!$AT$5:$AU$6,2,FALSE)","v":0},{"$f":"DataByMiles!U494*VLOOKUP(DataByMiles!AE494,DataByMiles!$AT$5:$AU$6,2,FALSE)","v":0},null,null,0,{"$f":"H496*$L$2*VLOOKUP(DataByMiles!AE494,DataByMiles!$AT$5:$AU$6,2,FALSE)","v":0},{"$f":"DataByMiles!V494*VLOOKUP(DataByMiles!AE494,DataByMiles!$AT$5:$AU$6,2,FALSE)","v":0},null,null,{"$f":"M496*$P$2*VLOOKUP(DataByMiles!AE494,DataByMiles!$AT$5:$AU$6,2,FALSE)","v":0},{"$f":"DataByMiles!W494*VLOOKUP(DataByMiles!AE494,DataByMiles!$AT$5:$AU$6,2,FALSE)","v":0},null,null,{"$f":"Q496*$T$2*VLOOKUP(DataByMiles!AE494,DataByMiles!$AT$5:$AU$6,2,FALSE)","v":0},{"$f":"DataByMiles!X494*VLOOKUP(DataByMiles!AE494,DataByMiles!$AT$5:$AU$6,2,FALSE)","v":0},null,null,{"$f":"U496*$X$2*VLOOKUP(DataByMiles!AE494,DataByMiles!$AT$5:$AU$6,2,FALSE)","v":0},{"$f":"DataByMiles!Y494*VLOOKUP(DataByMiles!AE494,DataByMiles!$AT$5:$AU$6,2,FALSE)","v":0},{"$f":"DataByMiles!Z494","v":0},{"$f":"DataByMiles!AA494","v":0},null,null,{"$f":"(Y496/IF(Z496=0,$AD$1,Z496)*$AD$2)/IF(AA496=0,1,AA496)*VLOOKUP(DataByMiles!AE494,DataByMiles!$AT$5:$AU$6,2,FALSE)","v":0},"",0,0,{"$f":"(AF496+AG496)*VLOOKUP(DataByMiles!AE494,DataByMiles!$AT$5:$AU$6,2,FALSE)","v":0},0]
[null,{"$f":"DataByMiles!C495","v":"----491"},{"$f":"DataByMiles!T495*VLOOKUP(DataByMiles!AE495,DataByMiles!$AT$5:$AU$6,2,FALSE)","v":0},null,null,0,{"$f":"C497*$G$2*VLOOKUP(DataByMiles!AE495,DataByMiles!$AT$5:$AU$6,2,FALSE)","v":0},{"$f":"DataByMiles!U495*VLOOKUP(DataByMiles!AE495,DataByMiles!$AT$5:$AU$6,2,FALSE)","v":0},null,null,0,{"$f":"H497*$L$2*VLOOKUP(DataByMiles!AE495,DataByMiles!$AT$5:$AU$6,2,FALSE)","v":0},{"$f":"DataByMiles!V495*VLOOKUP(DataByMiles!AE495,DataByMiles!$AT$5:$AU$6,2,FALSE)","v":0},null,null,{"$f":"M497*$P$2*VLOOKUP(DataByMiles!AE495,DataByMiles!$AT$5:$AU$6,2,FALSE)","v":0},{"$f":"DataByMiles!W495*VLOOKUP(DataByMiles!AE495,DataByMiles!$AT$5:$AU$6,2,FALSE)","v":0},null,null,{"$f":"Q497*$T$2*VLOOKUP(DataByMiles!AE495,DataByMiles!$AT$5:$AU$6,2,FALSE)","v":0},{"$f":"DataByMiles!X495*VLOOKUP(DataByMiles!AE495,DataByMiles!$AT$5:$AU$6,2,FALSE)","v":0},null,null,{"$f":"U497*$X$2*VLOOKUP(DataByMiles!AE495,DataByMiles!$AT$5:$AU$6,2,FALSE)","v":0},{"$f":"DataByMiles!Y495*VLOOKUP(DataByMiles!AE495,DataByMiles!$AT$5:$AU$6,2,FALSE)","v":0},{"$f":"DataByMiles!Z495","v":0},{"$f":"DataByMiles!AA495","v":0},null,null,{"$f":"(Y497/IF(Z497=0,$AD$1,Z497)*$AD$2)/IF(AA497=0,1,AA497)*VLOOKUP(DataByMiles!AE495,DataByMiles!$AT$5:$AU$6,2,FALSE)","v":0},"",0,0,{"$f":"(AF497+AG497)*VLOOKUP(DataByMiles!AE495,DataByMiles!$AT$5:$AU$6,2,FALSE)","v":0},0]
[null,{"$f":"DataByMiles!C496","v":"----492"},{"$f":"DataByMiles!T496*VLOOKUP(DataByMiles!AE496,DataByMiles!$AT$5:$AU$6,2,FALSE)","v":0},null,null,0,{"$f":"C498*$G$2*VLOOKUP(DataByMiles!AE496,DataByMiles!$AT$5:$AU$6,2,FALSE)","v":0},{"$f":"DataByMiles!U496*VLOOKUP(DataByMiles!AE496,DataByMiles!$AT$5:$AU$6,2,FALSE)","v":0},null,null,0,{"$f":"H498*$L$2*VLOOKUP(DataByMiles!AE496,DataByMiles!$AT$5:$AU$6,2,FALSE)","v":0},{"$f":"DataByMiles!V496*VLOOKUP(DataByMiles!AE496,DataByMiles!$AT$5:$AU$6,2,FALSE)","v":0},null,null,{"$f":"M498*$P$2*VLOOKUP(DataByMiles!AE496,DataByMiles!$AT$5:$AU$6,2,FALSE)","v":0},{"$f":"DataByMiles!W496*VLOOKUP(DataByMiles!AE496,DataByMiles!$AT$5:$AU$6,2,FALSE)","v":0},null,null,{"$f":"Q498*$T$2*VLOOKUP(DataByMiles!AE496,DataByMiles!$AT$5:$AU$6,2,FALSE)","v":0},{"$f":"DataByMiles!X496*VLOOKUP(DataByMiles!AE496,DataByMiles!$AT$5:$AU$6,2,FALSE)","v":0},null,null,{"$f":"U498*$X$2*VLOOKUP(DataByMiles!AE496,DataByMiles!$AT$5:$AU$6,2,FALSE)","v":0},{"$f":"DataByMiles!Y496*VLOOKUP(DataByMiles!AE496,DataByMiles!$AT$5:$AU$6,2,FALSE)","v":0},{"$f":"DataByMiles!Z496","v":0},{"$f":"DataByMiles!AA496","v":0},null,null,{"$f":"(Y498/IF(Z498=0,$AD$1,Z498)*$AD$2)/IF(AA498=0,1,AA498)*VLOOKUP(DataByMiles!AE496,DataByMiles!$AT$5:$AU$6,2,FALSE)","v":0},"",0,0,{"$f":"(AF498+AG498)*VLOOKUP(DataByMiles!AE496,DataByMiles!$AT$5:$AU$6,2,FALSE)","v":0},0]
[null,{"$f":"DataByMiles!C497","v":"----493"},{"$f":"DataByMiles!T497*VLOOKUP(DataByMiles!AE497,DataByMiles!$AT$5:$AU$6,2,FALSE)","v":0},null,null,0,{"$f":"C499*$G$2*VLOOKUP(DataByMiles!AE497,DataByMiles!$AT$5:$AU$6,2,FALSE)","v":0},{"$f":"DataByMiles!U497*VLOOKUP(DataByMiles!AE497,DataByMiles!$AT$5:$AU$6,2,FALSE)","v":0},null,null,0,{"$f":"H499*$L$2*VLOOKUP(DataByMiles!AE497,DataByMiles!$AT$5:$AU$6,2,FALSE)","v":0},{"$f":"DataByMiles!V497*VLOOKUP(DataByMiles!AE497,DataByMiles!$AT$5:$AU$6,2,FALSE)","v":0},null,null,{"$f":"M499*$P$2*VLOOKUP(DataByMiles!AE497,DataByMiles!$AT$5:$AU$6,2,FALSE)","v":0},{"$f":"DataByMiles!W497*VLOOKUP(DataByMiles!AE497,DataByMiles!$AT$5:$AU$6,2,FALSE)","v":0},null,null,{"$f":"Q499*$T$2*VLOOKUP(DataByMiles!AE497,DataByMiles!$AT$5:$AU$6,2,FALSE)","v":0},{"$f":"DataByMiles!X497*VLOOKUP(DataByMiles!AE497,DataByMiles!$AT$5:$AU$6,2,FALSE)","v":0},null,null,{"$f":"U499*$X$2*VLOOKUP(DataByMiles!AE497,DataByMiles!$AT$5:$AU$6,2,FALSE)","v":0},{"$f":"DataByMiles!Y497*VLOOKUP(DataByMiles!AE497,DataByMiles!$AT$5:$AU$6,2,FALSE)","v":0},{"$f":"DataByMiles!Z497","v":0},{"$f":"DataByMiles!AA497","v":0},null,null,{"$f":"(Y499/IF(Z499=0,$AD$1,Z499)*$AD$2)/IF(AA499=0,1,AA499)*VLOOKUP(DataByMiles!AE497,DataByMiles!$AT$5:$AU$6,2,FALSE)","v":0},"",0,0,{"$f":"(AF499+AG499)*VLOOKUP(DataByMiles!AE497,DataByMiles!$AT$5:$AU$6,2,FALSE)","v":0},0]
[null,{"$f":"DataByMiles!C498","v":"----494"},{"$f":"DataByMiles!T498*VLOOKUP(DataByMiles!AE498,DataByMiles!$AT$5:$AU$6,2,FALSE)","v":0},null,null,0,{"$f":"C500*$G$2*VLOOKUP(DataByMiles!AE498,DataByMiles!$AT$5:$AU$6,2,FALSE)","v":0},{"$f":"DataByMiles!U498*VLOOKUP(DataByMiles!AE498,DataByMiles!$AT$5:$AU$6,2,FALSE)","v":0},null,null,0,{"$f":"H500*$L$2*VLOOKUP(DataByMiles!AE498,DataByMiles!$AT$5:$AU$6,2,FALSE)","v":0},{"$f":"DataByMiles!V498*VLOOKUP(DataByMiles!AE498,DataByMiles!$AT$5:$AU$6,2,FALSE)","v":0},null,null,{"$f":"M500*$P$2*VLOOKUP(DataByMiles!AE498,DataByMiles!$AT$5:$AU$6,2,FALSE)","v":0},{"$f":"DataByMiles!W498*VLOOKUP(DataByMiles!AE498,DataByMiles!$AT$5:$AU$6,2,FALSE)","v":0},null,null,{"$f":"Q500*$T$2*VLOOKUP(DataByMiles!AE498,DataByMiles!$AT$5:$AU$6,2,FALSE)","v":0},{"$f":"DataByMiles!X498*VLOOKUP(DataByMiles!AE498,DataByMiles!$AT$5:$AU$6,2,FALSE)","v":0},null,null,{"$f":"U500*$X$2*VLOOKUP(DataByMiles!AE498,DataByMiles!$AT$5:$AU$6,2,FALSE)","v":0},{"$f":"DataByMiles!Y498*VLOOKUP(DataByMiles!AE498,DataByMiles!$AT$5:$AU$6,2,FALSE)","v":0},{"$f":"DataByMiles!Z498","v":0},{"$f":"DataByMiles!AA498","v":0},null,null,{"$f":"(Y500/IF(Z500=0,$AD$1,Z500)*$AD$2)/IF(AA500=0,1,AA500)*VLOOKUP(DataByMiles!AE498,DataByMiles!$AT$5:$AU$6,2,FALSE)","v":0},"",0,0,{"$f":"(AF500+AG500)*VLOOKUP(DataByMiles!AE498,DataByMiles!$AT$5:$AU$6,2,FALSE)","v":0},0]
[null,{"$f":"DataByMiles!C499","v":"----495"},{"$f":"DataByMiles!T499*VLOOKUP(DataByMiles!AE499,DataByMiles!$AT$5:$AU$6,2,FALSE)","v":0},null,null,0,{"$f":"C501*$G$2*VLOOKUP(DataByMiles!AE499,DataByMiles!$AT$5:$AU$6,2,FALSE)","v":0},{"$f":"DataByMiles!U499*VLOOKUP(DataByMiles!AE499,DataByMiles!$AT$5:$AU$6,2,FALSE)","v":0},null,null,0,{"$f":"H501*$L$2*VLOOKUP(DataByMiles!AE499,DataByMiles!$AT$5:$AU$6,2,FALSE)","v":0},{"$f":"DataByMiles!V499*VLOOKUP(DataByMiles!AE499,DataByMiles!$AT$5:$AU$6,2,FALSE)","v":0},null,null,{"$f":"M501*$P$2*VLOOKUP(DataByMiles!AE499,DataByMiles!$AT$5:$AU$6,2,FALSE)","v":0},{"$f":"DataByMiles!W499*VLOOKUP(DataByMiles!AE499,DataByMiles!$AT$5:$AU$6,2,FALSE)","v":0},null,null,{"$f":"Q501*$T$2*VLOOKUP(DataByMiles!AE499,DataByMiles!$AT$5:$AU$6,2,FALSE)","v":0},{"$f":"DataByMiles!X499*VLOOKUP(DataByMiles!AE499,DataByMiles!$AT$5:$AU$6,2,FALSE)","v":0},null,null,{"$f":"U501*$X$2*VLOOKUP(DataByMiles!AE499,DataByMiles!$AT$5:$AU$6,2,FALSE)","v":0},{"$f":"DataByMiles!Y499*VLOOKUP(DataByMiles!AE499,DataByMiles!$AT$5:$AU$6,2,FALSE)","v":0},{"$f":"DataByMiles!Z499","v":0},{"$f":"DataByMiles!AA499","v":0},null,null,{"$f":"(Y501/IF(Z501=0,$AD$1,Z501)*$AD$2)/IF(AA501=0,1,AA501)*VLOOKUP(DataByMiles!AE499,DataByMiles!$AT$5:$AU$6,2,FALSE)","v":0},"",0,0,{"$f":"(AF501+AG501)*VLOOKUP(DataByMiles!AE499,DataByMiles!$AT$5:$AU$6,2,FALSE)","v":0},0]
[null,{"$f":"DataByMiles!C500","v":"----496"},{"$f":"DataByMiles!T500*VLOOKUP(DataByMiles!AE500,DataByMiles!$AT$5:$AU$6,2,FALSE)","v":0},null,null,0,{"$f":"C502*$G$2*VLOOKUP(DataByMiles!AE500,DataByMiles!$AT$5:$AU$6,2,FALSE)","v":0},{"$f":"DataByMiles!U500*VLOOKUP(DataByMiles!AE500,DataByMiles!$AT$5:$AU$6,2,FALSE)","v":0},null,null,0,{"$f":"H502*$L$2*VLOOKUP(DataByMiles!AE500,DataByMiles!$AT$5:$AU$6,2,FALSE)","v":0},{"$f":"DataByMiles!V500*VLOOKUP(DataByMiles!AE500,DataByMiles!$AT$5:$AU$6,2,FALSE)","v":0},null,null,{"$f":"M502*$P$2*VLOOKUP(DataByMiles!AE500,DataByMiles!$AT$5:$AU$6,2,FALSE)","v":0},{"$f":"DataByMiles!W500*VLOOKUP(DataByMiles!AE500,DataByMiles!$AT$5:$AU$6,2,FALSE)","v":0},null,null,{"$f":"Q502*$T$2*VLOOKUP(DataByMiles!AE500,DataByMiles!$AT$5:$AU$6,2,FALSE)","v":0},{"$f":"DataByMiles!X500*VLOOKUP(DataByMiles!AE500,DataByMiles!$AT$5:$AU$6,2,FALSE)","v":0},null,null,{"$f":"U502*$X$2*VLOOKUP(DataByMiles!AE500,DataByMiles!$AT$5:$AU$6,2,FALSE)","v":0},{"$f":"DataByMiles!Y500*VLOOKUP(DataByMiles!AE500,DataByMiles!$AT$5:$AU$6,2,FALSE)","v":0},{"$f":"DataByMiles!Z500","v":0},{"$f":"DataByMiles!AA500","v":0},null,null,{"$f":"(Y502/IF(Z502=0,$AD$1,Z502)*$AD$2)/IF(AA502=0,1,AA502)*VLOOKUP(DataByMiles!AE500,DataByMiles!$AT$5:$AU$6,2,FALSE)","v":0},"",0,0,{"$f":"(AF502+AG502)*VLOOKUP(DataByMiles!AE500,DataByMiles!$AT$5:$AU$6,2,FALSE)","v":0},0]
[null,{"$f":"DataByMiles!C501","v":"----497"},{"$f":"DataByMiles!T501*VLOOKUP(DataByMiles!AE501,DataByMiles!$AT$5:$AU$6,2,FALSE)","v":0},null,null,0,{"$f":"C503*$G$2*VLOOKUP(DataByMiles!AE501,DataByMiles!$AT$5:$AU$6,2,FALSE)","v":0},{"$f":"DataByMiles!U501*VLOOKUP(DataByMiles!AE501,DataByMiles!$AT$5:$AU$6,2,FALSE)","v":0},null,null,0,{"$f":"H503*$L$2*VLOOKUP(DataByMiles!AE501,DataByMiles!$AT$5:$AU$6,2,FALSE)","v":0},{"$f":"DataByMiles!V501*VLOOKUP(DataByMiles!AE501,DataByMiles!$AT$5:$AU$6,2,FALSE)","v":0},null,null,{"$f":"M503*$P$2*VLOOKUP(DataByMiles!AE501,DataByMiles!$AT$5:$AU$6,2,FALSE)","v":0},{"$f":"DataByMiles!W501*VLOOKUP(DataByMiles!AE501,DataByMiles!$AT$5:$AU$6,2,FALSE)","v":0},null,null,{"$f":"Q503*$T$2*VLOOKUP(DataByMiles!AE501,DataByMiles!$AT$5:$AU$6,2,FALSE)","v":0},{"$f":"DataByMiles!X501*VLOOKUP(DataByMiles!AE501,DataByMiles!$AT$5:$AU$6,2,FALSE)","v":0},null,null,{"$f":"U503*$X$2*VLOOKUP(DataByMiles!AE501,DataByMiles!$AT$5:$AU$6,2,FALSE)","v":0},{"$f":"DataByMiles!Y501*VLOOKUP(DataByMiles!AE501,DataByMiles!$AT$5:$AU$6,2,FALSE)","v":0},{"$f":"DataByMiles!Z501","v":0},{"$f":"DataByMiles!AA501","v":0},null,null,{"$f":"(Y503/IF(Z503=0,$AD$1,Z503)*$AD$2)/IF(AA503=0,1,AA503)*VLOOKUP(DataByMiles!AE501,DataByMiles!$AT$5:$AU$6,2,FALSE)","v":0},"",0,0,{"$f":"(AF503+AG503)*VLOOKUP(DataByMiles!AE501,DataByMiles!$AT$5:$AU$6,2,FALSE)","v":0},0]
[null,{"$f":"DataByMiles!C502","v":"----498"},{"$f":"DataByMiles!T502*VLOOKUP(DataByMiles!AE502,DataByMiles!$AT$5:$AU$6,2,FALSE)","v":0},null,null,0,{"$f":"C504*$G$2*VLOOKUP(DataByMiles!AE502,DataByMiles!$AT$5:$AU$6,2,FALSE)","v":0},{"$f":"DataByMiles!U502*VLOOKUP(DataByMiles!AE502,DataByMiles!$AT$5:$AU$6,2,FALSE)","v":0},null,null,0,{"$f":"H504*$L$2*VLOOKUP(DataByMiles!AE502,DataByMiles!$AT$5:$AU$6,2,FALSE)","v":0},{"$f":"DataByMiles!V502*VLOOKUP(DataByMiles!AE502,DataByMiles!$AT$5:$AU$6,2,FALSE)","v":0},null,null,{"$f":"M504*$P$2*VLOOKUP(DataByMiles!AE502,DataByMiles!$AT$5:$AU$6,2,FALSE)","v":0},{"$f":"DataByMiles!W502*VLOOKUP(DataByMiles!AE502,DataByMiles!$AT$5:$AU$6,2,FALSE)","v":0},null,null,{"$f":"Q504*$T$2*VLOOKUP(DataByMiles!AE502,DataByMiles!$AT$5:$AU$6,2,FALSE)","v":0},{"$f":"DataByMiles!X502*VLOOKUP(DataByMiles!AE502,DataByMiles!$AT$5:$AU$6,2,FALSE)","v":0},null,null,{"$f":"U504*$X$2*VLOOKUP(DataByMiles!AE502,DataByMiles!$AT$5:$AU$6,2,FALSE)","v":0},{"$f":"DataByMiles!Y502*VLOOKUP(DataByMiles!AE502,DataByMiles!$AT$5:$AU$6,2,FALSE)","v":0},{"$f":"DataByMiles!Z502","v":0},{"$f":"DataByMiles!AA502","v":0},null,null,{"$f":"(Y504/IF(Z504=0,$AD$1,Z504)*$AD$2)/IF(AA504=0,1,AA504)*VLOOKUP(DataByMiles!AE502,DataByMiles!$AT$5:$AU$6,2,FALSE)","v":0},"",0,0,{"$f":"(AF504+AG504)*VLOOKUP(DataByMiles!AE502,DataByMiles!$AT$5:$AU$6,2,FALSE)","v":0},0]
[null,{"$f":"DataByMiles!C503","v":"----499"},{"$f":"DataByMiles!T503*VLOOKUP(DataByMiles!AE503,DataByMiles!$AT$5:$AU$6,2,FALSE)","v":0},null,null,0,{"$f":"C505*$G$2*VLOOKUP(DataByMiles!AE503,DataByMiles!$AT$5:$AU$6,2,FALSE)","v":0},{"$f":"DataByMiles!U503*VLOOKUP(DataByMiles!AE503,DataByMiles!$AT$5:$AU$6,2,FALSE)","v":0},null,null,0,{"$f":"H505*$L$2*VLOOKUP(DataByMiles!AE503,DataByMiles!$AT$5:$AU$6,2,FALSE)","v":0},{"$f":"DataByMiles!V503*VLOOKUP(DataByMiles!AE503,DataByMiles!$AT$5:$AU$6,2,FALSE)","v":0},null,null,{"$f":"M505*$P$2*VLOOKUP(DataByMiles!AE503,DataByMiles!$AT$5:$AU$6,2,FALSE)","v":0},{"$f":"DataByMiles!W503*VLOOKUP(DataByMiles!AE503,DataByMiles!$AT$5:$AU$6,2,FALSE)","v":0},null,null,{"$f":"Q505*$T$2*VLOOKUP(DataByMiles!AE503,DataByMiles!$AT$5:$AU$6,2,FALSE)","v":0},{"$f":"DataByMiles!X503*VLOOKUP(DataByMiles!AE503,DataByMiles!$AT$5:$AU$6,2,FALSE)","v":0},null,null,{"$f":"U505*$X$2*VLOOKUP(DataByMiles!AE503,DataByMiles!$AT$5:$AU$6,2,FALSE)","v":0},{"$f":"DataByMiles!Y503*VLOOKUP(DataByMiles!AE503,DataByMiles!$AT$5:$AU$6,2,FALSE)","v":0},{"$f":"DataByMiles!Z503","v":0},{"$f":"DataByMiles!AA503","v":0},null,null,{"$f":"(Y505/IF(Z505=0,$AD$1,Z505)*$AD$2)/IF(AA505=0,1,AA505)*VLOOKUP(DataByMiles!AE503,DataByMiles!$AT$5:$AU$6,2,FALSE)","v":0},"",0,0,{"$f":"(AF505+AG505)*VLOOKUP(DataByMiles!AE503,DataByMiles!$AT$5:$AU$6,2,FALSE)","v":0},0]
[null,{"$f":"DataByMiles!C504","v":"----500"},{"$f":"DataByMiles!T504*VLOOKUP(DataByMiles!AE504,DataByMiles!$AT$5:$AU$6,2,FALSE)","v":0},null,null,0,{"$f":"C506*$G$2*VLOOKUP(DataByMiles!AE504,DataByMiles!$AT$5:$AU$6,2,FALSE)","v":0},{"$f":"DataByMiles!U504*VLOOKUP(DataByMiles!AE504,DataByMiles!$AT$5:$AU$6,2,FALSE)","v":0},null,null,0,{"$f":"H506*$L$2*VLOOKUP(DataByMiles!AE504,DataByMiles!$AT$5:$AU$6,2,FALSE)","v":0},{"$f":"DataByMiles!V504*VLOOKUP(DataByMiles!AE504,DataByMiles!$AT$5:$AU$6,2,FALSE)","v":0},null,null,{"$f":"M506*$P$2*VLOOKUP(DataByMiles!AE504,DataByMiles!$AT$5:$AU$6,2,FALSE)","v":0},{"$f":"DataByMiles!W504*VLOOKUP(DataByMiles!AE504,DataByMiles!$AT$5:$AU$6,2,FALSE)","v":0},null,null,{"$f":"Q506*$T$2*VLOOKUP(DataByMiles!AE504,DataByMiles!$AT$5:$AU$6,2,FALSE)","v":0},{"$f":"DataByMiles!X504*VLOOKUP(DataByMiles!AE504,DataByMiles!$AT$5:$AU$6,2,FALSE)","v":0},null,null,{"$f":"U506*$X$2*VLOOKUP(DataByMiles!AE504,DataByMiles!$AT$5:$AU$6,2,FALSE)","v":0},{"$f":"DataByMiles!Y504*VLOOKUP(DataByMiles!AE504,DataByMiles!$AT$5:$AU$6,2,FALSE)","v":0},{"$f":"DataByMiles!Z504","v":0},{"$f":"DataByMiles!AA504","v":0},null,null,{"$f":"(Y506/IF(Z506=0,$AD$1,Z506)*$AD$2)/IF(AA506=0,1,AA506)*VLOOKUP(DataByMiles!AE504,DataByMiles!$AT$5:$AU$6,2,FALSE)","v":0},"",0,0,{"$f":"(AF506+AG506)*VLOOKUP(DataByMiles!AE504,DataByMiles!$AT$5:$AU$6,2,FALSE)","v":0},0]
[null,"Totals or Averages",{"$f":"SUM(C7:C506)","v":122.3},{"$f":"SUM(D7:D39)","v":0},0,0,28.654890000000002,{"$f":"SUM(H7:H506)","v":29},0,0,{"$f":"SUM(K7:K506)","v":0},4.7937000000000003,{"$f":"SUM(M7:M506)","v":0},0,0,{"$f":"SUM(P7:P506)","v":0},{"$f":"SUM(Q7:Q506)","v":0},0,0,{"$f":"SUM(T7:T506)","v":0},{"$f":"SUM(U7:U506)","v":0},0,0,{"$f":"SUM(X7:X506)","v":0},{"$f":"SUM(Y7:Y506)","v":573.20000000000005},null,null,{"$f":"SUM(AB7:AB39)","v":0},0,{"$f":"SUM(AD7:AD506)","v":155.89354257264202},{"$f":"SUM(AE7:AE506)","v":724.5},{"$f":"SUM(AF7:AF506)","v":155.89354257264202},{"$f":"SUM(AG7:AG506)","v":33.44859000000001},189.34213257264196,{"$f":"IFERROR(AVERAGEIF(AI7:AI39,\">0\"),\"none\")","v":0.26060723146726278}]
[]
[]
[]
[]
[]
[]
[]
[]
[]
[]
[]
[]
[null,null,null,null,null,null,null,null,null,null,null,null,null,null,null,null,null,null,null,null,null,null,null,null,null,null,null,null,null,null,"Distance"]
[null,null,null,null,null,null,null,null,null,null,null,null,null,null,null,null,null,null,null,null,null,null,null,null,null,null,null,null,null,null,">0"]

{"sheet":"GraphsModesDistances","index":4,"n_rows":0,"n_cols":0,"rows_kept":0,"cut":false,"hidden":false,"merged":[]}

{"sheet":"GraphsEmissionsPerWeek","index":5,"n_rows":0,"n_cols":0,"rows_kept":0,"cut":false,"hidden":false,"merged":[]}

{"sheet":"GraphsEmissionsPerMile","index":6,"n_rows":0,"n_cols":0,"rows_kept":0,"cut":false,"hidden":true,"merged":[]}

{"sheet":"PREvsPOSTstats","index":7,"n_rows":35,"n_cols":18,"rows_kept":35,"cut":false,"hidden":false,"merged":[]}
[null,null,"Number of participants",{"$f":"COUNT(PRE_Calculations!AE7:AE506)","v":33}]
[null,null,"Assumed minimum distance",0]
[null,null,"Maximum distance",{"$f":"MAX(PRE_Calculations!AE7:AE39)","v":58},null,null,null,null,null,null,null,null,null,null,null,"Frequency Distribution, 11 equal bins"]
[null,null,"Range",{"$f":"D3-D2","v":58},null,null,null,null,null,null,null,null,null,null,null,{"$f":"D2","v":0},null,{"$f":"FREQUENCY(PRE_Calculations!$AE$7:$AE$506,PREvsPOSTstats!P4:P15)","v":0}]
[null,null,"Size of Distance Group (Miles)",{"$f":"MAX(ROUND((D3-D2)/10,0),ROUND((D23-D22)/10,0))","v":15},null,null,null,null,null,null,null,null,null,null,null,{"$f":"P4+$D$5","v":15},{"$f":"TEXT(ROUND(P4,0),\"##0\")&\"-\"&TEXT(ROUND(P5,0),\"##0\")","v":"0-15"},19]
[null,null,null,null,null,null,null,null,null,null,null,null,null,null,null,{"$f":"P5+$D$5","v":30},{"$f":"TEXT(ROUND(P5,0),\"##0\")&\"-\"&TEXT(ROUND(P6,0),\"##0\")","v":"15-30"},11]
["Mean Distance",null,{"$f":"AVERAGE(PRE_Calculations!AE7:AE39)","v":16.121212121212121},"(average)",null,null,null,null,null,null,null,null,null,null,null,45,{"$f":"TEXT(ROUND(P6,0),\"##0\")&\"-\"&TEXT(ROUND(P7,0),\"##0\")","v":"30-45"},1]
["Median Distance",null,{"$f":"MEDIAN(PRE_Calculations!AE7:AE39)","v":10},"(half more, half less)",null,null,null,null,null,null,null,null,null,null,null,60,"45-60",2]
["Mode Distance",null,{"$f":"MODE(PRE_Calculations!AE7:AE39)","v":10},"(most common)",null,null,null,null,null,null,null,null,null,null,null,75,"60-75",0]
[null,null,null,null,null,null,null,null,null,null,null,null,null,null,null,90,"75-90",0]
[null,null,null,null,null,null,null,null,null,null,null,null,null,null,null,105,"90-105",0]
[null,null,null,null,null,null,null,null,null,null,null,null,null,null,null,120,"105-120",0]
[null,null,null,null,null,null,null,null,null,null,null,null,null,null,null,135,"120-135",0]
[null,null,null,null,null,null,null,null,null,null,null,null,null,null,null,150,"135-150",0]
[null,null,null,null,null,null,null,null,null,null,null,null,null,null,null,165,"150-165",0]
[]
[]
[]
[]
[]
[null,null,"Number of participants",{"$f":"COUNT(POST_Calculations!AE7:AE506)","v":33}]
[null,null,"Assumed minimum distance",0]
[null,null,"Maximum distance",{"$f":"MAX(POST_Calculations!AE7:AE506)","v":150},null,null,null,null,null,null,null,null,null,null,null,"Frequency Distribution, 11 equal bins"]
[null,null,"Range",{"$f":"D23-D22","v":150},null,null,null,null,null,null,null,null,null,null,null,{"$f":"D22","v":0},null,{"$f":"FREQUENCY(POST_Calculations!$AE$7:$AE$506,PREvsPOSTstats!P24:P35)","v":0}]
[null,null,"Size of Distance Group (Miles)",{"$f":"D5","v":15},null,null,null,null,null,null,null,null,null,null,null,{"$f":"P24+$D$25","v":15},{"$f":"TEXT(ROUND(P24,0),\"##0\")&\"-\"&TEXT(ROUND(P25,0),\"##0\")","v":"0-15"},19]
[null,null,null,null,null,null,null,null,null,null,null,null,null,null,null,{"$f":"P25+$D$25","v":30},{"$f":"TEXT(ROUND(P25,0),\"##0\")&\"-\"&TEXT(ROUND(P26,0),\"##0\")","v":"15-30"},9]
["Mean Distance",null,{"$f":"AVERAGE(POST_Calculations!AE7:AE506)","v":21.954545454545453},"(average)",null,null,null,null,null,null,null,null,null,null,null,45,{"$f":"TEXT(ROUND(P26,0),\"##0\")&\"-\"&TEXT(ROUND(P27,0),\"##0\")","v":"30-45"},2]
["Median Distance",null,{"$f":"MEDIAN(POST_Calculations!AE7:AE506)","v":14},"(half more, half less)",null,null,null,null,null,null,null,null,null,null,null,60,"45-60",1]
["Mode Distance",null,{"$f":"MODE(POST_Calculations!AE7:AE506)","v":10},"(most common)",null,null,null,null,null,null,null,null,null,null,null,75,"60-75",1]
[null,null,null,null,null,null,null,null,null,null,null,null,null,null,null,90,"75-90",0]
[null,null,null,null,null,null,null,null,null,null,null,null,null,null,null,105,"90-105",0]
[null,null,null,null,null,null,null,null,null,null,null,null,null,null,null,120,"105-120",0]
[null,null,null,null,null,null,null,null,null,null,null,null,null,null,null,135,"120-135",0]
[null,null,null,null,null,null,null,null,null,null,null,null,null,null,null,150,"135-150",1]
[null,null,null,null,null,null,null,null,null,null,null,null,null,null,null,165,"150-165",0]